{"text_format":"1","workbook":"xlsx","n_sheets":2,"sheets":["Plate Layout","CDD"],"not_rendered":{"charts":0,"images":1,"macros":1,"external_links":0,"defined_names":0,"comments":0,"pivot_tables":0},"unopened":[],"bounds":{"document_bytes":16777216,"sheet_cells":100000,"rows_first":2000,"rows_last":500,"rows_between":2000,"halvings":0,"cell_chars":16384,"cell_head_chars":4096},"cells_cut":0,"cells_raw":0,"read":"whole","date_system":"1900"}

{"sheet":"Plate Layout","index":0,"n_rows":74,"n_cols":50,"rows_kept":74,"cut":false,"hidden":false,"merged":[[12,28,12,29],[12,30,12,31],[12,32,12,33],[12,46,12,47],[12,48,12,49],[12,34,12,35],[12,36,12,37],[12,38,12,39],[12,40,12,41],[12,42,12,43],[12,44,12,45],[0,0,2,16383],[7,1,7,2],[7,3,7,5],[12,2,12,3],[12,4,12,5],[12,6,12,7],[12,8,12,9],[12,10,12,11],[12,12,12,13],[12,14,12,15],[12,16,12,17],[12,18,12,19],[12,20,12,21],[12,22,12,23],[12,24,12,25],[12,26,12,27]]}
["CDD Template: 384 Well SP data with plate map"]
[]
[]
[null,"Instructions"]
[null,"This template may be used for both 384 and 96 well formats. For 96 wells: only fill in the upper left outlined quadarnt. Expect to see import errors related to the remaining 3 empty quadrants."]
[]
[null,"1) Enter Plate Name"]
[null,"Plate Name:"]
[]
[null,"2) Fill In the Compound Plate map."]
[null,"Fill in full prefixed, 7 digit compound ID's and full Batch Names. If using Batch extrernal ID, plate it into batch columns. DO NOT ENTER CONTROL LABELS SUCH AS POS OR DMSO- LEAVE CONTROL WELLS BLANK"]
[null,"Compound Map"]
[null,null," \"01\"",null," \"02\"",null," \"03\"",null," \"04\"",null," \"05\"",null," \"06\"",null," \"07\"",null," \"08\"",null," \"09\"",null," \"10\"",null," \"11\"",null," \"12\"",null," \"13\"",null," \"14\"",null," \"15\"",null," \"16\"",null," \"17\"",null," \"18\"",null," \"19\"",null," \"20\"",null," \"21\"",null," \"22\"",null," \"23\"",null," \"24\""]
[null,null,"CMPD","BATCH","CMPD","BATCH","CMPD","BATCH","CMPD","BATCH","CMPD","BATCH","CMPD","BATCH","CMPD","BATCH","CMPD","BATCH","CMPD","BATCH","CMPD","BATCH","CMPD","BATCH","CMPD","BATCH","CMPD","BATCH","CMPD","BATCH","CMPD","BATCH","CMPD","BATCH","CMPD","BATCH","CMPD","BATCH","CMPD","BATCH","CMPD","BATCH","CMPD","BATCH","CMPD","BATCH","CMPD","BATCH","CMPD","BATCH"]
[null,"A"]
[null,"B"]
[null,"C"]
[null,"D"]
[null,"E"]
[null,"F"]
[null,"G"]
[null,"H"]
[null,"I"]
[null,"J"]
[null,"K"]
[null,"L"]
[null,"M"]
[null,"N"]
[null,"O"]
[null,"P"]
[]
[null,"3) Fill In the Concentration Plate Map"]
[null,"Copy/Paste or fill in all compound and control concentrations, including dilution series"]
[null,"Concentration Map"]
[null,null," \"01\""," \"02\""," \"03\""," \"04\""," \"05\""," \"06\""," \"07\""," \"08\""," \"09\""," \"10\""," \"11\""," \"12\""," \"13\""," \"14\""," \"15\""," \"16\""," \"17\""," \"18\""," \"19\""," \"20\""," \"21\""," \"22\""," \"23\""," \"24\""]
[null,"A"]
[null,"B"]
[null,"C"]
[null,"D"]
[null,"E"]
[null,"F"]
[null,"G"]
[null,"H"]
[null,"I"]
[null,"J"]
[null,"K"]
[null,"L"]
[null,"M"]
[null,"N"]
[null,"O"]
[null,"P"]
[]
[null,"3) Copy/Paste raw data below"]
[null,"Copy data from one 384 well or 96 well plate from instrument raw file"]
[null,"Raw Data"]
[null,null," \"01\""," \"02\""," \"03\""," \"04\""," \"05\""," \"06\""," \"07\""," \"08\""," \"09\""," \"10\""," \"11\""," \"12\""," \"13\""," \"14\""," \"15\""," \"16\""," \"17\""," \"18\""," \"19\""," \"20\""," \"21\""," \"22\""," \"23\""," \"24\""]
[null,"A"]
[null,"B"]
[null,"C"]
[null,"D"]
[null,"E"]
[null,"F"]
[null,"G"]
[null,"H"]
[null,"I"]
[null,"J"]
[null,"K"]
[null,"L"]
[null,"M"]
[null,"N"]
[null,"O"]
[null,"P"]
[]
[null,"4) Review and save as CSV"]

{"sheet":"CDD","index":1,"n_rows":385,"n_cols":5,"rows_kept":385,"cut":false,"hidden":false,"merged":[]}
["Plate","Well","CMPD","BATCH","Data"]
[{"$f":"IF('Plate Layout'!$D$8=\"\",\"\",'Plate Layout'!$D$8)","v":""},"A01",{"$f":"IF('Plate Layout'!C$15=\"\",\"\",'Plate Layout'!C$15)","v":""},{"$f":"IF('Plate Layout'!D$15=\"\",\"\",'Plate Layout'!D$15)","v":""},{"$f":"IF(OFFSET('Plate Layout'!$C$57,0,0,1,1)=\"\",\"\",OFFSET('Plate Layout'!$C$57,0,0,1,1))","v":""}]
[{"$f":"IF('Plate Layout'!$D$8=\"\",\"\",'Plate Layout'!$D$8)","v":""},"B01",{"$f":"IF('Plate Layout'!C$16=\"\",\"\",'Plate Layout'!C$16)","v":""},{"$f":"IF('Plate Layout'!D$16=\"\",\"\",'Plate Layout'!D$16)","v":""},{"$f":"IF(OFFSET('Plate Layout'!$C$58,0,0,1,1)=\"\",\"\",OFFSET('Plate Layout'!$C$58,0,0,1,1))","v":""}]
[{"$f":"IF('Plate Layout'!$D$8=\"\",\"\",'Plate Layout'!$D$8)","v":""},"C01",{"$f":"IF('Plate Layout'!C$17=\"\",\"\",'Plate Layout'!C$17)","v":""},{"$f":"IF('Plate Layout'!D$17=\"\",\"\",'Plate Layout'!D$17)","v":""},{"$f":"IF(OFFSET('Plate Layout'!$C$59,0,0,1,1)=\"\",\"\",OFFSET('Plate Layout'!$C$59,0,0,1,1))","v":""}]
[{"$f":"IF('Plate Layout'!$D$8=\"\",\"\",'Plate Layout'!$D$8)","v":""},"D01",{"$f":"IF('Plate Layout'!C$18=\"\",\"\",'Plate Layout'!C$18)","v":""},{"$f":"IF('Plate Layout'!D$18=\"\",\"\",'Plate Layout'!D$18)","v":""},{"$f":"IF(OFFSET('Plate Layout'!$C$60,0,0,1,1)=\"\",\"\",OFFSET('Plate Layout'!$C$60,0,0,1,1))","v":""}]
[{"$f":"IF('Plate Layout'!$D$8=\"\",\"\",'Plate Layout'!$D$8)","v":""},"E01",{"$f":"IF('Plate Layout'!C$19=\"\",\"\",'Plate Layout'!C$19)","v":""},{"$f":"IF('Plate Layout'!D$19=\"\",\"\",'Plate Layout'!D$19)","v":""},{"$f":"IF(OFFSET('Plate Layout'!$C$61,0,0,1,1)=\"\",\"\",OFFSET('Plate Layout'!$C$61,0,0,1,1))","v":""}]
[{"$f":"IF('Plate Layout'!$D$8=\"\",\"\",'Plate Layout'!$D$8)","v":""},"F01",{"$f":"IF('Plate Layout'!C$20=\"\",\"\",'Plate Layout'!C$20)","v":""},{"$f":"IF('Plate Layout'!D$20=\"\",\"\",'Plate Layout'!D$20)","v":""},{"$f":"IF(OFFSET('Plate Layout'!$C$62,0,0,1,1)=\"\",\"\",OFFSET('Plate Layout'!$C$62,0,0,1,1))","v":""}]
[{"$f":"IF('Plate Layout'!$D$8=\"\",\"\",'Plate Layout'!$D$8)","v":""},"G01",{"$f":"IF('Plate Layout'!C$21=\"\",\"\",'Plate Layout'!C$21)","v":""},{"$f":"IF('Plate Layout'!D$21=\"\",\"\",'Plate Layout'!D$21)","v":""},{"$f":"IF(OFFSET('Plate Layout'!$C$63,0,0,1,1)=\"\",\"\",OFFSET('Plate Layout'!$C$63,0,0,1,1))","v":""}]
[{"$f":"IF('Plate Layout'!$D$8=\"\",\"\",'Plate Layout'!$D$8)","v":""},"H01",{"$f":"IF('Plate Layout'!C$22=\"\",\"\",'Plate Layout'!C$22)","v":""},{"$f":"IF('Plate Layout'!D$22=\"\",\"\",'Plate Layout'!D$22)","v":""},{"$f":"IF(OFFSET('Plate Layout'!$C$64,0,0,1,1)=\"\",\"\",OFFSET('Plate Layout'!$C$64,0,0,1,1))","v":""}]
[{"$f":"IF('Plate Layout'!$D$8=\"\",\"\",'Plate Layout'!$D$8)","v":""},"I01",{"$f":"IF('Plate Layout'!C$23=\"\",\"\",'Plate Layout'!C$23)","v":""},{"$f":"IF('Plate Layout'!D$23=\"\",\"\",'Plate Layout'!D$23)","v":""},{"$f":"IF(OFFSET('Plate Layout'!$C$65,0,0,1,1)=\"\",\"\",OFFSET('Plate Layout'!$C$65,0,0,1,1))","v":""}]
[{"$f":"IF('Plate Layout'!$D$8=\"\",\"\",'Plate Layout'!$D$8)","v":""},"J01",{"$f":"IF('Plate Layout'!C$24=\"\",\"\",'Plate Layout'!C$24)","v":""},{"$f":"IF('Plate Layout'!D$24=\"\",\"\",'Plate Layout'!D$24)","v":""},{"$f":"IF(OFFSET('Plate Layout'!$C$66,0,0,1,1)=\"\",\"\",OFFSET('Plate Layout'!$C$66,0,0,1,1))","v":""}]
[{"$f":"IF('Plate Layout'!$D$8=\"\",\"\",'Plate Layout'!$D$8)","v":""},"K01",{"$f":"IF('Plate Layout'!C$25=\"\",\"\",'Plate Layout'!C$25)","v":""},{"$f":"IF('Plate Layout'!D$25=\"\",\"\",'Plate Layout'!D$25)","v":""},{"$f":"IF(OFFSET('Plate Layout'!$C$67,0,0,1,1)=\"\",\"\",OFFSET('Plate Layout'!$C$67,0,0,1,1))","v":""}]
[{"$f":"IF('Plate Layout'!$D$8=\"\",\"\",'Plate Layout'!$D$8)","v":""},"L01",{"$f":"IF('Plate Layout'!C$26=\"\",\"\",'Plate Layout'!C$26)","v":""},{"$f":"IF('Plate Layout'!D$26=\"\",\"\",'Plate Layout'!D$26)","v":""},{"$f":"IF(OFFSET('Plate Layout'!$C$68,0,0,1,1)=\"\",\"\",OFFSET('Plate Layout'!$C$68,0,0,1,1))","v":""}]
[{"$f":"IF('Plate Layout'!$D$8=\"\",\"\",'Plate Layout'!$D$8)","v":""},"M01",{"$f":"IF('Plate Layout'!C$27=\"\",\"\",'Plate Layout'!C$27)","v":""},{"$f":"IF('Plate Layout'!D$27=\"\",\"\",'Plate Layout'!D$27)","v":""},{"$f":"IF(OFFSET('Plate Layout'!$C$69,0,0,1,1)=\"\",\"\",OFFSET('Plate Layout'!$C$69,0,0,1,1))","v":""}]
[{"$f":"IF('Plate Layout'!$D$8=\"\",\"\",'Plate Layout'!$D$8)","v":""},"N01",{"$f":"IF('Plate Layout'!C$28=\"\",\"\",'Plate Layout'!C$28)","v":""},{"$f":"IF('Plate Layout'!D$28=\"\",\"\",'Plate Layout'!D$28)","v":""},{"$f":"IF(OFFSET('Plate Layout'!$C$70,0,0,1,1)=\"\",\"\",OFFSET('Plate Layout'!$C$70,0,0,1,1))","v":""}]
[{"$f":"IF('Plate Layout'!$D$8=\"\",\"\",'Plate Layout'!$D$8)","v":""},"O01",{"$f":"IF('Plate Layout'!C$29=\"\",\"\",'Plate Layout'!C$29)","v":""},{"$f":"IF('Plate Layout'!D$29=\"\",\"\",'Plate Layout'!D$29)","v":""},{"$f":"IF(OFFSET('Plate Layout'!$C$71,0,0,1,1)=\"\",\"\",OFFSET('Plate Layout'!$C$71,0,0,1,1))","v":""}]
[{"$f":"IF('Plate Layout'!$D$8=\"\",\"\",'Plate Layout'!$D$8)","v":""},"P01",{"$f":"IF('Plate Layout'!C$30=\"\",\"\",'Plate Layout'!C$30)","v":""},{"$f":"IF('Plate Layout'!D$30=\"\",\"\",'Plate Layout'!D$30)","v":""},{"$f":"IF(OFFSET('Plate Layout'!$C$72,0,0,1,1)=\"\",\"\",OFFSET('Plate Layout'!$C$72,0,0,1,1))","v":""}]
[{"$f":"IF('Plate Layout'!$D$8=\"\",\"\",'Plate Layout'!$D$8)","v":""},"A02",{"$f":"IF('Plate Layout'!E$15=\"\",\"\",'Plate Layout'!E$15)","v":""},{"$f":"IF('Plate Layout'!F$15=\"\",\"\",'Plate Layout'!F$15)","v":""},{"$f":"IF(OFFSET('Plate Layout'!$D$57,0,0,1,1)=\"\",\"\",OFFSET('Plate Layout'!$D$57,0,0,1,1))","v":""}]
[{"$f":"IF('Plate Layout'!$D$8=\"\",\"\",'Plate Layout'!$D$8)","v":""},"B02",{"$f":"IF('Plate Layout'!E$16=\"\",\"\",'Plate Layout'!E$16)","v":""},{"$f":"IF('Plate Layout'!F$16=\"\",\"\",'Plate Layout'!F$16)","v":""},{"$f":"IF(OFFSET('Plate Layout'!$D$58,0,0,1,1)=\"\",\"\",OFFSET('Plate Layout'!$D$58,0,0,1,1))","v":""}]
[{"$f":"IF('Plate Layout'!$D$8=\"\",\"\",'Plate Layout'!$D$8)","v":""},"C02",{"$f":"IF('Plate Layout'!E$17=\"\",\"\",'Plate Layout'!E$17)","v":""},{"$f":"IF('Plate Layout'!F$17=\"\",\"\",'Plate Layout'!F$17)","v":""},{"$f":"IF(OFFSET('Plate Layout'!$D$59,0,0,1,1)=\"\",\"\",OFFSET('Plate Layout'!$D$59,0,0,1,1))","v":""}]
[{"$f":"IF('Plate Layout'!$D$8=\"\",\"\",'Plate Layout'!$D$8)","v":""},"D02",{"$f":"IF('Plate Layout'!E$18=\"\",\"\",'Plate Layout'!E$18)","v":""},{"$f":"IF('Plate Layout'!F$18=\"\",\"\",'Plate Layout'!F$18)","v":""},{"$f":"IF(OFFSET('Plate Layout'!$D$60,0,0,1,1)=\"\",\"\",OFFSET('Plate Layout'!$D$60,0,0,1,1))","v":""}]
[{"$f":"IF('Plate Layout'!$D$8=\"\",\"\",'Plate Layout'!$D$8)","v":""},"E02",{"$f":"IF('Plate Layout'!E$19=\"\",\"\",'Plate Layout'!E$19)","v":""},{"$f":"IF('Plate Layout'!F$19=\"\",\"\",'Plate Layout'!F$19)","v":""},{"$f":"IF(OFFSET('Plate Layout'!$D$61,0,0,1,1)=\"\",\"\",OFFSET('Plate Layout'!$D$61,0,0,1,1))","v":""}]
[{"$f":"IF('Plate Layout'!$D$8=\"\",\"\",'Plate Layout'!$D$8)","v":""},"F02",{"$f":"IF('Plate Layout'!E$20=\"\",\"\",'Plate Layout'!E$20)","v":""},{"$f":"IF('Plate Layout'!F$20=\"\",\"\",'Plate Layout'!F$20)","v":""},{"$f":"IF(OFFSET('Plate Layout'!$D$62,0,0,1,1)=\"\",\"\",OFFSET('Plate Layout'!$D$62,0,0,1,1))","v":""}]
[{"$f":"IF('Plate Layout'!$D$8=\"\",\"\",'Plate Layout'!$D$8)","v":""},"G02",{"$f":"IF('Plate Layout'!E$21=\"\",\"\",'Plate Layout'!E$21)","v":""},{"$f":"IF('Plate Layout'!F$21=\"\",\"\",'Plate Layout'!F$21)","v":""},{"$f":"IF(OFFSET('Plate Layout'!$D$63,0,0,1,1)=\"\",\"\",OFFSET('Plate Layout'!$D$63,0,0,1,1))","v":""}]
[{"$f":"IF('Plate Layout'!$D$8=\"\",\"\",'Plate Layout'!$D$8)","v":""},"H02",{"$f":"IF('Plate Layout'!E$22=\"\",\"\",'Plate Layout'!E$22)","v":""},{"$f":"IF('Plate Layout'!F$22=\"\",\"\",'Plate Layout'!F$22)","v":""},{"$f":"IF(OFFSET('Plate Layout'!$D$64,0,0,1,1)=\"\",\"\",OFFSET('Plate Layout'!$D$64,0,0,1,1))","v":""}]
[{"$f":"IF('Plate Layout'!$D$8=\"\",\"\",'Plate Layout'!$D$8)","v":""},"I02",{"$f":"IF('Plate Layout'!E$23=\"\",\"\",'Plate Layout'!E$23)","v":""},{"$f":"IF('Plate Layout'!F$23=\"\",\"\",'Plate Layout'!F$23)","v":""},{"$f":"IF(OFFSET('Plate Layout'!$D$65,0,0,1,1)=\"\",\"\",OFFSET('Plate Layout'!$D$65,0,0,1,1))","v":""}]
[{"$f":"IF('Plate Layout'!$D$8=\"\",\"\",'Plate Layout'!$D$8)","v":""},"J02",{"$f":"IF('Plate Layout'!E$24=\"\",\"\",'Plate Layout'!E$24)","v":""},{"$f":"IF('Plate Layout'!F$24=\"\",\"\",'Plate Layout'!F$24)","v":""},{"$f":"IF(OFFSET('Plate Layout'!$D$66,0,0,1,1)=\"\",\"\",OFFSET('Plate Layout'!$D$66,0,0,1,1))","v":""}]
[{"$f":"IF('Plate Layout'!$D$8=\"\",\"\",'Plate Layout'!$D$8)","v":""},"K02",{"$f":"IF('Plate Layout'!E$25=\"\",\"\",'Plate Layout'!E$25)","v":""},{"$f":"IF('Plate Layout'!F$25=\"\",\"\",'Plate Layout'!F$25)","v":""},{"$f":"IF(OFFSET('Plate Layout'!$D$67,0,0,1,1)=\"\",\"\",OFFSET('Plate Layout'!$D$67,0,0,1,1))","v":""}]
[{"$f":"IF('Plate Layout'!$D$8=\"\",\"\",'Plate Layout'!$D$8)","v":""},"L02",{"$f":"IF('Plate Layout'!E$26=\"\",\"\",'Plate Layout'!E$26)","v":""},{"$f":"IF('Plate Layout'!F$26=\"\",\"\",'Plate Layout'!F$26)","v":""},{"$f":"IF(OFFSET('Plate Layout'!$D$68,0,0,1,1)=\"\",\"\",OFFSET('Plate Layout'!$D$68,0,0,1,1))","v":""}]
[{"$f":"IF('Plate Layout'!$D$8=\"\",\"\",'Plate Layout'!$D$8)","v":""},"M02",{"$f":"IF('Plate Layout'!E$27=\"\",\"\",'Plate Layout'!E$27)","v":""},{"$f":"IF('Plate Layout'!F$27=\"\",\"\",'Plate Layout'!F$27)","v":""},{"$f":"IF(OFFSET('Plate Layout'!$D$69,0,0,1,1)=\"\",\"\",OFFSET('Plate Layout'!$D$69,0,0,1,1))","v":""}]
[{"$f":"IF('Plate Layout'!$D$8=\"\",\"\",'Plate Layout'!$D$8)","v":""},"N02",{"$f":"IF('Plate Layout'!E$28=\"\",\"\",'Plate Layout'!E$28)","v":""},{"$f":"IF('Plate Layout'!F$28=\"\",\"\",'Plate Layout'!F$28)","v":""},{"$f":"IF(OFFSET('Plate Layout'!$D$70,0,0,1,1)=\"\",\"\",OFFSET('Plate Layout'!$D$70,0,0,1,1))","v":""}]
[{"$f":"IF('Plate Layout'!$D$8=\"\",\"\",'Plate Layout'!$D$8)","v":""},"O02",{"$f":"IF('Plate Layout'!E$29=\"\",\"\",'Plate Layout'!E$29)","v":""},{"$f":"IF('Plate Layout'!F$29=\"\",\"\",'Plate Layout'!F$29)","v":""},{"$f":"IF(OFFSET('Plate Layout'!$D$71,0,0,1,1)=\"\",\"\",OFFSET('Plate Layout'!$D$71,0,0,1,1))","v":""}]
[{"$f":"IF('Plate Layout'!$D$8=\"\",\"\",'Plate Layout'!$D$8)","v":""},"P02",{"$f":"IF('Plate Layout'!E$30=\"\",\"\",'Plate Layout'!E$30)","v":""},{"$f":"IF('Plate Layout'!F$30=\"\",\"\",'Plate Layout'!F$30)","v":""},{"$f":"IF(OFFSET('Plate Layout'!$D$72,0,0,1,1)=\"\",\"\",OFFSET('Plate Layout'!$D$72,0,0,1,1))","v":""}]
[{"$f":"IF('Plate Layout'!$D$8=\"\",\"\",'Plate Layout'!$D$8)","v":""},"A03",{"$f":"IF('Plate Layout'!G$15=\"\",\"\",'Plate Layout'!G$15)","v":""},{"$f":"IF('Plate Layout'!H$15=\"\",\"\",'Plate Layout'!H$15)","v":""},{"$f":"IF(OFFSET('Plate Layout'!$E$57,0,0,1,1)=\"\",\"\",OFFSET('Plate Layout'!$E$57,0,0,1,1))","v":""}]
[{"$f":"IF('Plate Layout'!$D$8=\"\",\"\",'Plate Layout'!$D$8)","v":""},"B03",{"$f":"IF('Plate Layout'!G$16=\"\",\"\",'Plate Layout'!G$16)","v":""},{"$f":"IF('Plate Layout'!H$16=\"\",\"\",'Plate Layout'!H$16)","v":""},{"$f":"IF(OFFSET('Plate Layout'!$E$58,0,0,1,1)=\"\",\"\",OFFSET('Plate Layout'!$E$58,0,0,1,1))","v":""}]
[{"$f":"IF('Plate Layout'!$D$8=\"\",\"\",'Plate Layout'!$D$8)","v":""},"C03",{"$f":"IF('Plate Layout'!G$17=\"\",\"\",'Plate Layout'!G$17)","v":""},{"$f":"IF('Plate Layout'!H$17=\"\",\"\",'Plate Layout'!H$17)","v":""},{"$f":"IF(OFFSET('Plate Layout'!$E$59,0,0,1,1)=\"\",\"\",OFFSET('Plate Layout'!$E$59,0,0,1,1))","v":""}]
[{"$f":"IF('Plate Layout'!$D$8=\"\",\"\",'Plate Layout'!$D$8)","v":""},"D03",{"$f":"IF('Plate Layout'!G$18=\"\",\"\",'Plate Layout'!G$18)","v":""},{"$f":"IF('Plate Layout'!H$18=\"\",\"\",'Plate Layout'!H$18)","v":""},{"$f":"IF(OFFSET('Plate Layout'!$E$60,0,0,1,1)=\"\",\"\",OFFSET('Plate Layout'!$E$60,0,0,1,1))","v":""}]
[{"$f":"IF('Plate Layout'!$D$8=\"\",\"\",'Plate Layout'!$D$8)","v":""},"E03",{"$f":"IF('Plate Layout'!G$19=\"\",\"\",'Plate Layout'!G$19)","v":""},{"$f":"IF('Plate Layout'!H$19=\"\",\"\",'Plate Layout'!H$19)","v":""},{"$f":"IF(OFFSET('Plate Layout'!$E$61,0,0,1,1)=\"\",\"\",OFFSET('Plate Layout'!$E$61,0,0,1,1))","v":""}]
[{"$f":"IF('Plate Layout'!$D$8=\"\",\"\",'Plate Layout'!$D$8)","v":""},"F03",{"$f":"IF('Plate Layout'!G$20=\"\",\"\",'Plate Layout'!G$20)","v":""},{"$f":"IF('Plate Layout'!H$20=\"\",\"\",'Plate Layout'!H$20)","v":""},{"$f":"IF(OFFSET('Plate Layout'!$E$62,0,0,1,1)=\"\",\"\",OFFSET('Plate Layout'!$E$62,0,0,1,1))","v":""}]
[{"$f":"IF('Plate Layout'!$D$8=\"\",\"\",'Plate Layout'!$D$8)","v":""},"G03",{"$f":"IF('Plate Layout'!G$21=\"\",\"\",'Plate Layout'!G$21)","v":""},{"$f":"IF('Plate Layout'!H$21=\"\",\"\",'Plate Layout'!H$21)","v":""},{"$f":"IF(OFFSET('Plate Layout'!$E$63,0,0,1,1)=\"\",\"\",OFFSET('Plate Layout'!$E$63,0,0,1,1))","v":""}]
[{"$f":"IF('Plate Layout'!$D$8=\"\",\"\",'Plate Layout'!$D$8)","v":""},"H03",{"$f":"IF('Plate Layout'!G$22=\"\",\"\",'Plate Layout'!G$22)","v":""},{"$f":"IF('Plate Layout'!H$22=\"\",\"\",'Plate Layout'!H$22)","v":""},{"$f":"IF(OFFSET('Plate Layout'!$E$64,0,0,1,1)=\"\",\"\",OFFSET('Plate Layout'!$E$64,0,0,1,1))","v":""}]
[{"$f":"IF('Plate Layout'!$D$8=\"\",\"\",'Plate Layout'!$D$8)","v":""},"I03",{"$f":"IF('Plate Layout'!G$23=\"\",\"\",'Plate Layout'!G$23)","v":""},{"$f":"IF('Plate Layout'!H$23=\"\",\"\",'Plate Layout'!H$23)","v":""},{"$f":"IF(OFFSET('Plate Layout'!$E$65,0,0,1,1)=\"\",\"\",OFFSET('Plate Layout'!$E$65,0,0,1,1))","v":""}]
[{"$f":"IF('Plate Layout'!$D$8=\"\",\"\",'Plate Layout'!$D$8)","v":""},"J03",{"$f":"IF('Plate Layout'!G$24=\"\",\"\",'Plate Layout'!G$24)","v":""},{"$f":"IF('Plate Layout'!H$24=\"\",\"\",'Plate Layout'!H$24)","v":""},{"$f":"IF(OFFSET('Plate Layout'!$E$66,0,0,1,1)=\"\",\"\",OFFSET('Plate Layout'!$E$66,0,0,1,1))","v":""}]
[{"$f":"IF('Plate Layout'!$D$8=\"\",\"\",'Plate Layout'!$D$8)","v":""},"K03",{"$f":"IF('Plate Layout'!G$25=\"\",\"\",'Plate Layout'!G$25)","v":""},{"$f":"IF('Plate Layout'!H$25=\"\",\"\",'Plate Layout'!H$25)","v":""},{"$f":"IF(OFFSET('Plate Layout'!$E$67,0,0,1,1)=\"\",\"\",OFFSET('Plate Layout'!$E$67,0,0,1,1))","v":""}]
[{"$f":"IF('Plate Layout'!$D$8=\"\",\"\",'Plate Layout'!$D$8)","v":""},"L03",{"$f":"IF('Plate Layout'!G$26=\"\",\"\",'Plate Layout'!G$26)","v":""},{"$f":"IF('Plate Layout'!H$26=\"\",\"\",'Plate Layout'!H$26)","v":""},{"$f":"IF(OFFSET('Plate Layout'!$E$68,0,0,1,1)=\"\",\"\",OFFSET('Plate Layout'!$E$68,0,0,1,1))","v":""}]
[{"$f":"IF('Plate Layout'!$D$8=\"\",\"\",'Plate Layout'!$D$8)","v":""},"M03",{"$f":"IF('Plate Layout'!G$27=\"\",\"\",'Plate Layout'!G$27)","v":""},{"$f":"IF('Plate Layout'!H$27=\"\",\"\",'Plate Layout'!H$27)","v":""},{"$f":"IF(OFFSET('Plate Layout'!$E$69,0,0,1,1)=\"\",\"\",OFFSET('Plate Layout'!$E$69,0,0,1,1))","v":""}]
[{"$f":"IF('Plate Layout'!$D$8=\"\",\"\",'Plate Layout'!$D$8)","v":""},"N03",{"$f":"IF('Plate Layout'!G$28=\"\",\"\",'Plate Layout'!G$28)","v":""},{"$f":"IF('Plate Layout'!H$28=\"\",\"\",'Plate Layout'!H$28)","v":""},{"$f":"IF(OFFSET('Plate Layout'!$E$70,0,0,1,1)=\"\",\"\",OFFSET('Plate Layout'!$E$70,0,0,1,1))","v":""}]
[{"$f":"IF('Plate Layout'!$D$8=\"\",\"\",'Plate Layout'!$D$8)","v":""},"O03",{"$f":"IF('Plate Layout'!G$29=\"\",\"\",'Plate Layout'!G$29)","v":""},{"$f":"IF('Plate Layout'!H$29=\"\",\"\",'Plate Layout'!H$29)","v":""},{"$f":"IF(OFFSET('Plate Layout'!$E$71,0,0,1,1)=\"\",\"\",OFFSET('Plate Layout'!$E$71,0,0,1,1))","v":""}]
[{"$f":"IF('Plate Layout'!$D$8=\"\",\"\",'Plate Layout'!$D$8)","v":""},"P03",{"$f":"IF('Plate Layout'!G$30=\"\",\"\",'Plate Layout'!G$30)","v":""},{"$f":"IF('Plate Layout'!H$30=\"\",\"\",'Plate Layout'!H$30)","v":""},{"$f":"IF(OFFSET('Plate Layout'!$E$72,0,0,1,1)=\"\",\"\",OFFSET('Plate Layout'!$E$72,0,0,1,1))","v":""}]
[{"$f":"IF('Plate Layout'!$D$8=\"\",\"\",'Plate Layout'!$D$8)","v":""},"A04",{"$f":"IF('Plate Layout'!I$15=\"\",\"\",'Plate Layout'!I$15)","v":""},{"$f":"IF('Plate Layout'!J$15=\"\",\"\",'Plate Layout'!J$15)","v":""},{"$f":"IF(OFFSET('Plate Layout'!$F$57,0,0,1,1)=\"\",\"\",OFFSET('Plate Layout'!$F$57,0,0,1,1))","v":""}]
[{"$f":"IF('Plate Layout'!$D$8=\"\",\"\",'Plate Layout'!$D$8)","v":""},"B04",{"$f":"IF('Plate Layout'!I$16=\"\",\"\",'Plate Layout'!I$16)","v":""},{"$f":"IF('Plate Layout'!J$16=\"\",\"\",'Plate Layout'!J$16)","v":""},{"$f":"IF(OFFSET('Plate Layout'!$F$58,0,0,1,1)=\"\",\"\",OFFSET('Plate Layout'!$F$58,0,0,1,1))","v":""}]
[{"$f":"IF('Plate Layout'!$D$8=\"\",\"\",'Plate Layout'!$D$8)","v":""},"C04",{"$f":"IF('Plate Layout'!I$17=\"\",\"\",'Plate Layout'!I$17)","v":""},{"$f":"IF('Plate Layout'!J$17=\"\",\"\",'Plate Layout'!J$17)","v":""},{"$f":"IF(OFFSET('Plate Layout'!$F$59,0,0,1,1)=\"\",\"\",OFFSET('Plate Layout'!$F$59,0,0,1,1))","v":""}]
[{"$f":"IF('Plate Layout'!$D$8=\"\",\"\",'Plate Layout'!$D$8)","v":""},"D04",{"$f":"IF('Plate Layout'!I$18=\"\",\"\",'Plate Layout'!I$18)","v":""},{"$f":"IF('Plate Layout'!J$18=\"\",\"\",'Plate Layout'!J$18)","v":""},{"$f":"IF(OFFSET('Plate Layout'!$F$60,0,0,1,1)=\"\",\"\",OFFSET('Plate Layout'!$F$60,0,0,1,1))","v":""}]
[{"$f":"IF('Plate Layout'!$D$8=\"\",\"\",'Plate Layout'!$D$8)","v":""},"E04",{"$f":"IF('Plate Layout'!I$19=\"\",\"\",'Plate Layout'!I$19)","v":""},{"$f":"IF('Plate Layout'!J$19=\"\",\"\",'Plate Layout'!J$19)","v":""},{"$f":"IF(OFFSET('Plate Layout'!$F$61,0,0,1,1)=\"\",\"\",OFFSET('Plate Layout'!$F$61,0,0,1,1))","v":""}]
[{"$f":"IF('Plate Layout'!$D$8=\"\",\"\",'Plate Layout'!$D$8)","v":""},"F04",{"$f":"IF('Plate Layout'!I$20=\"\",\"\",'Plate Layout'!I$20)","v":""},{"$f":"IF('Plate Layout'!J$20=\"\",\"\",'Plate Layout'!J$20)","v":""},{"$f":"IF(OFFSET('Plate Layout'!$F$62,0,0,1,1)=\"\",\"\",OFFSET('Plate Layout'!$F$62,0,0,1,1))","v":""}]
[{"$f":"IF('Plate Layout'!$D$8=\"\",\"\",'Plate Layout'!$D$8)","v":""},"G04",{"$f":"IF('Plate Layout'!I$21=\"\",\"\",'Plate Layout'!I$21)","v":""},{"$f":"IF('Plate Layout'!J$21=\"\",\"\",'Plate Layout'!J$21)","v":""},{"$f":"IF(OFFSET('Plate Layout'!$F$63,0,0,1,1)=\"\",\"\",OFFSET('Plate Layout'!$F$63,0,0,1,1))","v":""}]
[{"$f":"IF('Plate Layout'!$D$8=\"\",\"\",'Plate Layout'!$D$8)","v":""},"H04",{"$f":"IF('Plate Layout'!I$22=\"\",\"\",'Plate Layout'!I$22)","v":""},{"$f":"IF('Plate Layout'!J$22=\"\",\"\",'Plate Layout'!J$22)","v":""},{"$f":"IF(OFFSET('Plate Layout'!$F$64,0,0,1,1)=\"\",\"\",OFFSET('Plate Layout'!$F$64,0,0,1,1))","v":""}]
[{"$f":"IF('Plate Layout'!$D$8=\"\",\"\",'Plate Layout'!$D$8)","v":""},"I04",{"$f":"IF('Plate Layout'!I$23=\"\",\"\",'Plate Layout'!I$23)","v":""},{"$f":"IF('Plate Layout'!J$23=\"\",\"\",'Plate Layout'!J$23)","v":""},{"$f":"IF(OFFSET('Plate Layout'!$F$65,0,0,1,1)=\"\",\"\",OFFSET('Plate Layout'!$F$65,0,0,1,1))","v":""}]
[{"$f":"IF('Plate Layout'!$D$8=\"\",\"\",'Plate Layout'!$D$8)","v":""},"J04",{"$f":"IF('Plate Layout'!I$24=\"\",\"\",'Plate Layout'!I$24)","v":""},{"$f":"IF('Plate Layout'!J$24=\"\",\"\",'Plate Layout'!J$24)","v":""},{"$f":"IF(OFFSET('Plate Layout'!$F$66,0,0,1,1)=\"\",\"\",OFFSET('Plate Layout'!$F$66,0,0,1,1))","v":""}]
[{"$f":"IF('Plate Layout'!$D$8=\"\",\"\",'Plate Layout'!$D$8)","v":""},"K04",{"$f":"IF('Plate Layout'!I$25=\"\",\"\",'Plate Layout'!I$25)","v":""},{"$f":"IF('Plate Layout'!J$25=\"\",\"\",'Plate Layout'!J$25)","v":""},{"$f":"IF(OFFSET('Plate Layout'!$F$67,0,0,1,1)=\"\",\"\",OFFSET('Plate Layout'!$F$67,0,0,1,1))","v":""}]
[{"$f":"IF('Plate Layout'!$D$8=\"\",\"\",'Plate Layout'!$D$8)","v":""},"L04",{"$f":"IF('Plate Layout'!I$26=\"\",\"\",'Plate Layout'!I$26)","v":""},{"$f":"IF('Plate Layout'!J$26=\"\",\"\",'Plate Layout'!J$26)","v":""},{"$f":"IF(OFFSET('Plate Layout'!$F$68,0,0,1,1)=\"\",\"\",OFFSET('Plate Layout'!$F$68,0,0,1,1))","v":""}]
[{"$f":"IF('Plate Layout'!$D$8=\"\",\"\",'Plate Layout'!$D$8)","v":""},"M04",{"$f":"IF('Plate Layout'!I$27=\"\",\"\",'Plate Layout'!I$27)","v":""},{"$f":"IF('Plate Layout'!J$27=\"\",\"\",'Plate Layout'!J$27)","v":""},{"$f":"IF(OFFSET('Plate Layout'!$F$69,0,0,1,1)=\"\",\"\",OFFSET('Plate Layout'!$F$69,0,0,1,1))","v":""}]
[{"$f":"IF('Plate Layout'!$D$8=\"\",\"\",'Plate Layout'!$D$8)","v":""},"N04",{"$f":"IF('Plate Layout'!I$28=\"\",\"\",'Plate Layout'!I$28)","v":""},{"$f":"IF('Plate Layout'!J$28=\"\",\"\",'Plate Layout'!J$28)","v":""},{"$f":"IF(OFFSET('Plate Layout'!$F$70,0,0,1,1)=\"\",\"\",OFFSET('Plate Layout'!$F$70,0,0,1,1))","v":""}]
[{"$f":"IF('Plate Layout'!$D$8=\"\",\"\",'Plate Layout'!$D$8)","v":""},"O04",{"$f":"IF('Plate Layout'!I$29=\"\",\"\",'Plate Layout'!I$29)","v":""},{"$f":"IF('Plate Layout'!J$29=\"\",\"\",'Plate Layout'!J$29)","v":""},{"$f":"IF(OFFSET('Plate Layout'!$F$71,0,0,1,1)=\"\",\"\",OFFSET('Plate Layout'!$F$71,0,0,1,1))","v":""}]
[{"$f":"IF('Plate Layout'!$D$8=\"\",\"\",'Plate Layout'!$D$8)","v":""},"P04",{"$f":"IF('Plate Layout'!I$30=\"\",\"\",'Plate Layout'!I$30)","v":""},{"$f":"IF('Plate Layout'!J$30=\"\",\"\",'Plate Layout'!J$30)","v":""},{"$f":"IF(OFFSET('Plate Layout'!$F$72,0,0,1,1)=\"\",\"\",OFFSET('Plate Layout'!$F$72,0,0,1,1))","v":""}]
[{"$f":"IF('Plate Layout'!$D$8=\"\",\"\",'Plate Layout'!$D$8)","v":""},"A05",{"$f":"IF('Plate Layout'!K$15=\"\",\"\",'Plate Layout'!K$15)","v":""},{"$f":"IF('Plate Layout'!L$15=\"\",\"\",'Plate Layout'!L$15)","v":""},{"$f":"IF(OFFSET('Plate Layout'!$G$57,0,0,1,1)=\"\",\"\",OFFSET('Plate Layout'!$G$57,0,0,1,1))","v":""}]
[{"$f":"IF('Plate Layout'!$D$8=\"\",\"\",'Plate Layout'!$D$8)","v":""},"B05",{"$f":"IF('Plate Layout'!K$16=\"\",\"\",'Plate Layout'!K$16)","v":""},{"$f":"IF('Plate Layout'!L$16=\"\",\"\",'Plate Layout'!L$16)","v":""},{"$f":"IF(OFFSET('Plate Layout'!$G$58,0,0,1,1)=\"\",\"\",OFFSET('Plate Layout'!$G$58,0,0,1,1))","v":""}]
[{"$f":"IF('Plate Layout'!$D$8=\"\",\"\",'Plate Layout'!$D$8)","v":""},"C05",{"$f":"IF('Plate Layout'!K$17=\"\",\"\",'Plate Layout'!K$17)","v":""},{"$f":"IF('Plate Layout'!L$17=\"\",\"\",'Plate Layout'!L$17)","v":""},{"$f":"IF(OFFSET('Plate Layout'!$G$59,0,0,1,1)=\"\",\"\",OFFSET('Plate Layout'!$G$59,0,0,1,1))","v":""}]
[{"$f":"IF('Plate Layout'!$D$8=\"\",\"\",'Plate Layout'!$D$8)","v":""},"D05",{"$f":"IF('Plate Layout'!K$18=\"\",\"\",'Plate Layout'!K$18)","v":""},{"$f":"IF('Plate Layout'!L$18=\"\",\"\",'Plate Layout'!L$18)","v":""},{"$f":"IF(OFFSET('Plate Layout'!$G$60,0,0,1,1)=\"\",\"\",OFFSET('Plate Layout'!$G$60,0,0,1,1))","v":""}]
[{"$f":"IF('Plate Layout'!$D$8=\"\",\"\",'Plate Layout'!$D$8)","v":""},"E05",{"$f":"IF('Plate Layout'!K$19=\"\",\"\",'Plate Layout'!K$19)","v":""},{"$f":"IF('Plate Layout'!L$19=\"\",\"\",'Plate Layout'!L$19)","v":""},{"$f":"IF(OFFSET('Plate Layout'!$G$61,0,0,1,1)=\"\",\"\",OFFSET('Plate Layout'!$G$61,0,0,1,1))","v":""}]
[{"$f":"IF('Plate Layout'!$D$8=\"\",\"\",'Plate Layout'!$D$8)","v":""},"F05",{"$f":"IF('Plate Layout'!K$20=\"\",\"\",'Plate Layout'!K$20)","v":""},{"$f":"IF('Plate Layout'!L$20=\"\",\"\",'Plate Layout'!L$20)","v":""},{"$f":"IF(OFFSET('Plate Layout'!$G$62,0,0,1,1)=\"\",\"\",OFFSET('Plate Layout'!$G$62,0,0,1,1))","v":""}]
[{"$f":"IF('Plate Layout'!$D$8=\"\",\"\",'Plate Layout'!$D$8)","v":""},"G05",{"$f":"IF('Plate Layout'!K$21=\"\",\"\",'Plate Layout'!K$21)","v":""},{"$f":"IF('Plate Layout'!L$21=\"\",\"\",'Plate Layout'!L$21)","v":""},{"$f":"IF(OFFSET('Plate Layout'!$G$63,0,0,1,1)=\"\",\"\",OFFSET('Plate Layout'!$G$63,0,0,1,1))","v":""}]
[{"$f":"IF('Plate Layout'!$D$8=\"\",\"\",'Plate Layout'!$D$8)","v":""},"H05",{"$f":"IF('Plate Layout'!K$22=\"\",\"\",'Plate Layout'!K$22)","v":""},{"$f":"IF('Plate Layout'!L$22=\"\",\"\",'Plate Layout'!L$22)","v":""},{"$f":"IF(OFFSET('Plate Layout'!$G$64,0,0,1,1)=\"\",\"\",OFFSET('Plate Layout'!$G$64,0,0,1,1))","v":""}]
[{"$f":"IF('Plate Layout'!$D$8=\"\",\"\",'Plate Layout'!$D$8)","v":""},"I05",{"$f":"IF('Plate Layout'!K$23=\"\",\"\",'Plate Layout'!K$23)","v":""},{"$f":"IF('Plate Layout'!L$23=\"\",\"\",'Plate Layout'!L$23)","v":""},{"$f":"IF(OFFSET('Plate Layout'!$G$65,0,0,1,1)=\"\",\"\",OFFSET('Plate Layout'!$G$65,0,0,1,1))","v":""}]
[{"$f":"IF('Plate Layout'!$D$8=\"\",\"\",'Plate Layout'!$D$8)","v":""},"J05",{"$f":"IF('Plate Layout'!K$24=\"\",\"\",'Plate Layout'!K$24)","v":""},{"$f":"IF('Plate Layout'!L$24=\"\",\"\",'Plate Layout'!L$24)","v":""},{"$f":"IF(OFFSET('Plate Layout'!$G$66,0,0,1,1)=\"\",\"\",OFFSET('Plate Layout'!$G$66,0,0,1,1))","v":""}]
[{"$f":"IF('Plate Layout'!$D$8=\"\",\"\",'Plate Layout'!$D$8)","v":""},"K05",{"$f":"IF('Plate Layout'!K$25=\"\",\"\",'Plate Layout'!K$25)","v":""},{"$f":"IF('Plate Layout'!L$25=\"\",\"\",'Plate Layout'!L$25)","v":""},{"$f":"IF(OFFSET('Plate Layout'!$G$67,0,0,1,1)=\"\",\"\",OFFSET('Plate Layout'!$G$67,0,0,1,1))","v":""}]
[{"$f":"IF('Plate Layout'!$D$8=\"\",\"\",'Plate Layout'!$D$8)","v":""},"L05",{"$f":"IF('Plate Layout'!K$26=\"\",\"\",'Plate Layout'!K$26)","v":""},{"$f":"IF('Plate Layout'!L$26=\"\",\"\",'Plate Layout'!L$26)","v":""},{"$f":"IF(OFFSET('Plate Layout'!$G$68,0,0,1,1)=\"\",\"\",OFFSET('Plate Layout'!$G$68,0,0,1,1))","v":""}]
[{"$f":"IF('Plate Layout'!$D$8=\"\",\"\",'Plate Layout'!$D$8)","v":""},"M05",{"$f":"IF('Plate Layout'!K$27=\"\",\"\",'Plate Layout'!K$27)","v":""},{"$f":"IF('Plate Layout'!L$27=\"\",\"\",'Plate Layout'!L$27)","v":""},{"$f":"IF(OFFSET('Plate Layout'!$G$69,0,0,1,1)=\"\",\"\",OFFSET('Plate Layout'!$G$69,0,0,1,1))","v":""}]
[{"$f":"IF('Plate Layout'!$D$8=\"\",\"\",'Plate Layout'!$D$8)","v":""},"N05",{"$f":"IF('Plate Layout'!K$28=\"\",\"\",'Plate Layout'!K$28)","v":""},{"$f":"IF('Plate Layout'!L$28=\"\",\"\",'Plate Layout'!L$28)","v":""},{"$f":"IF(OFFSET('Plate Layout'!$G$70,0,0,1,1)=\"\",\"\",OFFSET('Plate Layout'!$G$70,0,0,1,1))","v":""}]
[{"$f":"IF('Plate Layout'!$D$8=\"\",\"\",'Plate Layout'!$D$8)","v":""},"O05",{"$f":"IF('Plate Layout'!K$29=\"\",\"\",'Plate Layout'!K$29)","v":""},{"$f":"IF('Plate Layout'!L$29=\"\",\"\",'Plate Layout'!L$29)","v":""},{"$f":"IF(OFFSET('Plate Layout'!$G$71,0,0,1,1)=\"\",\"\",OFFSET('Plate Layout'!$G$71,0,0,1,1))","v":""}]
[{"$f":"IF('Plate Layout'!$D$8=\"\",\"\",'Plate Layout'!$D$8)","v":""},"P05",{"$f":"IF('Plate Layout'!K$30=\"\",\"\",'Plate Layout'!K$30)","v":""},{"$f":"IF('Plate Layout'!L$30=\"\",\"\",'Plate Layout'!L$30)","v":""},{"$f":"IF(OFFSET('Plate Layout'!$G$72,0,0,1,1)=\"\",\"\",OFFSET('Plate Layout'!$G$72,0,0,1,1))","v":""}]
[{"$f":"IF('Plate Layout'!$D$8=\"\",\"\",'Plate Layout'!$D$8)","v":""},"A06",{"$f":"IF('Plate Layout'!M$15=\"\",\"\",'Plate Layout'!M$15)","v":""},{"$f":"IF('Plate Layout'!N$15=\"\",\"\",'Plate Layout'!N$15)","v":""},{"$f":"IF(OFFSET('Plate Layout'!$H$57,0,0,1,1)=\"\",\"\",OFFSET('Plate Layout'!$H$57,0,0,1,1))","v":""}]
[{"$f":"IF('Plate Layout'!$D$8=\"\",\"\",'Plate Layout'!$D$8)","v":""},"B06",{"$f":"IF('Plate Layout'!M$16=\"\",\"\",'Plate Layout'!M$16)","v":""},{"$f":"IF('Plate Layout'!N$16=\"\",\"\",'Plate Layout'!N$16)","v":""},{"$f":"IF(OFFSET('Plate Layout'!$H$58,0,0,1,1)=\"\",\"\",OFFSET('Plate Layout'!$H$58,0,0,1,1))","v":""}]
[{"$f":"IF('Plate Layout'!$D$8=\"\",\"\",'Plate Layout'!$D$8)","v":""},"C06",{"$f":"IF('Plate Layout'!M$17=\"\",\"\",'Plate Layout'!M$17)","v":""},{"$f":"IF('Plate Layout'!N$17=\"\",\"\",'Plate Layout'!N$17)","v":""},{"$f":"IF(OFFSET('Plate Layout'!$H$59,0,0,1,1)=\"\",\"\",OFFSET('Plate Layout'!$H$59,0,0,1,1))","v":""}]
[{"$f":"IF('Plate Layout'!$D$8=\"\",\"\",'Plate Layout'!$D$8)","v":""},"D06",{"$f":"IF('Plate Layout'!M$18=\"\",\"\",'Plate Layout'!M$18)","v":""},{"$f":"IF('Plate Layout'!N$18=\"\",\"\",'Plate Layout'!N$18)","v":""},{"$f":"IF(OFFSET('Plate Layout'!$H$60,0,0,1,1)=\"\",\"\",OFFSET('Plate Layout'!$H$60,0,0,1,1))","v":""}]
[{"$f":"IF('Plate Layout'!$D$8=\"\",\"\",'Plate Layout'!$D$8)","v":""},"E06",{"$f":"IF('Plate Layout'!M$19=\"\",\"\",'Plate Layout'!M$19)","v":""},{"$f":"IF('Plate Layout'!N$19=\"\",\"\",'Plate Layout'!N$19)","v":""},{"$f":"IF(OFFSET('Plate Layout'!$H$61,0,0,1,1)=\"\",\"\",OFFSET('Plate Layout'!$H$61,0,0,1,1))","v":""}]
[{"$f":"IF('Plate Layout'!$D$8=\"\",\"\",'Plate Layout'!$D$8)","v":""},"F06",{"$f":"IF('Plate Layout'!M$20=\"\",\"\",'Plate Layout'!M$20)","v":""},{"$f":"IF('Plate Layout'!N$20=\"\",\"\",'Plate Layout'!N$20)","v":""},{"$f":"IF(OFFSET('Plate Layout'!$H$62,0,0,1,1)=\"\",\"\",OFFSET('Plate Layout'!$H$62,0,0,1,1))","v":""}]
[{"$f":"IF('Plate Layout'!$D$8=\"\",\"\",'Plate Layout'!$D$8)","v":""},"G06",{"$f":"IF('Plate Layout'!M$21=\"\",\"\",'Plate Layout'!M$21)","v":""},{"$f":"IF('Plate Layout'!N$21=\"\",\"\",'Plate Layout'!N$21)","v":""},{"$f":"IF(OFFSET('Plate Layout'!$H$63,0,0,1,1)=\"\",\"\",OFFSET('Plate Layout'!$H$63,0,0,1,1))","v":""}]
[{"$f":"IF('Plate Layout'!$D$8=\"\",\"\",'Plate Layout'!$D$8)","v":""},"H06",{"$f":"IF('Plate Layout'!M$22=\"\",\"\",'Plate Layout'!M$22)","v":""},{"$f":"IF('Plate Layout'!N$22=\"\",\"\",'Plate Layout'!N$22)","v":""},{"$f":"IF(OFFSET('Plate Layout'!$H$64,0,0,1,1)=\"\",\"\",OFFSET('Plate Layout'!$H$64,0,0,1,1))","v":""}]
[{"$f":"IF('Plate Layout'!$D$8=\"\",\"\",'Plate Layout'!$D$8)","v":""},"I06",{"$f":"IF('Plate Layout'!M$23=\"\",\"\",'Plate Layout'!M$23)","v":""},{"$f":"IF('Plate Layout'!N$23=\"\",\"\",'Plate Layout'!N$23)","v":""},{"$f":"IF(OFFSET('Plate Layout'!$H$65,0,0,1,1)=\"\",\"\",OFFSET('Plate Layout'!$H$65,0,0,1,1))","v":""}]
[{"$f":"IF('Plate Layout'!$D$8=\"\",\"\",'Plate Layout'!$D$8)","v":""},"J06",{"$f":"IF('Plate Layout'!M$24=\"\",\"\",'Plate Layout'!M$24)","v":""},{"$f":"IF('Plate Layout'!N$24=\"\",\"\",'Plate Layout'!N$24)","v":""},{"$f":"IF(OFFSET('Plate Layout'!$H$66,0,0,1,1)=\"\",\"\",OFFSET('Plate Layout'!$H$66,0,0,1,1))","v":""}]
[{"$f":"IF('Plate Layout'!$D$8=\"\",\"\",'Plate Layout'!$D$8)","v":""},"K06",{"$f":"IF('Plate Layout'!M$25=\"\",\"\",'Plate Layout'!M$25)","v":""},{"$f":"IF('Plate Layout'!N$25=\"\",\"\",'Plate Layout'!N$25)","v":""},{"$f":"IF(OFFSET('Plate Layout'!$H$67,0,0,1,1)=\"\",\"\",OFFSET('Plate Layout'!$H$67,0,0,1,1))","v":""}]
[{"$f":"IF('Plate Layout'!$D$8=\"\",\"\",'Plate Layout'!$D$8)","v":""},"L06",{"$f":"IF('Plate Layout'!M$26=\"\",\"\",'Plate Layout'!M$26)","v":""},{"$f":"IF('Plate Layout'!N$26=\"\",\"\",'Plate Layout'!N$26)","v":""},{"$f":"IF(OFFSET('Plate Layout'!$H$68,0,0,1,1)=\"\",\"\",OFFSET('Plate Layout'!$H$68,0,0,1,1))","v":""}]
[{"$f":"IF('Plate Layout'!$D$8=\"\",\"\",'Plate Layout'!$D$8)","v":""},"M06",{"$f":"IF('Plate Layout'!M$27=\"\",\"\",'Plate Layout'!M$27)","v":""},{"$f":"IF('Plate Layout'!N$27=\"\",\"\",'Plate Layout'!N$27)","v":""},{"$f":"IF(OFFSET('Plate Layout'!$H$69,0,0,1,1)=\"\",\"\",OFFSET('Plate Layout'!$H$69,0,0,1,1))","v":""}]
[{"$f":"IF('Plate Layout'!$D$8=\"\",\"\",'Plate Layout'!$D$8)","v":""},"N06",{"$f":"IF('Plate Layout'!M$28=\"\",\"\",'Plate Layout'!M$28)","v":""},{"$f":"IF('Plate Layout'!N$28=\"\",\"\",'Plate Layout'!N$28)","v":""},{"$f":"IF(OFFSET('Plate Layout'!$H$70,0,0,1,1)=\"\",\"\",OFFSET('Plate Layout'!$H$70,0,0,1,1))","v":""}]
[{"$f":"IF('Plate Layout'!$D$8=\"\",\"\",'Plate Layout'!$D$8)","v":""},"O06",{"$f":"IF('Plate Layout'!M$29=\"\",\"\",'Plate Layout'!M$29)","v":""},{"$f":"IF('Plate Layout'!N$29=\"\",\"\",'Plate Layout'!N$29)","v":""},{"$f":"IF(OFFSET('Plate Layout'!$H$71,0,0,1,1)=\"\",\"\",OFFSET('Plate Layout'!$H$71,0,0,1,1))","v":""}]
[{"$f":"IF('Plate Layout'!$D$8=\"\",\"\",'Plate Layout'!$D$8)","v":""},"P06",{"$f":"IF('Plate Layout'!M$30=\"\",\"\",'Plate Layout'!M$30)","v":""},{"$f":"IF('Plate Layout'!N$30=\"\",\"\",'Plate Layout'!N$30)","v":""},{"$f":"IF(OFFSET('Plate Layout'!$H$72,0,0,1,1)=\"\",\"\",OFFSET('Plate Layout'!$H$72,0,0,1,1))","v":""}]
[{"$f":"IF('Plate Layout'!$D$8=\"\",\"\",'Plate Layout'!$D$8)","v":""},"A07",{"$f":"IF('Plate Layout'!O$15=\"\",\"\",'Plate Layout'!O$15)","v":""},{"$f":"IF('Plate Layout'!P$15=\"\",\"\",'Plate Layout'!P$15)","v":""},{"$f":"IF(OFFSET('Plate Layout'!$I$57,0,0,1,1)=\"\",\"\",OFFSET('Plate Layout'!$I$57,0,0,1,1))","v":""}]
[{"$f":"IF('Plate Layout'!$D$8=\"\",\"\",'Plate Layout'!$D$8)","v":""},"B07",{"$f":"IF('Plate Layout'!O$16=\"\",\"\",'Plate Layout'!O$16)","v":""},{"$f":"IF('Plate Layout'!P$16=\"\",\"\",'Plate Layout'!P$16)","v":""},{"$f":"IF(OFFSET('Plate Layout'!$I$58,0,0,1,1)=\"\",\"\",OFFSET('Plate Layout'!$I$58,0,0,1,1))","v":""}]
[{"$f":"IF('Plate Layout'!$D$8=\"\",\"\",'Plate Layout'!$D$8)","v":""},"C07",{"$f":"IF('Plate Layout'!O$17=\"\",\"\",'Plate Layout'!O$17)","v":""},{"$f":"IF('Plate Layout'!P$17=\"\",\"\",'Plate Layout'!P$17)","v":""},{"$f":"IF(OFFSET('Plate Layout'!$I$59,0,0,1,1)=\"\",\"\",OFFSET('Plate Layout'!$I$59,0,0,1,1))","v":""}]
[{"$f":"IF('Plate Layout'!$D$8=\"\",\"\",'Plate Layout'!$D$8)","v":""},"D07",{"$f":"IF('Plate Layout'!O$18=\"\",\"\",'Plate Layout'!O$18)","v":""},{"$f":"IF('Plate Layout'!P$18=\"\",\"\",'Plate Layout'!P$18)","v":""},{"$f":"IF(OFFSET('Plate Layout'!$I$60,0,0,1,1)=\"\",\"\",OFFSET('Plate Layout'!$I$60,0,0,1,1))","v":""}]
[{"$f":"IF('Plate Layout'!$D$8=\"\",\"\",'Plate Layout'!$D$8)","v":""},"E07",{"$f":"IF('Plate Layout'!O$19=\"\",\"\",'Plate Layout'!O$19)","v":""},{"$f":"IF('Plate Layout'!P$19=\"\",\"\",'Plate Layout'!P$19)","v":""},{"$f":"IF(OFFSET('Plate Layout'!$I$61,0,0,1,1)=\"\",\"\",OFFSET('Plate Layout'!$I$61,0,0,1,1))","v":""}]
[{"$f":"IF('Plate Layout'!$D$8=\"\",\"\",'Plate Layout'!$D$8)","v":""},"F07",{"$f":"IF('Plate Layout'!O$20=\"\",\"\",'Plate Layout'!O$20)","v":""},{"$f":"IF('Plate Layout'!P$20=\"\",\"\",'Plate Layout'!P$20)","v":""},{"$f":"IF(OFFSET('Plate Layout'!$I$62,0,0,1,1)=\"\",\"\",OFFSET('Plate Layout'!$I$62,0,0,1,1))","v":""}]
[{"$f":"IF('Plate Layout'!$D$8=\"\",\"\",'Plate Layout'!$D$8)","v":""},"G07",{"$f":"IF('Plate Layout'!O$21=\"\",\"\",'Plate Layout'!O$21)","v":""},{"$f":"IF('Plate Layout'!P$21=\"\",\"\",'Plate Layout'!P$21)","v":""},{"$f":"IF(OFFSET('Plate Layout'!$I$63,0,0,1,1)=\"\",\"\",OFFSET('Plate Layout'!$I$63,0,0,1,1))","v":""}]
[{"$f":"IF('Plate Layout'!$D$8=\"\",\"\",'Plate Layout'!$D$8)","v":""},"H07",{"$f":"IF('Plate Layout'!O$22=\"\",\"\",'Plate Layout'!O$22)","v":""},{"$f":"IF('Plate Layout'!P$22=\"\",\"\",'Plate Layout'!P$22)","v":""},{"$f":"IF(OFFSET('Plate Layout'!$I$64,0,0,1,1)=\"\",\"\",OFFSET('Plate Layout'!$I$64,0,0,1,1))","v":""}]
[{"$f":"IF('Plate Layout'!$D$8=\"\",\"\",'Plate Layout'!$D$8)","v":""},"I07",{"$f":"IF('Plate Layout'!O$23=\"\",\"\",'Plate Layout'!O$23)","v":""},{"$f":"IF('Plate Layout'!P$23=\"\",\"\",'Plate Layout'!P$23)","v":""},{"$f":"IF(OFFSET('Plate Layout'!$I$65,0,0,1,1)=\"\",\"\",OFFSET('Plate Layout'!$I$65,0,0,1,1))","v":""}]
[{"$f":"IF('Plate Layout'!$D$8=\"\",\"\",'Plate Layout'!$D$8)","v":""},"J07",{"$f":"IF('Plate Layout'!O$24=\"\",\"\",'Plate Layout'!O$24)","v":""},{"$f":"IF('Plate Layout'!P$24=\"\",\"\",'Plate Layout'!P$24)","v":""},{"$f":"IF(OFFSET('Plate Layout'!$I$66,0,0,1,1)=\"\",\"\",OFFSET('Plate Layout'!$I$66,0,0,1,1))","v":""}]
[{"$f":"IF('Plate Layout'!$D$8=\"\",\"\",'Plate Layout'!$D$8)","v":""},"K07",{"$f":"IF('Plate Layout'!O$25=\"\",\"\",'Plate Layout'!O$25)","v":""},{"$f":"IF('Plate Layout'!P$25=\"\",\"\",'Plate Layout'!P$25)","v":""},{"$f":"IF(OFFSET('Plate Layout'!$I$67,0,0,1,1)=\"\",\"\",OFFSET('Plate Layout'!$I$67,0,0,1,1))","v":""}]
[{"$f":"IF('Plate Layout'!$D$8=\"\",\"\",'Plate Layout'!$D$8)","v":""},"L07",{"$f":"IF('Plate Layout'!O$26=\"\",\"\",'Plate Layout'!O$26)","v":""},{"$f":"IF('Plate Layout'!P$26=\"\",\"\",'Plate Layout'!P$26)","v":""},{"$f":"IF(OFFSET('Plate Layout'!$I$68,0,0,1,1)=\"\",\"\",OFFSET('Plate Layout'!$I$68,0,0,1,1))","v":""}]
[{"$f":"IF('Plate Layout'!$D$8=\"\",\"\",'Plate Layout'!$D$8)","v":""},"M07",{"$f":"IF('Plate Layout'!O$27=\"\",\"\",'Plate Layout'!O$27)","v":""},{"$f":"IF('Plate Layout'!P$27=\"\",\"\",'Plate Layout'!P$27)","v":""},{"$f":"IF(OFFSET('Plate Layout'!$I$69,0,0,1,1)=\"\",\"\",OFFSET('Plate Layout'!$I$69,0,0,1,1))","v":""}]
[{"$f":"IF('Plate Layout'!$D$8=\"\",\"\",'Plate Layout'!$D$8)","v":""},"N07",{"$f":"IF('Plate Layout'!O$28=\"\",\"\",'Plate Layout'!O$28)","v":""},{"$f":"IF('Plate Layout'!P$28=\"\",\"\",'Plate Layout'!P$28)","v":""},{"$f":"IF(OFFSET('Plate Layout'!$I$70,0,0,1,1)=\"\",\"\",OFFSET('Plate Layout'!$I$70,0,0,1,1))","v":""}]
[{"$f":"IF('Plate Layout'!$D$8=\"\",\"\",'Plate Layout'!$D$8)","v":""},"O07",{"$f":"IF('Plate Layout'!O$29=\"\",\"\",'Plate Layout'!O$29)","v":""},{"$f":"IF('Plate Layout'!P$29=\"\",\"\",'Plate Layout'!P$29)","v":""},{"$f":"IF(OFFSET('Plate Layout'!$I$71,0,0,1,1)=\"\",\"\",OFFSET('Plate Layout'!$I$71,0,0,1,1))","v":""}]
[{"$f":"IF('Plate Layout'!$D$8=\"\",\"\",'Plate Layout'!$D$8)","v":""},"P07",{"$f":"IF('Plate Layout'!O$30=\"\",\"\",'Plate Layout'!O$30)","v":""},{"$f":"IF('Plate Layout'!P$30=\"\",\"\",'Plate Layout'!P$30)","v":""},{"$f":"IF(OFFSET('Plate Layout'!$I$72,0,0,1,1)=\"\",\"\",OFFSET('Plate Layout'!$I$72,0,0,1,1))","v":""}]
[{"$f":"IF('Plate Layout'!$D$8=\"\",\"\",'Plate Layout'!$D$8)","v":""},"A08",{"$f":"IF('Plate Layout'!Q$15=\"\",\"\",'Plate Layout'!Q$15)","v":""},{"$f":"IF('Plate Layout'!R$15=\"\",\"\",'Plate Layout'!R$15)","v":""},{"$f":"IF(OFFSET('Plate Layout'!$J$57,0,0,1,1)=\"\",\"\",OFFSET('Plate Layout'!$J$57,0,0,1,1))","v":""}]
[{"$f":"IF('Plate Layout'!$D$8=\"\",\"\",'Plate Layout'!$D$8)","v":""},"B08",{"$f":"IF('Plate Layout'!Q$16=\"\",\"\",'Plate Layout'!Q$16)","v":""},{"$f":"IF('Plate Layout'!R$16=\"\",\"\",'Plate Layout'!R$16)","v":""},{"$f":"IF(OFFSET('Plate Layout'!$J$58,0,0,1,1)=\"\",\"\",OFFSET('Plate Layout'!$J$58,0,0,1,1))","v":""}]
[{"$f":"IF('Plate Layout'!$D$8=\"\",\"\",'Plate Layout'!$D$8)","v":""},"C08",{"$f":"IF('Plate Layout'!Q$17=\"\",\"\",'Plate Layout'!Q$17)","v":""},{"$f":"IF('Plate Layout'!R$17=\"\",\"\",'Plate Layout'!R$17)","v":""},{"$f":"IF(OFFSET('Plate Layout'!$J$59,0,0,1,1)=\"\",\"\",OFFSET('Plate Layout'!$J$59,0,0,1,1))","v":""}]
[{"$f":"IF('Plate Layout'!$D$8=\"\",\"\",'Plate Layout'!$D$8)","v":""},"D08",{"$f":"IF('Plate Layout'!Q$18=\"\",\"\",'Plate Layout'!Q$18)","v":""},{"$f":"IF('Plate Layout'!R$18=\"\",\"\",'Plate Layout'!R$18)","v":""},{"$f":"IF(OFFSET('Plate Layout'!$J$60,0,0,1,1)=\"\",\"\",OFFSET('Plate Layout'!$J$60,0,0,1,1))","v":""}]
[{"$f":"IF('Plate Layout'!$D$8=\"\",\"\",'Plate Layout'!$D$8)","v":""},"E08",{"$f":"IF('Plate Layout'!Q$19=\"\",\"\",'Plate Layout'!Q$19)","v":""},{"$f":"IF('Plate Layout'!R$19=\"\",\"\",'Plate Layout'!R$19)","v":""},{"$f":"IF(OFFSET('Plate Layout'!$J$61,0,0,1,1)=\"\",\"\",OFFSET('Plate Layout'!$J$61,0,0,1,1))","v":""}]
[{"$f":"IF('Plate Layout'!$D$8=\"\",\"\",'Plate Layout'!$D$8)","v":""},"F08",{"$f":"IF('Plate Layout'!Q$20=\"\",\"\",'Plate Layout'!Q$20)","v":""},{"$f":"IF('Plate Layout'!R$20=\"\",\"\",'Plate Layout'!R$20)","v":""},{"$f":"IF(OFFSET('Plate Layout'!$J$62,0,0,1,1)=\"\",\"\",OFFSET('Plate Layout'!$J$62,0,0,1,1))","v":""}]
[{"$f":"IF('Plate Layout'!$D$8=\"\",\"\",'Plate Layout'!$D$8)","v":""},"G08",{"$f":"IF('Plate Layout'!Q$21=\"\",\"\",'Plate Layout'!Q$21)","v":""},{"$f":"IF('Plate Layout'!R$21=\"\",\"\",'Plate Layout'!R$21)","v":""},{"$f":"IF(OFFSET('Plate Layout'!$J$63,0,0,1,1)=\"\",\"\",OFFSET('Plate Layout'!$J$63,0,0,1,1))","v":""}]
[{"$f":"IF('Plate Layout'!$D$8=\"\",\"\",'Plate Layout'!$D$8)","v":""},"H08",{"$f":"IF('Plate Layout'!Q$22=\"\",\"\",'Plate Layout'!Q$22)","v":""},{"$f":"IF('Plate Layout'!R$22=\"\",\"\",'Plate Layout'!R$22)","v":""},{"$f":"IF(OFFSET('Plate Layout'!$J$64,0,0,1,1)=\"\",\"\",OFFSET('Plate Layout'!$J$64,0,0,1,1))","v":""}]
[{"$f":"IF('Plate Layout'!$D$8=\"\",\"\",'Plate Layout'!$D$8)","v":""},"I08",{"$f":"IF('Plate Layout'!Q$23=\"\",\"\",'Plate Layout'!Q$23)","v":""},{"$f":"IF('Plate Layout'!R$23=\"\",\"\",'Plate Layout'!R$23)","v":""},{"$f":"IF(OFFSET('Plate Layout'!$J$65,0,0,1,1)=\"\",\"\",OFFSET('Plate Layout'!$J$65,0,0,1,1))","v":""}]
[{"$f":"IF('Plate Layout'!$D$8=\"\",\"\",'Plate Layout'!$D$8)","v":""},"J08",{"$f":"IF('Plate Layout'!Q$24=\"\",\"\",'Plate Layout'!Q$24)","v":""},{"$f":"IF('Plate Layout'!R$24=\"\",\"\",'Plate Layout'!R$24)","v":""},{"$f":"IF(OFFSET('Plate Layout'!$J$66,0,0,1,1)=\"\",\"\",OFFSET('Plate Layout'!$J$66,0,0,1,1))","v":""}]
[{"$f":"IF('Plate Layout'!$D$8=\"\",\"\",'Plate Layout'!$D$8)","v":""},"K08",{"$f":"IF('Plate Layout'!Q$25=\"\",\"\",'Plate Layout'!Q$25)","v":""},{"$f":"IF('Plate Layout'!R$25=\"\",\"\",'Plate Layout'!R$25)","v":""},{"$f":"IF(OFFSET('Plate Layout'!$J$67,0,0,1,1)=\"\",\"\",OFFSET('Plate Layout'!$J$67,0,0,1,1))","v":""}]
[{"$f":"IF('Plate Layout'!$D$8=\"\",\"\",'Plate Layout'!$D$8)","v":""},"L08",{"$f":"IF('Plate Layout'!Q$26=\"\",\"\",'Plate Layout'!Q$26)","v":""},{"$f":"IF('Plate Layout'!R$26=\"\",\"\",'Plate Layout'!R$26)","v":""},{"$f":"IF(OFFSET('Plate Layout'!$J$68,0,0,1,1)=\"\",\"\",OFFSET('Plate Layout'!$J$68,0,0,1,1))","v":""}]
[{"$f":"IF('Plate Layout'!$D$8=\"\",\"\",'Plate Layout'!$D$8)","v":""},"M08",{"$f":"IF('Plate Layout'!Q$27=\"\",\"\",'Plate Layout'!Q$27)","v":""},{"$f":"IF('Plate Layout'!R$27=\"\",\"\",'Plate Layout'!R$27)","v":""},{"$f":"IF(OFFSET('Plate Layout'!$J$69,0,0,1,1)=\"\",\"\",OFFSET('Plate Layout'!$J$69,0,0,1,1))","v":""}]
[{"$f":"IF('Plate Layout'!$D$8=\"\",\"\",'Plate Layout'!$D$8)","v":""},"N08",{"$f":"IF('Plate Layout'!Q$28=\"\",\"\",'Plate Layout'!Q$28)","v":""},{"$f":"IF('Plate Layout'!R$28=\"\",\"\",'Plate Layout'!R$28)","v":""},{"$f":"IF(OFFSET('Plate Layout'!$J$70,0,0,1,1)=\"\",\"\",OFFSET('Plate Layout'!$J$70,0,0,1,1))","v":""}]
[{"$f":"IF('Plate Layout'!$D$8=\"\",\"\",'Plate Layout'!$D$8)","v":""},"O08",{"$f":"IF('Plate Layout'!Q$29=\"\",\"\",'Plate Layout'!Q$29)","v":""},{"$f":"IF('Plate Layout'!R$29=\"\",\"\",'Plate Layout'!R$29)","v":""},{"$f":"IF(OFFSET('Plate Layout'!$J$71,0,0,1,1)=\"\",\"\",OFFSET('Plate Layout'!$J$71,0,0,1,1))","v":""}]
[{"$f":"IF('Plate Layout'!$D$8=\"\",\"\",'Plate Layout'!$D$8)","v":""},"P08",{"$f":"IF('Plate Layout'!Q$30=\"\",\"\",'Plate Layout'!Q$30)","v":""},{"$f":"IF('Plate Layout'!R$30=\"\",\"\",'Plate Layout'!R$30)","v":""},{"$f":"IF(OFFSET('Plate Layout'!$J$72,0,0,1,1)=\"\",\"\",OFFSET('Plate Layout'!$J$72,0,0,1,1))","v":""}]
[{"$f":"IF('Plate Layout'!$D$8=\"\",\"\",'Plate Layout'!$D$8)","v":""},"A09",{"$f":"IF('Plate Layout'!S$15=\"\",\"\",'Plate Layout'!S$15)","v":""},{"$f":"IF('Plate Layout'!T$15=\"\",\"\",'Plate Layout'!T$15)","v":""},{"$f":"IF(OFFSET('Plate Layout'!$K$57,0,0,1,1)=\"\",\"\",OFFSET('Plate Layout'!$K$57,0,0,1,1))","v":""}]
[{"$f":"IF('Plate Layout'!$D$8=\"\",\"\",'Plate Layout'!$D$8)","v":""},"B09",{"$f":"IF('Plate Layout'!S$16=\"\",\"\",'Plate Layout'!S$16)","v":""},{"$f":"IF('Plate Layout'!T$16=\"\",\"\",'Plate Layout'!T$16)","v":""},{"$f":"IF(OFFSET('Plate Layout'!$K$58,0,0,1,1)=\"\",\"\",OFFSET('Plate Layout'!$K$58,0,0,1,1))","v":""}]
[{"$f":"IF('Plate Layout'!$D$8=\"\",\"\",'Plate Layout'!$D$8)","v":""},"C09",{"$f":"IF('Plate Layout'!S$17=\"\",\"\",'Plate Layout'!S$17)","v":""},{"$f":"IF('Plate Layout'!T$17=\"\",\"\",'Plate Layout'!T$17)","v":""},{"$f":"IF(OFFSET('Plate Layout'!$K$59,0,0,1,1)=\"\",\"\",OFFSET('Plate Layout'!$K$59,0,0,1,1))","v":""}]
[{"$f":"IF('Plate Layout'!$D$8=\"\",\"\",'Plate Layout'!$D$8)","v":""},"D09",{"$f":"IF('Plate Layout'!S$18=\"\",\"\",'Plate Layout'!S$18)","v":""},{"$f":"IF('Plate Layout'!T$18=\"\",\"\",'Plate Layout'!T$18)","v":""},{"$f":"IF(OFFSET('Plate Layout'!$K$60,0,0,1,1)=\"\",\"\",OFFSET('Plate Layout'!$K$60,0,0,1,1))","v":""}]
[{"$f":"IF('Plate Layout'!$D$8=\"\",\"\",'Plate Layout'!$D$8)","v":""},"E09",{"$f":"IF('Plate Layout'!S$19=\"\",\"\",'Plate Layout'!S$19)","v":""},{"$f":"IF('Plate Layout'!T$19=\"\",\"\",'Plate Layout'!T$19)","v":""},{"$f":"IF(OFFSET('Plate Layout'!$K$61,0,0,1,1)=\"\",\"\",OFFSET('Plate Layout'!$K$61,0,0,1,1))","v":""}]
[{"$f":"IF('Plate Layout'!$D$8=\"\",\"\",'Plate Layout'!$D$8)","v":""},"F09",{"$f":"IF('Plate Layout'!S$20=\"\",\"\",'Plate Layout'!S$20)","v":""},{"$f":"IF('Plate Layout'!T$20=\"\",\"\",'Plate Layout'!T$20)","v":""},{"$f":"IF(OFFSET('Plate Layout'!$K$62,0,0,1,1)=\"\",\"\",OFFSET('Plate Layout'!$K$62,0,0,1,1))","v":""}]
[{"$f":"IF('Plate Layout'!$D$8=\"\",\"\",'Plate Layout'!$D$8)","v":""},"G09",{"$f":"IF('Plate Layout'!S$21=\"\",\"\",'Plate Layout'!S$21)","v":""},{"$f":"IF('Plate Layout'!T$21=\"\",\"\",'Plate Layout'!T$21)","v":""},{"$f":"IF(OFFSET('Plate Layout'!$K$63,0,0,1,1)=\"\",\"\",OFFSET('Plate Layout'!$K$63,0,0,1,1))","v":""}]
[{"$f":"IF('Plate Layout'!$D$8=\"\",\"\",'Plate Layout'!$D$8)","v":""},"H09",{"$f":"IF('Plate Layout'!S$22=\"\",\"\",'Plate Layout'!S$22)","v":""},{"$f":"IF('Plate Layout'!T$22=\"\",\"\",'Plate Layout'!T$22)","v":""},{"$f":"IF(OFFSET('Plate Layout'!$K$64,0,0,1,1)=\"\",\"\",OFFSET('Plate Layout'!$K$64,0,0,1,1))","v":""}]
[{"$f":"IF('Plate Layout'!$D$8=\"\",\"\",'Plate Layout'!$D$8)","v":""},"I09",{"$f":"IF('Plate Layout'!S$23=\"\",\"\",'Plate Layout'!S$23)","v":""},{"$f":"IF('Plate Layout'!T$23=\"\",\"\",'Plate Layout'!T$23)","v":""},{"$f":"IF(OFFSET('Plate Layout'!$K$65,0,0,1,1)=\"\",\"\",OFFSET('Plate Layout'!$K$65,0,0,1,1))","v":""}]
[{"$f":"IF('Plate Layout'!$D$8=\"\",\"\",'Plate Layout'!$D$8)","v":""},"J09",{"$f":"IF('Plate Layout'!S$24=\"\",\"\",'Plate Layout'!S$24)","v":""},{"$f":"IF('Plate Layout'!T$24=\"\",\"\",'Plate Layout'!T$24)","v":""},{"$f":"IF(OFFSET('Plate Layout'!$K$66,0,0,1,1)=\"\",\"\",OFFSET('Plate Layout'!$K$66,0,0,1,1))","v":""}]
[{"$f":"IF('Plate Layout'!$D$8=\"\",\"\",'Plate Layout'!$D$8)","v":""},"K09",{"$f":"IF('Plate Layout'!S$25=\"\",\"\",'Plate Layout'!S$25)","v":""},{"$f":"IF('Plate Layout'!T$25=\"\",\"\",'Plate Layout'!T$25)","v":""},{"$f":"IF(OFFSET('Plate Layout'!$K$67,0,0,1,1)=\"\",\"\",OFFSET('Plate Layout'!$K$67,0,0,1,1))","v":""}]
[{"$f":"IF('Plate Layout'!$D$8=\"\",\"\",'Plate Layout'!$D$8)","v":""},"L09",{"$f":"IF('Plate Layout'!S$26=\"\",\"\",'Plate Layout'!S$26)","v":""},{"$f":"IF('Plate Layout'!T$26=\"\",\"\",'Plate Layout'!T$26)","v":""},{"$f":"IF(OFFSET('Plate Layout'!$K$68,0,0,1,1)=\"\",\"\",OFFSET('Plate Layout'!$K$68,0,0,1,1))","v":""}]
[{"$f":"IF('Plate Layout'!$D$8=\"\",\"\",'Plate Layout'!$D$8)","v":""},"M09",{"$f":"IF('Plate Layout'!S$27=\"\",\"\",'Plate Layout'!S$27)","v":""},{"$f":"IF('Plate Layout'!T$27=\"\",\"\",'Plate Layout'!T$27)","v":""},{"$f":"IF(OFFSET('Plate Layout'!$K$69,0,0,1,1)=\"\",\"\",OFFSET('Plate Layout'!$K$69,0,0,1,1))","v":""}]
[{"$f":"IF('Plate Layout'!$D$8=\"\",\"\",'Plate Layout'!$D$8)","v":""},"N09",{"$f":"IF('Plate Layout'!S$28=\"\",\"\",'Plate Layout'!S$28)","v":""},{"$f":"IF('Plate Layout'!T$28=\"\",\"\",'Plate Layout'!T$28)","v":""},{"$f":"IF(OFFSET('Plate Layout'!$K$70,0,0,1,1)=\"\",\"\",OFFSET('Plate Layout'!$K$70,0,0,1,1))","v":""}]
[{"$f":"IF('Plate Layout'!$D$8=\"\",\"\",'Plate Layout'!$D$8)","v":""},"O09",{"$f":"IF('Plate Layout'!S$29=\"\",\"\",'Plate Layout'!S$29)","v":""},{"$f":"IF('Plate Layout'!T$29=\"\",\"\",'Plate Layout'!T$29)","v":""},{"$f":"IF(OFFSET('Plate Layout'!$K$71,0,0,1,1)=\"\",\"\",OFFSET('Plate Layout'!$K$71,0,0,1,1))","v":""}]
[{"$f":"IF('Plate Layout'!$D$8=\"\",\"\",'Plate Layout'!$D$8)","v":""},"P09",{"$f":"IF('Plate Layout'!S$30=\"\",\"\",'Plate Layout'!S$30)","v":""},{"$f":"IF('Plate Layout'!T$30=\"\",\"\",'Plate Layout'!T$30)","v":""},{"$f":"IF(OFFSET('Plate Layout'!$K$72,0,0,1,1)=\"\",\"\",OFFSET('Plate Layout'!$K$72,0,0,1,1))","v":""}]
[{"$f":"IF('Plate Layout'!$D$8=\"\",\"\",'Plate Layout'!$D$8)","v":""},"A10",{"$f":"IF('Plate Layout'!U$15=\"\",\"\",'Plate Layout'!U$15)","v":""},{"$f":"IF('Plate Layout'!V$15=\"\",\"\",'Plate Layout'!V$15)","v":""},{"$f":"IF(OFFSET('Plate Layout'!$L$57,0,0,1,1)=\"\",\"\",OFFSET('Plate Layout'!$L$57,0,0,1,1))","v":""}]
[{"$f":"IF('Plate Layout'!$D$8=\"\",\"\",'Plate Layout'!$D$8)","v":""},"B10",{"$f":"IF('Plate Layout'!U$16=\"\",\"\",'Plate Layout'!U$16)","v":""},{"$f":"IF('Plate Layout'!V$16=\"\",\"\",'Plate Layout'!V$16)","v":""},{"$f":"IF(OFFSET('Plate Layout'!$L$58,0,0,1,1)=\"\",\"\",OFFSET('Plate Layout'!$L$58,0,0,1,1))","v":""}]
[{"$f":"IF('Plate Layout'!$D$8=\"\",\"\",'Plate Layout'!$D$8)","v":""},"C10",{"$f":"IF('Plate Layout'!U$17=\"\",\"\",'Plate Layout'!U$17)","v":""},{"$f":"IF('Plate Layout'!V$17=\"\",\"\",'Plate Layout'!V$17)","v":""},{"$f":"IF(OFFSET('Plate Layout'!$L$59,0,0,1,1)=\"\",\"\",OFFSET('Plate Layout'!$L$59,0,0,1,1))","v":""}]
[{"$f":"IF('Plate Layout'!$D$8=\"\",\"\",'Plate Layout'!$D$8)","v":""},"D10",{"$f":"IF('Plate Layout'!U$18=\"\",\"\",'Plate Layout'!U$18)","v":""},{"$f":"IF('Plate Layout'!V$18=\"\",\"\",'Plate Layout'!V$18)","v":""},{"$f":"IF(OFFSET('Plate Layout'!$L$60,0,0,1,1)=\"\",\"\",OFFSET('Plate Layout'!$L$60,0,0,1,1))","v":""}]
[{"$f":"IF('Plate Layout'!$D$8=\"\",\"\",'Plate Layout'!$D$8)","v":""},"E10",{"$f":"IF('Plate Layout'!U$19=\"\",\"\",'Plate Layout'!U$19)","v":""},{"$f":"IF('Plate Layout'!V$19=\"\",\"\",'Plate Layout'!V$19)","v":""},{"$f":"IF(OFFSET('Plate Layout'!$L$61,0,0,1,1)=\"\",\"\",OFFSET('Plate Layout'!$L$61,0,0,1,1))","v":""}]
[{"$f":"IF('Plate Layout'!$D$8=\"\",\"\",'Plate Layout'!$D$8)","v":""},"F10",{"$f":"IF('Plate Layout'!U$20=\"\",\"\",'Plate Layout'!U$20)","v":""},{"$f":"IF('Plate Layout'!V$20=\"\",\"\",'Plate Layout'!V$20)","v":""},{"$f":"IF(OFFSET('Plate Layout'!$L$62,0,0,1,1)=\"\",\"\",OFFSET('Plate Layout'!$L$62,0,0,1,1))","v":""}]
[{"$f":"IF('Plate Layout'!$D$8=\"\",\"\",'Plate Layout'!$D$8)","v":""},"G10",{"$f":"IF('Plate Layout'!U$21=\"\",\"\",'Plate Layout'!U$21)","v":""},{"$f":"IF('Plate Layout'!V$21=\"\",\"\",'Plate Layout'!V$21)","v":""},{"$f":"IF(OFFSET('Plate Layout'!$L$63,0,0,1,1)=\"\",\"\",OFFSET('Plate Layout'!$L$63,0,0,1,1))","v":""}]
[{"$f":"IF('Plate Layout'!$D$8=\"\",\"\",'Plate Layout'!$D$8)","v":""},"H10",{"$f":"IF('Plate Layout'!U$22=\"\",\"\",'Plate Layout'!U$22)","v":""},{"$f":"IF('Plate Layout'!V$22=\"\",\"\",'Plate Layout'!V$22)","v":""},{"$f":"IF(OFFSET('Plate Layout'!$L$64,0,0,1,1)=\"\",\"\",OFFSET('Plate Layout'!$L$64,0,0,1,1))","v":""}]
[{"$f":"IF('Plate Layout'!$D$8=\"\",\"\",'Plate Layout'!$D$8)","v":""},"I10",{"$f":"IF('Plate Layout'!U$23=\"\",\"\",'Plate Layout'!U$23)","v":""},{"$f":"IF('Plate Layout'!V$23=\"\",\"\",'Plate Layout'!V$23)","v":""},{"$f":"IF(OFFSET('Plate Layout'!$L$65,0,0,1,1)=\"\",\"\",OFFSET('Plate Layout'!$L$65,0,0,1,1))","v":""}]
[{"$f":"IF('Plate Layout'!$D$8=\"\",\"\",'Plate Layout'!$D$8)","v":""},"J10",{"$f":"IF('Plate Layout'!U$24=\"\",\"\",'Plate Layout'!U$24)","v":""},{"$f":"IF('Plate Layout'!V$24=\"\",\"\",'Plate Layout'!V$24)","v":""},{"$f":"IF(OFFSET('Plate Layout'!$L$66,0,0,1,1)=\"\",\"\",OFFSET('Plate Layout'!$L$66,0,0,1,1))","v":""}]
[{"$f":"IF('Plate Layout'!$D$8=\"\",\"\",'Plate Layout'!$D$8)","v":""},"K10",{"$f":"IF('Plate Layout'!U$25=\"\",\"\",'Plate Layout'!U$25)","v":""},{"$f":"IF('Plate Layout'!V$25=\"\",\"\",'Plate Layout'!V$25)","v":""},{"$f":"IF(OFFSET('Plate Layout'!$L$67,0,0,1,1)=\"\",\"\",OFFSET('Plate Layout'!$L$67,0,0,1,1))","v":""}]
[{"$f":"IF('Plate Layout'!$D$8=\"\",\"\",'Plate Layout'!$D$8)","v":""},"L10",{"$f":"IF('Plate Layout'!U$26=\"\",\"\",'Plate Layout'!U$26)","v":""},{"$f":"IF('Plate Layout'!V$26=\"\",\"\",'Plate Layout'!V$26)","v":""},{"$f":"IF(OFFSET('Plate Layout'!$L$68,0,0,1,1)=\"\",\"\",OFFSET('Plate Layout'!$L$68,0,0,1,1))","v":""}]
[{"$f":"IF('Plate Layout'!$D$8=\"\",\"\",'Plate Layout'!$D$8)","v":""},"M10",{"$f":"IF('Plate Layout'!U$27=\"\",\"\",'Plate Layout'!U$27)","v":""},{"$f":"IF('Plate Layout'!V$27=\"\",\"\",'Plate Layout'!V$27)","v":""},{"$f":"IF(OFFSET('Plate Layout'!$L$69,0,0,1,1)=\"\",\"\",OFFSET('Plate Layout'!$L$69,0,0,1,1))","v":""}]
[{"$f":"IF('Plate Layout'!$D$8=\"\",\"\",'Plate Layout'!$D$8)","v":""},"N10",{"$f":"IF('Plate Layout'!U$28=\"\",\"\",'Plate Layout'!U$28)","v":""},{"$f":"IF('Plate Layout'!V$28=\"\",\"\",'Plate Layout'!V$28)","v":""},{"$f":"IF(OFFSET('Plate Layout'!$L$70,0,0,1,1)=\"\",\"\",OFFSET('Plate Layout'!$L$70,0,0,1,1))","v":""}]
[{"$f":"IF('Plate Layout'!$D$8=\"\",\"\",'Plate Layout'!$D$8)","v":""},"O10",{"$f":"IF('Plate Layout'!U$29=\"\",\"\",'Plate Layout'!U$29)","v":""},{"$f":"IF('Plate Layout'!V$29=\"\",\"\",'Plate Layout'!V$29)","v":""},{"$f":"IF(OFFSET('Plate Layout'!$L$71,0,0,1,1)=\"\",\"\",OFFSET('Plate Layout'!$L$71,0,0,1,1))","v":""}]
[{"$f":"IF('Plate Layout'!$D$8=\"\",\"\",'Plate Layout'!$D$8)","v":""},"P10",{"$f":"IF('Plate Layout'!U$30=\"\",\"\",'Plate Layout'!U$30)","v":""},{"$f":"IF('Plate Layout'!V$30=\"\",\"\",'Plate Layout'!V$30)","v":""},{"$f":"IF(OFFSET('Plate Layout'!$L$72,0,0,1,1)=\"\",\"\",OFFSET('Plate Layout'!$L$72,0,0,1,1))","v":""}]
[{"$f":"IF('Plate Layout'!$D$8=\"\",\"\",'Plate Layout'!$D$8)","v":""},"A11",{"$f":"IF('Plate Layout'!W$15=\"\",\"\",'Plate Layout'!W$15)","v":""},{"$f":"IF('Plate Layout'!X$15=\"\",\"\",'Plate Layout'!X$15)","v":""},{"$f":"IF(OFFSET('Plate Layout'!$M$57,0,0,1,1)=\"\",\"\",OFFSET('Plate Layout'!$M$57,0,0,1,1))","v":""}]
[{"$f":"IF('Plate Layout'!$D$8=\"\",\"\",'Plate Layout'!$D$8)","v":""},"B11",{"$f":"IF('Plate Layout'!W$16=\"\",\"\",'Plate Layout'!W$16)","v":""},{"$f":"IF('Plate Layout'!X$16=\"\",\"\",'Plate Layout'!X$16)","v":""},{"$f":"IF(OFFSET('Plate Layout'!$M$58,0,0,1,1)=\"\",\"\",OFFSET('Plate Layout'!$M$58,0,0,1,1))","v":""}]
[{"$f":"IF('Plate Layout'!$D$8=\"\",\"\",'Plate Layout'!$D$8)","v":""},"C11",{"$f":"IF('Plate Layout'!W$17=\"\",\"\",'Plate Layout'!W$17)","v":""},{"$f":"IF('Plate Layout'!X$17=\"\",\"\",'Plate Layout'!X$17)","v":""},{"$f":"IF(OFFSET('Plate Layout'!$M$59,0,0,1,1)=\"\",\"\",OFFSET('Plate Layout'!$M$59,0,0,1,1))","v":""}]
[{"$f":"IF('Plate Layout'!$D$8=\"\",\"\",'Plate Layout'!$D$8)","v":""},"D11",{"$f":"IF('Plate Layout'!W$18=\"\",\"\",'Plate Layout'!W$18)","v":""},{"$f":"IF('Plate Layout'!X$18=\"\",\"\",'Plate Layout'!X$18)","v":""},{"$f":"IF(OFFSET('Plate Layout'!$M$60,0,0,1,1)=\"\",\"\",OFFSET('Plate Layout'!$M$60,0,0,1,1))","v":""}]
[{"$f":"IF('Plate Layout'!$D$8=\"\",\"\",'Plate Layout'!$D$8)","v":""},"E11",{"$f":"IF('Plate Layout'!W$19=\"\",\"\",'Plate Layout'!W$19)","v":""},{"$f":"IF('Plate Layout'!X$19=\"\",\"\",'Plate Layout'!X$19)","v":""},{"$f":"IF(OFFSET('Plate Layout'!$M$61,0,0,1,1)=\"\",\"\",OFFSET('Plate Layout'!$M$61,0,0,1,1))","v":""}]
[{"$f":"IF('Plate Layout'!$D$8=\"\",\"\",'Plate Layout'!$D$8)","v":""},"F11",{"$f":"IF('Plate Layout'!W$20=\"\",\"\",'Plate Layout'!W$20)","v":""},{"$f":"IF('Plate Layout'!X$20=\"\",\"\",'Plate Layout'!X$20)","v":""},{"$f":"IF(OFFSET('Plate Layout'!$M$62,0,0,1,1)=\"\",\"\",OFFSET('Plate Layout'!$M$62,0,0,1,1))","v":""}]
[{"$f":"IF('Plate Layout'!$D$8=\"\",\"\",'Plate Layout'!$D$8)","v":""},"G11",{"$f":"IF('Plate Layout'!W$21=\"\",\"\",'Plate Layout'!W$21)","v":""},{"$f":"IF('Plate Layout'!X$21=\"\",\"\",'Plate Layout'!X$21)","v":""},{"$f":"IF(OFFSET('Plate Layout'!$M$63,0,0,1,1)=\"\",\"\",OFFSET('Plate Layout'!$M$63,0,0,1,1))","v":""}]
[{"$f":"IF('Plate Layout'!$D$8=\"\",\"\",'Plate Layout'!$D$8)","v":""},"H11",{"$f":"IF('Plate Layout'!W$22=\"\",\"\",'Plate Layout'!W$22)","v":""},{"$f":"IF('Plate Layout'!X$22=\"\",\"\",'Plate Layout'!X$22)","v":""},{"$f":"IF(OFFSET('Plate Layout'!$M$64,0,0,1,1)=\"\",\"\",OFFSET('Plate Layout'!$M$64,0,0,1,1))","v":""}]
[{"$f":"IF('Plate Layout'!$D$8=\"\",\"\",'Plate Layout'!$D$8)","v":""},"I11",{"$f":"IF('Plate Layout'!W$23=\"\",\"\",'Plate Layout'!W$23)","v":""},{"$f":"IF('Plate Layout'!X$23=\"\",\"\",'Plate Layout'!X$23)","v":""},{"$f":"IF(OFFSET('Plate Layout'!$M$65,0,0,1,1)=\"\",\"\",OFFSET('Plate Layout'!$M$65,0,0,1,1))","v":""}]
[{"$f":"IF('Plate Layout'!$D$8=\"\",\"\",'Plate Layout'!$D$8)","v":""},"J11",{"$f":"IF('Plate Layout'!W$24=\"\",\"\",'Plate Layout'!W$24)","v":""},{"$f":"IF('Plate Layout'!X$24=\"\",\"\",'Plate Layout'!X$24)","v":""},{"$f":"IF(OFFSET('Plate Layout'!$M$66,0,0,1,1)=\"\",\"\",OFFSET('Plate Layout'!$M$66,0,0,1,1))","v":""}]
[{"$f":"IF('Plate Layout'!$D$8=\"\",\"\",'Plate Layout'!$D$8)","v":""},"K11",{"$f":"IF('Plate Layout'!W$25=\"\",\"\",'Plate Layout'!W$25)","v":""},{"$f":"IF('Plate Layout'!X$25=\"\",\"\",'Plate Layout'!X$25)","v":""},{"$f":"IF(OFFSET('Plate Layout'!$M$67,0,0,1,1)=\"\",\"\",OFFSET('Plate Layout'!$M$67,0,0,1,1))","v":""}]
[{"$f":"IF('Plate Layout'!$D$8=\"\",\"\",'Plate Layout'!$D$8)","v":""},"L11",{"$f":"IF('Plate Layout'!W$26=\"\",\"\",'Plate Layout'!W$26)","v":""},{"$f":"IF('Plate Layout'!X$26=\"\",\"\",'Plate Layout'!X$26)","v":""},{"$f":"IF(OFFSET('Plate Layout'!$M$68,0,0,1,1)=\"\",\"\",OFFSET('Plate Layout'!$M$68,0,0,1,1))","v":""}]
[{"$f":"IF('Plate Layout'!$D$8=\"\",\"\",'Plate Layout'!$D$8)","v":""},"M11",{"$f":"IF('Plate Layout'!W$27=\"\",\"\",'Plate Layout'!W$27)","v":""},{"$f":"IF('Plate Layout'!X$27=\"\",\"\",'Plate Layout'!X$27)","v":""},{"$f":"IF(OFFSET('Plate Layout'!$M$69,0,0,1,1)=\"\",\"\",OFFSET('Plate Layout'!$M$69,0,0,1,1))","v":""}]
[{"$f":"IF('Plate Layout'!$D$8=\"\",\"\",'Plate Layout'!$D$8)","v":""},"N11",{"$f":"IF('Plate Layout'!W$28=\"\",\"\",'Plate Layout'!W$28)","v":""},{"$f":"IF('Plate Layout'!X$28=\"\",\"\",'Plate Layout'!X$28)","v":""},{"$f":"IF(OFFSET('Plate Layout'!$M$70,0,0,1,1)=\"\",\"\",OFFSET('Plate Layout'!$M$70,0,0,1,1))","v":""}]
[{"$f":"IF('Plate Layout'!$D$8=\"\",\"\",'Plate Layout'!$D$8)","v":""},"O11",{"$f":"IF('Plate Layout'!W$29=\"\",\"\",'Plate Layout'!W$29)","v":""},{"$f":"IF('Plate Layout'!X$29=\"\",\"\",'Plate Layout'!X$29)","v":""},{"$f":"IF(OFFSET('Plate Layout'!$M$71,0,0,1,1)=\"\",\"\",OFFSET('Plate Layout'!$M$71,0,0,1,1))","v":""}]
[{"$f":"IF('Plate Layout'!$D$8=\"\",\"\",'Plate Layout'!$D$8)","v":""},"P11",{"$f":"IF('Plate Layout'!W$30=\"\",\"\",'Plate Layout'!W$30)","v":""},{"$f":"IF('Plate Layout'!X$30=\"\",\"\",'Plate Layout'!X$30)","v":""},{"$f":"IF(OFFSET('Plate Layout'!$M$72,0,0,1,1)=\"\",\"\",OFFSET('Plate Layout'!$M$72,0,0,1,1))","v":""}]
[{"$f":"IF('Plate Layout'!$D$8=\"\",\"\",'Plate Layout'!$D$8)","v":""},"A12",{"$f":"IF('Plate Layout'!Y$15=\"\",\"\",'Plate Layout'!Y$15)","v":""},{"$f":"IF('Plate Layout'!Z$15=\"\",\"\",'Plate Layout'!Z$15)","v":""},{"$f":"IF(OFFSET('Plate Layout'!$N$57,0,0,1,1)=\"\",\"\",OFFSET('Plate Layout'!$N$57,0,0,1,1))","v":""}]
[{"$f":"IF('Plate Layout'!$D$8=\"\",\"\",'Plate Layout'!$D$8)","v":""},"B12",{"$f":"IF('Plate Layout'!Y$16=\"\",\"\",'Plate Layout'!Y$16)","v":""},{"$f":"IF('Plate Layout'!Z$16=\"\",\"\",'Plate Layout'!Z$16)","v":""},{"$f":"IF(OFFSET('Plate Layout'!$N$58,0,0,1,1)=\"\",\"\",OFFSET('Plate Layout'!$N$58,0,0,1,1))","v":""}]
[{"$f":"IF('Plate Layout'!$D$8=\"\",\"\",'Plate Layout'!$D$8)","v":""},"C12",{"$f":"IF('Plate Layout'!Y$17=\"\",\"\",'Plate Layout'!Y$17)","v":""},{"$f":"IF('Plate Layout'!Z$17=\"\",\"\",'Plate Layout'!Z$17)","v":""},{"$f":"IF(OFFSET('Plate Layout'!$N$59,0,0,1,1)=\"\",\"\",OFFSET('Plate Layout'!$N$59,0,0,1,1))","v":""}]
[{"$f":"IF('Plate Layout'!$D$8=\"\",\"\",'Plate Layout'!$D$8)","v":""},"D12",{"$f":"IF('Plate Layout'!Y$18=\"\",\"\",'Plate Layout'!Y$18)","v":""},{"$f":"IF('Plate Layout'!Z$18=\"\",\"\",'Plate Layout'!Z$18)","v":""},{"$f":"IF(OFFSET('Plate Layout'!$N$60,0,0,1,1)=\"\",\"\",OFFSET('Plate Layout'!$N$60,0,0,1,1))","v":""}]
[{"$f":"IF('Plate Layout'!$D$8=\"\",\"\",'Plate Layout'!$D$8)","v":""},"E12",{"$f":"IF('Plate Layout'!Y$19=\"\",\"\",'Plate Layout'!Y$19)","v":""},{"$f":"IF('Plate Layout'!Z$19=\"\",\"\",'Plate Layout'!Z$19)","v":""},{"$f":"IF(OFFSET('Plate Layout'!$N$61,0,0,1,1)=\"\",\"\",OFFSET('Plate Layout'!$N$61,0,0,1,1))","v":""}]
[{"$f":"IF('Plate Layout'!$D$8=\"\",\"\",'Plate Layout'!$D$8)","v":""},"F12",{"$f":"IF('Plate Layout'!Y$20=\"\",\"\",'Plate Layout'!Y$20)","v":""},{"$f":"IF('Plate Layout'!Z$20=\"\",\"\",'Plate Layout'!Z$20)","v":""},{"$f":"IF(OFFSET('Plate Layout'!$N$62,0,0,1,1)=\"\",\"\",OFFSET('Plate Layout'!$N$62,0,0,1,1))","v":""}]
[{"$f":"IF('Plate Layout'!$D$8=\"\",\"\",'Plate Layout'!$D$8)","v":""},"G12",{"$f":"IF('Plate Layout'!Y$21=\"\",\"\",'Plate Layout'!Y$21)","v":""},{"$f":"IF('Plate Layout'!Z$21=\"\",\"\",'Plate Layout'!Z$21)","v":""},{"$f":"IF(OFFSET('Plate Layout'!$N$63,0,0,1,1)=\"\",\"\",OFFSET('Plate Layout'!$N$63,0,0,1,1))","v":""}]
[{"$f":"IF('Plate Layout'!$D$8=\"\",\"\",'Plate Layout'!$D$8)","v":""},"H12",{"$f":"IF('Plate Layout'!Y$22=\"\",\"\",'Plate Layout'!Y$22)","v":""},{"$f":"IF('Plate Layout'!Z$22=\"\",\"\",'Plate Layout'!Z$22)","v":""},{"$f":"IF(OFFSET('Plate Layout'!$N$64,0,0,1,1)=\"\",\"\",OFFSET('Plate Layout'!$N$64,0,0,1,1))","v":""}]
[{"$f":"IF('Plate Layout'!$D$8=\"\",\"\",'Plate Layout'!$D$8)","v":""},"I12",{"$f":"IF('Plate Layout'!Y$23=\"\",\"\",'Plate Layout'!Y$23)","v":""},{"$f":"IF('Plate Layout'!Z$23=\"\",\"\",'Plate Layout'!Z$23)","v":""},{"$f":"IF(OFFSET('Plate Layout'!$N$65,0,0,1,1)=\"\",\"\",OFFSET('Plate Layout'!$N$65,0,0,1,1))","v":""}]
[{"$f":"IF('Plate Layout'!$D$8=\"\",\"\",'Plate Layout'!$D$8)","v":""},"J12",{"$f":"IF('Plate Layout'!Y$24=\"\",\"\",'Plate Layout'!Y$24)","v":""},{"$f":"IF('Plate Layout'!Z$24=\"\",\"\",'Plate Layout'!Z$24)","v":""},{"$f":"IF(OFFSET('Plate Layout'!$N$66,0,0,1,1)=\"\",\"\",OFFSET('Plate Layout'!$N$66,0,0,1,1))","v":""}]
[{"$f":"IF('Plate Layout'!$D$8=\"\",\"\",'Plate Layout'!$D$8)","v":""},"K12",{"$f":"IF('Plate Layout'!Y$25=\"\",\"\",'Plate Layout'!Y$25)","v":""},{"$f":"IF('Plate Layout'!Z$25=\"\",\"\",'Plate Layout'!Z$25)","v":""},{"$f":"IF(OFFSET('Plate Layout'!$N$67,0,0,1,1)=\"\",\"\",OFFSET('Plate Layout'!$N$67,0,0,1,1))","v":""}]
[{"$f":"IF('Plate Layout'!$D$8=\"\",\"\",'Plate Layout'!$D$8)","v":""},"L12",{"$f":"IF('Plate Layout'!Y$26=\"\",\"\",'Plate Layout'!Y$26)","v":""},{"$f":"IF('Plate Layout'!Z$26=\"\",\"\",'Plate Layout'!Z$26)","v":""},{"$f":"IF(OFFSET('Plate Layout'!$N$68,0,0,1,1)=\"\",\"\",OFFSET('Plate Layout'!$N$68,0,0,1,1))","v":""}]
[{"$f":"IF('Plate Layout'!$D$8=\"\",\"\",'Plate Layout'!$D$8)","v":""},"M12",{"$f":"IF('Plate Layout'!Y$27=\"\",\"\",'Plate Layout'!Y$27)","v":""},{"$f":"IF('Plate Layout'!Z$27=\"\",\"\",'Plate Layout'!Z$27)","v":""},{"$f":"IF(OFFSET('Plate Layout'!$N$69,0,0,1,1)=\"\",\"\",OFFSET('Plate Layout'!$N$69,0,0,1,1))","v":""}]
[{"$f":"IF('Plate Layout'!$D$8=\"\",\"\",'Plate Layout'!$D$8)","v":""},"N12",{"$f":"IF('Plate Layout'!Y$28=\"\",\"\",'Plate Layout'!Y$28)","v":""},{"$f":"IF('Plate Layout'!Z$28=\"\",\"\",'Plate Layout'!Z$28)","v":""},{"$f":"IF(OFFSET('Plate Layout'!$N$70,0,0,1,1)=\"\",\"\",OFFSET('Plate Layout'!$N$70,0,0,1,1))","v":""}]
[{"$f":"IF('Plate Layout'!$D$8=\"\",\"\",'Plate Layout'!$D$8)","v":""},"O12",{"$f":"IF('Plate Layout'!Y$29=\"\",\"\",'Plate Layout'!Y$29)","v":""},{"$f":"IF('Plate Layout'!Z$29=\"\",\"\",'Plate Layout'!Z$29)","v":""},{"$f":"IF(OFFSET('Plate Layout'!$N$71,0,0,1,1)=\"\",\"\",OFFSET('Plate Layout'!$N$71,0,0,1,1))","v":""}]
[{"$f":"IF('Plate Layout'!$D$8=\"\",\"\",'Plate Layout'!$D$8)","v":""},"P12",{"$f":"IF('Plate Layout'!Y$30=\"\",\"\",'Plate Layout'!Y$30)","v":""},{"$f":"IF('Plate Layout'!Z$30=\"\",\"\",'Plate Layout'!Z$30)","v":""},{"$f":"IF(OFFSET('Plate Layout'!$N$72,0,0,1,1)=\"\",\"\",OFFSET('Plate Layout'!$N$72,0,0,1,1))","v":""}]
[{"$f":"IF('Plate Layout'!$D$8=\"\",\"\",'Plate Layout'!$D$8)","v":""},"A13",{"$f":"IF('Plate Layout'!AA$15=\"\",\"\",'Plate Layout'!AA$15)","v":""},{"$f":"IF('Plate Layout'!AB$15=\"\",\"\",'Plate Layout'!AB$15)","v":""},{"$f":"IF(OFFSET('Plate Layout'!$O$57,0,0,1,1)=\"\",\"\",OFFSET('Plate Layout'!$O$57,0,0,1,1))","v":""}]
[{"$f":"IF('Plate Layout'!$D$8=\"\",\"\",'Plate Layout'!$D$8)","v":""},"B13",{"$f":"IF('Plate Layout'!AA$16=\"\",\"\",'Plate Layout'!AA$16)","v":""},{"$f":"IF('Plate Layout'!AB$16=\"\",\"\",'Plate Layout'!AB$16)","v":""},{"$f":"IF(OFFSET('Plate Layout'!$O$58,0,0,1,1)=\"\",\"\",OFFSET('Plate Layout'!$O$58,0,0,1,1))","v":""}]
[{"$f":"IF('Plate Layout'!$D$8=\"\",\"\",'Plate Layout'!$D$8)","v":""},"C13",{"$f":"IF('Plate Layout'!AA$17=\"\",\"\",'Plate Layout'!AA$17)","v":""},{"$f":"IF('Plate Layout'!AB$17=\"\",\"\",'Plate Layout'!AB$17)","v":""},{"$f":"IF(OFFSET('Plate Layout'!$O$59,0,0,1,1)=\"\",\"\",OFFSET('Plate Layout'!$O$59,0,0,1,1))","v":""}]
[{"$f":"IF('Plate Layout'!$D$8=\"\",\"\",'Plate Layout'!$D$8)","v":""},"D13",{"$f":"IF('Plate Layout'!AA$18=\"\",\"\",'Plate Layout'!AA$18)","v":""},{"$f":"IF('Plate Layout'!AB$18=\"\",\"\",'Plate Layout'!AB$18)","v":""},{"$f":"IF(OFFSET('Plate Layout'!$O$60,0,0,1,1)=\"\",\"\",OFFSET('Plate Layout'!$O$60,0,0,1,1))","v":""}]
[{"$f":"IF('Plate Layout'!$D$8=\"\",\"\",'Plate Layout'!$D$8)","v":""},"E13",{"$f":"IF('Plate Layout'!AA$19=\"\",\"\",'Plate Layout'!AA$19)","v":""},{"$f":"IF('Plate Layout'!AB$19=\"\",\"\",'Plate Layout'!AB$19)","v":""},{"$f":"IF(OFFSET('Plate Layout'!$O$61,0,0,1,1)=\"\",\"\",OFFSET('Plate Layout'!$O$61,0,0,1,1))","v":""}]
[{"$f":"IF('Plate Layout'!$D$8=\"\",\"\",'Plate Layout'!$D$8)","v":""},"F13",{"$f":"IF('Plate Layout'!AA$20=\"\",\"\",'Plate Layout'!AA$20)","v":""},{"$f":"IF('Plate Layout'!AB$20=\"\",\"\",'Plate Layout'!AB$20)","v":""},{"$f":"IF(OFFSET('Plate Layout'!$O$62,0,0,1,1)=\"\",\"\",OFFSET('Plate Layout'!$O$62,0,0,1,1))","v":""}]
[{"$f":"IF('Plate Layout'!$D$8=\"\",\"\",'Plate Layout'!$D$8)","v":""},"G13",{"$f":"IF('Plate Layout'!AA$21=\"\",\"\",'Plate Layout'!AA$21)","v":""},{"$f":"IF('Plate Layout'!AB$21=\"\",\"\",'Plate Layout'!AB$21)","v":""},{"$f":"IF(OFFSET('Plate Layout'!$O$63,0,0,1,1)=\"\",\"\",OFFSET('Plate Layout'!$O$63,0,0,1,1))","v":""}]
[{"$f":"IF('Plate Layout'!$D$8=\"\",\"\",'Plate Layout'!$D$8)","v":""},"H13",{"$f":"IF('Plate Layout'!AA$22=\"\",\"\",'Plate Layout'!AA$22)","v":""},{"$f":"IF('Plate Layout'!AB$22=\"\",\"\",'Plate Layout'!AB$22)","v":""},{"$f":"IF(OFFSET('Plate Layout'!$O$64,0,0,1,1)=\"\",\"\",OFFSET('Plate Layout'!$O$64,0,0,1,1))","v":""}]
[{"$f":"IF('Plate Layout'!$D$8=\"\",\"\",'Plate Layout'!$D$8)","v":""},"I13",{"$f":"IF('Plate Layout'!AA$23=\"\",\"\",'Plate Layout'!AA$23)","v":""},{"$f":"IF('Plate Layout'!AB$23=\"\",\"\",'Plate Layout'!AB$23)","v":""},{"$f":"IF(OFFSET('Plate Layout'!$O$65,0,0,1,1)=\"\",\"\",OFFSET('Plate Layout'!$O$65,0,0,1,1))","v":""}]
[{"$f":"IF('Plate Layout'!$D$8=\"\",\"\",'Plate Layout'!$D$8)","v":""},"J13",{"$f":"IF('Plate Layout'!AA$24=\"\",\"\",'Plate Layout'!AA$24)","v":""},{"$f":"IF('Plate Layout'!AB$24=\"\",\"\",'Plate Layout'!AB$24)","v":""},{"$f":"IF(OFFSET('Plate Layout'!$O$66,0,0,1,1)=\"\",\"\",OFFSET('Plate Layout'!$O$66,0,0,1,1))","v":""}]
[{"$f":"IF('Plate Layout'!$D$8=\"\",\"\",'Plate Layout'!$D$8)","v":""},"K13",{"$f":"IF('Plate Layout'!AA$25=\"\",\"\",'Plate Layout'!AA$25)","v":""},{"$f":"IF('Plate Layout'!AB$25=\"\",\"\",'Plate Layout'!AB$25)","v":""},{"$f":"IF(OFFSET('Plate Layout'!$O$67,0,0,1,1)=\"\",\"\",OFFSET('Plate Layout'!$O$67,0,0,1,1))","v":""}]
[{"$f":"IF('Plate Layout'!$D$8=\"\",\"\",'Plate Layout'!$D$8)","v":""},"L13",{"$f":"IF('Plate Layout'!AA$26=\"\",\"\",'Plate Layout'!AA$26)","v":""},{"$f":"IF('Plate Layout'!AB$26=\"\",\"\",'Plate Layout'!AB$26)","v":""},{"$f":"IF(OFFSET('Plate Layout'!$O$68,0,0,1,1)=\"\",\"\",OFFSET('Plate Layout'!$O$68,0,0,1,1))","v":""}]
[{"$f":"IF('Plate Layout'!$D$8=\"\",\"\",'Plate Layout'!$D$8)","v":""},"M13",{"$f":"IF('Plate Layout'!AA$27=\"\",\"\",'Plate Layout'!AA$27)","v":""},{"$f":"IF('Plate Layout'!AB$27=\"\",\"\",'Plate Layout'!AB$27)","v":""},{"$f":"IF(OFFSET('Plate Layout'!$O$69,0,0,1,1)=\"\",\"\",OFFSET('Plate Layout'!$O$69,0,0,1,1))","v":""}]
[{"$f":"IF('Plate Layout'!$D$8=\"\",\"\",'Plate Layout'!$D$8)","v":""},"N13",{"$f":"IF('Plate Layout'!AA$28=\"\",\"\",'Plate Layout'!AA$28)","v":""},{"$f":"IF('Plate Layout'!AB$28=\"\",\"\",'Plate Layout'!AB$28)","v":""},{"$f":"IF(OFFSET('Plate Layout'!$O$70,0,0,1,1)=\"\",\"\",OFFSET('Plate Layout'!$O$70,0,0,1,1))","v":""}]
[{"$f":"IF('Plate Layout'!$D$8=\"\",\"\",'Plate Layout'!$D$8)","v":""},"O13",{"$f":"IF('Plate Layout'!AA$29=\"\",\"\",'Plate Layout'!AA$29)","v":""},{"$f":"IF('Plate Layout'!AB$29=\"\",\"\",'Plate Layout'!AB$29)","v":""},{"$f":"IF(OFFSET('Plate Layout'!$O$71,0,0,1,1)=\"\",\"\",OFFSET('Plate Layout'!$O$71,0,0,1,1))","v":""}]
[{"$f":"IF('Plate Layout'!$D$8=\"\",\"\",'Plate Layout'!$D$8)","v":""},"P13",{"$f":"IF('Plate Layout'!AA$30=\"\",\"\",'Plate Layout'!AA$30)","v":""},{"$f":"IF('Plate Layout'!AB$30=\"\",\"\",'Plate Layout'!AB$30)","v":""},{"$f":"IF(OFFSET('Plate Layout'!$O$72,0,0,1,1)=\"\",\"\",OFFSET('Plate Layout'!$O$72,0,0,1,1))","v":""}]
[{"$f":"IF('Plate Layout'!$D$8=\"\",\"\",'Plate Layout'!$D$8)","v":""},"A14",{"$f":"IF('Plate Layout'!AC$15=\"\",\"\",'Plate Layout'!AC$15)","v":""},{"$f":"IF('Plate Layout'!AD$15=\"\",\"\",'Plate Layout'!AD$15)","v":""},{"$f":"IF(OFFSET('Plate Layout'!$P$57,0,0,1,1)=\"\",\"\",OFFSET('Plate Layout'!$P$57,0,0,1,1))","v":""}]
[{"$f":"IF('Plate Layout'!$D$8=\"\",\"\",'Plate Layout'!$D$8)","v":""},"B14",{"$f":"IF('Plate Layout'!AC$16=\"\",\"\",'Plate Layout'!AC$16)","v":""},{"$f":"IF('Plate Layout'!AD$16=\"\",\"\",'Plate Layout'!AD$16)","v":""},{"$f":"IF(OFFSET('Plate Layout'!$P$58,0,0,1,1)=\"\",\"\",OFFSET('Plate Layout'!$P$58,0,0,1,1))","v":""}]
[{"$f":"IF('Plate Layout'!$D$8=\"\",\"\",'Plate Layout'!$D$8)","v":""},"C14",{"$f":"IF('Plate Layout'!AC$17=\"\",\"\",'Plate Layout'!AC$17)","v":""},{"$f":"IF('Plate Layout'!AD$17=\"\",\"\",'Plate Layout'!AD$17)","v":""},{"$f":"IF(OFFSET('Plate Layout'!$P$59,0,0,1,1)=\"\",\"\",OFFSET('Plate Layout'!$P$59,0,0,1,1))","v":""}]
[{"$f":"IF('Plate Layout'!$D$8=\"\",\"\",'Plate Layout'!$D$8)","v":""},"D14",{"$f":"IF('Plate Layout'!AC$18=\"\",\"\",'Plate Layout'!AC$18)","v":""},{"$f":"IF('Plate Layout'!AD$18=\"\",\"\",'Plate Layout'!AD$18)","v":""},{"$f":"IF(OFFSET('Plate Layout'!$P$60,0,0,1,1)=\"\",\"\",OFFSET('Plate Layout'!$P$60,0,0,1,1))","v":""}]
[{"$f":"IF('Plate Layout'!$D$8=\"\",\"\",'Plate Layout'!$D$8)","v":""},"E14",{"$f":"IF('Plate Layout'!AC$19=\"\",\"\",'Plate Layout'!AC$19)","v":""},{"$f":"IF('Plate Layout'!AD$19=\"\",\"\",'Plate Layout'!AD$19)","v":""},{"$f":"IF(OFFSET('Plate Layout'!$P$61,0,0,1,1)=\"\",\"\",OFFSET('Plate Layout'!$P$61,0,0,1,1))","v":""}]
[{"$f":"IF('Plate Layout'!$D$8=\"\",\"\",'Plate Layout'!$D$8)","v":""},"F14",{"$f":"IF('Plate Layout'!AC$20=\"\",\"\",'Plate Layout'!AC$20)","v":""},{"$f":"IF('Plate Layout'!AD$20=\"\",\"\",'Plate Layout'!AD$20)","v":""},{"$f":"IF(OFFSET('Plate Layout'!$P$62,0,0,1,1)=\"\",\"\",OFFSET('Plate Layout'!$P$62,0,0,1,1))","v":""}]
[{"$f":"IF('Plate Layout'!$D$8=\"\",\"\",'Plate Layout'!$D$8)","v":""},"G14",{"$f":"IF('Plate Layout'!AC$21=\"\",\"\",'Plate Layout'!AC$21)","v":""},{"$f":"IF('Plate Layout'!AD$21=\"\",\"\",'Plate Layout'!AD$21)","v":""},{"$f":"IF(OFFSET('Plate Layout'!$P$63,0,0,1,1)=\"\",\"\",OFFSET('Plate Layout'!$P$63,0,0,1,1))","v":""}]
[{"$f":"IF('Plate Layout'!$D$8=\"\",\"\",'Plate Layout'!$D$8)","v":""},"H14",{"$f":"IF('Plate Layout'!AC$22=\"\",\"\",'Plate Layout'!AC$22)","v":""},{"$f":"IF('Plate Layout'!AD$22=\"\",\"\",'Plate Layout'!AD$22)","v":""},{"$f":"IF(OFFSET('Plate Layout'!$P$64,0,0,1,1)=\"\",\"\",OFFSET('Plate Layout'!$P$64,0,0,1,1))","v":""}]
[{"$f":"IF('Plate Layout'!$D$8=\"\",\"\",'Plate Layout'!$D$8)","v":""},"I14",{"$f":"IF('Plate Layout'!AC$23=\"\",\"\",'Plate Layout'!AC$23)","v":""},{"$f":"IF('Plate Layout'!AD$23=\"\",\"\",'Plate Layout'!AD$23)","v":""},{"$f":"IF(OFFSET('Plate Layout'!$P$65,0,0,1,1)=\"\",\"\",OFFSET('Plate Layout'!$P$65,0,0,1,1))","v":""}]
[{"$f":"IF('Plate Layout'!$D$8=\"\",\"\",'Plate Layout'!$D$8)","v":""},"J14",{"$f":"IF('Plate Layout'!AC$24=\"\",\"\",'Plate Layout'!AC$24)","v":""},{"$f":"IF('Plate Layout'!AD$24=\"\",\"\",'Plate Layout'!AD$24)","v":""},{"$f":"IF(OFFSET('Plate Layout'!$P$66,0,0,1,1)=\"\",\"\",OFFSET('Plate Layout'!$P$66,0,0,1,1))","v":""}]
[{"$f":"IF('Plate Layout'!$D$8=\"\",\"\",'Plate Layout'!$D$8)","v":""},"K14",{"$f":"IF('Plate Layout'!AC$25=\"\",\"\",'Plate Layout'!AC$25)","v":""},{"$f":"IF('Plate Layout'!AD$25=\"\",\"\",'Plate Layout'!AD$25)","v":""},{"$f":"IF(OFFSET('Plate Layout'!$P$67,0,0,1,1)=\"\",\"\",OFFSET('Plate Layout'!$P$67,0,0,1,1))","v":""}]
[{"$f":"IF('Plate Layout'!$D$8=\"\",\"\",'Plate Layout'!$D$8)","v":""},"L14",{"$f":"IF('Plate Layout'!AC$26=\"\",\"\",'Plate Layout'!AC$26)","v":""},{"$f":"IF('Plate Layout'!AD$26=\"\",\"\",'Plate Layout'!AD$26)","v":""},{"$f":"IF(OFFSET('Plate Layout'!$P$68,0,0,1,1)=\"\",\"\",OFFSET('Plate Layout'!$P$68,0,0,1,1))","v":""}]
[{"$f":"IF('Plate Layout'!$D$8=\"\",\"\",'Plate Layout'!$D$8)","v":""},"M14",{"$f":"IF('Plate Layout'!AC$27=\"\",\"\",'Plate Layout'!AC$27)","v":""},{"$f":"IF('Plate Layout'!AD$27=\"\",\"\",'Plate Layout'!AD$27)","v":""},{"$f":"IF(OFFSET('Plate Layout'!$P$69,0,0,1,1)=\"\",\"\",OFFSET('Plate Layout'!$P$69,0,0,1,1))","v":""}]
[{"$f":"IF('Plate Layout'!$D$8=\"\",\"\",'Plate Layout'!$D$8)","v":""},"N14",{"$f":"IF('Plate Layout'!AC$28=\"\",\"\",'Plate Layout'!AC$28)","v":""},{"$f":"IF('Plate Layout'!AD$28=\"\",\"\",'Plate Layout'!AD$28)","v":""},{"$f":"IF(OFFSET('Plate Layout'!$P$70,0,0,1,1)=\"\",\"\",OFFSET('Plate Layout'!$P$70,0,0,1,1))","v":""}]
[{"$f":"IF('Plate Layout'!$D$8=\"\",\"\",'Plate Layout'!$D$8)","v":""},"O14",{"$f":"IF('Plate Layout'!AC$29=\"\",\"\",'Plate Layout'!AC$29)","v":""},{"$f":"IF('Plate Layout'!AD$29=\"\",\"\",'Plate Layout'!AD$29)","v":""},{"$f":"IF(OFFSET('Plate Layout'!$P$71,0,0,1,1)=\"\",\"\",OFFSET('Plate Layout'!$P$71,0,0,1,1))","v":""}]
[{"$f":"IF('Plate Layout'!$D$8=\"\",\"\",'Plate Layout'!$D$8)","v":""},"P14",{"$f":"IF('Plate Layout'!AC$30=\"\",\"\",'Plate Layout'!AC$30)","v":""},{"$f":"IF('Plate Layout'!AD$30=\"\",\"\",'Plate Layout'!AD$30)","v":""},{"$f":"IF(OFFSET('Plate Layout'!$P$72,0,0,1,1)=\"\",\"\",OFFSET('Plate Layout'!$P$72,0,0,1,1))","v":""}]
[{"$f":"IF('Plate Layout'!$D$8=\"\",\"\",'Plate Layout'!$D$8)","v":""},"A15",{"$f":"IF('Plate Layout'!AE$15=\"\",\"\",'Plate Layout'!AE$15)","v":""},{"$f":"IF('Plate Layout'!AF$15=\"\",\"\",'Plate Layout'!AF$15)","v":""},{"$f":"IF(OFFSET('Plate Layout'!$Q$57,0,0,1,1)=\"\",\"\",OFFSET('Plate Layout'!$Q$57,0,0,1,1))","v":""}]
[{"$f":"IF('Plate Layout'!$D$8=\"\",\"\",'Plate Layout'!$D$8)","v":""},"B15",{"$f":"IF('Plate Layout'!AE$16=\"\",\"\",'Plate Layout'!AE$16)","v":""},{"$f":"IF('Plate Layout'!AF$16=\"\",\"\",'Plate Layout'!AF$16)","v":""},{"$f":"IF(OFFSET('Plate Layout'!$Q$58,0,0,1,1)=\"\",\"\",OFFSET('Plate Layout'!$Q$58,0,0,1,1))","v":""}]
[{"$f":"IF('Plate Layout'!$D$8=\"\",\"\",'Plate Layout'!$D$8)","v":""},"C15",{"$f":"IF('Plate Layout'!AE$17=\"\",\"\",'Plate Layout'!AE$17)","v":""},{"$f":"IF('Plate Layout'!AF$17=\"\",\"\",'Plate Layout'!AF$17)","v":""},{"$f":"IF(OFFSET('Plate Layout'!$Q$59,0,0,1,1)=\"\",\"\",OFFSET('Plate Layout'!$Q$59,0,0,1,1))","v":""}]
[{"$f":"IF('Plate Layout'!$D$8=\"\",\"\",'Plate Layout'!$D$8)","v":""},"D15",{"$f":"IF('Plate Layout'!AE$18=\"\",\"\",'Plate Layout'!AE$18)","v":""},{"$f":"IF('Plate Layout'!AF$18=\"\",\"\",'Plate Layout'!AF$18)","v":""},{"$f":"IF(OFFSET('Plate Layout'!$Q$60,0,0,1,1)=\"\",\"\",OFFSET('Plate Layout'!$Q$60,0,0,1,1))","v":""}]
[{"$f":"IF('Plate Layout'!$D$8=\"\",\"\",'Plate Layout'!$D$8)","v":""},"E15",{"$f":"IF('Plate Layout'!AE$19=\"\",\"\",'Plate Layout'!AE$19)","v":""},{"$f":"IF('Plate Layout'!AF$19=\"\",\"\",'Plate Layout'!AF$19)","v":""},{"$f":"IF(OFFSET('Plate Layout'!$Q$61,0,0,1,1)=\"\",\"\",OFFSET('Plate Layout'!$Q$61,0,0,1,1))","v":""}]
[{"$f":"IF('Plate Layout'!$D$8=\"\",\"\",'Plate Layout'!$D$8)","v":""},"F15",{"$f":"IF('Plate Layout'!AE$20=\"\",\"\",'Plate Layout'!AE$20)","v":""},{"$f":"IF('Plate Layout'!AF$20=\"\",\"\",'Plate Layout'!AF$20)","v":""},{"$f":"IF(OFFSET('Plate Layout'!$Q$62,0,0,1,1)=\"\",\"\",OFFSET('Plate Layout'!$Q$62,0,0,1,1))","v":""}]
[{"$f":"IF('Plate Layout'!$D$8=\"\",\"\",'Plate Layout'!$D$8)","v":""},"G15",{"$f":"IF('Plate Layout'!AE$21=\"\",\"\",'Plate Layout'!AE$21)","v":""},{"$f":"IF('Plate Layout'!AF$21=\"\",\"\",'Plate Layout'!AF$21)","v":""},{"$f":"IF(OFFSET('Plate Layout'!$Q$63,0,0,1,1)=\"\",\"\",OFFSET('Plate Layout'!$Q$63,0,0,1,1))","v":""}]
[{"$f":"IF('Plate Layout'!$D$8=\"\",\"\",'Plate Layout'!$D$8)","v":""},"H15",{"$f":"IF('Plate Layout'!AE$22=\"\",\"\",'Plate Layout'!AE$22)","v":""},{"$f":"IF('Plate Layout'!AF$22=\"\",\"\",'Plate Layout'!AF$22)","v":""},{"$f":"IF(OFFSET('Plate Layout'!$Q$64,0,0,1,1)=\"\",\"\",OFFSET('Plate Layout'!$Q$64,0,0,1,1))","v":""}]
[{"$f":"IF('Plate Layout'!$D$8=\"\",\"\",'Plate Layout'!$D$8)","v":""},"I15",{"$f":"IF('Plate Layout'!AE$23=\"\",\"\",'Plate Layout'!AE$23)","v":""},{"$f":"IF('Plate Layout'!AF$23=\"\",\"\",'Plate Layout'!AF$23)","v":""},{"$f":"IF(OFFSET('Plate Layout'!$Q$65,0,0,1,1)=\"\",\"\",OFFSET('Plate Layout'!$Q$65,0,0,1,1))","v":""}]
[{"$f":"IF('Plate Layout'!$D$8=\"\",\"\",'Plate Layout'!$D$8)","v":""},"J15",{"$f":"IF('Plate Layout'!AE$24=\"\",\"\",'Plate Layout'!AE$24)","v":""},{"$f":"IF('Plate Layout'!AF$24=\"\",\"\",'Plate Layout'!AF$24)","v":""},{"$f":"IF(OFFSET('Plate Layout'!$Q$66,0,0,1,1)=\"\",\"\",OFFSET('Plate Layout'!$Q$66,0,0,1,1))","v":""}]
[{"$f":"IF('Plate Layout'!$D$8=\"\",\"\",'Plate Layout'!$D$8)","v":""},"K15",{"$f":"IF('Plate Layout'!AE$25=\"\",\"\",'Plate Layout'!AE$25)","v":""},{"$f":"IF('Plate Layout'!AF$25=\"\",\"\",'Plate Layout'!AF$25)","v":""},{"$f":"IF(OFFSET('Plate Layout'!$Q$67,0,0,1,1)=\"\",\"\",OFFSET('Plate Layout'!$Q$67,0,0,1,1))","v":""}]
[{"$f":"IF('Plate Layout'!$D$8=\"\",\"\",'Plate Layout'!$D$8)","v":""},"L15",{"$f":"IF('Plate Layout'!AE$26=\"\",\"\",'Plate Layout'!AE$26)","v":""},{"$f":"IF('Plate Layout'!AF$26=\"\",\"\",'Plate Layout'!AF$26)","v":""},{"$f":"IF(OFFSET('Plate Layout'!$Q$68,0,0,1,1)=\"\",\"\",OFFSET('Plate Layout'!$Q$68,0,0,1,1))","v":""}]
[{"$f":"IF('Plate Layout'!$D$8=\"\",\"\",'Plate Layout'!$D$8)","v":""},"M15",{"$f":"IF('Plate Layout'!AE$27=\"\",\"\",'Plate Layout'!AE$27)","v":""},{"$f":"IF('Plate Layout'!AF$27=\"\",\"\",'Plate Layout'!AF$27)","v":""},{"$f":"IF(OFFSET('Plate Layout'!$Q$69,0,0,1,1)=\"\",\"\",OFFSET('Plate Layout'!$Q$69,0,0,1,1))","v":""}]
[{"$f":"IF('Plate Layout'!$D$8=\"\",\"\",'Plate Layout'!$D$8)","v":""},"N15",{"$f":"IF('Plate Layout'!AE$28=\"\",\"\",'Plate Layout'!AE$28)","v":""},{"$f":"IF('Plate Layout'!AF$28=\"\",\"\",'Plate Layout'!AF$28)","v":""},{"$f":"IF(OFFSET('Plate Layout'!$Q$70,0,0,1,1)=\"\",\"\",OFFSET('Plate Layout'!$Q$70,0,0,1,1))","v":""}]
[{"$f":"IF('Plate Layout'!$D$8=\"\",\"\",'Plate Layout'!$D$8)","v":""},"O15",{"$f":"IF('Plate Layout'!AE$29=\"\",\"\",'Plate Layout'!AE$29)","v":""},{"$f":"IF('Plate Layout'!AF$29=\"\",\"\",'Plate Layout'!AF$29)","v":""},{"$f":"IF(OFFSET('Plate Layout'!$Q$71,0,0,1,1)=\"\",\"\",OFFSET('Plate Layout'!$Q$71,0,0,1,1))","v":""}]
[{"$f":"IF('Plate Layout'!$D$8=\"\",\"\",'Plate Layout'!$D$8)","v":""},"P15",{"$f":"IF('Plate Layout'!AE$30=\"\",\"\",'Plate Layout'!AE$30)","v":""},{"$f":"IF('Plate Layout'!AF$30=\"\",\"\",'Plate Layout'!AF$30)","v":""},{"$f":"IF(OFFSET('Plate Layout'!$Q$72,0,0,1,1)=\"\",\"\",OFFSET('Plate Layout'!$Q$72,0,0,1,1))","v":""}]
[{"$f":"IF('Plate Layout'!$D$8=\"\",\"\",'Plate Layout'!$D$8)","v":""},"A16",{"$f":"IF('Plate Layout'!AG$15=\"\",\"\",'Plate Layout'!AG$15)","v":""},{"$f":"IF('Plate Layout'!AH$15=\"\",\"\",'Plate Layout'!AH$15)","v":""},{"$f":"IF(OFFSET('Plate Layout'!$R$57,0,0,1,1)=\"\",\"\",OFFSET('Plate Layout'!$R$57,0,0,1,1))","v":""}]
[{"$f":"IF('Plate Layout'!$D$8=\"\",\"\",'Plate Layout'!$D$8)","v":""},"B16",{"$f":"IF('Plate Layout'!AG$16=\"\",\"\",'Plate Layout'!AG$16)","v":""},{"$f":"IF('Plate Layout'!AH$16=\"\",\"\",'Plate Layout'!AH$16)","v":""},{"$f":"IF(OFFSET('Plate Layout'!$R$58,0,0,1,1)=\"\",\"\",OFFSET('Plate Layout'!$R$58,0,0,1,1))","v":""}]
[{"$f":"IF('Plate Layout'!$D$8=\"\",\"\",'Plate Layout'!$D$8)","v":""},"C16",{"$f":"IF('Plate Layout'!AG$17=\"\",\"\",'Plate Layout'!AG$17)","v":""},{"$f":"IF('Plate Layout'!AH$17=\"\",\"\",'Plate Layout'!AH$17)","v":""},{"$f":"IF(OFFSET('Plate Layout'!$R$59,0,0,1,1)=\"\",\"\",OFFSET('Plate Layout'!$R$59,0,0,1,1))","v":""}]
[{"$f":"IF('Plate Layout'!$D$8=\"\",\"\",'Plate Layout'!$D$8)","v":""},"D16",{"$f":"IF('Plate Layout'!AG$18=\"\",\"\",'Plate Layout'!AG$18)","v":""},{"$f":"IF('Plate Layout'!AH$18=\"\",\"\",'Plate Layout'!AH$18)","v":""},{"$f":"IF(OFFSET('Plate Layout'!$R$60,0,0,1,1)=\"\",\"\",OFFSET('Plate Layout'!$R$60,0,0,1,1))","v":""}]
[{"$f":"IF('Plate Layout'!$D$8=\"\",\"\",'Plate Layout'!$D$8)","v":""},"E16",{"$f":"IF('Plate Layout'!AG$19=\"\",\"\",'Plate Layout'!AG$19)","v":""},{"$f":"IF('Plate Layout'!AH$19=\"\",\"\",'Plate Layout'!AH$19)","v":""},{"$f":"IF(OFFSET('Plate Layout'!$R$61,0,0,1,1)=\"\",\"\",OFFSET('Plate Layout'!$R$61,0,0,1,1))","v":""}]
[{"$f":"IF('Plate Layout'!$D$8=\"\",\"\",'Plate Layout'!$D$8)","v":""},"F16",{"$f":"IF('Plate Layout'!AG$20=\"\",\"\",'Plate Layout'!AG$20)","v":""},{"$f":"IF('Plate Layout'!AH$20=\"\",\"\",'Plate Layout'!AH$20)","v":""},{"$f":"IF(OFFSET('Plate Layout'!$R$62,0,0,1,1)=\"\",\"\",OFFSET('Plate Layout'!$R$62,0,0,1,1))","v":""}]
[{"$f":"IF('Plate Layout'!$D$8=\"\",\"\",'Plate Layout'!$D$8)","v":""},"G16",{"$f":"IF('Plate Layout'!AG$21=\"\",\"\",'Plate Layout'!AG$21)","v":""},{"$f":"IF('Plate Layout'!AH$21=\"\",\"\",'Plate Layout'!AH$21)","v":""},{"$f":"IF(OFFSET('Plate Layout'!$R$63,0,0,1,1)=\"\",\"\",OFFSET('Plate Layout'!$R$63,0,0,1,1))","v":""}]
[{"$f":"IF('Plate Layout'!$D$8=\"\",\"\",'Plate Layout'!$D$8)","v":""},"H16",{"$f":"IF('Plate Layout'!AG$22=\"\",\"\",'Plate Layout'!AG$22)","v":""},{"$f":"IF('Plate Layout'!AH$22=\"\",\"\",'Plate Layout'!AH$22)","v":""},{"$f":"IF(OFFSET('Plate Layout'!$R$64,0,0,1,1)=\"\",\"\",OFFSET('Plate Layout'!$R$64,0,0,1,1))","v":""}]
[{"$f":"IF('Plate Layout'!$D$8=\"\",\"\",'Plate Layout'!$D$8)","v":""},"I16",{"$f":"IF('Plate Layout'!AG$23=\"\",\"\",'Plate Layout'!AG$23)","v":""},{"$f":"IF('Plate Layout'!AH$23=\"\",\"\",'Plate Layout'!AH$23)","v":""},{"$f":"IF(OFFSET('Plate Layout'!$R$65,0,0,1,1)=\"\",\"\",OFFSET('Plate Layout'!$R$65,0,0,1,1))","v":""}]
[{"$f":"IF('Plate Layout'!$D$8=\"\",\"\",'Plate Layout'!$D$8)","v":""},"J16",{"$f":"IF('Plate Layout'!AG$24=\"\",\"\",'Plate Layout'!AG$24)","v":""},{"$f":"IF('Plate Layout'!AH$24=\"\",\"\",'Plate Layout'!AH$24)","v":""},{"$f":"IF(OFFSET('Plate Layout'!$R$66,0,0,1,1)=\"\",\"\",OFFSET('Plate Layout'!$R$66,0,0,1,1))","v":""}]
[{"$f":"IF('Plate Layout'!$D$8=\"\",\"\",'Plate Layout'!$D$8)","v":""},"K16",{"$f":"IF('Plate Layout'!AG$25=\"\",\"\",'Plate Layout'!AG$25)","v":""},{"$f":"IF('Plate Layout'!AH$25=\"\",\"\",'Plate Layout'!AH$25)","v":""},{"$f":"IF(OFFSET('Plate Layout'!$R$67,0,0,1,1)=\"\",\"\",OFFSET('Plate Layout'!$R$67,0,0,1,1))","v":""}]
[{"$f":"IF('Plate Layout'!$D$8=\"\",\"\",'Plate Layout'!$D$8)","v":""},"L16",{"$f":"IF('Plate Layout'!AG$26=\"\",\"\",'Plate Layout'!AG$26)","v":""},{"$f":"IF('Plate Layout'!AH$26=\"\",\"\",'Plate Layout'!AH$26)","v":""},{"$f":"IF(OFFSET('Plate Layout'!$R$68,0,0,1,1)=\"\",\"\",OFFSET('Plate Layout'!$R$68,0,0,1,1))","v":""}]
[{"$f":"IF('Plate Layout'!$D$8=\"\",\"\",'Plate Layout'!$D$8)","v":""},"M16",{"$f":"IF('Plate Layout'!AG$27=\"\",\"\",'Plate Layout'!AG$27)","v":""},{"$f":"IF('Plate Layout'!AH$27=\"\",\"\",'Plate Layout'!AH$27)","v":""},{"$f":"IF(OFFSET('Plate Layout'!$R$69,0,0,1,1)=\"\",\"\",OFFSET('Plate Layout'!$R$69,0,0,1,1))","v":""}]
[{"$f":"IF('Plate Layout'!$D$8=\"\",\"\",'Plate Layout'!$D$8)","v":""},"N16",{"$f":"IF('Plate Layout'!AG$28=\"\",\"\",'Plate Layout'!AG$28)","v":""},{"$f":"IF('Plate Layout'!AH$28=\"\",\"\",'Plate Layout'!AH$28)","v":""},{"$f":"IF(OFFSET('Plate Layout'!$R$70,0,0,1,1)=\"\",\"\",OFFSET('Plate Layout'!$R$70,0,0,1,1))","v":""}]
[{"$f":"IF('Plate Layout'!$D$8=\"\",\"\",'Plate Layout'!$D$8)","v":""},"O16",{"$f":"IF('Plate Layout'!AG$29=\"\",\"\",'Plate Layout'!AG$29)","v":""},{"$f":"IF('Plate Layout'!AH$29=\"\",\"\",'Plate Layout'!AH$29)","v":""},{"$f":"IF(OFFSET('Plate Layout'!$R$71,0,0,1,1)=\"\",\"\",OFFSET('Plate Layout'!$R$71,0,0,1,1))","v":""}]
[{"$f":"IF('Plate Layout'!$D$8=\"\",\"\",'Plate Layout'!$D$8)","v":""},"P16",{"$f":"IF('Plate Layout'!AG$30=\"\",\"\",'Plate Layout'!AG$30)","v":""},{"$f":"IF('Plate Layout'!AH$30=\"\",\"\",'Plate Layout'!AH$30)","v":""},{"$f":"IF(OFFSET('Plate Layout'!$R$72,0,0,1,1)=\"\",\"\",OFFSET('Plate Layout'!$R$72,0,0,1,1))","v":""}]
[{"$f":"IF('Plate Layout'!$D$8=\"\",\"\",'Plate Layout'!$D$8)","v":""},"A17",{"$f":"IF('Plate Layout'!AI$15=\"\",\"\",'Plate Layout'!AI$15)","v":""},{"$f":"IF('Plate Layout'!AJ$15=\"\",\"\",'Plate Layout'!AJ$15)","v":""},{"$f":"IF(OFFSET('Plate Layout'!$S$57,0,0,1,1)=\"\",\"\",OFFSET('Plate Layout'!$S$57,0,0,1,1))","v":""}]
[{"$f":"IF('Plate Layout'!$D$8=\"\",\"\",'Plate Layout'!$D$8)","v":""},"B17",{"$f":"IF('Plate Layout'!AI$16=\"\",\"\",'Plate Layout'!AI$16)","v":""},{"$f":"IF('Plate Layout'!AJ$16=\"\",\"\",'Plate Layout'!AJ$16)","v":""},{"$f":"IF(OFFSET('Plate Layout'!$S$58,0,0,1,1)=\"\",\"\",OFFSET('Plate Layout'!$S$58,0,0,1,1))","v":""}]
[{"$f":"IF('Plate Layout'!$D$8=\"\",\"\",'Plate Layout'!$D$8)","v":""},"C17",{"$f":"IF('Plate Layout'!AI$17=\"\",\"\",'Plate Layout'!AI$17)","v":""},{"$f":"IF('Plate Layout'!AJ$17=\"\",\"\",'Plate Layout'!AJ$17)","v":""},{"$f":"IF(OFFSET('Plate Layout'!$S$59,0,0,1,1)=\"\",\"\",OFFSET('Plate Layout'!$S$59,0,0,1,1))","v":""}]
[{"$f":"IF('Plate Layout'!$D$8=\"\",\"\",'Plate Layout'!$D$8)","v":""},"D17",{"$f":"IF('Plate Layout'!AI$18=\"\",\"\",'Plate Layout'!AI$18)","v":""},{"$f":"IF('Plate Layout'!AJ$18=\"\",\"\",'Plate Layout'!AJ$18)","v":""},{"$f":"IF(OFFSET('Plate Layout'!$S$60,0,0,1,1)=\"\",\"\",OFFSET('Plate Layout'!$S$60,0,0,1,1))","v":""}]
[{"$f":"IF('Plate Layout'!$D$8=\"\",\"\",'Plate Layout'!$D$8)","v":""},"E17",{"$f":"IF('Plate Layout'!AI$19=\"\",\"\",'Plate Layout'!AI$19)","v":""},{"$f":"IF('Plate Layout'!AJ$19=\"\",\"\",'Plate Layout'!AJ$19)","v":""},{"$f":"IF(OFFSET('Plate Layout'!$S$61,0,0,1,1)=\"\",\"\",OFFSET('Plate Layout'!$S$61,0,0,1,1))","v":""}]
[{"$f":"IF('Plate Layout'!$D$8=\"\",\"\",'Plate Layout'!$D$8)","v":""},"F17",{"$f":"IF('Plate Layout'!AI$20=\"\",\"\",'Plate Layout'!AI$20)","v":""},{"$f":"IF('Plate Layout'!AJ$20=\"\",\"\",'Plate Layout'!AJ$20)","v":""},{"$f":"IF(OFFSET('Plate Layout'!$S$62,0,0,1,1)=\"\",\"\",OFFSET('Plate Layout'!$S$62,0,0,1,1))","v":""}]
[{"$f":"IF('Plate Layout'!$D$8=\"\",\"\",'Plate Layout'!$D$8)","v":""},"G17",{"$f":"IF('Plate Layout'!AI$21=\"\",\"\",'Plate Layout'!AI$21)","v":""},{"$f":"IF('Plate Layout'!AJ$21=\"\",\"\",'Plate Layout'!AJ$21)","v":""},{"$f":"IF(OFFSET('Plate Layout'!$S$63,0,0,1,1)=\"\",\"\",OFFSET('Plate Layout'!$S$63,0,0,1,1))","v":""}]
[{"$f":"IF('Plate Layout'!$D$8=\"\",\"\",'Plate Layout'!$D$8)","v":""},"H17",{"$f":"IF('Plate Layout'!AI$22=\"\",\"\",'Plate Layout'!AI$22)","v":""},{"$f":"IF('Plate Layout'!AJ$22=\"\",\"\",'Plate Layout'!AJ$22)","v":""},{"$f":"IF(OFFSET('Plate Layout'!$S$64,0,0,1,1)=\"\",\"\",OFFSET('Plate Layout'!$S$64,0,0,1,1))","v":""}]
[{"$f":"IF('Plate Layout'!$D$8=\"\",\"\",'Plate Layout'!$D$8)","v":""},"I17",{"$f":"IF('Plate Layout'!AI$23=\"\",\"\",'Plate Layout'!AI$23)","v":""},{"$f":"IF('Plate Layout'!AJ$23=\"\",\"\",'Plate Layout'!AJ$23)","v":""},{"$f":"IF(OFFSET('Plate Layout'!$S$65,0,0,1,1)=\"\",\"\",OFFSET('Plate Layout'!$S$65,0,0,1,1))","v":""}]
[{"$f":"IF('Plate Layout'!$D$8=\"\",\"\",'Plate Layout'!$D$8)","v":""},"J17",{"$f":"IF('Plate Layout'!AI$24=\"\",\"\",'Plate Layout'!AI$24)","v":""},{"$f":"IF('Plate Layout'!AJ$24=\"\",\"\",'Plate Layout'!AJ$24)","v":""},{"$f":"IF(OFFSET('Plate Layout'!$S$66,0,0,1,1)=\"\",\"\",OFFSET('Plate Layout'!$S$66,0,0,1,1))","v":""}]
[{"$f":"IF('Plate Layout'!$D$8=\"\",\"\",'Plate Layout'!$D$8)","v":""},"K17",{"$f":"IF('Plate Layout'!AI$25=\"\",\"\",'Plate Layout'!AI$25)","v":""},{"$f":"IF('Plate Layout'!AJ$25=\"\",\"\",'Plate Layout'!AJ$25)","v":""},{"$f":"IF(OFFSET('Plate Layout'!$S$67,0,0,1,1)=\"\",\"\",OFFSET('Plate Layout'!$S$67,0,0,1,1))","v":""}]
[{"$f":"IF('Plate Layout'!$D$8=\"\",\"\",'Plate Layout'!$D$8)","v":""},"L17",{"$f":"IF('Plate Layout'!AI$26=\"\",\"\",'Plate Layout'!AI$26)","v":""},{"$f":"IF('Plate Layout'!AJ$26=\"\",\"\",'Plate Layout'!AJ$26)","v":""},{"$f":"IF(OFFSET('Plate Layout'!$S$68,0,0,1,1)=\"\",\"\",OFFSET('Plate Layout'!$S$68,0,0,1,1))","v":""}]
[{"$f":"IF('Plate Layout'!$D$8=\"\",\"\",'Plate Layout'!$D$8)","v":""},"M17",{"$f":"IF('Plate Layout'!AI$27=\"\",\"\",'Plate Layout'!AI$27)","v":""},{"$f":"IF('Plate Layout'!AJ$27=\"\",\"\",'Plate Layout'!AJ$27)","v":""},{"$f":"IF(OFFSET('Plate Layout'!$S$69,0,0,1,1)=\"\",\"\",OFFSET('Plate Layout'!$S$69,0,0,1,1))","v":""}]
[{"$f":"IF('Plate Layout'!$D$8=\"\",\"\",'Plate Layout'!$D$8)","v":""},"N17",{"$f":"IF('Plate Layout'!AI$28=\"\",\"\",'Plate Layout'!AI$28)","v":""},{"$f":"IF('Plate Layout'!AJ$28=\"\",\"\",'Plate Layout'!AJ$28)","v":""},{"$f":"IF(OFFSET('Plate Layout'!$S$70,0,0,1,1)=\"\",\"\",OFFSET('Plate Layout'!$S$70,0,0,1,1))","v":""}]
[{"$f":"IF('Plate Layout'!$D$8=\"\",\"\",'Plate Layout'!$D$8)","v":""},"O17",{"$f":"IF('Plate Layout'!AI$29=\"\",\"\",'Plate Layout'!AI$29)","v":""},{"$f":"IF('Plate Layout'!AJ$29=\"\",\"\",'Plate Layout'!AJ$29)","v":""},{"$f":"IF(OFFSET('Plate Layout'!$S$71,0,0,1,1)=\"\",\"\",OFFSET('Plate Layout'!$S$71,0,0,1,1))","v":""}]
[{"$f":"IF('Plate Layout'!$D$8=\"\",\"\",'Plate Layout'!$D$8)","v":""},"P17",{"$f":"IF('Plate Layout'!AI$30=\"\",\"\",'Plate Layout'!AI$30)","v":""},{"$f":"IF('Plate Layout'!AJ$30=\"\",\"\",'Plate Layout'!AJ$30)","v":""},{"$f":"IF(OFFSET('Plate Layout'!$S$72,0,0,1,1)=\"\",\"\",OFFSET('Plate Layout'!$S$72,0,0,1,1))","v":""}]
[{"$f":"IF('Plate Layout'!$D$8=\"\",\"\",'Plate Layout'!$D$8)","v":""},"A18",{"$f":"IF('Plate Layout'!AK$15=\"\",\"\",'Plate Layout'!AK$15)","v":""},{"$f":"IF('Plate Layout'!AL$15=\"\",\"\",'Plate Layout'!AL$15)","v":""},{"$f":"IF(OFFSET('Plate Layout'!$T$57,0,0,1,1)=\"\",\"\",OFFSET('Plate Layout'!$T$57,0,0,1,1))","v":""}]
[{"$f":"IF('Plate Layout'!$D$8=\"\",\"\",'Plate Layout'!$D$8)","v":""},"B18",{"$f":"IF('Plate Layout'!AK$16=\"\",\"\",'Plate Layout'!AK$16)","v":""},{"$f":"IF('Plate Layout'!AL$16=\"\",\"\",'Plate Layout'!AL$16)","v":""},{"$f":"IF(OFFSET('Plate Layout'!$T$58,0,0,1,1)=\"\",\"\",OFFSET('Plate Layout'!$T$58,0,0,1,1))","v":""}]
[{"$f":"IF('Plate Layout'!$D$8=\"\",\"\",'Plate Layout'!$D$8)","v":""},"C18",{"$f":"IF('Plate Layout'!AK$17=\"\",\"\",'Plate Layout'!AK$17)","v":""},{"$f":"IF('Plate Layout'!AL$17=\"\",\"\",'Plate Layout'!AL$17)","v":""},{"$f":"IF(OFFSET('Plate Layout'!$T$59,0,0,1,1)=\"\",\"\",OFFSET('Plate Layout'!$T$59,0,0,1,1))","v":""}]
[{"$f":"IF('Plate Layout'!$D$8=\"\",\"\",'Plate Layout'!$D$8)","v":""},"D18",{"$f":"IF('Plate Layout'!AK$18=\"\",\"\",'Plate Layout'!AK$18)","v":""},{"$f":"IF('Plate Layout'!AL$18=\"\",\"\",'Plate Layout'!AL$18)","v":""},{"$f":"IF(OFFSET('Plate Layout'!$T$60,0,0,1,1)=\"\",\"\",OFFSET('Plate Layout'!$T$60,0,0,1,1))","v":""}]
[{"$f":"IF('Plate Layout'!$D$8=\"\",\"\",'Plate Layout'!$D$8)","v":""},"E18",{"$f":"IF('Plate Layout'!AK$19=\"\",\"\",'Plate Layout'!AK$19)","v":""},{"$f":"IF('Plate Layout'!AL$19=\"\",\"\",'Plate Layout'!AL$19)","v":""},{"$f":"IF(OFFSET('Plate Layout'!$T$61,0,0,1,1)=\"\",\"\",OFFSET('Plate Layout'!$T$61,0,0,1,1))","v":""}]
[{"$f":"IF('Plate Layout'!$D$8=\"\",\"\",'Plate Layout'!$D$8)","v":""},"F18",{"$f":"IF('Plate Layout'!AK$20=\"\",\"\",'Plate Layout'!AK$20)","v":""},{"$f":"IF('Plate Layout'!AL$20=\"\",\"\",'Plate Layout'!AL$20)","v":""},{"$f":"IF(OFFSET('Plate Layout'!$T$62,0,0,1,1)=\"\",\"\",OFFSET('Plate Layout'!$T$62,0,0,1,1))","v":""}]
[{"$f":"IF('Plate Layout'!$D$8=\"\",\"\",'Plate Layout'!$D$8)","v":""},"G18",{"$f":"IF('Plate Layout'!AK$21=\"\",\"\",'Plate Layout'!AK$21)","v":""},{"$f":"IF('Plate Layout'!AL$21=\"\",\"\",'Plate Layout'!AL$21)","v":""},{"$f":"IF(OFFSET('Plate Layout'!$T$63,0,0,1,1)=\"\",\"\",OFFSET('Plate Layout'!$T$63,0,0,1,1))","v":""}]
[{"$f":"IF('Plate Layout'!$D$8=\"\",\"\",'Plate Layout'!$D$8)","v":""},"H18",{"$f":"IF('Plate Layout'!AK$22=\"\",\"\",'Plate Layout'!AK$22)","v":""},{"$f":"IF('Plate Layout'!AL$22=\"\",\"\",'Plate Layout'!AL$22)","v":""},{"$f":"IF(OFFSET('Plate Layout'!$T$64,0,0,1,1)=\"\",\"\",OFFSET('Plate Layout'!$T$64,0,0,1,1))","v":""}]
[{"$f":"IF('Plate Layout'!$D$8=\"\",\"\",'Plate Layout'!$D$8)","v":""},"I18",{"$f":"IF('Plate Layout'!AK$23=\"\",\"\",'Plate Layout'!AK$23)","v":""},{"$f":"IF('Plate Layout'!AL$23=\"\",\"\",'Plate Layout'!AL$23)","v":""},{"$f":"IF(OFFSET('Plate Layout'!$T$65,0,0,1,1)=\"\",\"\",OFFSET('Plate Layout'!$T$65,0,0,1,1))","v":""}]
[{"$f":"IF('Plate Layout'!$D$8=\"\",\"\",'Plate Layout'!$D$8)","v":""},"J18",{"$f":"IF('Plate Layout'!AK$24=\"\",\"\",'Plate Layout'!AK$24)","v":""},{"$f":"IF('Plate Layout'!AL$24=\"\",\"\",'Plate Layout'!AL$24)","v":""},{"$f":"IF(OFFSET('Plate Layout'!$T$66,0,0,1,1)=\"\",\"\",OFFSET('Plate Layout'!$T$66,0,0,1,1))","v":""}]
[{"$f":"IF('Plate Layout'!$D$8=\"\",\"\",'Plate Layout'!$D$8)","v":""},"K18",{"$f":"IF('Plate Layout'!AK$25=\"\",\"\",'Plate Layout'!AK$25)","v":""},{"$f":"IF('Plate Layout'!AL$25=\"\",\"\",'Plate Layout'!AL$25)","v":""},{"$f":"IF(OFFSET('Plate Layout'!$T$67,0,0,1,1)=\"\",\"\",OFFSET('Plate Layout'!$T$67,0,0,1,1))","v":""}]
[{"$f":"IF('Plate Layout'!$D$8=\"\",\"\",'Plate Layout'!$D$8)","v":""},"L18",{"$f":"IF('Plate Layout'!AK$26=\"\",\"\",'Plate Layout'!AK$26)","v":""},{"$f":"IF('Plate Layout'!AL$26=\"\",\"\",'Plate Layout'!AL$26)","v":""},{"$f":"IF(OFFSET('Plate Layout'!$T$68,0,0,1,1)=\"\",\"\",OFFSET('Plate Layout'!$T$68,0,0,1,1))","v":""}]
[{"$f":"IF('Plate Layout'!$D$8=\"\",\"\",'Plate Layout'!$D$8)","v":""},"M18",{"$f":"IF('Plate Layout'!AK$27=\"\",\"\",'Plate Layout'!AK$27)","v":""},{"$f":"IF('Plate Layout'!AL$27=\"\",\"\",'Plate Layout'!AL$27)","v":""},{"$f":"IF(OFFSET('Plate Layout'!$T$69,0,0,1,1)=\"\",\"\",OFFSET('Plate Layout'!$T$69,0,0,1,1))","v":""}]
[{"$f":"IF('Plate Layout'!$D$8=\"\",\"\",'Plate Layout'!$D$8)","v":""},"N18",{"$f":"IF('Plate Layout'!AK$28=\"\",\"\",'Plate Layout'!AK$28)","v":""},{"$f":"IF('Plate Layout'!AL$28=\"\",\"\",'Plate Layout'!AL$28)","v":""},{"$f":"IF(OFFSET('Plate Layout'!$T$70,0,0,1,1)=\"\",\"\",OFFSET('Plate Layout'!$T$70,0,0,1,1))","v":""}]
[{"$f":"IF('Plate Layout'!$D$8=\"\",\"\",'Plate Layout'!$D$8)","v":""},"O18",{"$f":"IF('Plate Layout'!AK$29=\"\",\"\",'Plate Layout'!AK$29)","v":""},{"$f":"IF('Plate Layout'!AL$29=\"\",\"\",'Plate Layout'!AL$29)","v":""},{"$f":"IF(OFFSET('Plate Layout'!$T$71,0,0,1,1)=\"\",\"\",OFFSET('Plate Layout'!$T$71,0,0,1,1))","v":""}]
[{"$f":"IF('Plate Layout'!$D$8=\"\",\"\",'Plate Layout'!$D$8)","v":""},"P18",{"$f":"IF('Plate Layout'!AK$30=\"\",\"\",'Plate Layout'!AK$30)","v":""},{"$f":"IF('Plate Layout'!AL$30=\"\",\"\",'Plate Layout'!AL$30)","v":""},{"$f":"IF(OFFSET('Plate Layout'!$T$72,0,0,1,1)=\"\",\"\",OFFSET('Plate Layout'!$T$72,0,0,1,1))","v":""}]
[{"$f":"IF('Plate Layout'!$D$8=\"\",\"\",'Plate Layout'!$D$8)","v":""},"A19",{"$f":"IF('Plate Layout'!AM$15=\"\",\"\",'Plate Layout'!AM$15)","v":""},{"$f":"IF('Plate Layout'!AN$15=\"\",\"\",'Plate Layout'!AN$15)","v":""},{"$f":"IF(OFFSET('Plate Layout'!$U$57,0,0,1,1)=\"\",\"\",OFFSET('Plate Layout'!$U$57,0,0,1,1))","v":""}]
[{"$f":"IF('Plate Layout'!$D$8=\"\",\"\",'Plate Layout'!$D$8)","v":""},"B19",{"$f":"IF('Plate Layout'!AM$16=\"\",\"\",'Plate Layout'!AM$16)","v":""},{"$f":"IF('Plate Layout'!AN$16=\"\",\"\",'Plate Layout'!AN$16)","v":""},{"$f":"IF(OFFSET('Plate Layout'!$U$58,0,0,1,1)=\"\",\"\",OFFSET('Plate Layout'!$U$58,0,0,1,1))","v":""}]
[{"$f":"IF('Plate Layout'!$D$8=\"\",\"\",'Plate Layout'!$D$8)","v":""},"C19",{"$f":"IF('Plate Layout'!AM$17=\"\",\"\",'Plate Layout'!AM$17)","v":""},{"$f":"IF('Plate Layout'!AN$17=\"\",\"\",'Plate Layout'!AN$17)","v":""},{"$f":"IF(OFFSET('Plate Layout'!$U$59,0,0,1,1)=\"\",\"\",OFFSET('Plate Layout'!$U$59,0,0,1,1))","v":""}]
[{"$f":"IF('Plate Layout'!$D$8=\"\",\"\",'Plate Layout'!$D$8)","v":""},"D19",{"$f":"IF('Plate Layout'!AM$18=\"\",\"\",'Plate Layout'!AM$18)","v":""},{"$f":"IF('Plate Layout'!AN$18=\"\",\"\",'Plate Layout'!AN$18)","v":""},{"$f":"IF(OFFSET('Plate Layout'!$U$60,0,0,1,1)=\"\",\"\",OFFSET('Plate Layout'!$U$60,0,0,1,1))","v":""}]
[{"$f":"IF('Plate Layout'!$D$8=\"\",\"\",'Plate Layout'!$D$8)","v":""},"E19",{"$f":"IF('Plate Layout'!AM$19=\"\",\"\",'Plate Layout'!AM$19)","v":""},{"$f":"IF('Plate Layout'!AN$19=\"\",\"\",'Plate Layout'!AN$19)","v":""},{"$f":"IF(OFFSET('Plate Layout'!$U$61,0,0,1,1)=\"\",\"\",OFFSET('Plate Layout'!$U$61,0,0,1,1))","v":""}]
[{"$f":"IF('Plate Layout'!$D$8=\"\",\"\",'Plate Layout'!$D$8)","v":""},"F19",{"$f":"IF('Plate Layout'!AM$20=\"\",\"\",'Plate Layout'!AM$20)","v":""},{"$f":"IF('Plate Layout'!AN$20=\"\",\"\",'Plate Layout'!AN$20)","v":""},{"$f":"IF(OFFSET('Plate Layout'!$U$62,0,0,1,1)=\"\",\"\",OFFSET('Plate Layout'!$U$62,0,0,1,1))","v":""}]
[{"$f":"IF('Plate Layout'!$D$8=\"\",\"\",'Plate Layout'!$D$8)","v":""},"G19",{"$f":"IF('Plate Layout'!AM$21=\"\",\"\",'Plate Layout'!AM$21)","v":""},{"$f":"IF('Plate Layout'!AN$21=\"\",\"\",'Plate Layout'!AN$21)","v":""},{"$f":"IF(OFFSET('Plate Layout'!$U$63,0,0,1,1)=\"\",\"\",OFFSET('Plate Layout'!$U$63,0,0,1,1))","v":""}]
[{"$f":"IF('Plate Layout'!$D$8=\"\",\"\",'Plate Layout'!$D$8)","v":""},"H19",{"$f":"IF('Plate Layout'!AM$22=\"\",\"\",'Plate Layout'!AM$22)","v":""},{"$f":"IF('Plate Layout'!AN$22=\"\",\"\",'Plate Layout'!AN$22)","v":""},{"$f":"IF(OFFSET('Plate Layout'!$U$64,0,0,1,1)=\"\",\"\",OFFSET('Plate Layout'!$U$64,0,0,1,1))","v":""}]
[{"$f":"IF('Plate Layout'!$D$8=\"\",\"\",'Plate Layout'!$D$8)","v":""},"I19",{"$f":"IF('Plate Layout'!AM$23=\"\",\"\",'Plate Layout'!AM$23)","v":""},{"$f":"IF('Plate Layout'!AN$23=\"\",\"\",'Plate Layout'!AN$23)","v":""},{"$f":"IF(OFFSET('Plate Layout'!$U$65,0,0,1,1)=\"\",\"\",OFFSET('Plate Layout'!$U$65,0,0,1,1))","v":""}]
[{"$f":"IF('Plate Layout'!$D$8=\"\",\"\",'Plate Layout'!$D$8)","v":""},"J19",{"$f":"IF('Plate Layout'!AM$24=\"\",\"\",'Plate Layout'!AM$24)","v":""},{"$f":"IF('Plate Layout'!AN$24=\"\",\"\",'Plate Layout'!AN$24)","v":""},{"$f":"IF(OFFSET('Plate Layout'!$U$66,0,0,1,1)=\"\",\"\",OFFSET('Plate Layout'!$U$66,0,0,1,1))","v":""}]
[{"$f":"IF('Plate Layout'!$D$8=\"\",\"\",'Plate Layout'!$D$8)","v":""},"K19",{"$f":"IF('Plate Layout'!AM$25=\"\",\"\",'Plate Layout'!AM$25)","v":""},{"$f":"IF('Plate Layout'!AN$25=\"\",\"\",'Plate Layout'!AN$25)","v":""},{"$f":"IF(OFFSET('Plate Layout'!$U$67,0,0,1,1)=\"\",\"\",OFFSET('Plate Layout'!$U$67,0,0,1,1))","v":""}]
[{"$f":"IF('Plate Layout'!$D$8=\"\",\"\",'Plate Layout'!$D$8)","v":""},"L19",{"$f":"IF('Plate Layout'!AM$26=\"\",\"\",'Plate Layout'!AM$26)","v":""},{"$f":"IF('Plate Layout'!AN$26=\"\",\"\",'Plate Layout'!AN$26)","v":""},{"$f":"IF(OFFSET('Plate Layout'!$U$68,0,0,1,1)=\"\",\"\",OFFSET('Plate Layout'!$U$68,0,0,1,1))","v":""}]
[{"$f":"IF('Plate Layout'!$D$8=\"\",\"\",'Plate Layout'!$D$8)","v":""},"M19",{"$f":"IF('Plate Layout'!AM$27=\"\",\"\",'Plate Layout'!AM$27)","v":""},{"$f":"IF('Plate Layout'!AN$27=\"\",\"\",'Plate Layout'!AN$27)","v":""},{"$f":"IF(OFFSET('Plate Layout'!$U$69,0,0,1,1)=\"\",\"\",OFFSET('Plate Layout'!$U$69,0,0,1,1))","v":""}]
[{"$f":"IF('Plate Layout'!$D$8=\"\",\"\",'Plate Layout'!$D$8)","v":""},"N19",{"$f":"IF('Plate Layout'!AM$28=\"\",\"\",'Plate Layout'!AM$28)","v":""},{"$f":"IF('Plate Layout'!AN$28=\"\",\"\",'Plate Layout'!AN$28)","v":""},{"$f":"IF(OFFSET('Plate Layout'!$U$70,0,0,1,1)=\"\",\"\",OFFSET('Plate Layout'!$U$70,0,0,1,1))","v":""}]
[{"$f":"IF('Plate Layout'!$D$8=\"\",\"\",'Plate Layout'!$D$8)","v":""},"O19",{"$f":"IF('Plate Layout'!AM$29=\"\",\"\",'Plate Layout'!AM$29)","v":""},{"$f":"IF('Plate Layout'!AN$29=\"\",\"\",'Plate Layout'!AN$29)","v":""},{"$f":"IF(OFFSET('Plate Layout'!$U$71,0,0,1,1)=\"\",\"\",OFFSET('Plate Layout'!$U$71,0,0,1,1))","v":""}]
[{"$f":"IF('Plate Layout'!$D$8=\"\",\"\",'Plate Layout'!$D$8)","v":""},"P19",{"$f":"IF('Plate Layout'!AM$30=\"\",\"\",'Plate Layout'!AM$30)","v":""},{"$f":"IF('Plate Layout'!AN$30=\"\",\"\",'Plate Layout'!AN$30)","v":""},{"$f":"IF(OFFSET('Plate Layout'!$U$72,0,0,1,1)=\"\",\"\",OFFSET('Plate Layout'!$U$72,0,0,1,1))","v":""}]
[{"$f":"IF('Plate Layout'!$D$8=\"\",\"\",'Plate Layout'!$D$8)","v":""},"A20",{"$f":"IF('Plate Layout'!AO$15=\"\",\"\",'Plate Layout'!AO$15)","v":""},{"$f":"IF('Plate Layout'!AP$15=\"\",\"\",'Plate Layout'!AP$15)","v":""},{"$f":"IF(OFFSET('Plate Layout'!$V$57,0,0,1,1)=\"\",\"\",OFFSET('Plate Layout'!$V$57,0,0,1,1))","v":""}]
[{"$f":"IF('Plate Layout'!$D$8=\"\",\"\",'Plate Layout'!$D$8)","v":""},"B20",{"$f":"IF('Plate Layout'!AO$16=\"\",\"\",'Plate Layout'!AO$16)","v":""},{"$f":"IF('Plate Layout'!AP$16=\"\",\"\",'Plate Layout'!AP$16)","v":""},{"$f":"IF(OFFSET('Plate Layout'!$V$58,0,0,1,1)=\"\",\"\",OFFSET('Plate Layout'!$V$58,0,0,1,1))","v":""}]
[{"$f":"IF('Plate Layout'!$D$8=\"\",\"\",'Plate Layout'!$D$8)","v":""},"C20",{"$f":"IF('Plate Layout'!AO$17=\"\",\"\",'Plate Layout'!AO$17)","v":""},{"$f":"IF('Plate Layout'!AP$17=\"\",\"\",'Plate Layout'!AP$17)","v":""},{"$f":"IF(OFFSET('Plate Layout'!$V$59,0,0,1,1)=\"\",\"\",OFFSET('Plate Layout'!$V$59,0,0,1,1))","v":""}]
[{"$f":"IF('Plate Layout'!$D$8=\"\",\"\",'Plate Layout'!$D$8)","v":""},"D20",{"$f":"IF('Plate Layout'!AO$18=\"\",\"\",'Plate Layout'!AO$18)","v":""},{"$f":"IF('Plate Layout'!AP$18=\"\",\"\",'Plate Layout'!AP$18)","v":""},{"$f":"IF(OFFSET('Plate Layout'!$V$60,0,0,1,1)=\"\",\"\",OFFSET('Plate Layout'!$V$60,0,0,1,1))","v":""}]
[{"$f":"IF('Plate Layout'!$D$8=\"\",\"\",'Plate Layout'!$D$8)","v":""},"E20",{"$f":"IF('Plate Layout'!AO$19=\"\",\"\",'Plate Layout'!AO$19)","v":""},{"$f":"IF('Plate Layout'!AP$19=\"\",\"\",'Plate Layout'!AP$19)","v":""},{"$f":"IF(OFFSET('Plate Layout'!$V$61,0,0,1,1)=\"\",\"\",OFFSET('Plate Layout'!$V$61,0,0,1,1))","v":""}]
[{"$f":"IF('Plate Layout'!$D$8=\"\",\"\",'Plate Layout'!$D$8)","v":""},"F20",{"$f":"IF('Plate Layout'!AO$20=\"\",\"\",'Plate Layout'!AO$20)","v":""},{"$f":"IF('Plate Layout'!AP$20=\"\",\"\",'Plate Layout'!AP$20)","v":""},{"$f":"IF(OFFSET('Plate Layout'!$V$62,0,0,1,1)=\"\",\"\",OFFSET('Plate Layout'!$V$62,0,0,1,1))","v":""}]
[{"$f":"IF('Plate Layout'!$D$8=\"\",\"\",'Plate Layout'!$D$8)","v":""},"G20",{"$f":"IF('Plate Layout'!AO$21=\"\",\"\",'Plate Layout'!AO$21)","v":""},{"$f":"IF('Plate Layout'!AP$21=\"\",\"\",'Plate Layout'!AP$21)","v":""},{"$f":"IF(OFFSET('Plate Layout'!$V$63,0,0,1,1)=\"\",\"\",OFFSET('Plate Layout'!$V$63,0,0,1,1))","v":""}]
[{"$f":"IF('Plate Layout'!$D$8=\"\",\"\",'Plate Layout'!$D$8)","v":""},"H20",{"$f":"IF('Plate Layout'!AO$22=\"\",\"\",'Plate Layout'!AO$22)","v":""},{"$f":"IF('Plate Layout'!AP$22=\"\",\"\",'Plate Layout'!AP$22)","v":""},{"$f":"IF(OFFSET('Plate Layout'!$V$64,0,0,1,1)=\"\",\"\",OFFSET('Plate Layout'!$V$64,0,0,1,1))","v":""}]
[{"$f":"IF('Plate Layout'!$D$8=\"\",\"\",'Plate Layout'!$D$8)","v":""},"I20",{"$f":"IF('Plate Layout'!AO$23=\"\",\"\",'Plate Layout'!AO$23)","v":""},{"$f":"IF('Plate Layout'!AP$23=\"\",\"\",'Plate Layout'!AP$23)","v":""},{"$f":"IF(OFFSET('Plate Layout'!$V$65,0,0,1,1)=\"\",\"\",OFFSET('Plate Layout'!$V$65,0,0,1,1))","v":""}]
[{"$f":"IF('Plate Layout'!$D$8=\"\",\"\",'Plate Layout'!$D$8)","v":""},"J20",{"$f":"IF('Plate Layout'!AO$24=\"\",\"\",'Plate Layout'!AO$24)","v":""},{"$f":"IF('Plate Layout'!AP$24=\"\",\"\",'Plate Layout'!AP$24)","v":""},{"$f":"IF(OFFSET('Plate Layout'!$V$66,0,0,1,1)=\"\",\"\",OFFSET('Plate Layout'!$V$66,0,0,1,1))","v":""}]
[{"$f":"IF('Plate Layout'!$D$8=\"\",\"\",'Plate Layout'!$D$8)","v":""},"K20",{"$f":"IF('Plate Layout'!AO$25=\"\",\"\",'Plate Layout'!AO$25)","v":""},{"$f":"IF('Plate Layout'!AP$25=\"\",\"\",'Plate Layout'!AP$25)","v":""},{"$f":"IF(OFFSET('Plate Layout'!$V$67,0,0,1,1)=\"\",\"\",OFFSET('Plate Layout'!$V$67,0,0,1,1))","v":""}]
[{"$f":"IF('Plate Layout'!$D$8=\"\",\"\",'Plate Layout'!$D$8)","v":""},"L20",{"$f":"IF('Plate Layout'!AO$26=\"\",\"\",'Plate Layout'!AO$26)","v":""},{"$f":"IF('Plate Layout'!AP$26=\"\",\"\",'Plate Layout'!AP$26)","v":""},{"$f":"IF(OFFSET('Plate Layout'!$V$68,0,0,1,1)=\"\",\"\",OFFSET('Plate Layout'!$V$68,0,0,1,1))","v":""}]
[{"$f":"IF('Plate Layout'!$D$8=\"\",\"\",'Plate Layout'!$D$8)","v":""},"M20",{"$f":"IF('Plate Layout'!AO$27=\"\",\"\",'Plate Layout'!AO$27)","v":""},{"$f":"IF('Plate Layout'!AP$27=\"\",\"\",'Plate Layout'!AP$27)","v":""},{"$f":"IF(OFFSET('Plate Layout'!$V$69,0,0,1,1)=\"\",\"\",OFFSET('Plate Layout'!$V$69,0,0,1,1))","v":""}]
[{"$f":"IF('Plate Layout'!$D$8=\"\",\"\",'Plate Layout'!$D$8)","v":""},"N20",{"$f":"IF('Plate Layout'!AO$28=\"\",\"\",'Plate Layout'!AO$28)","v":""},{"$f":"IF('Plate Layout'!AP$28=\"\",\"\",'Plate Layout'!AP$28)","v":""},{"$f":"IF(OFFSET('Plate Layout'!$V$70,0,0,1,1)=\"\",\"\",OFFSET('Plate Layout'!$V$70,0,0,1,1))","v":""}]
[{"$f":"IF('Plate Layout'!$D$8=\"\",\"\",'Plate Layout'!$D$8)","v":""},"O20",{"$f":"IF('Plate Layout'!AO$29=\"\",\"\",'Plate Layout'!AO$29)","v":""},{"$f":"IF('Plate Layout'!AP$29=\"\",\"\",'Plate Layout'!AP$29)","v":""},{"$f":"IF(OFFSET('Plate Layout'!$V$71,0,0,1,1)=\"\",\"\",OFFSET('Plate Layout'!$V$71,0,0,1,1))","v":""}]
[{"$f":"IF('Plate Layout'!$D$8=\"\",\"\",'Plate Layout'!$D$8)","v":""},"P20",{"$f":"IF('Plate Layout'!AO$30=\"\",\"\",'Plate Layout'!AO$30)","v":""},{"$f":"IF('Plate Layout'!AP$30=\"\",\"\",'Plate Layout'!AP$30)","v":""},{"$f":"IF(OFFSET('Plate Layout'!$V$72,0,0,1,1)=\"\",\"\",OFFSET('Plate Layout'!$V$72,0,0,1,1))","v":""}]
[{"$f":"IF('Plate Layout'!$D$8=\"\",\"\",'Plate Layout'!$D$8)","v":""},"A21",{"$f":"IF('Plate Layout'!AQ$15=\"\",\"\",'Plate Layout'!AQ$15)","v":""},{"$f":"IF('Plate Layout'!AR$15=\"\",\"\",'Plate Layout'!AR$15)","v":""},{"$f":"IF(OFFSET('Plate Layout'!$W$57,0,0,1,1)=\"\",\"\",OFFSET('Plate Layout'!$W$57,0,0,1,1))","v":""}]
[{"$f":"IF('Plate Layout'!$D$8=\"\",\"\",'Plate Layout'!$D$8)","v":""},"B21",{"$f":"IF('Plate Layout'!AQ$16=\"\",\"\",'Plate Layout'!AQ$16)","v":""},{"$f":"IF('Plate Layout'!AR$16=\"\",\"\",'Plate Layout'!AR$16)","v":""},{"$f":"IF(OFFSET('Plate Layout'!$W$58,0,0,1,1)=\"\",\"\",OFFSET('Plate Layout'!$W$58,0,0,1,1))","v":""}]
[{"$f":"IF('Plate Layout'!$D$8=\"\",\"\",'Plate Layout'!$D$8)","v":""},"C21",{"$f":"IF('Plate Layout'!AQ$17=\"\",\"\",'Plate Layout'!AQ$17)","v":""},{"$f":"IF('Plate Layout'!AR$17=\"\",\"\",'Plate Layout'!AR$17)","v":""},{"$f":"IF(OFFSET('Plate Layout'!$W$59,0,0,1,1)=\"\",\"\",OFFSET('Plate Layout'!$W$59,0,0,1,1))","v":""}]
[{"$f":"IF('Plate Layout'!$D$8=\"\",\"\",'Plate Layout'!$D$8)","v":""},"D21",{"$f":"IF('Plate Layout'!AQ$18=\"\",\"\",'Plate Layout'!AQ$18)","v":""},{"$f":"IF('Plate Layout'!AR$18=\"\",\"\",'Plate Layout'!AR$18)","v":""},{"$f":"IF(OFFSET('Plate Layout'!$W$60,0,0,1,1)=\"\",\"\",OFFSET('Plate Layout'!$W$60,0,0,1,1))","v":""}]
[{"$f":"IF('Plate Layout'!$D$8=\"\",\"\",'Plate Layout'!$D$8)","v":""},"E21",{"$f":"IF('Plate Layout'!AQ$19=\"\",\"\",'Plate Layout'!AQ$19)","v":""},{"$f":"IF('Plate Layout'!AR$19=\"\",\"\",'Plate Layout'!AR$19)","v":""},{"$f":"IF(OFFSET('Plate Layout'!$W$61,0,0,1,1)=\"\",\"\",OFFSET('Plate Layout'!$W$61,0,0,1,1))","v":""}]
[{"$f":"IF('Plate Layout'!$D$8=\"\",\"\",'Plate Layout'!$D$8)","v":""},"F21",{"$f":"IF('Plate Layout'!AQ$20=\"\",\"\",'Plate Layout'!AQ$20)","v":""},{"$f":"IF('Plate Layout'!AR$20=\"\",\"\",'Plate Layout'!AR$20)","v":""},{"$f":"IF(OFFSET('Plate Layout'!$W$62,0,0,1,1)=\"\",\"\",OFFSET('Plate Layout'!$W$62,0,0,1,1))","v":""}]
[{"$f":"IF('Plate Layout'!$D$8=\"\",\"\",'Plate Layout'!$D$8)","v":""},"G21",{"$f":"IF('Plate Layout'!AQ$21=\"\",\"\",'Plate Layout'!AQ$21)","v":""},{"$f":"IF('Plate Layout'!AR$21=\"\",\"\",'Plate Layout'!AR$21)","v":""},{"$f":"IF(OFFSET('Plate Layout'!$W$63,0,0,1,1)=\"\",\"\",OFFSET('Plate Layout'!$W$63,0,0,1,1))","v":""}]
[{"$f":"IF('Plate Layout'!$D$8=\"\",\"\",'Plate Layout'!$D$8)","v":""},"H21",{"$f":"IF('Plate Layout'!AQ$22=\"\",\"\",'Plate Layout'!AQ$22)","v":""},{"$f":"IF('Plate Layout'!AR$22=\"\",\"\",'Plate Layout'!AR$22)","v":""},{"$f":"IF(OFFSET('Plate Layout'!$W$64,0,0,1,1)=\"\",\"\",OFFSET('Plate Layout'!$W$64,0,0,1,1))","v":""}]
[{"$f":"IF('Plate Layout'!$D$8=\"\",\"\",'Plate Layout'!$D$8)","v":""},"I21",{"$f":"IF('Plate Layout'!AQ$23=\"\",\"\",'Plate Layout'!AQ$23)","v":""},{"$f":"IF('Plate Layout'!AR$23=\"\",\"\",'Plate Layout'!AR$23)","v":""},{"$f":"IF(OFFSET('Plate Layout'!$W$65,0,0,1,1)=\"\",\"\",OFFSET('Plate Layout'!$W$65,0,0,1,1))","v":""}]
[{"$f":"IF('Plate Layout'!$D$8=\"\",\"\",'Plate Layout'!$D$8)","v":""},"J21",{"$f":"IF('Plate Layout'!AQ$24=\"\",\"\",'Plate Layout'!AQ$24)","v":""},{"$f":"IF('Plate Layout'!AR$24=\"\",\"\",'Plate Layout'!AR$24)","v":""},{"$f":"IF(OFFSET('Plate Layout'!$W$66,0,0,1,1)=\"\",\"\",OFFSET('Plate Layout'!$W$66,0,0,1,1))","v":""}]
[{"$f":"IF('Plate Layout'!$D$8=\"\",\"\",'Plate Layout'!$D$8)","v":""},"K21",{"$f":"IF('Plate Layout'!AQ$25=\"\",\"\",'Plate Layout'!AQ$25)","v":""},{"$f":"IF('Plate Layout'!AR$25=\"\",\"\",'Plate Layout'!AR$25)","v":""},{"$f":"IF(OFFSET('Plate Layout'!$W$67,0,0,1,1)=\"\",\"\",OFFSET('Plate Layout'!$W$67,0,0,1,1))","v":""}]
[{"$f":"IF('Plate Layout'!$D$8=\"\",\"\",'Plate Layout'!$D$8)","v":""},"L21",{"$f":"IF('Plate Layout'!AQ$26=\"\",\"\",'Plate Layout'!AQ$26)","v":""},{"$f":"IF('Plate Layout'!AR$26=\"\",\"\",'Plate Layout'!AR$26)","v":""},{"$f":"IF(OFFSET('Plate Layout'!$W$68,0,0,1,1)=\"\",\"\",OFFSET('Plate Layout'!$W$68,0,0,1,1))","v":""}]
[{"$f":"IF('Plate Layout'!$D$8=\"\",\"\",'Plate Layout'!$D$8)","v":""},"M21",{"$f":"IF('Plate Layout'!AQ$27=\"\",\"\",'Plate Layout'!AQ$27)","v":""},{"$f":"IF('Plate Layout'!AR$27=\"\",\"\",'Plate Layout'!AR$27)","v":""},{"$f":"IF(OFFSET('Plate Layout'!$W$69,0,0,1,1)=\"\",\"\",OFFSET('Plate Layout'!$W$69,0,0,1,1))","v":""}]
[{"$f":"IF('Plate Layout'!$D$8=\"\",\"\",'Plate Layout'!$D$8)","v":""},"N21",{"$f":"IF('Plate Layout'!AQ$28=\"\",\"\",'Plate Layout'!AQ$28)","v":""},{"$f":"IF('Plate Layout'!AR$28=\"\",\"\",'Plate Layout'!AR$28)","v":""},{"$f":"IF(OFFSET('Plate Layout'!$W$70,0,0,1,1)=\"\",\"\",OFFSET('Plate Layout'!$W$70,0,0,1,1))","v":""}]
[{"$f":"IF('Plate Layout'!$D$8=\"\",\"\",'Plate Layout'!$D$8)","v":""},"O21",{"$f":"IF('Plate Layout'!AQ$29=\"\",\"\",'Plate Layout'!AQ$29)","v":""},{"$f":"IF('Plate Layout'!AR$29=\"\",\"\",'Plate Layout'!AR$29)","v":""},{"$f":"IF(OFFSET('Plate Layout'!$W$71,0,0,1,1)=\"\",\"\",OFFSET('Plate Layout'!$W$71,0,0,1,1))","v":""}]
[{"$f":"IF('Plate Layout'!$D$8=\"\",\"\",'Plate Layout'!$D$8)","v":""},"P21",{"$f":"IF('Plate Layout'!AQ$30=\"\",\"\",'Plate Layout'!AQ$30)","v":""},{"$f":"IF('Plate Layout'!AR$30=\"\",\"\",'Plate Layout'!AR$30)","v":""},{"$f":"IF(OFFSET('Plate Layout'!$W$72,0,0,1,1)=\"\",\"\",OFFSET('Plate Layout'!$W$72,0,0,1,1))","v":""}]
[{"$f":"IF('Plate Layout'!$D$8=\"\",\"\",'Plate Layout'!$D$8)","v":""},"A22",{"$f":"IF('Plate Layout'!AS$15=\"\",\"\",'Plate Layout'!AS$15)","v":""},{"$f":"IF('Plate Layout'!AT$15=\"\",\"\",'Plate Layout'!AT$15)","v":""},{"$f":"IF(OFFSET('Plate Layout'!$X$57,0,0,1,1)=\"\",\"\",OFFSET('Plate Layout'!$X$57,0,0,1,1))","v":""}]
[{"$f":"IF('Plate Layout'!$D$8=\"\",\"\",'Plate Layout'!$D$8)","v":""},"B22",{"$f":"IF('Plate Layout'!AS$16=\"\",\"\",'Plate Layout'!AS$16)","v":""},{"$f":"IF('Plate Layout'!AT$16=\"\",\"\",'Plate Layout'!AT$16)","v":""},{"$f":"IF(OFFSET('Plate Layout'!$X$58,0,0,1,1)=\"\",\"\",OFFSET('Plate Layout'!$X$58,0,0,1,1))","v":""}]
[{"$f":"IF('Plate Layout'!$D$8=\"\",\"\",'Plate Layout'!$D$8)","v":""},"C22",{"$f":"IF('Plate Layout'!AS$17=\"\",\"\",'Plate Layout'!AS$17)","v":""},{"$f":"IF('Plate Layout'!AT$17=\"\",\"\",'Plate Layout'!AT$17)","v":""},{"$f":"IF(OFFSET('Plate Layout'!$X$59,0,0,1,1)=\"\",\"\",OFFSET('Plate Layout'!$X$59,0,0,1,1))","v":""}]
[{"$f":"IF('Plate Layout'!$D$8=\"\",\"\",'Plate Layout'!$D$8)","v":""},"D22",{"$f":"IF('Plate Layout'!AS$18=\"\",\"\",'Plate Layout'!AS$18)","v":""},{"$f":"IF('Plate Layout'!AT$18=\"\",\"\",'Plate Layout'!AT$18)","v":""},{"$f":"IF(OFFSET('Plate Layout'!$X$60,0,0,1,1)=\"\",\"\",OFFSET('Plate Layout'!$X$60,0,0,1,1))","v":""}]
[{"$f":"IF('Plate Layout'!$D$8=\"\",\"\",'Plate Layout'!$D$8)","v":""},"E22",{"$f":"IF('Plate Layout'!AS$19=\"\",\"\",'Plate Layout'!AS$19)","v":""},{"$f":"IF('Plate Layout'!AT$19=\"\",\"\",'Plate Layout'!AT$19)","v":""},{"$f":"IF(OFFSET('Plate Layout'!$X$61,0,0,1,1)=\"\",\"\",OFFSET('Plate Layout'!$X$61,0,0,1,1))","v":""}]
[{"$f":"IF('Plate Layout'!$D$8=\"\",\"\",'Plate Layout'!$D$8)","v":""},"F22",{"$f":"IF('Plate Layout'!AS$20=\"\",\"\",'Plate Layout'!AS$20)","v":""},{"$f":"IF('Plate Layout'!AT$20=\"\",\"\",'Plate Layout'!AT$20)","v":""},{"$f":"IF(OFFSET('Plate Layout'!$X$62,0,0,1,1)=\"\",\"\",OFFSET('Plate Layout'!$X$62,0,0,1,1))","v":""}]
[{"$f":"IF('Plate Layout'!$D$8=\"\",\"\",'Plate Layout'!$D$8)","v":""},"G22",{"$f":"IF('Plate Layout'!AS$21=\"\",\"\",'Plate Layout'!AS$21)","v":""},{"$f":"IF('Plate Layout'!AT$21=\"\",\"\",'Plate Layout'!AT$21)","v":""},{"$f":"IF(OFFSET('Plate Layout'!$X$63,0,0,1,1)=\"\",\"\",OFFSET('Plate Layout'!$X$63,0,0,1,1))","v":""}]
[{"$f":"IF('Plate Layout'!$D$8=\"\",\"\",'Plate Layout'!$D$8)","v":""},"H22",{"$f":"IF('Plate Layout'!AS$22=\"\",\"\",'Plate Layout'!AS$22)","v":""},{"$f":"IF('Plate Layout'!AT$22=\"\",\"\",'Plate Layout'!AT$22)","v":""},{"$f":"IF(OFFSET('Plate Layout'!$X$64,0,0,1,1)=\"\",\"\",OFFSET('Plate Layout'!$X$64,0,0,1,1))","v":""}]
[{"$f":"IF('Plate Layout'!$D$8=\"\",\"\",'Plate Layout'!$D$8)","v":""},"I22",{"$f":"IF('Plate Layout'!AS$23=\"\",\"\",'Plate Layout'!AS$23)","v":""},{"$f":"IF('Plate Layout'!AT$23=\"\",\"\",'Plate Layout'!AT$23)","v":""},{"$f":"IF(OFFSET('Plate Layout'!$X$65,0,0,1,1)=\"\",\"\",OFFSET('Plate Layout'!$X$65,0,0,1,1))","v":""}]
[{"$f":"IF('Plate Layout'!$D$8=\"\",\"\",'Plate Layout'!$D$8)","v":""},"J22",{"$f":"IF('Plate Layout'!AS$24=\"\",\"\",'Plate Layout'!AS$24)","v":""},{"$f":"IF('Plate Layout'!AT$24=\"\",\"\",'Plate Layout'!AT$24)","v":""},{"$f":"IF(OFFSET('Plate Layout'!$X$66,0,0,1,1)=\"\",\"\",OFFSET('Plate Layout'!$X$66,0,0,1,1))","v":""}]
[{"$f":"IF('Plate Layout'!$D$8=\"\",\"\",'Plate Layout'!$D$8)","v":""},"K22",{"$f":"IF('Plate Layout'!AS$25=\"\",\"\",'Plate Layout'!AS$25)","v":""},{"$f":"IF('Plate Layout'!AT$25=\"\",\"\",'Plate Layout'!AT$25)","v":""},{"$f":"IF(OFFSET('Plate Layout'!$X$67,0,0,1,1)=\"\",\"\",OFFSET('Plate Layout'!$X$67,0,0,1,1))","v":""}]
[{"$f":"IF('Plate Layout'!$D$8=\"\",\"\",'Plate Layout'!$D$8)","v":""},"L22",{"$f":"IF('Plate Layout'!AS$26=\"\",\"\",'Plate Layout'!AS$26)","v":""},{"$f":"IF('Plate Layout'!AT$26=\"\",\"\",'Plate Layout'!AT$26)","v":""},{"$f":"IF(OFFSET('Plate Layout'!$X$68,0,0,1,1)=\"\",\"\",OFFSET('Plate Layout'!$X$68,0,0,1,1))","v":""}]
[{"$f":"IF('Plate Layout'!$D$8=\"\",\"\",'Plate Layout'!$D$8)","v":""},"M22",{"$f":"IF('Plate Layout'!AS$27=\"\",\"\",'Plate Layout'!AS$27)","v":""},{"$f":"IF('Plate Layout'!AT$27=\"\",\"\",'Plate Layout'!AT$27)","v":""},{"$f":"IF(OFFSET('Plate Layout'!$X$69,0,0,1,1)=\"\",\"\",OFFSET('Plate Layout'!$X$69,0,0,1,1))","v":""}]
[{"$f":"IF('Plate Layout'!$D$8=\"\",\"\",'Plate Layout'!$D$8)","v":""},"N22",{"$f":"IF('Plate Layout'!AS$28=\"\",\"\",'Plate Layout'!AS$28)","v":""},{"$f":"IF('Plate Layout'!AT$28=\"\",\"\",'Plate Layout'!AT$28)","v":""},{"$f":"IF(OFFSET('Plate Layout'!$X$70,0,0,1,1)=\"\",\"\",OFFSET('Plate Layout'!$X$70,0,0,1,1))","v":""}]
[{"$f":"IF('Plate Layout'!$D$8=\"\",\"\",'Plate Layout'!$D$8)","v":""},"O22",{"$f":"IF('Plate Layout'!AS$29=\"\",\"\",'Plate Layout'!AS$29)","v":""},{"$f":"IF('Plate Layout'!AT$29=\"\",\"\",'Plate Layout'!AT$29)","v":""},{"$f":"IF(OFFSET('Plate Layout'!$X$71,0,0,1,1)=\"\",\"\",OFFSET('Plate Layout'!$X$71,0,0,1,1))","v":""}]
[{"$f":"IF('Plate Layout'!$D$8=\"\",\"\",'Plate Layout'!$D$8)","v":""},"P22",{"$f":"IF('Plate Layout'!AS$30=\"\",\"\",'Plate Layout'!AS$30)","v":""},{"$f":"IF('Plate Layout'!AT$30=\"\",\"\",'Plate Layout'!AT$30)","v":""},{"$f":"IF(OFFSET('Plate Layout'!$X$72,0,0,1,1)=\"\",\"\",OFFSET('Plate Layout'!$X$72,0,0,1,1))","v":""}]
[{"$f":"IF('Plate Layout'!$D$8=\"\",\"\",'Plate Layout'!$D$8)","v":""},"A23",{"$f":"IF('Plate Layout'!AU$15=\"\",\"\",'Plate Layout'!AU$15)","v":""},{"$f":"IF('Plate Layout'!AV$15=\"\",\"\",'Plate Layout'!AV$15)","v":""},{"$f":"IF(OFFSET('Plate Layout'!$Y$57,0,0,1,1)=\"\",\"\",OFFSET('Plate Layout'!$Y$57,0,0,1,1))","v":""}]
[{"$f":"IF('Plate Layout'!$D$8=\"\",\"\",'Plate Layout'!$D$8)","v":""},"B23",{"$f":"IF('Plate Layout'!AU$16=\"\",\"\",'Plate Layout'!AU$16)","v":""},{"$f":"IF('Plate Layout'!AV$16=\"\",\"\",'Plate Layout'!AV$16)","v":""},{"$f":"IF(OFFSET('Plate Layout'!$Y$58,0,0,1,1)=\"\",\"\",OFFSET('Plate Layout'!$Y$58,0,0,1,1))","v":""}]
[{"$f":"IF('Plate Layout'!$D$8=\"\",\"\",'Plate Layout'!$D$8)","v":""},"C23",{"$f":"IF('Plate Layout'!AU$17=\"\",\"\",'Plate Layout'!AU$17)","v":""},{"$f":"IF('Plate Layout'!AV$17=\"\",\"\",'Plate Layout'!AV$17)","v":""},{"$f":"IF(OFFSET('Plate Layout'!$Y$59,0,0,1,1)=\"\",\"\",OFFSET('Plate Layout'!$Y$59,0,0,1,1))","v":""}]
[{"$f":"IF('Plate Layout'!$D$8=\"\",\"\",'Plate Layout'!$D$8)","v":""},"D23",{"$f":"IF('Plate Layout'!AU$18=\"\",\"\",'Plate Layout'!AU$18)","v":""},{"$f":"IF('Plate Layout'!AV$18=\"\",\"\",'Plate Layout'!AV$18)","v":""},{"$f":"IF(OFFSET('Plate Layout'!$Y$60,0,0,1,1)=\"\",\"\",OFFSET('Plate Layout'!$Y$60,0,0,1,1))","v":""}]
[{"$f":"IF('Plate Layout'!$D$8=\"\",\"\",'Plate Layout'!$D$8)","v":""},"E23",{"$f":"IF('Plate Layout'!AU$19=\"\",\"\",'Plate Layout'!AU$19)","v":""},{"$f":"IF('Plate Layout'!AV$19=\"\",\"\",'Plate Layout'!AV$19)","v":""},{"$f":"IF(OFFSET('Plate Layout'!$Y$61,0,0,1,1)=\"\",\"\",OFFSET('Plate Layout'!$Y$61,0,0,1,1))","v":""}]
[{"$f":"IF('Plate Layout'!$D$8=\"\",\"\",'Plate Layout'!$D$8)","v":""},"F23",{"$f":"IF('Plate Layout'!AU$20=\"\",\"\",'Plate Layout'!AU$20)","v":""},{"$f":"IF('Plate Layout'!AV$20=\"\",\"\",'Plate Layout'!AV$20)","v":""},{"$f":"IF(OFFSET('Plate Layout'!$Y$62,0,0,1,1)=\"\",\"\",OFFSET('Plate Layout'!$Y$62,0,0,1,1))","v":""}]
[{"$f":"IF('Plate Layout'!$D$8=\"\",\"\",'Plate Layout'!$D$8)","v":""},"G23",{"$f":"IF('Plate Layout'!AU$21=\"\",\"\",'Plate Layout'!AU$21)","v":""},{"$f":"IF('Plate Layout'!AV$21=\"\",\"\",'Plate Layout'!AV$21)","v":""},{"$f":"IF(OFFSET('Plate Layout'!$Y$63,0,0,1,1)=\"\",\"\",OFFSET('Plate Layout'!$Y$63,0,0,1,1))","v":""}]
[{"$f":"IF('Plate Layout'!$D$8=\"\",\"\",'Plate Layout'!$D$8)","v":""},"H23",{"$f":"IF('Plate Layout'!AU$22=\"\",\"\",'Plate Layout'!AU$22)","v":""},{"$f":"IF('Plate Layout'!AV$22=\"\",\"\",'Plate Layout'!AV$22)","v":""},{"$f":"IF(OFFSET('Plate Layout'!$Y$64,0,0,1,1)=\"\",\"\",OFFSET('Plate Layout'!$Y$64,0,0,1,1))","v":""}]
[{"$f":"IF('Plate Layout'!$D$8=\"\",\"\",'Plate Layout'!$D$8)","v":""},"I23",{"$f":"IF('Plate Layout'!AU$23=\"\",\"\",'Plate Layout'!AU$23)","v":""},{"$f":"IF('Plate Layout'!AV$23=\"\",\"\",'Plate Layout'!AV$23)","v":""},{"$f":"IF(OFFSET('Plate Layout'!$Y$65,0,0,1,1)=\"\",\"\",OFFSET('Plate Layout'!$Y$65,0,0,1,1))","v":""}]
[{"$f":"IF('Plate Layout'!$D$8=\"\",\"\",'Plate Layout'!$D$8)","v":""},"J23",{"$f":"IF('Plate Layout'!AU$24=\"\",\"\",'Plate Layout'!AU$24)","v":""},{"$f":"IF('Plate Layout'!AV$24=\"\",\"\",'Plate Layout'!AV$24)","v":""},{"$f":"IF(OFFSET('Plate Layout'!$Y$66,0,0,1,1)=\"\",\"\",OFFSET('Plate Layout'!$Y$66,0,0,1,1))","v":""}]
[{"$f":"IF('Plate Layout'!$D$8=\"\",\"\",'Plate Layout'!$D$8)","v":""},"K23",{"$f":"IF('Plate Layout'!AU$25=\"\",\"\",'Plate Layout'!AU$25)","v":""},{"$f":"IF('Plate Layout'!AV$25=\"\",\"\",'Plate Layout'!AV$25)","v":""},{"$f":"IF(OFFSET('Plate Layout'!$Y$67,0,0,1,1)=\"\",\"\",OFFSET('Plate Layout'!$Y$67,0,0,1,1))","v":""}]
[{"$f":"IF('Plate Layout'!$D$8=\"\",\"\",'Plate Layout'!$D$8)","v":""},"L23",{"$f":"IF('Plate Layout'!AU$26=\"\",\"\",'Plate Layout'!AU$26)","v":""},{"$f":"IF('Plate Layout'!AV$26=\"\",\"\",'Plate Layout'!AV$26)","v":""},{"$f":"IF(OFFSET('Plate Layout'!$Y$68,0,0,1,1)=\"\",\"\",OFFSET('Plate Layout'!$Y$68,0,0,1,1))","v":""}]
[{"$f":"IF('Plate Layout'!$D$8=\"\",\"\",'Plate Layout'!$D$8)","v":""},"M23",{"$f":"IF('Plate Layout'!AU$27=\"\",\"\",'Plate Layout'!AU$27)","v":""},{"$f":"IF('Plate Layout'!AV$27=\"\",\"\",'Plate Layout'!AV$27)","v":""},{"$f":"IF(OFFSET('Plate Layout'!$Y$69,0,0,1,1)=\"\",\"\",OFFSET('Plate Layout'!$Y$69,0,0,1,1))","v":""}]
[{"$f":"IF('Plate Layout'!$D$8=\"\",\"\",'Plate Layout'!$D$8)","v":""},"N23",{"$f":"IF('Plate Layout'!AU$28=\"\",\"\",'Plate Layout'!AU$28)","v":""},{"$f":"IF('Plate Layout'!AV$28=\"\",\"\",'Plate Layout'!AV$28)","v":""},{"$f":"IF(OFFSET('Plate Layout'!$Y$70,0,0,1,1)=\"\",\"\",OFFSET('Plate Layout'!$Y$70,0,0,1,1))","v":""}]
[{"$f":"IF('Plate Layout'!$D$8=\"\",\"\",'Plate Layout'!$D$8)","v":""},"O23",{"$f":"IF('Plate Layout'!AU$29=\"\",\"\",'Plate Layout'!AU$29)","v":""},{"$f":"IF('Plate Layout'!AV$29=\"\",\"\",'Plate Layout'!AV$29)","v":""},{"$f":"IF(OFFSET('Plate Layout'!$Y$71,0,0,1,1)=\"\",\"\",OFFSET('Plate Layout'!$Y$71,0,0,1,1))","v":""}]
[{"$f":"IF('Plate Layout'!$D$8=\"\",\"\",'Plate Layout'!$D$8)","v":""},"P23",{"$f":"IF('Plate Layout'!AU$30=\"\",\"\",'Plate Layout'!AU$30)","v":""},{"$f":"IF('Plate Layout'!AV$30=\"\",\"\",'Plate Layout'!AV$30)","v":""},{"$f":"IF(OFFSET('Plate Layout'!$Y$72,0,0,1,1)=\"\",\"\",OFFSET('Plate Layout'!$Y$72,0,0,1,1))","v":""}]
[{"$f":"IF('Plate Layout'!$D$8=\"\",\"\",'Plate Layout'!$D$8)","v":""},"A24",{"$f":"IF('Plate Layout'!AW$15=\"\",\"\",'Plate Layout'!AW$15)","v":""},{"$f":"IF('Plate Layout'!AX$15=\"\",\"\",'Plate Layout'!AX$15)","v":""},{"$f":"IF(OFFSET('Plate Layout'!$Z$57,0,0,1,1)=\"\",\"\",OFFSET('Plate Layout'!$Z$57,0,0,1,1))","v":""}]
[{"$f":"IF('Plate Layout'!$D$8=\"\",\"\",'Plate Layout'!$D$8)","v":""},"B24",{"$f":"IF('Plate Layout'!AW$16=\"\",\"\",'Plate Layout'!AW$16)","v":""},{"$f":"IF('Plate Layout'!AX$16=\"\",\"\",'Plate Layout'!AX$16)","v":""},{"$f":"IF(OFFSET('Plate Layout'!$Z$58,0,0,1,1)=\"\",\"\",OFFSET('Plate Layout'!$Z$58,0,0,1,1))","v":""}]
[{"$f":"IF('Plate Layout'!$D$8=\"\",\"\",'Plate Layout'!$D$8)","v":""},"C24",{"$f":"IF('Plate Layout'!AW$17=\"\",\"\",'Plate Layout'!AW$17)","v":""},{"$f":"IF('Plate Layout'!AX$17=\"\",\"\",'Plate Layout'!AX$17)","v":""},{"$f":"IF(OFFSET('Plate Layout'!$Z$59,0,0,1,1)=\"\",\"\",OFFSET('Plate Layout'!$Z$59,0,0,1,1))","v":""}]
[{"$f":"IF('Plate Layout'!$D$8=\"\",\"\",'Plate Layout'!$D$8)","v":""},"D24",{"$f":"IF('Plate Layout'!AW$18=\"\",\"\",'Plate Layout'!AW$18)","v":""},{"$f":"IF('Plate Layout'!AX$18=\"\",\"\",'Plate Layout'!AX$18)","v":""},{"$f":"IF(OFFSET('Plate Layout'!$Z$60,0,0,1,1)=\"\",\"\",OFFSET('Plate Layout'!$Z$60,0,0,1,1))","v":""}]
[{"$f":"IF('Plate Layout'!$D$8=\"\",\"\",'Plate Layout'!$D$8)","v":""},"E24",{"$f":"IF('Plate Layout'!AW$19=\"\",\"\",'Plate Layout'!AW$19)","v":""},{"$f":"IF('Plate Layout'!AX$19=\"\",\"\",'Plate Layout'!AX$19)","v":""},{"$f":"IF(OFFSET('Plate Layout'!$Z$61,0,0,1,1)=\"\",\"\",OFFSET('Plate Layout'!$Z$61,0,0,1,1))","v":""}]
[{"$f":"IF('Plate Layout'!$D$8=\"\",\"\",'Plate Layout'!$D$8)","v":""},"F24",{"$f":"IF('Plate Layout'!AW$20=\"\",\"\",'Plate Layout'!AW$20)","v":""},{"$f":"IF('Plate Layout'!AX$20=\"\",\"\",'Plate Layout'!AX$20)","v":""},{"$f":"IF(OFFSET('Plate Layout'!$Z$62,0,0,1,1)=\"\",\"\",OFFSET('Plate Layout'!$Z$62,0,0,1,1))","v":""}]
[{"$f":"IF('Plate Layout'!$D$8=\"\",\"\",'Plate Layout'!$D$8)","v":""},"G24",{"$f":"IF('Plate Layout'!AW$21=\"\",\"\",'Plate Layout'!AW$21)","v":""},{"$f":"IF('Plate Layout'!AX$21=\"\",\"\",'Plate Layout'!AX$21)","v":""},{"$f":"IF(OFFSET('Plate Layout'!$Z$63,0,0,1,1)=\"\",\"\",OFFSET('Plate Layout'!$Z$63,0,0,1,1))","v":""}]
[{"$f":"IF('Plate Layout'!$D$8=\"\",\"\",'Plate Layout'!$D$8)","v":""},"H24",{"$f":"IF('Plate Layout'!AW$22=\"\",\"\",'Plate Layout'!AW$22)","v":""},{"$f":"IF('Plate Layout'!AX$22=\"\",\"\",'Plate Layout'!AX$22)","v":""},{"$f":"IF(OFFSET('Plate Layout'!$Z$64,0,0,1,1)=\"\",\"\",OFFSET('Plate Layout'!$Z$64,0,0,1,1))","v":""}]
[{"$f":"IF('Plate Layout'!$D$8=\"\",\"\",'Plate Layout'!$D$8)","v":""},"I24",{"$f":"IF('Plate Layout'!AW$23=\"\",\"\",'Plate Layout'!AW$23)","v":""},{"$f":"IF('Plate Layout'!AX$23=\"\",\"\",'Plate Layout'!AX$23)","v":""},{"$f":"IF(OFFSET('Plate Layout'!$Z$65,0,0,1,1)=\"\",\"\",OFFSET('Plate Layout'!$Z$65,0,0,1,1))","v":""}]
[{"$f":"IF('Plate Layout'!$D$8=\"\",\"\",'Plate Layout'!$D$8)","v":""},"J24",{"$f":"IF('Plate Layout'!AW$24=\"\",\"\",'Plate Layout'!AW$24)","v":""},{"$f":"IF('Plate Layout'!AX$24=\"\",\"\",'Plate Layout'!AX$24)","v":""},{"$f":"IF(OFFSET('Plate Layout'!$Z$66,0,0,1,1)=\"\",\"\",OFFSET('Plate Layout'!$Z$66,0,0,1,1))","v":""}]
[{"$f":"IF('Plate Layout'!$D$8=\"\",\"\",'Plate Layout'!$D$8)","v":""},"K24",{"$f":"IF('Plate Layout'!AW$25=\"\",\"\",'Plate Layout'!AW$25)","v":""},{"$f":"IF('Plate Layout'!AX$25=\"\",\"\",'Plate Layout'!AX$25)","v":""},{"$f":"IF(OFFSET('Plate Layout'!$Z$67,0,0,1,1)=\"\",\"\",OFFSET('Plate Layout'!$Z$67,0,0,1,1))","v":""}]
[{"$f":"IF('Plate Layout'!$D$8=\"\",\"\",'Plate Layout'!$D$8)","v":""},"L24",{"$f":"IF('Plate Layout'!AW$26=\"\",\"\",'Plate Layout'!AW$26)","v":""},{"$f":"IF('Plate Layout'!AX$26=\"\",\"\",'Plate Layout'!AX$26)","v":""},{"$f":"IF(OFFSET('Plate Layout'!$Z$68,0,0,1,1)=\"\",\"\",OFFSET('Plate Layout'!$Z$68,0,0,1,1))","v":""}]
[{"$f":"IF('Plate Layout'!$D$8=\"\",\"\",'Plate Layout'!$D$8)","v":""},"M24",{"$f":"IF('Plate Layout'!AW$27=\"\",\"\",'Plate Layout'!AW$27)","v":""},{"$f":"IF('Plate Layout'!AX$27=\"\",\"\",'Plate Layout'!AX$27)","v":""},{"$f":"IF(OFFSET('Plate Layout'!$Z$69,0,0,1,1)=\"\",\"\",OFFSET('Plate Layout'!$Z$69,0,0,1,1))","v":""}]
[{"$f":"IF('Plate Layout'!$D$8=\"\",\"\",'Plate Layout'!$D$8)","v":""},"N24",{"$f":"IF('Plate Layout'!AW$28=\"\",\"\",'Plate Layout'!AW$28)","v":""},{"$f":"IF('Plate Layout'!AX$28=\"\",\"\",'Plate Layout'!AX$28)","v":""},{"$f":"IF(OFFSET('Plate Layout'!$Z$70,0,0,1,1)=\"\",\"\",OFFSET('Plate Layout'!$Z$70,0,0,1,1))","v":""}]
[{"$f":"IF('Plate Layout'!$D$8=\"\",\"\",'Plate Layout'!$D$8)","v":""},"O24",{"$f":"IF('Plate Layout'!AW$29=\"\",\"\",'Plate Layout'!AW$29)","v":""},{"$f":"IF('Plate Layout'!AX$29=\"\",\"\",'Plate Layout'!AX$29)","v":""},{"$f":"IF(OFFSET('Plate Layout'!$Z$71,0,0,1,1)=\"\",\"\",OFFSET('Plate Layout'!$Z$71,0,0,1,1))","v":""}]
[{"$f":"IF('Plate Layout'!$D$8=\"\",\"\",'Plate Layout'!$D$8)","v":""},"P24",{"$f":"IF('Plate Layout'!AW$30=\"\",\"\",'Plate Layout'!AW$30)","v":""},{"$f":"IF('Plate Layout'!AX$30=\"\",\"\",'Plate Layout'!AX$30)","v":""},{"$f":"IF(OFFSET('Plate Layout'!$Z$72,0,0,1,1)=\"\",\"\",OFFSET('Plate Layout'!$Z$72,0,0,1,1))","v":""}]