{"text_format":"1","workbook":"xlsx","n_sheets":2,"sheets":["Plate Layout","CDD"],"not_rendered":{"charts":0,"images":1,"macros":1,"external_links":0,"defined_names":0,"comments":0,"pivot_tables":0},"unopened":[],"bounds":{"document_bytes":16777216,"sheet_cells":100000,"rows_first":2000,"rows_last":500,"rows_between":2000,"halvings":0,"cell_chars":16384,"cell_head_chars":4096},"cells_cut":0,"cells_raw":0,"read":"whole","date_system":"1900"}

{"sheet":"Plate Layout","index":0,"n_rows":122,"n_cols":98,"rows_kept":122,"cut":false,"hidden":false,"merged":[[0,0,2,16383],[7,1,7,2],[7,3,7,5],[12,2,12,3],[12,4,12,5],[12,6,12,7],[12,8,12,9],[12,10,12,11],[12,12,12,13],[12,14,12,15],[12,16,12,17],[12,18,12,19],[12,20,12,21],[12,22,12,23],[12,24,12,25],[12,26,12,27],[12,28,12,29],[12,30,12,31],[12,32,12,33],[12,46,12,47],[12,48,12,49],[12,34,12,35],[12,36,12,37],[12,38,12,39],[12,40,12,41],[12,42,12,43],[12,44,12,45],[12,50,12,51],[12,52,12,53],[12,54,12,55],[12,56,12,57],[12,58,12,59],[12,60,12,61],[12,62,12,63],[12,64,12,65],[12,66,12,67],[12,68,12,69],[12,70,12,71],[12,72,12,73],[12,74,12,75],[12,76,12,77],[12,78,12,79],[12,90,12,91],[12,92,12,93],[12,94,12,95],[12,96,12,97],[12,80,12,81],[12,82,12,83],[12,84,12,85],[12,86,12,87],[12,88,12,89]]}
["CDD Template: 1536 Well Single Point data with plate map"]
[]
[]
[null,"Instructions"]
[null,"This template is intended for 1536 well formats (can be used for 384 or 96 formats as well, though we recommend the separate templates)."]
[]
[null,"1) Enter Plate Name"]
[null,"Plate Name:"]
[]
[null,"2) Fill In the Compound Plate map."]
[null,"Fill in full prefixed, 7 digit compound ID's and full Batch Names. If using Batch extrernal ID, plate it into batch columns. DO NOT ENTER CONTROL LABELS SUCH AS POS OR DMSO- LEAVE CONTROL WELLS BLANK"]
[null,"Compound Map"]
[null,null," \"01\"",null," \"02\"",null," \"03\"",null," \"04\"",null," \"05\"",null," \"06\"",null," \"07\"",null," \"08\"",null," \"09\"",null," \"10\"",null," \"11\"",null," \"12\"",null," \"13\"",null," \"14\"",null," \"15\"",null," \"16\"",null," \"17\"",null," \"18\"",null," \"19\"",null," \"20\"",null," \"21\"",null," \"22\"",null," \"23\"",null," \"24\"",null,"\"25\"",null,"\"26\"",null,"\"27\"",null,"\"28\"",null,"\"29\"",null,"\"30\"",null,"\"31\"",null,"\"32\"",null,"\"33\"",null,"\"34\"",null,"\"35\"",null,"\"36\"",null,"\"37\"",null,"\"38\"",null,"\"39\"",null,"\"40\"",null,"\"41\"",null,"\"42\"",null,"\"43\"",null,"\"44\"",null,"\"45\"",null,"\"46\"",null,"\"47\"",null,"\"48\""]
[null,null,"CMPD","BATCH","CMPD","BATCH","CMPD","BATCH","CMPD","BATCH","CMPD","BATCH","CMPD","BATCH","CMPD","BATCH","CMPD","BATCH","CMPD","BATCH","CMPD","BATCH","CMPD","BATCH","CMPD","BATCH","CMPD","BATCH","CMPD","BATCH","CMPD","BATCH","CMPD","BATCH","CMPD","BATCH","CMPD","BATCH","CMPD","BATCH","CMPD","BATCH","CMPD","BATCH","CMPD","BATCH","CMPD","BATCH","CMPD","BATCH","CMPD","BATCH","CMPD","BATCH","CMPD","BATCH","CMPD","BATCH","CMPD","BATCH","CMPD","BATCH","CMPD","BATCH","CMPD","BATCH","CMPD","BATCH","CMPD","BATCH","CMPD","BATCH","CMPD","BATCH","CMPD","BATCH","CMPD","BATCH","CMPD","BATCH","CMPD","BATCH","CMPD","BATCH","CMPD","BATCH","CMPD","BATCH","CMPD","BATCH","CMPD","BATCH","CMPD","BATCH","CMPD","BATCH","CMPD","BATCH"]
[null,"A"]
[null,"B"]
[null,"C"]
[null,"D"]
[null,"E"]
[null,"F"]
[null,"G"]
[null,"H"]
[null,"I"]
[null,"J"]
[null,"K"]
[null,"L"]
[null,"M"]
[null,"N"]
[null,"O"]
[null,"P"]
[null,"Q"]
[null,"R"]
[null,"S"]
[null,"T"]
[null,"U"]
[null,"V"]
[null,"W"]
[null,"X"]
[null,"Y"]
[null,"Z"]
[null,"AA"]
[null,"AB"]
[null,"AC"]
[null,"AD"]
[null,"AE"]
[null,"AF"]
[]
[null,"3) Fill In the Concentration Plate Map"]
[null,"Copy/Paste or fill in all compound and control concentrations, including dilution series"]
[null,"Concentration Map"]
[null,null,1,2,3,4,5,6,7,8,9,10,11,12,13,14,15,16,17,18,19,20,21,22,23,24,25,26,27,28,29,30,31,32,33,34,35,36,37,38,39,40,41,42,43,44,45,46,47,48]
[null,"A"]
[null,"B"]
[null,"C"]
[null,"D"]
[null,"E"]
[null,"F"]
[null,"G"]
[null,"H"]
[null,"I"]
[null,"J"]
[null,"K"]
[null,"L"]
[null,"M"]
[null,"N"]
[null,"O"]
[null,"P"]
[null,"Q"]
[null,"R"]
[null,"S"]
[null,"T"]
[null,"U"]
[null,"V"]
[null,"W"]
[null,"X"]
[null,"Y"]
[null,"Z"]
[null,"AA"]
[null,"AB"]
[null,"AC"]
[null,"AD"]
[null,"AE"]
[null,"AF"]
[]
[null,"3) Copy/Paste raw data below"]
[null,"Copy data from one 1536 well plate from instrument raw file"]
[null,"Raw Data"]
[null,null,1,2,3,4,5,6,7,8,9,10,11,12,13,14,15,16,17,18,19,20,21,22,23,24,25,26,27,28,29,30,31,32,33,34,35,36,37,38,39,40,41,42,43,44,45,46,47,48]
[null,"A"]
[null,"B"]
[null,"C"]
[null,"D"]
[null,"E"]
[null,"F"]
[null,"G"]
[null,"H"]
[null,"I"]
[null,"J"]
[null,"K"]
[null,"L"]
[null,"M"]
[null,"N"]
[null,"O"]
[null,"P"]
[null,"Q"]
[null,"R"]
[null,"S"]
[null,"T"]
[null,"U"]
[null,"V"]
[null,"W"]
[null,"X"]
[null,"Y"]
[null,"Z"]
[null,"AA"]
[null,"AB"]
[null,"AC"]
[null,"AD"]
[null,"AE"]
[null,"AF"]
[]
[null,"4) Review and save as CSV"]

{"sheet":"CDD","index":1,"n_rows":1537,"n_cols":5,"rows_kept":1537,"cut":false,"hidden":false,"merged":[]}
["Plate","Well","CMPD","BATCH","Data"]
[{"$f":"IF('Plate Layout'!$D$8=\"\",\"\",'Plate Layout'!$D$8)","v":""},"A01",{"$f":"IF('Plate Layout'!C15=\"\",\"\",'Plate Layout'!C15)","v":""},{"$f":"IF('Plate Layout'!D15=\"\",\"\",'Plate Layout'!D15)","v":""},{"$f":"IF(OFFSET('Plate Layout'!C89,0,0,1,1)=\"\",\"\",OFFSET('Plate Layout'!C89,0,0,1,1))","v":""}]
[{"$f":"IF('Plate Layout'!$D$8=\"\",\"\",'Plate Layout'!$D$8)","v":""},"A02",{"$f":"IF('Plate Layout'!E15=\"\",\"\",'Plate Layout'!E15)","v":""},{"$f":"IF('Plate Layout'!F15=\"\",\"\",'Plate Layout'!F15)","v":""},{"$f":"IF(OFFSET('Plate Layout'!D89,0,0,1,1)=\"\",\"\",OFFSET('Plate Layout'!D89,0,0,1,1))","v":""}]
[{"$f":"IF('Plate Layout'!$D$8=\"\",\"\",'Plate Layout'!$D$8)","v":""},"A03",{"$f":"IF('Plate Layout'!G15=\"\",\"\",'Plate Layout'!G15)","v":""},{"$f":"IF('Plate Layout'!H15=\"\",\"\",'Plate Layout'!H15)","v":""},{"$f":"IF(OFFSET('Plate Layout'!E89,0,0,1,1)=\"\",\"\",OFFSET('Plate Layout'!E89,0,0,1,1))","v":""}]
[{"$f":"IF('Plate Layout'!$D$8=\"\",\"\",'Plate Layout'!$D$8)","v":""},"A04",{"$f":"IF('Plate Layout'!I15=\"\",\"\",'Plate Layout'!I15)","v":""},{"$f":"IF('Plate Layout'!J15=\"\",\"\",'Plate Layout'!J15)","v":""},{"$f":"IF(OFFSET('Plate Layout'!F89,0,0,1,1)=\"\",\"\",OFFSET('Plate Layout'!F89,0,0,1,1))","v":""}]
[{"$f":"IF('Plate Layout'!$D$8=\"\",\"\",'Plate Layout'!$D$8)","v":""},"A05",{"$f":"IF('Plate Layout'!K15=\"\",\"\",'Plate Layout'!K15)","v":""},{"$f":"IF('Plate Layout'!L15=\"\",\"\",'Plate Layout'!L15)","v":""},{"$f":"IF(OFFSET('Plate Layout'!G89,0,0,1,1)=\"\",\"\",OFFSET('Plate Layout'!G89,0,0,1,1))","v":""}]
[{"$f":"IF('Plate Layout'!$D$8=\"\",\"\",'Plate Layout'!$D$8)","v":""},"A06",{"$f":"IF('Plate Layout'!M15=\"\",\"\",'Plate Layout'!M15)","v":""},{"$f":"IF('Plate Layout'!N15=\"\",\"\",'Plate Layout'!N15)","v":""},{"$f":"IF(OFFSET('Plate Layout'!H89,0,0,1,1)=\"\",\"\",OFFSET('Plate Layout'!H89,0,0,1,1))","v":""}]
[{"$f":"IF('Plate Layout'!$D$8=\"\",\"\",'Plate Layout'!$D$8)","v":""},"A07",{"$f":"IF('Plate Layout'!O15=\"\",\"\",'Plate Layout'!O15)","v":""},{"$f":"IF('Plate Layout'!P15=\"\",\"\",'Plate Layout'!P15)","v":""},{"$f":"IF(OFFSET('Plate Layout'!I89,0,0,1,1)=\"\",\"\",OFFSET('Plate Layout'!I89,0,0,1,1))","v":""}]
[{"$f":"IF('Plate Layout'!$D$8=\"\",\"\",'Plate Layout'!$D$8)","v":""},"A08",{"$f":"IF('Plate Layout'!Q15=\"\",\"\",'Plate Layout'!Q15)","v":""},{"$f":"IF('Plate Layout'!R15=\"\",\"\",'Plate Layout'!R15)","v":""},{"$f":"IF(OFFSET('Plate Layout'!J89,0,0,1,1)=\"\",\"\",OFFSET('Plate Layout'!J89,0,0,1,1))","v":""}]
[{"$f":"IF('Plate Layout'!$D$8=\"\",\"\",'Plate Layout'!$D$8)","v":""},"A09",{"$f":"IF('Plate Layout'!S15=\"\",\"\",'Plate Layout'!S15)","v":""},{"$f":"IF('Plate Layout'!T15=\"\",\"\",'Plate Layout'!T15)","v":""},{"$f":"IF(OFFSET('Plate Layout'!K89,0,0,1,1)=\"\",\"\",OFFSET('Plate Layout'!K89,0,0,1,1))","v":""}]
[{"$f":"IF('Plate Layout'!$D$8=\"\",\"\",'Plate Layout'!$D$8)","v":""},"A10",{"$f":"IF('Plate Layout'!U15=\"\",\"\",'Plate Layout'!U15)","v":""},{"$f":"IF('Plate Layout'!V15=\"\",\"\",'Plate Layout'!V15)","v":""},{"$f":"IF(OFFSET('Plate Layout'!L89,0,0,1,1)=\"\",\"\",OFFSET('Plate Layout'!L89,0,0,1,1))","v":""}]
[{"$f":"IF('Plate Layout'!$D$8=\"\",\"\",'Plate Layout'!$D$8)","v":""},"A11",{"$f":"IF('Plate Layout'!W15=\"\",\"\",'Plate Layout'!W15)","v":""},{"$f":"IF('Plate Layout'!X15=\"\",\"\",'Plate Layout'!X15)","v":""},{"$f":"IF(OFFSET('Plate Layout'!M89,0,0,1,1)=\"\",\"\",OFFSET('Plate Layout'!M89,0,0,1,1))","v":""}]
[{"$f":"IF('Plate Layout'!$D$8=\"\",\"\",'Plate Layout'!$D$8)","v":""},"A12",{"$f":"IF('Plate Layout'!Y15=\"\",\"\",'Plate Layout'!Y15)","v":""},{"$f":"IF('Plate Layout'!Z15=\"\",\"\",'Plate Layout'!Z15)","v":""},{"$f":"IF(OFFSET('Plate Layout'!N89,0,0,1,1)=\"\",\"\",OFFSET('Plate Layout'!N89,0,0,1,1))","v":""}]
[{"$f":"IF('Plate Layout'!$D$8=\"\",\"\",'Plate Layout'!$D$8)","v":""},"A13",{"$f":"IF('Plate Layout'!AA15=\"\",\"\",'Plate Layout'!AA15)","v":""},{"$f":"IF('Plate Layout'!AB15=\"\",\"\",'Plate Layout'!AB15)","v":""},{"$f":"IF(OFFSET('Plate Layout'!O89,0,0,1,1)=\"\",\"\",OFFSET('Plate Layout'!O89,0,0,1,1))","v":""}]
[{"$f":"IF('Plate Layout'!$D$8=\"\",\"\",'Plate Layout'!$D$8)","v":""},"A14",{"$f":"IF('Plate Layout'!AC15=\"\",\"\",'Plate Layout'!AC15)","v":""},{"$f":"IF('Plate Layout'!AD15=\"\",\"\",'Plate Layout'!AD15)","v":""},{"$f":"IF(OFFSET('Plate Layout'!P89,0,0,1,1)=\"\",\"\",OFFSET('Plate Layout'!P89,0,0,1,1))","v":""}]
[{"$f":"IF('Plate Layout'!$D$8=\"\",\"\",'Plate Layout'!$D$8)","v":""},"A15",{"$f":"IF('Plate Layout'!AE15=\"\",\"\",'Plate Layout'!AE15)","v":""},{"$f":"IF('Plate Layout'!AF15=\"\",\"\",'Plate Layout'!AF15)","v":""},{"$f":"IF(OFFSET('Plate Layout'!Q89,0,0,1,1)=\"\",\"\",OFFSET('Plate Layout'!Q89,0,0,1,1))","v":""}]
[{"$f":"IF('Plate Layout'!$D$8=\"\",\"\",'Plate Layout'!$D$8)","v":""},"A16",{"$f":"IF('Plate Layout'!AG15=\"\",\"\",'Plate Layout'!AG15)","v":""},{"$f":"IF('Plate Layout'!AH15=\"\",\"\",'Plate Layout'!AH15)","v":""},{"$f":"IF(OFFSET('Plate Layout'!R89,0,0,1,1)=\"\",\"\",OFFSET('Plate Layout'!R89,0,0,1,1))","v":""}]
[{"$f":"IF('Plate Layout'!$D$8=\"\",\"\",'Plate Layout'!$D$8)","v":""},"A17",{"$f":"IF('Plate Layout'!AI15=\"\",\"\",'Plate Layout'!AI15)","v":""},{"$f":"IF('Plate Layout'!AJ15=\"\",\"\",'Plate Layout'!AJ15)","v":""},{"$f":"IF(OFFSET('Plate Layout'!S89,0,0,1,1)=\"\",\"\",OFFSET('Plate Layout'!S89,0,0,1,1))","v":""}]
[{"$f":"IF('Plate Layout'!$D$8=\"\",\"\",'Plate Layout'!$D$8)","v":""},"A18",{"$f":"IF('Plate Layout'!AK15=\"\",\"\",'Plate Layout'!AK15)","v":""},{"$f":"IF('Plate Layout'!AL15=\"\",\"\",'Plate Layout'!AL15)","v":""},{"$f":"IF(OFFSET('Plate Layout'!T89,0,0,1,1)=\"\",\"\",OFFSET('Plate Layout'!T89,0,0,1,1))","v":""}]
[{"$f":"IF('Plate Layout'!$D$8=\"\",\"\",'Plate Layout'!$D$8)","v":""},"A19",{"$f":"IF('Plate Layout'!AM15=\"\",\"\",'Plate Layout'!AM15)","v":""},{"$f":"IF('Plate Layout'!AN15=\"\",\"\",'Plate Layout'!AN15)","v":""},{"$f":"IF(OFFSET('Plate Layout'!U89,0,0,1,1)=\"\",\"\",OFFSET('Plate Layout'!U89,0,0,1,1))","v":""}]
[{"$f":"IF('Plate Layout'!$D$8=\"\",\"\",'Plate Layout'!$D$8)","v":""},"A20",{"$f":"IF('Plate Layout'!AO15=\"\",\"\",'Plate Layout'!AO15)","v":""},{"$f":"IF('Plate Layout'!AP15=\"\",\"\",'Plate Layout'!AP15)","v":""},{"$f":"IF(OFFSET('Plate Layout'!V89,0,0,1,1)=\"\",\"\",OFFSET('Plate Layout'!V89,0,0,1,1))","v":""}]
[{"$f":"IF('Plate Layout'!$D$8=\"\",\"\",'Plate Layout'!$D$8)","v":""},"A21",{"$f":"IF('Plate Layout'!AQ15=\"\",\"\",'Plate Layout'!AQ15)","v":""},{"$f":"IF('Plate Layout'!AR15=\"\",\"\",'Plate Layout'!AR15)","v":""},{"$f":"IF(OFFSET('Plate Layout'!W89,0,0,1,1)=\"\",\"\",OFFSET('Plate Layout'!W89,0,0,1,1))","v":""}]
[{"$f":"IF('Plate Layout'!$D$8=\"\",\"\",'Plate Layout'!$D$8)","v":""},"A22",{"$f":"IF('Plate Layout'!AS15=\"\",\"\",'Plate Layout'!AS15)","v":""},{"$f":"IF('Plate Layout'!AT15=\"\",\"\",'Plate Layout'!AT15)","v":""},{"$f":"IF(OFFSET('Plate Layout'!X89,0,0,1,1)=\"\",\"\",OFFSET('Plate Layout'!X89,0,0,1,1))","v":""}]
[{"$f":"IF('Plate Layout'!$D$8=\"\",\"\",'Plate Layout'!$D$8)","v":""},"A23",{"$f":"IF('Plate Layout'!AU15=\"\",\"\",'Plate Layout'!AU15)","v":""},{"$f":"IF('Plate Layout'!AV15=\"\",\"\",'Plate Layout'!AV15)","v":""},{"$f":"IF(OFFSET('Plate Layout'!Y89,0,0,1,1)=\"\",\"\",OFFSET('Plate Layout'!Y89,0,0,1,1))","v":""}]
[{"$f":"IF('Plate Layout'!$D$8=\"\",\"\",'Plate Layout'!$D$8)","v":""},"A24",{"$f":"IF('Plate Layout'!AW15=\"\",\"\",'Plate Layout'!AW15)","v":""},{"$f":"IF('Plate Layout'!AX15=\"\",\"\",'Plate Layout'!AX15)","v":""},{"$f":"IF(OFFSET('Plate Layout'!Z89,0,0,1,1)=\"\",\"\",OFFSET('Plate Layout'!Z89,0,0,1,1))","v":""}]
[{"$f":"IF('Plate Layout'!$D$8=\"\",\"\",'Plate Layout'!$D$8)","v":""},"A25",{"$f":"IF('Plate Layout'!AY15=\"\",\"\",'Plate Layout'!AY15)","v":""},{"$f":"IF('Plate Layout'!AZ15=\"\",\"\",'Plate Layout'!AZ15)","v":""},{"$f":"IF(OFFSET('Plate Layout'!AA89,0,0,1,1)=\"\",\"\",OFFSET('Plate Layout'!AA89,0,0,1,1))","v":""}]
[{"$f":"IF('Plate Layout'!$D$8=\"\",\"\",'Plate Layout'!$D$8)","v":""},"A26",{"$f":"IF('Plate Layout'!BA15=\"\",\"\",'Plate Layout'!BA15)","v":""},{"$f":"IF('Plate Layout'!BB15=\"\",\"\",'Plate Layout'!BB15)","v":""},{"$f":"IF(OFFSET('Plate Layout'!AB89,0,0,1,1)=\"\",\"\",OFFSET('Plate Layout'!AB89,0,0,1,1))","v":""}]
[{"$f":"IF('Plate Layout'!$D$8=\"\",\"\",'Plate Layout'!$D$8)","v":""},"A27",{"$f":"IF('Plate Layout'!BC15=\"\",\"\",'Plate Layout'!BC15)","v":""},{"$f":"IF('Plate Layout'!BD15=\"\",\"\",'Plate Layout'!BD15)","v":""},{"$f":"IF(OFFSET('Plate Layout'!AC89,0,0,1,1)=\"\",\"\",OFFSET('Plate Layout'!AC89,0,0,1,1))","v":""}]
[{"$f":"IF('Plate Layout'!$D$8=\"\",\"\",'Plate Layout'!$D$8)","v":""},"A28",{"$f":"IF('Plate Layout'!BE15=\"\",\"\",'Plate Layout'!BE15)","v":""},{"$f":"IF('Plate Layout'!BF15=\"\",\"\",'Plate Layout'!BF15)","v":""},{"$f":"IF(OFFSET('Plate Layout'!AD89,0,0,1,1)=\"\",\"\",OFFSET('Plate Layout'!AD89,0,0,1,1))","v":""}]
[{"$f":"IF('Plate Layout'!$D$8=\"\",\"\",'Plate Layout'!$D$8)","v":""},"A29",{"$f":"IF('Plate Layout'!BG15=\"\",\"\",'Plate Layout'!BG15)","v":""},{"$f":"IF('Plate Layout'!BH15=\"\",\"\",'Plate Layout'!BH15)","v":""},{"$f":"IF(OFFSET('Plate Layout'!AE89,0,0,1,1)=\"\",\"\",OFFSET('Plate Layout'!AE89,0,0,1,1))","v":""}]
[{"$f":"IF('Plate Layout'!$D$8=\"\",\"\",'Plate Layout'!$D$8)","v":""},"A30",{"$f":"IF('Plate Layout'!BI15=\"\",\"\",'Plate Layout'!BI15)","v":""},{"$f":"IF('Plate Layout'!BJ15=\"\",\"\",'Plate Layout'!BJ15)","v":""},{"$f":"IF(OFFSET('Plate Layout'!AF89,0,0,1,1)=\"\",\"\",OFFSET('Plate Layout'!AF89,0,0,1,1))","v":""}]
[{"$f":"IF('Plate Layout'!$D$8=\"\",\"\",'Plate Layout'!$D$8)","v":""},"A31",{"$f":"IF('Plate Layout'!BK15=\"\",\"\",'Plate Layout'!BK15)","v":""},{"$f":"IF('Plate Layout'!BL15=\"\",\"\",'Plate Layout'!BL15)","v":""},{"$f":"IF(OFFSET('Plate Layout'!AG89,0,0,1,1)=\"\",\"\",OFFSET('Plate Layout'!AG89,0,0,1,1))","v":""}]
[{"$f":"IF('Plate Layout'!$D$8=\"\",\"\",'Plate Layout'!$D$8)","v":""},"A32",{"$f":"IF('Plate Layout'!BM15=\"\",\"\",'Plate Layout'!BM15)","v":""},{"$f":"IF('Plate Layout'!BN15=\"\",\"\",'Plate Layout'!BN15)","v":""},{"$f":"IF(OFFSET('Plate Layout'!AH89,0,0,1,1)=\"\",\"\",OFFSET('Plate Layout'!AH89,0,0,1,1))","v":""}]
[{"$f":"IF('Plate Layout'!$D$8=\"\",\"\",'Plate Layout'!$D$8)","v":""},"A33",{"$f":"IF('Plate Layout'!BO15=\"\",\"\",'Plate Layout'!BO15)","v":""},{"$f":"IF('Plate Layout'!BP15=\"\",\"\",'Plate Layout'!BP15)","v":""},{"$f":"IF(OFFSET('Plate Layout'!AI89,0,0,1,1)=\"\",\"\",OFFSET('Plate Layout'!AI89,0,0,1,1))","v":""}]
[{"$f":"IF('Plate Layout'!$D$8=\"\",\"\",'Plate Layout'!$D$8)","v":""},"A34",{"$f":"IF('Plate Layout'!BQ15=\"\",\"\",'Plate Layout'!BQ15)","v":""},{"$f":"IF('Plate Layout'!BR15=\"\",\"\",'Plate Layout'!BR15)","v":""},{"$f":"IF(OFFSET('Plate Layout'!AJ89,0,0,1,1)=\"\",\"\",OFFSET('Plate Layout'!AJ89,0,0,1,1))","v":""}]
[{"$f":"IF('Plate Layout'!$D$8=\"\",\"\",'Plate Layout'!$D$8)","v":""},"A35",{"$f":"IF('Plate Layout'!BS15=\"\",\"\",'Plate Layout'!BS15)","v":""},{"$f":"IF('Plate Layout'!BT15=\"\",\"\",'Plate Layout'!BT15)","v":""},{"$f":"IF(OFFSET('Plate Layout'!AK89,0,0,1,1)=\"\",\"\",OFFSET('Plate Layout'!AK89,0,0,1,1))","v":""}]
[{"$f":"IF('Plate Layout'!$D$8=\"\",\"\",'Plate Layout'!$D$8)","v":""},"A36",{"$f":"IF('Plate Layout'!BU15=\"\",\"\",'Plate Layout'!BU15)","v":""},{"$f":"IF('Plate Layout'!BV15=\"\",\"\",'Plate Layout'!BV15)","v":""},{"$f":"IF(OFFSET('Plate Layout'!AL89,0,0,1,1)=\"\",\"\",OFFSET('Plate Layout'!AL89,0,0,1,1))","v":""}]
[{"$f":"IF('Plate Layout'!$D$8=\"\",\"\",'Plate Layout'!$D$8)","v":""},"A37",{"$f":"IF('Plate Layout'!BW15=\"\",\"\",'Plate Layout'!BW15)","v":""},{"$f":"IF('Plate Layout'!BX15=\"\",\"\",'Plate Layout'!BX15)","v":""},{"$f":"IF(OFFSET('Plate Layout'!AM89,0,0,1,1)=\"\",\"\",OFFSET('Plate Layout'!AM89,0,0,1,1))","v":""}]
[{"$f":"IF('Plate Layout'!$D$8=\"\",\"\",'Plate Layout'!$D$8)","v":""},"A38",{"$f":"IF('Plate Layout'!BY15=\"\",\"\",'Plate Layout'!BY15)","v":""},{"$f":"IF('Plate Layout'!BZ15=\"\",\"\",'Plate Layout'!BZ15)","v":""},{"$f":"IF(OFFSET('Plate Layout'!AN89,0,0,1,1)=\"\",\"\",OFFSET('Plate Layout'!AN89,0,0,1,1))","v":""}]
[{"$f":"IF('Plate Layout'!$D$8=\"\",\"\",'Plate Layout'!$D$8)","v":""},"A39",{"$f":"IF('Plate Layout'!CA15=\"\",\"\",'Plate Layout'!CA15)","v":""},{"$f":"IF('Plate Layout'!CB15=\"\",\"\",'Plate Layout'!CB15)","v":""},{"$f":"IF(OFFSET('Plate Layout'!AO89,0,0,1,1)=\"\",\"\",OFFSET('Plate Layout'!AO89,0,0,1,1))","v":""}]
[{"$f":"IF('Plate Layout'!$D$8=\"\",\"\",'Plate Layout'!$D$8)","v":""},"A40",{"$f":"IF('Plate Layout'!CC15=\"\",\"\",'Plate Layout'!CC15)","v":""},{"$f":"IF('Plate Layout'!CD15=\"\",\"\",'Plate Layout'!CD15)","v":""},{"$f":"IF(OFFSET('Plate Layout'!AP89,0,0,1,1)=\"\",\"\",OFFSET('Plate Layout'!AP89,0,0,1,1))","v":""}]
[{"$f":"IF('Plate Layout'!$D$8=\"\",\"\",'Plate Layout'!$D$8)","v":""},"A41",{"$f":"IF('Plate Layout'!CE15=\"\",\"\",'Plate Layout'!CE15)","v":""},{"$f":"IF('Plate Layout'!CF15=\"\",\"\",'Plate Layout'!CF15)","v":""},{"$f":"IF(OFFSET('Plate Layout'!AQ89,0,0,1,1)=\"\",\"\",OFFSET('Plate Layout'!AQ89,0,0,1,1))","v":""}]
[{"$f":"IF('Plate Layout'!$D$8=\"\",\"\",'Plate Layout'!$D$8)","v":""},"A42",{"$f":"IF('Plate Layout'!CG15=\"\",\"\",'Plate Layout'!CG15)","v":""},{"$f":"IF('Plate Layout'!CH15=\"\",\"\",'Plate Layout'!CH15)","v":""},{"$f":"IF(OFFSET('Plate Layout'!AR89,0,0,1,1)=\"\",\"\",OFFSET('Plate Layout'!AR89,0,0,1,1))","v":""}]
[{"$f":"IF('Plate Layout'!$D$8=\"\",\"\",'Plate Layout'!$D$8)","v":""},"A43",{"$f":"IF('Plate Layout'!CI15=\"\",\"\",'Plate Layout'!CI15)","v":""},{"$f":"IF('Plate Layout'!CJ15=\"\",\"\",'Plate Layout'!CJ15)","v":""},{"$f":"IF(OFFSET('Plate Layout'!AS89,0,0,1,1)=\"\",\"\",OFFSET('Plate Layout'!AS89,0,0,1,1))","v":""}]
[{"$f":"IF('Plate Layout'!$D$8=\"\",\"\",'Plate Layout'!$D$8)","v":""},"A44",{"$f":"IF('Plate Layout'!CK15=\"\",\"\",'Plate Layout'!CK15)","v":""},{"$f":"IF('Plate Layout'!CL15=\"\",\"\",'Plate Layout'!CL15)","v":""},{"$f":"IF(OFFSET('Plate Layout'!AT89,0,0,1,1)=\"\",\"\",OFFSET('Plate Layout'!AT89,0,0,1,1))","v":""}]
[{"$f":"IF('Plate Layout'!$D$8=\"\",\"\",'Plate Layout'!$D$8)","v":""},"A45",{"$f":"IF('Plate Layout'!CM15=\"\",\"\",'Plate Layout'!CM15)","v":""},{"$f":"IF('Plate Layout'!CN15=\"\",\"\",'Plate Layout'!CN15)","v":""},{"$f":"IF(OFFSET('Plate Layout'!AU89,0,0,1,1)=\"\",\"\",OFFSET('Plate Layout'!AU89,0,0,1,1))","v":""}]
[{"$f":"IF('Plate Layout'!$D$8=\"\",\"\",'Plate Layout'!$D$8)","v":""},"A46",{"$f":"IF('Plate Layout'!CO15=\"\",\"\",'Plate Layout'!CO15)","v":""},{"$f":"IF('Plate Layout'!CP15=\"\",\"\",'Plate Layout'!CP15)","v":""},{"$f":"IF(OFFSET('Plate Layout'!AV89,0,0,1,1)=\"\",\"\",OFFSET('Plate Layout'!AV89,0,0,1,1))","v":""}]
[{"$f":"IF('Plate Layout'!$D$8=\"\",\"\",'Plate Layout'!$D$8)","v":""},"A47",{"$f":"IF('Plate Layout'!CQ15=\"\",\"\",'Plate Layout'!CQ15)","v":""},{"$f":"IF('Plate Layout'!CR15=\"\",\"\",'Plate Layout'!CR15)","v":""},{"$f":"IF(OFFSET('Plate Layout'!AW89,0,0,1,1)=\"\",\"\",OFFSET('Plate Layout'!AW89,0,0,1,1))","v":""}]
[{"$f":"IF('Plate Layout'!$D$8=\"\",\"\",'Plate Layout'!$D$8)","v":""},"A48",{"$f":"IF('Plate Layout'!CS15=\"\",\"\",'Plate Layout'!CS15)","v":""},{"$f":"IF('Plate Layout'!CT15=\"\",\"\",'Plate Layout'!CT15)","v":""},{"$f":"IF(OFFSET('Plate Layout'!AX89,0,0,1,1)=\"\",\"\",OFFSET('Plate Layout'!AX89,0,0,1,1))","v":""}]
[{"$f":"IF('Plate Layout'!$D$8=\"\",\"\",'Plate Layout'!$D$8)","v":""},"B01",{"$f":"IF('Plate Layout'!C16=\"\",\"\",'Plate Layout'!C16)","v":""},{"$f":"IF('Plate Layout'!D16=\"\",\"\",'Plate Layout'!D16)","v":""},{"$f":"IF(OFFSET('Plate Layout'!C90,0,0,1,1)=\"\",\"\",OFFSET('Plate Layout'!C90,0,0,1,1))","v":""}]
[{"$f":"IF('Plate Layout'!$D$8=\"\",\"\",'Plate Layout'!$D$8)","v":""},"B02",{"$f":"IF('Plate Layout'!E16=\"\",\"\",'Plate Layout'!E16)","v":""},{"$f":"IF('Plate Layout'!F16=\"\",\"\",'Plate Layout'!F16)","v":""},{"$f":"IF(OFFSET('Plate Layout'!D90,0,0,1,1)=\"\",\"\",OFFSET('Plate Layout'!D90,0,0,1,1))","v":""}]
[{"$f":"IF('Plate Layout'!$D$8=\"\",\"\",'Plate Layout'!$D$8)","v":""},"B03",{"$f":"IF('Plate Layout'!G16=\"\",\"\",'Plate Layout'!G16)","v":""},{"$f":"IF('Plate Layout'!H16=\"\",\"\",'Plate Layout'!H16)","v":""},{"$f":"IF(OFFSET('Plate Layout'!E90,0,0,1,1)=\"\",\"\",OFFSET('Plate Layout'!E90,0,0,1,1))","v":""}]
[{"$f":"IF('Plate Layout'!$D$8=\"\",\"\",'Plate Layout'!$D$8)","v":""},"B04",{"$f":"IF('Plate Layout'!I16=\"\",\"\",'Plate Layout'!I16)","v":""},{"$f":"IF('Plate Layout'!J16=\"\",\"\",'Plate Layout'!J16)","v":""},{"$f":"IF(OFFSET('Plate Layout'!F90,0,0,1,1)=\"\",\"\",OFFSET('Plate Layout'!F90,0,0,1,1))","v":""}]
[{"$f":"IF('Plate Layout'!$D$8=\"\",\"\",'Plate Layout'!$D$8)","v":""},"B05",{"$f":"IF('Plate Layout'!K16=\"\",\"\",'Plate Layout'!K16)","v":""},{"$f":"IF('Plate Layout'!L16=\"\",\"\",'Plate Layout'!L16)","v":""},{"$f":"IF(OFFSET('Plate Layout'!G90,0,0,1,1)=\"\",\"\",OFFSET('Plate Layout'!G90,0,0,1,1))","v":""}]
[{"$f":"IF('Plate Layout'!$D$8=\"\",\"\",'Plate Layout'!$D$8)","v":""},"B06",{"$f":"IF('Plate Layout'!M16=\"\",\"\",'Plate Layout'!M16)","v":""},{"$f":"IF('Plate Layout'!N16=\"\",\"\",'Plate Layout'!N16)","v":""},{"$f":"IF(OFFSET('Plate Layout'!H90,0,0,1,1)=\"\",\"\",OFFSET('Plate Layout'!H90,0,0,1,1))","v":""}]
[{"$f":"IF('Plate Layout'!$D$8=\"\",\"\",'Plate Layout'!$D$8)","v":""},"B07",{"$f":"IF('Plate Layout'!O16=\"\",\"\",'Plate Layout'!O16)","v":""},{"$f":"IF('Plate Layout'!P16=\"\",\"\",'Plate Layout'!P16)","v":""},{"$f":"IF(OFFSET('Plate Layout'!I90,0,0,1,1)=\"\",\"\",OFFSET('Plate Layout'!I90,0,0,1,1))","v":""}]
[{"$f":"IF('Plate Layout'!$D$8=\"\",\"\",'Plate Layout'!$D$8)","v":""},"B08",{"$f":"IF('Plate Layout'!Q16=\"\",\"\",'Plate Layout'!Q16)","v":""},{"$f":"IF('Plate Layout'!R16=\"\",\"\",'Plate Layout'!R16)","v":""},{"$f":"IF(OFFSET('Plate Layout'!J90,0,0,1,1)=\"\",\"\",OFFSET('Plate Layout'!J90,0,0,1,1))","v":""}]
[{"$f":"IF('Plate Layout'!$D$8=\"\",\"\",'Plate Layout'!$D$8)","v":""},"B09",{"$f":"IF('Plate Layout'!S16=\"\",\"\",'Plate Layout'!S16)","v":""},{"$f":"IF('Plate Layout'!T16=\"\",\"\",'Plate Layout'!T16)","v":""},{"$f":"IF(OFFSET('Plate Layout'!K90,0,0,1,1)=\"\",\"\",OFFSET('Plate Layout'!K90,0,0,1,1))","v":""}]
[{"$f":"IF('Plate Layout'!$D$8=\"\",\"\",'Plate Layout'!$D$8)","v":""},"B10",{"$f":"IF('Plate Layout'!U16=\"\",\"\",'Plate Layout'!U16)","v":""},{"$f":"IF('Plate Layout'!V16=\"\",\"\",'Plate Layout'!V16)","v":""},{"$f":"IF(OFFSET('Plate Layout'!L90,0,0,1,1)=\"\",\"\",OFFSET('Plate Layout'!L90,0,0,1,1))","v":""}]
[{"$f":"IF('Plate Layout'!$D$8=\"\",\"\",'Plate Layout'!$D$8)","v":""},"B11",{"$f":"IF('Plate Layout'!W16=\"\",\"\",'Plate Layout'!W16)","v":""},{"$f":"IF('Plate Layout'!X16=\"\",\"\",'Plate Layout'!X16)","v":""},{"$f":"IF(OFFSET('Plate Layout'!M90,0,0,1,1)=\"\",\"\",OFFSET('Plate Layout'!M90,0,0,1,1))","v":""}]
[{"$f":"IF('Plate Layout'!$D$8=\"\",\"\",'Plate Layout'!$D$8)","v":""},"B12",{"$f":"IF('Plate Layout'!Y16=\"\",\"\",'Plate Layout'!Y16)","v":""},{"$f":"IF('Plate Layout'!Z16=\"\",\"\",'Plate Layout'!Z16)","v":""},{"$f":"IF(OFFSET('Plate Layout'!N90,0,0,1,1)=\"\",\"\",OFFSET('Plate Layout'!N90,0,0,1,1))","v":""}]
[{"$f":"IF('Plate Layout'!$D$8=\"\",\"\",'Plate Layout'!$D$8)","v":""},"B13",{"$f":"IF('Plate Layout'!AA16=\"\",\"\",'Plate Layout'!AA16)","v":""},{"$f":"IF('Plate Layout'!AB16=\"\",\"\",'Plate Layout'!AB16)","v":""},{"$f":"IF(OFFSET('Plate Layout'!O90,0,0,1,1)=\"\",\"\",OFFSET('Plate Layout'!O90,0,0,1,1))","v":""}]
[{"$f":"IF('Plate Layout'!$D$8=\"\",\"\",'Plate Layout'!$D$8)","v":""},"B14",{"$f":"IF('Plate Layout'!AC16=\"\",\"\",'Plate Layout'!AC16)","v":""},{"$f":"IF('Plate Layout'!AD16=\"\",\"\",'Plate Layout'!AD16)","v":""},{"$f":"IF(OFFSET('Plate Layout'!P90,0,0,1,1)=\"\",\"\",OFFSET('Plate Layout'!P90,0,0,1,1))","v":""}]
[{"$f":"IF('Plate Layout'!$D$8=\"\",\"\",'Plate Layout'!$D$8)","v":""},"B15",{"$f":"IF('Plate Layout'!AE16=\"\",\"\",'Plate Layout'!AE16)","v":""},{"$f":"IF('Plate Layout'!AF16=\"\",\"\",'Plate Layout'!AF16)","v":""},{"$f":"IF(OFFSET('Plate Layout'!Q90,0,0,1,1)=\"\",\"\",OFFSET('Plate Layout'!Q90,0,0,1,1))","v":""}]
[{"$f":"IF('Plate Layout'!$D$8=\"\",\"\",'Plate Layout'!$D$8)","v":""},"B16",{"$f":"IF('Plate Layout'!AG16=\"\",\"\",'Plate Layout'!AG16)","v":""},{"$f":"IF('Plate Layout'!AH16=\"\",\"\",'Plate Layout'!AH16)","v":""},{"$f":"IF(OFFSET('Plate Layout'!R90,0,0,1,1)=\"\",\"\",OFFSET('Plate Layout'!R90,0,0,1,1))","v":""}]
[{"$f":"IF('Plate Layout'!$D$8=\"\",\"\",'Plate Layout'!$D$8)","v":""},"B17",{"$f":"IF('Plate Layout'!AI16=\"\",\"\",'Plate Layout'!AI16)","v":""},{"$f":"IF('Plate Layout'!AJ16=\"\",\"\",'Plate Layout'!AJ16)","v":""},{"$f":"IF(OFFSET('Plate Layout'!S90,0,0,1,1)=\"\",\"\",OFFSET('Plate Layout'!S90,0,0,1,1))","v":""}]
[{"$f":"IF('Plate Layout'!$D$8=\"\",\"\",'Plate Layout'!$D$8)","v":""},"B18",{"$f":"IF('Plate Layout'!AK16=\"\",\"\",'Plate Layout'!AK16)","v":""},{"$f":"IF('Plate Layout'!AL16=\"\",\"\",'Plate Layout'!AL16)","v":""},{"$f":"IF(OFFSET('Plate Layout'!T90,0,0,1,1)=\"\",\"\",OFFSET('Plate Layout'!T90,0,0,1,1))","v":""}]
[{"$f":"IF('Plate Layout'!$D$8=\"\",\"\",'Plate Layout'!$D$8)","v":""},"B19",{"$f":"IF('Plate Layout'!AM16=\"\",\"\",'Plate Layout'!AM16)","v":""},{"$f":"IF('Plate Layout'!AN16=\"\",\"\",'Plate Layout'!AN16)","v":""},{"$f":"IF(OFFSET('Plate Layout'!U90,0,0,1,1)=\"\",\"\",OFFSET('Plate Layout'!U90,0,0,1,1))","v":""}]
[{"$f":"IF('Plate Layout'!$D$8=\"\",\"\",'Plate Layout'!$D$8)","v":""},"B20",{"$f":"IF('Plate Layout'!AO16=\"\",\"\",'Plate Layout'!AO16)","v":""},{"$f":"IF('Plate Layout'!AP16=\"\",\"\",'Plate Layout'!AP16)","v":""},{"$f":"IF(OFFSET('Plate Layout'!V90,0,0,1,1)=\"\",\"\",OFFSET('Plate Layout'!V90,0,0,1,1))","v":""}]
[{"$f":"IF('Plate Layout'!$D$8=\"\",\"\",'Plate Layout'!$D$8)","v":""},"B21",{"$f":"IF('Plate Layout'!AQ16=\"\",\"\",'Plate Layout'!AQ16)","v":""},{"$f":"IF('Plate Layout'!AR16=\"\",\"\",'Plate Layout'!AR16)","v":""},{"$f":"IF(OFFSET('Plate Layout'!W90,0,0,1,1)=\"\",\"\",OFFSET('Plate Layout'!W90,0,0,1,1))","v":""}]
[{"$f":"IF('Plate Layout'!$D$8=\"\",\"\",'Plate Layout'!$D$8)","v":""},"B22",{"$f":"IF('Plate Layout'!AS16=\"\",\"\",'Plate Layout'!AS16)","v":""},{"$f":"IF('Plate Layout'!AT16=\"\",\"\",'Plate Layout'!AT16)","v":""},{"$f":"IF(OFFSET('Plate Layout'!X90,0,0,1,1)=\"\",\"\",OFFSET('Plate Layout'!X90,0,0,1,1))","v":""}]
[{"$f":"IF('Plate Layout'!$D$8=\"\",\"\",'Plate Layout'!$D$8)","v":""},"B23",{"$f":"IF('Plate Layout'!AU16=\"\",\"\",'Plate Layout'!AU16)","v":""},{"$f":"IF('Plate Layout'!AV16=\"\",\"\",'Plate Layout'!AV16)","v":""},{"$f":"IF(OFFSET('Plate Layout'!Y90,0,0,1,1)=\"\",\"\",OFFSET('Plate Layout'!Y90,0,0,1,1))","v":""}]
[{"$f":"IF('Plate Layout'!$D$8=\"\",\"\",'Plate Layout'!$D$8)","v":""},"B24",{"$f":"IF('Plate Layout'!AW16=\"\",\"\",'Plate Layout'!AW16)","v":""},{"$f":"IF('Plate Layout'!AX16=\"\",\"\",'Plate Layout'!AX16)","v":""},{"$f":"IF(OFFSET('Plate Layout'!Z90,0,0,1,1)=\"\",\"\",OFFSET('Plate Layout'!Z90,0,0,1,1))","v":""}]
[{"$f":"IF('Plate Layout'!$D$8=\"\",\"\",'Plate Layout'!$D$8)","v":""},"B25",{"$f":"IF('Plate Layout'!AY16=\"\",\"\",'Plate Layout'!AY16)","v":""},{"$f":"IF('Plate Layout'!AZ16=\"\",\"\",'Plate Layout'!AZ16)","v":""},{"$f":"IF(OFFSET('Plate Layout'!AA90,0,0,1,1)=\"\",\"\",OFFSET('Plate Layout'!AA90,0,0,1,1))","v":""}]
[{"$f":"IF('Plate Layout'!$D$8=\"\",\"\",'Plate Layout'!$D$8)","v":""},"B26",{"$f":"IF('Plate Layout'!BA16=\"\",\"\",'Plate Layout'!BA16)","v":""},{"$f":"IF('Plate Layout'!BB16=\"\",\"\",'Plate Layout'!BB16)","v":""},{"$f":"IF(OFFSET('Plate Layout'!AB90,0,0,1,1)=\"\",\"\",OFFSET('Plate Layout'!AB90,0,0,1,1))","v":""}]
[{"$f":"IF('Plate Layout'!$D$8=\"\",\"\",'Plate Layout'!$D$8)","v":""},"B27",{"$f":"IF('Plate Layout'!BC16=\"\",\"\",'Plate Layout'!BC16)","v":""},{"$f":"IF('Plate Layout'!BD16=\"\",\"\",'Plate Layout'!BD16)","v":""},{"$f":"IF(OFFSET('Plate Layout'!AC90,0,0,1,1)=\"\",\"\",OFFSET('Plate Layout'!AC90,0,0,1,1))","v":""}]
[{"$f":"IF('Plate Layout'!$D$8=\"\",\"\",'Plate Layout'!$D$8)","v":""},"B28",{"$f":"IF('Plate Layout'!BE16=\"\",\"\",'Plate Layout'!BE16)","v":""},{"$f":"IF('Plate Layout'!BF16=\"\",\"\",'Plate Layout'!BF16)","v":""},{"$f":"IF(OFFSET('Plate Layout'!AD90,0,0,1,1)=\"\",\"\",OFFSET('Plate Layout'!AD90,0,0,1,1))","v":""}]
[{"$f":"IF('Plate Layout'!$D$8=\"\",\"\",'Plate Layout'!$D$8)","v":""},"B29",{"$f":"IF('Plate Layout'!BG16=\"\",\"\",'Plate Layout'!BG16)","v":""},{"$f":"IF('Plate Layout'!BH16=\"\",\"\",'Plate Layout'!BH16)","v":""},{"$f":"IF(OFFSET('Plate Layout'!AE90,0,0,1,1)=\"\",\"\",OFFSET('Plate Layout'!AE90,0,0,1,1))","v":""}]
[{"$f":"IF('Plate Layout'!$D$8=\"\",\"\",'Plate Layout'!$D$8)","v":""},"B30",{"$f":"IF('Plate Layout'!BI16=\"\",\"\",'Plate Layout'!BI16)","v":""},{"$f":"IF('Plate Layout'!BJ16=\"\",\"\",'Plate Layout'!BJ16)","v":""},{"$f":"IF(OFFSET('Plate Layout'!AF90,0,0,1,1)=\"\",\"\",OFFSET('Plate Layout'!AF90,0,0,1,1))","v":""}]
[{"$f":"IF('Plate Layout'!$D$8=\"\",\"\",'Plate Layout'!$D$8)","v":""},"B31",{"$f":"IF('Plate Layout'!BK16=\"\",\"\",'Plate Layout'!BK16)","v":""},{"$f":"IF('Plate Layout'!BL16=\"\",\"\",'Plate Layout'!BL16)","v":""},{"$f":"IF(OFFSET('Plate Layout'!AG90,0,0,1,1)=\"\",\"\",OFFSET('Plate Layout'!AG90,0,0,1,1))","v":""}]
[{"$f":"IF('Plate Layout'!$D$8=\"\",\"\",'Plate Layout'!$D$8)","v":""},"B32",{"$f":"IF('Plate Layout'!BM16=\"\",\"\",'Plate Layout'!BM16)","v":""},{"$f":"IF('Plate Layout'!BN16=\"\",\"\",'Plate Layout'!BN16)","v":""},{"$f":"IF(OFFSET('Plate Layout'!AH90,0,0,1,1)=\"\",\"\",OFFSET('Plate Layout'!AH90,0,0,1,1))","v":""}]
[{"$f":"IF('Plate Layout'!$D$8=\"\",\"\",'Plate Layout'!$D$8)","v":""},"B33",{"$f":"IF('Plate Layout'!BO16=\"\",\"\",'Plate Layout'!BO16)","v":""},{"$f":"IF('Plate Layout'!BP16=\"\",\"\",'Plate Layout'!BP16)","v":""},{"$f":"IF(OFFSET('Plate Layout'!AI90,0,0,1,1)=\"\",\"\",OFFSET('Plate Layout'!AI90,0,0,1,1))","v":""}]
[{"$f":"IF('Plate Layout'!$D$8=\"\",\"\",'Plate Layout'!$D$8)","v":""},"B34",{"$f":"IF('Plate Layout'!BQ16=\"\",\"\",'Plate Layout'!BQ16)","v":""},{"$f":"IF('Plate Layout'!BR16=\"\",\"\",'Plate Layout'!BR16)","v":""},{"$f":"IF(OFFSET('Plate Layout'!AJ90,0,0,1,1)=\"\",\"\",OFFSET('Plate Layout'!AJ90,0,0,1,1))","v":""}]
[{"$f":"IF('Plate Layout'!$D$8=\"\",\"\",'Plate Layout'!$D$8)","v":""},"B35",{"$f":"IF('Plate Layout'!BS16=\"\",\"\",'Plate Layout'!BS16)","v":""},{"$f":"IF('Plate Layout'!BT16=\"\",\"\",'Plate Layout'!BT16)","v":""},{"$f":"IF(OFFSET('Plate Layout'!AK90,0,0,1,1)=\"\",\"\",OFFSET('Plate Layout'!AK90,0,0,1,1))","v":""}]
[{"$f":"IF('Plate Layout'!$D$8=\"\",\"\",'Plate Layout'!$D$8)","v":""},"B36",{"$f":"IF('Plate Layout'!BU16=\"\",\"\",'Plate Layout'!BU16)","v":""},{"$f":"IF('Plate Layout'!BV16=\"\",\"\",'Plate Layout'!BV16)","v":""},{"$f":"IF(OFFSET('Plate Layout'!AL90,0,0,1,1)=\"\",\"\",OFFSET('Plate Layout'!AL90,0,0,1,1))","v":""}]
[{"$f":"IF('Plate Layout'!$D$8=\"\",\"\",'Plate Layout'!$D$8)","v":""},"B37",{"$f":"IF('Plate Layout'!BW16=\"\",\"\",'Plate Layout'!BW16)","v":""},{"$f":"IF('Plate Layout'!BX16=\"\",\"\",'Plate Layout'!BX16)","v":""},{"$f":"IF(OFFSET('Plate Layout'!AM90,0,0,1,1)=\"\",\"\",OFFSET('Plate Layout'!AM90,0,0,1,1))","v":""}]
[{"$f":"IF('Plate Layout'!$D$8=\"\",\"\",'Plate Layout'!$D$8)","v":""},"B38",{"$f":"IF('Plate Layout'!BY16=\"\",\"\",'Plate Layout'!BY16)","v":""},{"$f":"IF('Plate Layout'!BZ16=\"\",\"\",'Plate Layout'!BZ16)","v":""},{"$f":"IF(OFFSET('Plate Layout'!AN90,0,0,1,1)=\"\",\"\",OFFSET('Plate Layout'!AN90,0,0,1,1))","v":""}]
[{"$f":"IF('Plate Layout'!$D$8=\"\",\"\",'Plate Layout'!$D$8)","v":""},"B39",{"$f":"IF('Plate Layout'!CA16=\"\",\"\",'Plate Layout'!CA16)","v":""},{"$f":"IF('Plate Layout'!CB16=\"\",\"\",'Plate Layout'!CB16)","v":""},{"$f":"IF(OFFSET('Plate Layout'!AO90,0,0,1,1)=\"\",\"\",OFFSET('Plate Layout'!AO90,0,0,1,1))","v":""}]
[{"$f":"IF('Plate Layout'!$D$8=\"\",\"\",'Plate Layout'!$D$8)","v":""},"B40",{"$f":"IF('Plate Layout'!CC16=\"\",\"\",'Plate Layout'!CC16)","v":""},{"$f":"IF('Plate Layout'!CD16=\"\",\"\",'Plate Layout'!CD16)","v":""},{"$f":"IF(OFFSET('Plate Layout'!AP90,0,0,1,1)=\"\",\"\",OFFSET('Plate Layout'!AP90,0,0,1,1))","v":""}]
[{"$f":"IF('Plate Layout'!$D$8=\"\",\"\",'Plate Layout'!$D$8)","v":""},"B41",{"$f":"IF('Plate Layout'!CE16=\"\",\"\",'Plate Layout'!CE16)","v":""},{"$f":"IF('Plate Layout'!CF16=\"\",\"\",'Plate Layout'!CF16)","v":""},{"$f":"IF(OFFSET('Plate Layout'!AQ90,0,0,1,1)=\"\",\"\",OFFSET('Plate Layout'!AQ90,0,0,1,1))","v":""}]
[{"$f":"IF('Plate Layout'!$D$8=\"\",\"\",'Plate Layout'!$D$8)","v":""},"B42",{"$f":"IF('Plate Layout'!CG16=\"\",\"\",'Plate Layout'!CG16)","v":""},{"$f":"IF('Plate Layout'!CH16=\"\",\"\",'Plate Layout'!CH16)","v":""},{"$f":"IF(OFFSET('Plate Layout'!AR90,0,0,1,1)=\"\",\"\",OFFSET('Plate Layout'!AR90,0,0,1,1))","v":""}]
[{"$f":"IF('Plate Layout'!$D$8=\"\",\"\",'Plate Layout'!$D$8)","v":""},"B43",{"$f":"IF('Plate Layout'!CI16=\"\",\"\",'Plate Layout'!CI16)","v":""},{"$f":"IF('Plate Layout'!CJ16=\"\",\"\",'Plate Layout'!CJ16)","v":""},{"$f":"IF(OFFSET('Plate Layout'!AS90,0,0,1,1)=\"\",\"\",OFFSET('Plate Layout'!AS90,0,0,1,1))","v":""}]
[{"$f":"IF('Plate Layout'!$D$8=\"\",\"\",'Plate Layout'!$D$8)","v":""},"B44",{"$f":"IF('Plate Layout'!CK16=\"\",\"\",'Plate Layout'!CK16)","v":""},{"$f":"IF('Plate Layout'!CL16=\"\",\"\",'Plate Layout'!CL16)","v":""},{"$f":"IF(OFFSET('Plate Layout'!AT90,0,0,1,1)=\"\",\"\",OFFSET('Plate Layout'!AT90,0,0,1,1))","v":""}]
[{"$f":"IF('Plate Layout'!$D$8=\"\",\"\",'Plate Layout'!$D$8)","v":""},"B45",{"$f":"IF('Plate Layout'!CM16=\"\",\"\",'Plate Layout'!CM16)","v":""},{"$f":"IF('Plate Layout'!CN16=\"\",\"\",'Plate Layout'!CN16)","v":""},{"$f":"IF(OFFSET('Plate Layout'!AU90,0,0,1,1)=\"\",\"\",OFFSET('Plate Layout'!AU90,0,0,1,1))","v":""}]
[{"$f":"IF('Plate Layout'!$D$8=\"\",\"\",'Plate Layout'!$D$8)","v":""},"B46",{"$f":"IF('Plate Layout'!CO16=\"\",\"\",'Plate Layout'!CO16)","v":""},{"$f":"IF('Plate Layout'!CP16=\"\",\"\",'Plate Layout'!CP16)","v":""},{"$f":"IF(OFFSET('Plate Layout'!AV90,0,0,1,1)=\"\",\"\",OFFSET('Plate Layout'!AV90,0,0,1,1))","v":""}]
[{"$f":"IF('Plate Layout'!$D$8=\"\",\"\",'Plate Layout'!$D$8)","v":""},"B47",{"$f":"IF('Plate Layout'!CQ16=\"\",\"\",'Plate Layout'!CQ16)","v":""},{"$f":"IF('Plate Layout'!CR16=\"\",\"\",'Plate Layout'!CR16)","v":""},{"$f":"IF(OFFSET('Plate Layout'!AW90,0,0,1,1)=\"\",\"\",OFFSET('Plate Layout'!AW90,0,0,1,1))","v":""}]
[{"$f":"IF('Plate Layout'!$D$8=\"\",\"\",'Plate Layout'!$D$8)","v":""},"B48",{"$f":"IF('Plate Layout'!CS16=\"\",\"\",'Plate Layout'!CS16)","v":""},{"$f":"IF('Plate Layout'!CT16=\"\",\"\",'Plate Layout'!CT16)","v":""},{"$f":"IF(OFFSET('Plate Layout'!AX90,0,0,1,1)=\"\",\"\",OFFSET('Plate Layout'!AX90,0,0,1,1))","v":""}]
[{"$f":"IF('Plate Layout'!$D$8=\"\",\"\",'Plate Layout'!$D$8)","v":""},"C01",{"$f":"IF('Plate Layout'!C17=\"\",\"\",'Plate Layout'!C17)","v":""},{"$f":"IF('Plate Layout'!D17=\"\",\"\",'Plate Layout'!D17)","v":""},{"$f":"IF(OFFSET('Plate Layout'!C91,0,0,1,1)=\"\",\"\",OFFSET('Plate Layout'!C91,0,0,1,1))","v":""}]
[{"$f":"IF('Plate Layout'!$D$8=\"\",\"\",'Plate Layout'!$D$8)","v":""},"C02",{"$f":"IF('Plate Layout'!E17=\"\",\"\",'Plate Layout'!E17)","v":""},{"$f":"IF('Plate Layout'!F17=\"\",\"\",'Plate Layout'!F17)","v":""},{"$f":"IF(OFFSET('Plate Layout'!D91,0,0,1,1)=\"\",\"\",OFFSET('Plate Layout'!D91,0,0,1,1))","v":""}]
[{"$f":"IF('Plate Layout'!$D$8=\"\",\"\",'Plate Layout'!$D$8)","v":""},"C03",{"$f":"IF('Plate Layout'!G17=\"\",\"\",'Plate Layout'!G17)","v":""},{"$f":"IF('Plate Layout'!H17=\"\",\"\",'Plate Layout'!H17)","v":""},{"$f":"IF(OFFSET('Plate Layout'!E91,0,0,1,1)=\"\",\"\",OFFSET('Plate Layout'!E91,0,0,1,1))","v":""}]
[{"$f":"IF('Plate Layout'!$D$8=\"\",\"\",'Plate Layout'!$D$8)","v":""},"C04",{"$f":"IF('Plate Layout'!I17=\"\",\"\",'Plate Layout'!I17)","v":""},{"$f":"IF('Plate Layout'!J17=\"\",\"\",'Plate Layout'!J17)","v":""},{"$f":"IF(OFFSET('Plate Layout'!F91,0,0,1,1)=\"\",\"\",OFFSET('Plate Layout'!F91,0,0,1,1))","v":""}]
[{"$f":"IF('Plate Layout'!$D$8=\"\",\"\",'Plate Layout'!$D$8)","v":""},"C05",{"$f":"IF('Plate Layout'!K17=\"\",\"\",'Plate Layout'!K17)","v":""},{"$f":"IF('Plate Layout'!L17=\"\",\"\",'Plate Layout'!L17)","v":""},{"$f":"IF(OFFSET('Plate Layout'!G91,0,0,1,1)=\"\",\"\",OFFSET('Plate Layout'!G91,0,0,1,1))","v":""}]
[{"$f":"IF('Plate Layout'!$D$8=\"\",\"\",'Plate Layout'!$D$8)","v":""},"C06",{"$f":"IF('Plate Layout'!M17=\"\",\"\",'Plate Layout'!M17)","v":""},{"$f":"IF('Plate Layout'!N17=\"\",\"\",'Plate Layout'!N17)","v":""},{"$f":"IF(OFFSET('Plate Layout'!H91,0,0,1,1)=\"\",\"\",OFFSET('Plate Layout'!H91,0,0,1,1))","v":""}]
[{"$f":"IF('Plate Layout'!$D$8=\"\",\"\",'Plate Layout'!$D$8)","v":""},"C07",{"$f":"IF('Plate Layout'!O17=\"\",\"\",'Plate Layout'!O17)","v":""},{"$f":"IF('Plate Layout'!P17=\"\",\"\",'Plate Layout'!P17)","v":""},{"$f":"IF(OFFSET('Plate Layout'!I91,0,0,1,1)=\"\",\"\",OFFSET('Plate Layout'!I91,0,0,1,1))","v":""}]
[{"$f":"IF('Plate Layout'!$D$8=\"\",\"\",'Plate Layout'!$D$8)","v":""},"C08",{"$f":"IF('Plate Layout'!Q17=\"\",\"\",'Plate Layout'!Q17)","v":""},{"$f":"IF('Plate Layout'!R17=\"\",\"\",'Plate Layout'!R17)","v":""},{"$f":"IF(OFFSET('Plate Layout'!J91,0,0,1,1)=\"\",\"\",OFFSET('Plate Layout'!J91,0,0,1,1))","v":""}]
[{"$f":"IF('Plate Layout'!$D$8=\"\",\"\",'Plate Layout'!$D$8)","v":""},"C09",{"$f":"IF('Plate Layout'!S17=\"\",\"\",'Plate Layout'!S17)","v":""},{"$f":"IF('Plate Layout'!T17=\"\",\"\",'Plate Layout'!T17)","v":""},{"$f":"IF(OFFSET('Plate Layout'!K91,0,0,1,1)=\"\",\"\",OFFSET('Plate Layout'!K91,0,0,1,1))","v":""}]
[{"$f":"IF('Plate Layout'!$D$8=\"\",\"\",'Plate Layout'!$D$8)","v":""},"C10",{"$f":"IF('Plate Layout'!U17=\"\",\"\",'Plate Layout'!U17)","v":""},{"$f":"IF('Plate Layout'!V17=\"\",\"\",'Plate Layout'!V17)","v":""},{"$f":"IF(OFFSET('Plate Layout'!L91,0,0,1,1)=\"\",\"\",OFFSET('Plate Layout'!L91,0,0,1,1))","v":""}]
[{"$f":"IF('Plate Layout'!$D$8=\"\",\"\",'Plate Layout'!$D$8)","v":""},"C11",{"$f":"IF('Plate Layout'!W17=\"\",\"\",'Plate Layout'!W17)","v":""},{"$f":"IF('Plate Layout'!X17=\"\",\"\",'Plate Layout'!X17)","v":""},{"$f":"IF(OFFSET('Plate Layout'!M91,0,0,1,1)=\"\",\"\",OFFSET('Plate Layout'!M91,0,0,1,1))","v":""}]
[{"$f":"IF('Plate Layout'!$D$8=\"\",\"\",'Plate Layout'!$D$8)","v":""},"C12",{"$f":"IF('Plate Layout'!Y17=\"\",\"\",'Plate Layout'!Y17)","v":""},{"$f":"IF('Plate Layout'!Z17=\"\",\"\",'Plate Layout'!Z17)","v":""},{"$f":"IF(OFFSET('Plate Layout'!N91,0,0,1,1)=\"\",\"\",OFFSET('Plate Layout'!N91,0,0,1,1))","v":""}]
[{"$f":"IF('Plate Layout'!$D$8=\"\",\"\",'Plate Layout'!$D$8)","v":""},"C13",{"$f":"IF('Plate Layout'!AA17=\"\",\"\",'Plate Layout'!AA17)","v":""},{"$f":"IF('Plate Layout'!AB17=\"\",\"\",'Plate Layout'!AB17)","v":""},{"$f":"IF(OFFSET('Plate Layout'!O91,0,0,1,1)=\"\",\"\",OFFSET('Plate Layout'!O91,0,0,1,1))","v":""}]
[{"$f":"IF('Plate Layout'!$D$8=\"\",\"\",'Plate Layout'!$D$8)","v":""},"C14",{"$f":"IF('Plate Layout'!AC17=\"\",\"\",'Plate Layout'!AC17)","v":""},{"$f":"IF('Plate Layout'!AD17=\"\",\"\",'Plate Layout'!AD17)","v":""},{"$f":"IF(OFFSET('Plate Layout'!P91,0,0,1,1)=\"\",\"\",OFFSET('Plate Layout'!P91,0,0,1,1))","v":""}]
[{"$f":"IF('Plate Layout'!$D$8=\"\",\"\",'Plate Layout'!$D$8)","v":""},"C15",{"$f":"IF('Plate Layout'!AE17=\"\",\"\",'Plate Layout'!AE17)","v":""},{"$f":"IF('Plate Layout'!AF17=\"\",\"\",'Plate Layout'!AF17)","v":""},{"$f":"IF(OFFSET('Plate Layout'!Q91,0,0,1,1)=\"\",\"\",OFFSET('Plate Layout'!Q91,0,0,1,1))","v":""}]
[{"$f":"IF('Plate Layout'!$D$8=\"\",\"\",'Plate Layout'!$D$8)","v":""},"C16",{"$f":"IF('Plate Layout'!AG17=\"\",\"\",'Plate Layout'!AG17)","v":""},{"$f":"IF('Plate Layout'!AH17=\"\",\"\",'Plate Layout'!AH17)","v":""},{"$f":"IF(OFFSET('Plate Layout'!R91,0,0,1,1)=\"\",\"\",OFFSET('Plate Layout'!R91,0,0,1,1))","v":""}]
[{"$f":"IF('Plate Layout'!$D$8=\"\",\"\",'Plate Layout'!$D$8)","v":""},"C17",{"$f":"IF('Plate Layout'!AI17=\"\",\"\",'Plate Layout'!AI17)","v":""},{"$f":"IF('Plate Layout'!AJ17=\"\",\"\",'Plate Layout'!AJ17)","v":""},{"$f":"IF(OFFSET('Plate Layout'!S91,0,0,1,1)=\"\",\"\",OFFSET('Plate Layout'!S91,0,0,1,1))","v":""}]
[{"$f":"IF('Plate Layout'!$D$8=\"\",\"\",'Plate Layout'!$D$8)","v":""},"C18",{"$f":"IF('Plate Layout'!AK17=\"\",\"\",'Plate Layout'!AK17)","v":""},{"$f":"IF('Plate Layout'!AL17=\"\",\"\",'Plate Layout'!AL17)","v":""},{"$f":"IF(OFFSET('Plate Layout'!T91,0,0,1,1)=\"\",\"\",OFFSET('Plate Layout'!T91,0,0,1,1))","v":""}]
[{"$f":"IF('Plate Layout'!$D$8=\"\",\"\",'Plate Layout'!$D$8)","v":""},"C19",{"$f":"IF('Plate Layout'!AM17=\"\",\"\",'Plate Layout'!AM17)","v":""},{"$f":"IF('Plate Layout'!AN17=\"\",\"\",'Plate Layout'!AN17)","v":""},{"$f":"IF(OFFSET('Plate Layout'!U91,0,0,1,1)=\"\",\"\",OFFSET('Plate Layout'!U91,0,0,1,1))","v":""}]
[{"$f":"IF('Plate Layout'!$D$8=\"\",\"\",'Plate Layout'!$D$8)","v":""},"C20",{"$f":"IF('Plate Layout'!AO17=\"\",\"\",'Plate Layout'!AO17)","v":""},{"$f":"IF('Plate Layout'!AP17=\"\",\"\",'Plate Layout'!AP17)","v":""},{"$f":"IF(OFFSET('Plate Layout'!V91,0,0,1,1)=\"\",\"\",OFFSET('Plate Layout'!V91,0,0,1,1))","v":""}]
[{"$f":"IF('Plate Layout'!$D$8=\"\",\"\",'Plate Layout'!$D$8)","v":""},"C21",{"$f":"IF('Plate Layout'!AQ17=\"\",\"\",'Plate Layout'!AQ17)","v":""},{"$f":"IF('Plate Layout'!AR17=\"\",\"\",'Plate Layout'!AR17)","v":""},{"$f":"IF(OFFSET('Plate Layout'!W91,0,0,1,1)=\"\",\"\",OFFSET('Plate Layout'!W91,0,0,1,1))","v":""}]
[{"$f":"IF('Plate Layout'!$D$8=\"\",\"\",'Plate Layout'!$D$8)","v":""},"C22",{"$f":"IF('Plate Layout'!AS17=\"\",\"\",'Plate Layout'!AS17)","v":""},{"$f":"IF('Plate Layout'!AT17=\"\",\"\",'Plate Layout'!AT17)","v":""},{"$f":"IF(OFFSET('Plate Layout'!X91,0,0,1,1)=\"\",\"\",OFFSET('Plate Layout'!X91,0,0,1,1))","v":""}]
[{"$f":"IF('Plate Layout'!$D$8=\"\",\"\",'Plate Layout'!$D$8)","v":""},"C23",{"$f":"IF('Plate Layout'!AU17=\"\",\"\",'Plate Layout'!AU17)","v":""},{"$f":"IF('Plate Layout'!AV17=\"\",\"\",'Plate Layout'!AV17)","v":""},{"$f":"IF(OFFSET('Plate Layout'!Y91,0,0,1,1)=\"\",\"\",OFFSET('Plate Layout'!Y91,0,0,1,1))","v":""}]
[{"$f":"IF('Plate Layout'!$D$8=\"\",\"\",'Plate Layout'!$D$8)","v":""},"C24",{"$f":"IF('Plate Layout'!AW17=\"\",\"\",'Plate Layout'!AW17)","v":""},{"$f":"IF('Plate Layout'!AX17=\"\",\"\",'Plate Layout'!AX17)","v":""},{"$f":"IF(OFFSET('Plate Layout'!Z91,0,0,1,1)=\"\",\"\",OFFSET('Plate Layout'!Z91,0,0,1,1))","v":""}]
[{"$f":"IF('Plate Layout'!$D$8=\"\",\"\",'Plate Layout'!$D$8)","v":""},"C25",{"$f":"IF('Plate Layout'!AY17=\"\",\"\",'Plate Layout'!AY17)","v":""},{"$f":"IF('Plate Layout'!AZ17=\"\",\"\",'Plate Layout'!AZ17)","v":""},{"$f":"IF(OFFSET('Plate Layout'!AA91,0,0,1,1)=\"\",\"\",OFFSET('Plate Layout'!AA91,0,0,1,1))","v":""}]
[{"$f":"IF('Plate Layout'!$D$8=\"\",\"\",'Plate Layout'!$D$8)","v":""},"C26",{"$f":"IF('Plate Layout'!BA17=\"\",\"\",'Plate Layout'!BA17)","v":""},{"$f":"IF('Plate Layout'!BB17=\"\",\"\",'Plate Layout'!BB17)","v":""},{"$f":"IF(OFFSET('Plate Layout'!AB91,0,0,1,1)=\"\",\"\",OFFSET('Plate Layout'!AB91,0,0,1,1))","v":""}]
[{"$f":"IF('Plate Layout'!$D$8=\"\",\"\",'Plate Layout'!$D$8)","v":""},"C27",{"$f":"IF('Plate Layout'!BC17=\"\",\"\",'Plate Layout'!BC17)","v":""},{"$f":"IF('Plate Layout'!BD17=\"\",\"\",'Plate Layout'!BD17)","v":""},{"$f":"IF(OFFSET('Plate Layout'!AC91,0,0,1,1)=\"\",\"\",OFFSET('Plate Layout'!AC91,0,0,1,1))","v":""}]
[{"$f":"IF('Plate Layout'!$D$8=\"\",\"\",'Plate Layout'!$D$8)","v":""},"C28",{"$f":"IF('Plate Layout'!BE17=\"\",\"\",'Plate Layout'!BE17)","v":""},{"$f":"IF('Plate Layout'!BF17=\"\",\"\",'Plate Layout'!BF17)","v":""},{"$f":"IF(OFFSET('Plate Layout'!AD91,0,0,1,1)=\"\",\"\",OFFSET('Plate Layout'!AD91,0,0,1,1))","v":""}]
[{"$f":"IF('Plate Layout'!$D$8=\"\",\"\",'Plate Layout'!$D$8)","v":""},"C29",{"$f":"IF('Plate Layout'!BG17=\"\",\"\",'Plate Layout'!BG17)","v":""},{"$f":"IF('Plate Layout'!BH17=\"\",\"\",'Plate Layout'!BH17)","v":""},{"$f":"IF(OFFSET('Plate Layout'!AE91,0,0,1,1)=\"\",\"\",OFFSET('Plate Layout'!AE91,0,0,1,1))","v":""}]
[{"$f":"IF('Plate Layout'!$D$8=\"\",\"\",'Plate Layout'!$D$8)","v":""},"C30",{"$f":"IF('Plate Layout'!BI17=\"\",\"\",'Plate Layout'!BI17)","v":""},{"$f":"IF('Plate Layout'!BJ17=\"\",\"\",'Plate Layout'!BJ17)","v":""},{"$f":"IF(OFFSET('Plate Layout'!AF91,0,0,1,1)=\"\",\"\",OFFSET('Plate Layout'!AF91,0,0,1,1))","v":""}]
[{"$f":"IF('Plate Layout'!$D$8=\"\",\"\",'Plate Layout'!$D$8)","v":""},"C31",{"$f":"IF('Plate Layout'!BK17=\"\",\"\",'Plate Layout'!BK17)","v":""},{"$f":"IF('Plate Layout'!BL17=\"\",\"\",'Plate Layout'!BL17)","v":""},{"$f":"IF(OFFSET('Plate Layout'!AG91,0,0,1,1)=\"\",\"\",OFFSET('Plate Layout'!AG91,0,0,1,1))","v":""}]
[{"$f":"IF('Plate Layout'!$D$8=\"\",\"\",'Plate Layout'!$D$8)","v":""},"C32",{"$f":"IF('Plate Layout'!BM17=\"\",\"\",'Plate Layout'!BM17)","v":""},{"$f":"IF('Plate Layout'!BN17=\"\",\"\",'Plate Layout'!BN17)","v":""},{"$f":"IF(OFFSET('Plate Layout'!AH91,0,0,1,1)=\"\",\"\",OFFSET('Plate Layout'!AH91,0,0,1,1))","v":""}]
[{"$f":"IF('Plate Layout'!$D$8=\"\",\"\",'Plate Layout'!$D$8)","v":""},"C33",{"$f":"IF('Plate Layout'!BO17=\"\",\"\",'Plate Layout'!BO17)","v":""},{"$f":"IF('Plate Layout'!BP17=\"\",\"\",'Plate Layout'!BP17)","v":""},{"$f":"IF(OFFSET('Plate Layout'!AI91,0,0,1,1)=\"\",\"\",OFFSET('Plate Layout'!AI91,0,0,1,1))","v":""}]
[{"$f":"IF('Plate Layout'!$D$8=\"\",\"\",'Plate Layout'!$D$8)","v":""},"C34",{"$f":"IF('Plate Layout'!BQ17=\"\",\"\",'Plate Layout'!BQ17)","v":""},{"$f":"IF('Plate Layout'!BR17=\"\",\"\",'Plate Layout'!BR17)","v":""},{"$f":"IF(OFFSET('Plate Layout'!AJ91,0,0,1,1)=\"\",\"\",OFFSET('Plate Layout'!AJ91,0,0,1,1))","v":""}]
[{"$f":"IF('Plate Layout'!$D$8=\"\",\"\",'Plate Layout'!$D$8)","v":""},"C35",{"$f":"IF('Plate Layout'!BS17=\"\",\"\",'Plate Layout'!BS17)","v":""},{"$f":"IF('Plate Layout'!BT17=\"\",\"\",'Plate Layout'!BT17)","v":""},{"$f":"IF(OFFSET('Plate Layout'!AK91,0,0,1,1)=\"\",\"\",OFFSET('Plate Layout'!AK91,0,0,1,1))","v":""}]
[{"$f":"IF('Plate Layout'!$D$8=\"\",\"\",'Plate Layout'!$D$8)","v":""},"C36",{"$f":"IF('Plate Layout'!BU17=\"\",\"\",'Plate Layout'!BU17)","v":""},{"$f":"IF('Plate Layout'!BV17=\"\",\"\",'Plate Layout'!BV17)","v":""},{"$f":"IF(OFFSET('Plate Layout'!AL91,0,0,1,1)=\"\",\"\",OFFSET('Plate Layout'!AL91,0,0,1,1))","v":""}]
[{"$f":"IF('Plate Layout'!$D$8=\"\",\"\",'Plate Layout'!$D$8)","v":""},"C37",{"$f":"IF('Plate Layout'!BW17=\"\",\"\",'Plate Layout'!BW17)","v":""},{"$f":"IF('Plate Layout'!BX17=\"\",\"\",'Plate Layout'!BX17)","v":""},{"$f":"IF(OFFSET('Plate Layout'!AM91,0,0,1,1)=\"\",\"\",OFFSET('Plate Layout'!AM91,0,0,1,1))","v":""}]
[{"$f":"IF('Plate Layout'!$D$8=\"\",\"\",'Plate Layout'!$D$8)","v":""},"C38",{"$f":"IF('Plate Layout'!BY17=\"\",\"\",'Plate Layout'!BY17)","v":""},{"$f":"IF('Plate Layout'!BZ17=\"\",\"\",'Plate Layout'!BZ17)","v":""},{"$f":"IF(OFFSET('Plate Layout'!AN91,0,0,1,1)=\"\",\"\",OFFSET('Plate Layout'!AN91,0,0,1,1))","v":""}]
[{"$f":"IF('Plate Layout'!$D$8=\"\",\"\",'Plate Layout'!$D$8)","v":""},"C39",{"$f":"IF('Plate Layout'!CA17=\"\",\"\",'Plate Layout'!CA17)","v":""},{"$f":"IF('Plate Layout'!CB17=\"\",\"\",'Plate Layout'!CB17)","v":""},{"$f":"IF(OFFSET('Plate Layout'!AO91,0,0,1,1)=\"\",\"\",OFFSET('Plate Layout'!AO91,0,0,1,1))","v":""}]
[{"$f":"IF('Plate Layout'!$D$8=\"\",\"\",'Plate Layout'!$D$8)","v":""},"C40",{"$f":"IF('Plate Layout'!CC17=\"\",\"\",'Plate Layout'!CC17)","v":""},{"$f":"IF('Plate Layout'!CD17=\"\",\"\",'Plate Layout'!CD17)","v":""},{"$f":"IF(OFFSET('Plate Layout'!AP91,0,0,1,1)=\"\",\"\",OFFSET('Plate Layout'!AP91,0,0,1,1))","v":""}]
[{"$f":"IF('Plate Layout'!$D$8=\"\",\"\",'Plate Layout'!$D$8)","v":""},"C41",{"$f":"IF('Plate Layout'!CE17=\"\",\"\",'Plate Layout'!CE17)","v":""},{"$f":"IF('Plate Layout'!CF17=\"\",\"\",'Plate Layout'!CF17)","v":""},{"$f":"IF(OFFSET('Plate Layout'!AQ91,0,0,1,1)=\"\",\"\",OFFSET('Plate Layout'!AQ91,0,0,1,1))","v":""}]
[{"$f":"IF('Plate Layout'!$D$8=\"\",\"\",'Plate Layout'!$D$8)","v":""},"C42",{"$f":"IF('Plate Layout'!CG17=\"\",\"\",'Plate Layout'!CG17)","v":""},{"$f":"IF('Plate Layout'!CH17=\"\",\"\",'Plate Layout'!CH17)","v":""},{"$f":"IF(OFFSET('Plate Layout'!AR91,0,0,1,1)=\"\",\"\",OFFSET('Plate Layout'!AR91,0,0,1,1))","v":""}]
[{"$f":"IF('Plate Layout'!$D$8=\"\",\"\",'Plate Layout'!$D$8)","v":""},"C43",{"$f":"IF('Plate Layout'!CI17=\"\",\"\",'Plate Layout'!CI17)","v":""},{"$f":"IF('Plate Layout'!CJ17=\"\",\"\",'Plate Layout'!CJ17)","v":""},{"$f":"IF(OFFSET('Plate Layout'!AS91,0,0,1,1)=\"\",\"\",OFFSET('Plate Layout'!AS91,0,0,1,1))","v":""}]
[{"$f":"IF('Plate Layout'!$D$8=\"\",\"\",'Plate Layout'!$D$8)","v":""},"C44",{"$f":"IF('Plate Layout'!CK17=\"\",\"\",'Plate Layout'!CK17)","v":""},{"$f":"IF('Plate Layout'!CL17=\"\",\"\",'Plate Layout'!CL17)","v":""},{"$f":"IF(OFFSET('Plate Layout'!AT91,0,0,1,1)=\"\",\"\",OFFSET('Plate Layout'!AT91,0,0,1,1))","v":""}]
[{"$f":"IF('Plate Layout'!$D$8=\"\",\"\",'Plate Layout'!$D$8)","v":""},"C45",{"$f":"IF('Plate Layout'!CM17=\"\",\"\",'Plate Layout'!CM17)","v":""},{"$f":"IF('Plate Layout'!CN17=\"\",\"\",'Plate Layout'!CN17)","v":""},{"$f":"IF(OFFSET('Plate Layout'!AU91,0,0,1,1)=\"\",\"\",OFFSET('Plate Layout'!AU91,0,0,1,1))","v":""}]
[{"$f":"IF('Plate Layout'!$D$8=\"\",\"\",'Plate Layout'!$D$8)","v":""},"C46",{"$f":"IF('Plate Layout'!CO17=\"\",\"\",'Plate Layout'!CO17)","v":""},{"$f":"IF('Plate Layout'!CP17=\"\",\"\",'Plate Layout'!CP17)","v":""},{"$f":"IF(OFFSET('Plate Layout'!AV91,0,0,1,1)=\"\",\"\",OFFSET('Plate Layout'!AV91,0,0,1,1))","v":""}]
[{"$f":"IF('Plate Layout'!$D$8=\"\",\"\",'Plate Layout'!$D$8)","v":""},"C47",{"$f":"IF('Plate Layout'!CQ17=\"\",\"\",'Plate Layout'!CQ17)","v":""},{"$f":"IF('Plate Layout'!CR17=\"\",\"\",'Plate Layout'!CR17)","v":""},{"$f":"IF(OFFSET('Plate Layout'!AW91,0,0,1,1)=\"\",\"\",OFFSET('Plate Layout'!AW91,0,0,1,1))","v":""}]
[{"$f":"IF('Plate Layout'!$D$8=\"\",\"\",'Plate Layout'!$D$8)","v":""},"C48",{"$f":"IF('Plate Layout'!CS17=\"\",\"\",'Plate Layout'!CS17)","v":""},{"$f":"IF('Plate Layout'!CT17=\"\",\"\",'Plate Layout'!CT17)","v":""},{"$f":"IF(OFFSET('Plate Layout'!AX91,0,0,1,1)=\"\",\"\",OFFSET('Plate Layout'!AX91,0,0,1,1))","v":""}]
[{"$f":"IF('Plate Layout'!$D$8=\"\",\"\",'Plate Layout'!$D$8)","v":""},"D01",{"$f":"IF('Plate Layout'!C18=\"\",\"\",'Plate Layout'!C18)","v":""},{"$f":"IF('Plate Layout'!D18=\"\",\"\",'Plate Layout'!D18)","v":""},{"$f":"IF(OFFSET('Plate Layout'!C92,0,0,1,1)=\"\",\"\",OFFSET('Plate Layout'!C92,0,0,1,1))","v":""}]
[{"$f":"IF('Plate Layout'!$D$8=\"\",\"\",'Plate Layout'!$D$8)","v":""},"D02",{"$f":"IF('Plate Layout'!E18=\"\",\"\",'Plate Layout'!E18)","v":""},{"$f":"IF('Plate Layout'!F18=\"\",\"\",'Plate Layout'!F18)","v":""},{"$f":"IF(OFFSET('Plate Layout'!D92,0,0,1,1)=\"\",\"\",OFFSET('Plate Layout'!D92,0,0,1,1))","v":""}]
[{"$f":"IF('Plate Layout'!$D$8=\"\",\"\",'Plate Layout'!$D$8)","v":""},"D03",{"$f":"IF('Plate Layout'!G18=\"\",\"\",'Plate Layout'!G18)","v":""},{"$f":"IF('Plate Layout'!H18=\"\",\"\",'Plate Layout'!H18)","v":""},{"$f":"IF(OFFSET('Plate Layout'!E92,0,0,1,1)=\"\",\"\",OFFSET('Plate Layout'!E92,0,0,1,1))","v":""}]
[{"$f":"IF('Plate Layout'!$D$8=\"\",\"\",'Plate Layout'!$D$8)","v":""},"D04",{"$f":"IF('Plate Layout'!I18=\"\",\"\",'Plate Layout'!I18)","v":""},{"$f":"IF('Plate Layout'!J18=\"\",\"\",'Plate Layout'!J18)","v":""},{"$f":"IF(OFFSET('Plate Layout'!F92,0,0,1,1)=\"\",\"\",OFFSET('Plate Layout'!F92,0,0,1,1))","v":""}]
[{"$f":"IF('Plate Layout'!$D$8=\"\",\"\",'Plate Layout'!$D$8)","v":""},"D05",{"$f":"IF('Plate Layout'!K18=\"\",\"\",'Plate Layout'!K18)","v":""},{"$f":"IF('Plate Layout'!L18=\"\",\"\",'Plate Layout'!L18)","v":""},{"$f":"IF(OFFSET('Plate Layout'!G92,0,0,1,1)=\"\",\"\",OFFSET('Plate Layout'!G92,0,0,1,1))","v":""}]
[{"$f":"IF('Plate Layout'!$D$8=\"\",\"\",'Plate Layout'!$D$8)","v":""},"D06",{"$f":"IF('Plate Layout'!M18=\"\",\"\",'Plate Layout'!M18)","v":""},{"$f":"IF('Plate Layout'!N18=\"\",\"\",'Plate Layout'!N18)","v":""},{"$f":"IF(OFFSET('Plate Layout'!H92,0,0,1,1)=\"\",\"\",OFFSET('Plate Layout'!H92,0,0,1,1))","v":""}]
[{"$f":"IF('Plate Layout'!$D$8=\"\",\"\",'Plate Layout'!$D$8)","v":""},"D07",{"$f":"IF('Plate Layout'!O18=\"\",\"\",'Plate Layout'!O18)","v":""},{"$f":"IF('Plate Layout'!P18=\"\",\"\",'Plate Layout'!P18)","v":""},{"$f":"IF(OFFSET('Plate Layout'!I92,0,0,1,1)=\"\",\"\",OFFSET('Plate Layout'!I92,0,0,1,1))","v":""}]
[{"$f":"IF('Plate Layout'!$D$8=\"\",\"\",'Plate Layout'!$D$8)","v":""},"D08",{"$f":"IF('Plate Layout'!Q18=\"\",\"\",'Plate Layout'!Q18)","v":""},{"$f":"IF('Plate Layout'!R18=\"\",\"\",'Plate Layout'!R18)","v":""},{"$f":"IF(OFFSET('Plate Layout'!J92,0,0,1,1)=\"\",\"\",OFFSET('Plate Layout'!J92,0,0,1,1))","v":""}]
[{"$f":"IF('Plate Layout'!$D$8=\"\",\"\",'Plate Layout'!$D$8)","v":""},"D09",{"$f":"IF('Plate Layout'!S18=\"\",\"\",'Plate Layout'!S18)","v":""},{"$f":"IF('Plate Layout'!T18=\"\",\"\",'Plate Layout'!T18)","v":""},{"$f":"IF(OFFSET('Plate Layout'!K92,0,0,1,1)=\"\",\"\",OFFSET('Plate Layout'!K92,0,0,1,1))","v":""}]
[{"$f":"IF('Plate Layout'!$D$8=\"\",\"\",'Plate Layout'!$D$8)","v":""},"D10",{"$f":"IF('Plate Layout'!U18=\"\",\"\",'Plate Layout'!U18)","v":""},{"$f":"IF('Plate Layout'!V18=\"\",\"\",'Plate Layout'!V18)","v":""},{"$f":"IF(OFFSET('Plate Layout'!L92,0,0,1,1)=\"\",\"\",OFFSET('Plate Layout'!L92,0,0,1,1))","v":""}]
[{"$f":"IF('Plate Layout'!$D$8=\"\",\"\",'Plate Layout'!$D$8)","v":""},"D11",{"$f":"IF('Plate Layout'!W18=\"\",\"\",'Plate Layout'!W18)","v":""},{"$f":"IF('Plate Layout'!X18=\"\",\"\",'Plate Layout'!X18)","v":""},{"$f":"IF(OFFSET('Plate Layout'!M92,0,0,1,1)=\"\",\"\",OFFSET('Plate Layout'!M92,0,0,1,1))","v":""}]
[{"$f":"IF('Plate Layout'!$D$8=\"\",\"\",'Plate Layout'!$D$8)","v":""},"D12",{"$f":"IF('Plate Layout'!Y18=\"\",\"\",'Plate Layout'!Y18)","v":""},{"$f":"IF('Plate Layout'!Z18=\"\",\"\",'Plate Layout'!Z18)","v":""},{"$f":"IF(OFFSET('Plate Layout'!N92,0,0,1,1)=\"\",\"\",OFFSET('Plate Layout'!N92,0,0,1,1))","v":""}]
[{"$f":"IF('Plate Layout'!$D$8=\"\",\"\",'Plate Layout'!$D$8)","v":""},"D13",{"$f":"IF('Plate Layout'!AA18=\"\",\"\",'Plate Layout'!AA18)","v":""},{"$f":"IF('Plate Layout'!AB18=\"\",\"\",'Plate Layout'!AB18)","v":""},{"$f":"IF(OFFSET('Plate Layout'!O92,0,0,1,1)=\"\",\"\",OFFSET('Plate Layout'!O92,0,0,1,1))","v":""}]
[{"$f":"IF('Plate Layout'!$D$8=\"\",\"\",'Plate Layout'!$D$8)","v":""},"D14",{"$f":"IF('Plate Layout'!AC18=\"\",\"\",'Plate Layout'!AC18)","v":""},{"$f":"IF('Plate Layout'!AD18=\"\",\"\",'Plate Layout'!AD18)","v":""},{"$f":"IF(OFFSET('Plate Layout'!P92,0,0,1,1)=\"\",\"\",OFFSET('Plate Layout'!P92,0,0,1,1))","v":""}]
[{"$f":"IF('Plate Layout'!$D$8=\"\",\"\",'Plate Layout'!$D$8)","v":""},"D15",{"$f":"IF('Plate Layout'!AE18=\"\",\"\",'Plate Layout'!AE18)","v":""},{"$f":"IF('Plate Layout'!AF18=\"\",\"\",'Plate Layout'!AF18)","v":""},{"$f":"IF(OFFSET('Plate Layout'!Q92,0,0,1,1)=\"\",\"\",OFFSET('Plate Layout'!Q92,0,0,1,1))","v":""}]
[{"$f":"IF('Plate Layout'!$D$8=\"\",\"\",'Plate Layout'!$D$8)","v":""},"D16",{"$f":"IF('Plate Layout'!AG18=\"\",\"\",'Plate Layout'!AG18)","v":""},{"$f":"IF('Plate Layout'!AH18=\"\",\"\",'Plate Layout'!AH18)","v":""},{"$f":"IF(OFFSET('Plate Layout'!R92,0,0,1,1)=\"\",\"\",OFFSET('Plate Layout'!R92,0,0,1,1))","v":""}]
[{"$f":"IF('Plate Layout'!$D$8=\"\",\"\",'Plate Layout'!$D$8)","v":""},"D17",{"$f":"IF('Plate Layout'!AI18=\"\",\"\",'Plate Layout'!AI18)","v":""},{"$f":"IF('Plate Layout'!AJ18=\"\",\"\",'Plate Layout'!AJ18)","v":""},{"$f":"IF(OFFSET('Plate Layout'!S92,0,0,1,1)=\"\",\"\",OFFSET('Plate Layout'!S92,0,0,1,1))","v":""}]
[{"$f":"IF('Plate Layout'!$D$8=\"\",\"\",'Plate Layout'!$D$8)","v":""},"D18",{"$f":"IF('Plate Layout'!AK18=\"\",\"\",'Plate Layout'!AK18)","v":""},{"$f":"IF('Plate Layout'!AL18=\"\",\"\",'Plate Layout'!AL18)","v":""},{"$f":"IF(OFFSET('Plate Layout'!T92,0,0,1,1)=\"\",\"\",OFFSET('Plate Layout'!T92,0,0,1,1))","v":""}]
[{"$f":"IF('Plate Layout'!$D$8=\"\",\"\",'Plate Layout'!$D$8)","v":""},"D19",{"$f":"IF('Plate Layout'!AM18=\"\",\"\",'Plate Layout'!AM18)","v":""},{"$f":"IF('Plate Layout'!AN18=\"\",\"\",'Plate Layout'!AN18)","v":""},{"$f":"IF(OFFSET('Plate Layout'!U92,0,0,1,1)=\"\",\"\",OFFSET('Plate Layout'!U92,0,0,1,1))","v":""}]
[{"$f":"IF('Plate Layout'!$D$8=\"\",\"\",'Plate Layout'!$D$8)","v":""},"D20",{"$f":"IF('Plate Layout'!AO18=\"\",\"\",'Plate Layout'!AO18)","v":""},{"$f":"IF('Plate Layout'!AP18=\"\",\"\",'Plate Layout'!AP18)","v":""},{"$f":"IF(OFFSET('Plate Layout'!V92,0,0,1,1)=\"\",\"\",OFFSET('Plate Layout'!V92,0,0,1,1))","v":""}]
[{"$f":"IF('Plate Layout'!$D$8=\"\",\"\",'Plate Layout'!$D$8)","v":""},"D21",{"$f":"IF('Plate Layout'!AQ18=\"\",\"\",'Plate Layout'!AQ18)","v":""},{"$f":"IF('Plate Layout'!AR18=\"\",\"\",'Plate Layout'!AR18)","v":""},{"$f":"IF(OFFSET('Plate Layout'!W92,0,0,1,1)=\"\",\"\",OFFSET('Plate Layout'!W92,0,0,1,1))","v":""}]
[{"$f":"IF('Plate Layout'!$D$8=\"\",\"\",'Plate Layout'!$D$8)","v":""},"D22",{"$f":"IF('Plate Layout'!AS18=\"\",\"\",'Plate Layout'!AS18)","v":""},{"$f":"IF('Plate Layout'!AT18=\"\",\"\",'Plate Layout'!AT18)","v":""},{"$f":"IF(OFFSET('Plate Layout'!X92,0,0,1,1)=\"\",\"\",OFFSET('Plate Layout'!X92,0,0,1,1))","v":""}]
[{"$f":"IF('Plate Layout'!$D$8=\"\",\"\",'Plate Layout'!$D$8)","v":""},"D23",{"$f":"IF('Plate Layout'!AU18=\"\",\"\",'Plate Layout'!AU18)","v":""},{"$f":"IF('Plate Layout'!AV18=\"\",\"\",'Plate Layout'!AV18)","v":""},{"$f":"IF(OFFSET('Plate Layout'!Y92,0,0,1,1)=\"\",\"\",OFFSET('Plate Layout'!Y92,0,0,1,1))","v":""}]
[{"$f":"IF('Plate Layout'!$D$8=\"\",\"\",'Plate Layout'!$D$8)","v":""},"D24",{"$f":"IF('Plate Layout'!AW18=\"\",\"\",'Plate Layout'!AW18)","v":""},{"$f":"IF('Plate Layout'!AX18=\"\",\"\",'Plate Layout'!AX18)","v":""},{"$f":"IF(OFFSET('Plate Layout'!Z92,0,0,1,1)=\"\",\"\",OFFSET('Plate Layout'!Z92,0,0,1,1))","v":""}]
[{"$f":"IF('Plate Layout'!$D$8=\"\",\"\",'Plate Layout'!$D$8)","v":""},"D25",{"$f":"IF('Plate Layout'!AY18=\"\",\"\",'Plate Layout'!AY18)","v":""},{"$f":"IF('Plate Layout'!AZ18=\"\",\"\",'Plate Layout'!AZ18)","v":""},{"$f":"IF(OFFSET('Plate Layout'!AA92,0,0,1,1)=\"\",\"\",OFFSET('Plate Layout'!AA92,0,0,1,1))","v":""}]
[{"$f":"IF('Plate Layout'!$D$8=\"\",\"\",'Plate Layout'!$D$8)","v":""},"D26",{"$f":"IF('Plate Layout'!BA18=\"\",\"\",'Plate Layout'!BA18)","v":""},{"$f":"IF('Plate Layout'!BB18=\"\",\"\",'Plate Layout'!BB18)","v":""},{"$f":"IF(OFFSET('Plate Layout'!AB92,0,0,1,1)=\"\",\"\",OFFSET('Plate Layout'!AB92,0,0,1,1))","v":""}]
[{"$f":"IF('Plate Layout'!$D$8=\"\",\"\",'Plate Layout'!$D$8)","v":""},"D27",{"$f":"IF('Plate Layout'!BC18=\"\",\"\",'Plate Layout'!BC18)","v":""},{"$f":"IF('Plate Layout'!BD18=\"\",\"\",'Plate Layout'!BD18)","v":""},{"$f":"IF(OFFSET('Plate Layout'!AC92,0,0,1,1)=\"\",\"\",OFFSET('Plate Layout'!AC92,0,0,1,1))","v":""}]
[{"$f":"IF('Plate Layout'!$D$8=\"\",\"\",'Plate Layout'!$D$8)","v":""},"D28",{"$f":"IF('Plate Layout'!BE18=\"\",\"\",'Plate Layout'!BE18)","v":""},{"$f":"IF('Plate Layout'!BF18=\"\",\"\",'Plate Layout'!BF18)","v":""},{"$f":"IF(OFFSET('Plate Layout'!AD92,0,0,1,1)=\"\",\"\",OFFSET('Plate Layout'!AD92,0,0,1,1))","v":""}]
[{"$f":"IF('Plate Layout'!$D$8=\"\",\"\",'Plate Layout'!$D$8)","v":""},"D29",{"$f":"IF('Plate Layout'!BG18=\"\",\"\",'Plate Layout'!BG18)","v":""},{"$f":"IF('Plate Layout'!BH18=\"\",\"\",'Plate Layout'!BH18)","v":""},{"$f":"IF(OFFSET('Plate Layout'!AE92,0,0,1,1)=\"\",\"\",OFFSET('Plate Layout'!AE92,0,0,1,1))","v":""}]
[{"$f":"IF('Plate Layout'!$D$8=\"\",\"\",'Plate Layout'!$D$8)","v":""},"D30",{"$f":"IF('Plate Layout'!BI18=\"\",\"\",'Plate Layout'!BI18)","v":""},{"$f":"IF('Plate Layout'!BJ18=\"\",\"\",'Plate Layout'!BJ18)","v":""},{"$f":"IF(OFFSET('Plate Layout'!AF92,0,0,1,1)=\"\",\"\",OFFSET('Plate Layout'!AF92,0,0,1,1))","v":""}]
[{"$f":"IF('Plate Layout'!$D$8=\"\",\"\",'Plate Layout'!$D$8)","v":""},"D31",{"$f":"IF('Plate Layout'!BK18=\"\",\"\",'Plate Layout'!BK18)","v":""},{"$f":"IF('Plate Layout'!BL18=\"\",\"\",'Plate Layout'!BL18)","v":""},{"$f":"IF(OFFSET('Plate Layout'!AG92,0,0,1,1)=\"\",\"\",OFFSET('Plate Layout'!AG92,0,0,1,1))","v":""}]
[{"$f":"IF('Plate Layout'!$D$8=\"\",\"\",'Plate Layout'!$D$8)","v":""},"D32",{"$f":"IF('Plate Layout'!BM18=\"\",\"\",'Plate Layout'!BM18)","v":""},{"$f":"IF('Plate Layout'!BN18=\"\",\"\",'Plate Layout'!BN18)","v":""},{"$f":"IF(OFFSET('Plate Layout'!AH92,0,0,1,1)=\"\",\"\",OFFSET('Plate Layout'!AH92,0,0,1,1))","v":""}]
[{"$f":"IF('Plate Layout'!$D$8=\"\",\"\",'Plate Layout'!$D$8)","v":""},"D33",{"$f":"IF('Plate Layout'!BO18=\"\",\"\",'Plate Layout'!BO18)","v":""},{"$f":"IF('Plate Layout'!BP18=\"\",\"\",'Plate Layout'!BP18)","v":""},{"$f":"IF(OFFSET('Plate Layout'!AI92,0,0,1,1)=\"\",\"\",OFFSET('Plate Layout'!AI92,0,0,1,1))","v":""}]
[{"$f":"IF('Plate Layout'!$D$8=\"\",\"\",'Plate Layout'!$D$8)","v":""},"D34",{"$f":"IF('Plate Layout'!BQ18=\"\",\"\",'Plate Layout'!BQ18)","v":""},{"$f":"IF('Plate Layout'!BR18=\"\",\"\",'Plate Layout'!BR18)","v":""},{"$f":"IF(OFFSET('Plate Layout'!AJ92,0,0,1,1)=\"\",\"\",OFFSET('Plate Layout'!AJ92,0,0,1,1))","v":""}]
[{"$f":"IF('Plate Layout'!$D$8=\"\",\"\",'Plate Layout'!$D$8)","v":""},"D35",{"$f":"IF('Plate Layout'!BS18=\"\",\"\",'Plate Layout'!BS18)","v":""},{"$f":"IF('Plate Layout'!BT18=\"\",\"\",'Plate Layout'!BT18)","v":""},{"$f":"IF(OFFSET('Plate Layout'!AK92,0,0,1,1)=\"\",\"\",OFFSET('Plate Layout'!AK92,0,0,1,1))","v":""}]
[{"$f":"IF('Plate Layout'!$D$8=\"\",\"\",'Plate Layout'!$D$8)","v":""},"D36",{"$f":"IF('Plate Layout'!BU18=\"\",\"\",'Plate Layout'!BU18)","v":""},{"$f":"IF('Plate Layout'!BV18=\"\",\"\",'Plate Layout'!BV18)","v":""},{"$f":"IF(OFFSET('Plate Layout'!AL92,0,0,1,1)=\"\",\"\",OFFSET('Plate Layout'!AL92,0,0,1,1))","v":""}]
[{"$f":"IF('Plate Layout'!$D$8=\"\",\"\",'Plate Layout'!$D$8)","v":""},"D37",{"$f":"IF('Plate Layout'!BW18=\"\",\"\",'Plate Layout'!BW18)","v":""},{"$f":"IF('Plate Layout'!BX18=\"\",\"\",'Plate Layout'!BX18)","v":""},{"$f":"IF(OFFSET('Plate Layout'!AM92,0,0,1,1)=\"\",\"\",OFFSET('Plate Layout'!AM92,0,0,1,1))","v":""}]
[{"$f":"IF('Plate Layout'!$D$8=\"\",\"\",'Plate Layout'!$D$8)","v":""},"D38",{"$f":"IF('Plate Layout'!BY18=\"\",\"\",'Plate Layout'!BY18)","v":""},{"$f":"IF('Plate Layout'!BZ18=\"\",\"\",'Plate Layout'!BZ18)","v":""},{"$f":"IF(OFFSET('Plate Layout'!AN92,0,0,1,1)=\"\",\"\",OFFSET('Plate Layout'!AN92,0,0,1,1))","v":""}]
[{"$f":"IF('Plate Layout'!$D$8=\"\",\"\",'Plate Layout'!$D$8)","v":""},"D39",{"$f":"IF('Plate Layout'!CA18=\"\",\"\",'Plate Layout'!CA18)","v":""},{"$f":"IF('Plate Layout'!CB18=\"\",\"\",'Plate Layout'!CB18)","v":""},{"$f":"IF(OFFSET('Plate Layout'!AO92,0,0,1,1)=\"\",\"\",OFFSET('Plate Layout'!AO92,0,0,1,1))","v":""}]
[{"$f":"IF('Plate Layout'!$D$8=\"\",\"\",'Plate Layout'!$D$8)","v":""},"D40",{"$f":"IF('Plate Layout'!CC18=\"\",\"\",'Plate Layout'!CC18)","v":""},{"$f":"IF('Plate Layout'!CD18=\"\",\"\",'Plate Layout'!CD18)","v":""},{"$f":"IF(OFFSET('Plate Layout'!AP92,0,0,1,1)=\"\",\"\",OFFSET('Plate Layout'!AP92,0,0,1,1))","v":""}]
[{"$f":"IF('Plate Layout'!$D$8=\"\",\"\",'Plate Layout'!$D$8)","v":""},"D41",{"$f":"IF('Plate Layout'!CE18=\"\",\"\",'Plate Layout'!CE18)","v":""},{"$f":"IF('Plate Layout'!CF18=\"\",\"\",'Plate Layout'!CF18)","v":""},{"$f":"IF(OFFSET('Plate Layout'!AQ92,0,0,1,1)=\"\",\"\",OFFSET('Plate Layout'!AQ92,0,0,1,1))","v":""}]
[{"$f":"IF('Plate Layout'!$D$8=\"\",\"\",'Plate Layout'!$D$8)","v":""},"D42",{"$f":"IF('Plate Layout'!CG18=\"\",\"\",'Plate Layout'!CG18)","v":""},{"$f":"IF('Plate Layout'!CH18=\"\",\"\",'Plate Layout'!CH18)","v":""},{"$f":"IF(OFFSET('Plate Layout'!AR92,0,0,1,1)=\"\",\"\",OFFSET('Plate Layout'!AR92,0,0,1,1))","v":""}]
[{"$f":"IF('Plate Layout'!$D$8=\"\",\"\",'Plate Layout'!$D$8)","v":""},"D43",{"$f":"IF('Plate Layout'!CI18=\"\",\"\",'Plate Layout'!CI18)","v":""},{"$f":"IF('Plate Layout'!CJ18=\"\",\"\",'Plate Layout'!CJ18)","v":""},{"$f":"IF(OFFSET('Plate Layout'!AS92,0,0,1,1)=\"\",\"\",OFFSET('Plate Layout'!AS92,0,0,1,1))","v":""}]
[{"$f":"IF('Plate Layout'!$D$8=\"\",\"\",'Plate Layout'!$D$8)","v":""},"D44",{"$f":"IF('Plate Layout'!CK18=\"\",\"\",'Plate Layout'!CK18)","v":""},{"$f":"IF('Plate Layout'!CL18=\"\",\"\",'Plate Layout'!CL18)","v":""},{"$f":"IF(OFFSET('Plate Layout'!AT92,0,0,1,1)=\"\",\"\",OFFSET('Plate Layout'!AT92,0,0,1,1))","v":""}]
[{"$f":"IF('Plate Layout'!$D$8=\"\",\"\",'Plate Layout'!$D$8)","v":""},"D45",{"$f":"IF('Plate Layout'!CM18=\"\",\"\",'Plate Layout'!CM18)","v":""},{"$f":"IF('Plate Layout'!CN18=\"\",\"\",'Plate Layout'!CN18)","v":""},{"$f":"IF(OFFSET('Plate Layout'!AU92,0,0,1,1)=\"\",\"\",OFFSET('Plate Layout'!AU92,0,0,1,1))","v":""}]
[{"$f":"IF('Plate Layout'!$D$8=\"\",\"\",'Plate Layout'!$D$8)","v":""},"D46",{"$f":"IF('Plate Layout'!CO18=\"\",\"\",'Plate Layout'!CO18)","v":""},{"$f":"IF('Plate Layout'!CP18=\"\",\"\",'Plate Layout'!CP18)","v":""},{"$f":"IF(OFFSET('Plate Layout'!AV92,0,0,1,1)=\"\",\"\",OFFSET('Plate Layout'!AV92,0,0,1,1))","v":""}]
[{"$f":"IF('Plate Layout'!$D$8=\"\",\"\",'Plate Layout'!$D$8)","v":""},"D47",{"$f":"IF('Plate Layout'!CQ18=\"\",\"\",'Plate Layout'!CQ18)","v":""},{"$f":"IF('Plate Layout'!CR18=\"\",\"\",'Plate Layout'!CR18)","v":""},{"$f":"IF(OFFSET('Plate Layout'!AW92,0,0,1,1)=\"\",\"\",OFFSET('Plate Layout'!AW92,0,0,1,1))","v":""}]
[{"$f":"IF('Plate Layout'!$D$8=\"\",\"\",'Plate Layout'!$D$8)","v":""},"D48",{"$f":"IF('Plate Layout'!CS18=\"\",\"\",'Plate Layout'!CS18)","v":""},{"$f":"IF('Plate Layout'!CT18=\"\",\"\",'Plate Layout'!CT18)","v":""},{"$f":"IF(OFFSET('Plate Layout'!AX92,0,0,1,1)=\"\",\"\",OFFSET('Plate Layout'!AX92,0,0,1,1))","v":""}]
[{"$f":"IF('Plate Layout'!$D$8=\"\",\"\",'Plate Layout'!$D$8)","v":""},"E01",{"$f":"IF('Plate Layout'!C19=\"\",\"\",'Plate Layout'!C19)","v":""},{"$f":"IF('Plate Layout'!D19=\"\",\"\",'Plate Layout'!D19)","v":""},{"$f":"IF(OFFSET('Plate Layout'!C93,0,0,1,1)=\"\",\"\",OFFSET('Plate Layout'!C93,0,0,1,1))","v":""}]
[{"$f":"IF('Plate Layout'!$D$8=\"\",\"\",'Plate Layout'!$D$8)","v":""},"E02",{"$f":"IF('Plate Layout'!E19=\"\",\"\",'Plate Layout'!E19)","v":""},{"$f":"IF('Plate Layout'!F19=\"\",\"\",'Plate Layout'!F19)","v":""},{"$f":"IF(OFFSET('Plate Layout'!D93,0,0,1,1)=\"\",\"\",OFFSET('Plate Layout'!D93,0,0,1,1))","v":""}]
[{"$f":"IF('Plate Layout'!$D$8=\"\",\"\",'Plate Layout'!$D$8)","v":""},"E03",{"$f":"IF('Plate Layout'!G19=\"\",\"\",'Plate Layout'!G19)","v":""},{"$f":"IF('Plate Layout'!H19=\"\",\"\",'Plate Layout'!H19)","v":""},{"$f":"IF(OFFSET('Plate Layout'!E93,0,0,1,1)=\"\",\"\",OFFSET('Plate Layout'!E93,0,0,1,1))","v":""}]
[{"$f":"IF('Plate Layout'!$D$8=\"\",\"\",'Plate Layout'!$D$8)","v":""},"E04",{"$f":"IF('Plate Layout'!I19=\"\",\"\",'Plate Layout'!I19)","v":""},{"$f":"IF('Plate Layout'!J19=\"\",\"\",'Plate Layout'!J19)","v":""},{"$f":"IF(OFFSET('Plate Layout'!F93,0,0,1,1)=\"\",\"\",OFFSET('Plate Layout'!F93,0,0,1,1))","v":""}]
[{"$f":"IF('Plate Layout'!$D$8=\"\",\"\",'Plate Layout'!$D$8)","v":""},"E05",{"$f":"IF('Plate Layout'!K19=\"\",\"\",'Plate Layout'!K19)","v":""},{"$f":"IF('Plate Layout'!L19=\"\",\"\",'Plate Layout'!L19)","v":""},{"$f":"IF(OFFSET('Plate Layout'!G93,0,0,1,1)=\"\",\"\",OFFSET('Plate Layout'!G93,0,0,1,1))","v":""}]
[{"$f":"IF('Plate Layout'!$D$8=\"\",\"\",'Plate Layout'!$D$8)","v":""},"E06",{"$f":"IF('Plate Layout'!M19=\"\",\"\",'Plate Layout'!M19)","v":""},{"$f":"IF('Plate Layout'!N19=\"\",\"\",'Plate Layout'!N19)","v":""},{"$f":"IF(OFFSET('Plate Layout'!H93,0,0,1,1)=\"\",\"\",OFFSET('Plate Layout'!H93,0,0,1,1))","v":""}]
[{"$f":"IF('Plate Layout'!$D$8=\"\",\"\",'Plate Layout'!$D$8)","v":""},"E07",{"$f":"IF('Plate Layout'!O19=\"\",\"\",'Plate Layout'!O19)","v":""},{"$f":"IF('Plate Layout'!P19=\"\",\"\",'Plate Layout'!P19)","v":""},{"$f":"IF(OFFSET('Plate Layout'!I93,0,0,1,1)=\"\",\"\",OFFSET('Plate Layout'!I93,0,0,1,1))","v":""}]
[{"$f":"IF('Plate Layout'!$D$8=\"\",\"\",'Plate Layout'!$D$8)","v":""},"E08",{"$f":"IF('Plate Layout'!Q19=\"\",\"\",'Plate Layout'!Q19)","v":""},{"$f":"IF('Plate Layout'!R19=\"\",\"\",'Plate Layout'!R19)","v":""},{"$f":"IF(OFFSET('Plate Layout'!J93,0,0,1,1)=\"\",\"\",OFFSET('Plate Layout'!J93,0,0,1,1))","v":""}]
[{"$f":"IF('Plate Layout'!$D$8=\"\",\"\",'Plate Layout'!$D$8)","v":""},"E09",{"$f":"IF('Plate Layout'!S19=\"\",\"\",'Plate Layout'!S19)","v":""},{"$f":"IF('Plate Layout'!T19=\"\",\"\",'Plate Layout'!T19)","v":""},{"$f":"IF(OFFSET('Plate Layout'!K93,0,0,1,1)=\"\",\"\",OFFSET('Plate Layout'!K93,0,0,1,1))","v":""}]
[{"$f":"IF('Plate Layout'!$D$8=\"\",\"\",'Plate Layout'!$D$8)","v":""},"E10",{"$f":"IF('Plate Layout'!U19=\"\",\"\",'Plate Layout'!U19)","v":""},{"$f":"IF('Plate Layout'!V19=\"\",\"\",'Plate Layout'!V19)","v":""},{"$f":"IF(OFFSET('Plate Layout'!L93,0,0,1,1)=\"\",\"\",OFFSET('Plate Layout'!L93,0,0,1,1))","v":""}]
[{"$f":"IF('Plate Layout'!$D$8=\"\",\"\",'Plate Layout'!$D$8)","v":""},"E11",{"$f":"IF('Plate Layout'!W19=\"\",\"\",'Plate Layout'!W19)","v":""},{"$f":"IF('Plate Layout'!X19=\"\",\"\",'Plate Layout'!X19)","v":""},{"$f":"IF(OFFSET('Plate Layout'!M93,0,0,1,1)=\"\",\"\",OFFSET('Plate Layout'!M93,0,0,1,1))","v":""}]
[{"$f":"IF('Plate Layout'!$D$8=\"\",\"\",'Plate Layout'!$D$8)","v":""},"E12",{"$f":"IF('Plate Layout'!Y19=\"\",\"\",'Plate Layout'!Y19)","v":""},{"$f":"IF('Plate Layout'!Z19=\"\",\"\",'Plate Layout'!Z19)","v":""},{"$f":"IF(OFFSET('Plate Layout'!N93,0,0,1,1)=\"\",\"\",OFFSET('Plate Layout'!N93,0,0,1,1))","v":""}]
[{"$f":"IF('Plate Layout'!$D$8=\"\",\"\",'Plate Layout'!$D$8)","v":""},"E13",{"$f":"IF('Plate Layout'!AA19=\"\",\"\",'Plate Layout'!AA19)","v":""},{"$f":"IF('Plate Layout'!AB19=\"\",\"\",'Plate Layout'!AB19)","v":""},{"$f":"IF(OFFSET('Plate Layout'!O93,0,0,1,1)=\"\",\"\",OFFSET('Plate Layout'!O93,0,0,1,1))","v":""}]
[{"$f":"IF('Plate Layout'!$D$8=\"\",\"\",'Plate Layout'!$D$8)","v":""},"E14",{"$f":"IF('Plate Layout'!AC19=\"\",\"\",'Plate Layout'!AC19)","v":""},{"$f":"IF('Plate Layout'!AD19=\"\",\"\",'Plate Layout'!AD19)","v":""},{"$f":"IF(OFFSET('Plate Layout'!P93,0,0,1,1)=\"\",\"\",OFFSET('Plate Layout'!P93,0,0,1,1))","v":""}]
[{"$f":"IF('Plate Layout'!$D$8=\"\",\"\",'Plate Layout'!$D$8)","v":""},"E15",{"$f":"IF('Plate Layout'!AE19=\"\",\"\",'Plate Layout'!AE19)","v":""},{"$f":"IF('Plate Layout'!AF19=\"\",\"\",'Plate Layout'!AF19)","v":""},{"$f":"IF(OFFSET('Plate Layout'!Q93,0,0,1,1)=\"\",\"\",OFFSET('Plate Layout'!Q93,0,0,1,1))","v":""}]
[{"$f":"IF('Plate Layout'!$D$8=\"\",\"\",'Plate Layout'!$D$8)","v":""},"E16",{"$f":"IF('Plate Layout'!AG19=\"\",\"\",'Plate Layout'!AG19)","v":""},{"$f":"IF('Plate Layout'!AH19=\"\",\"\",'Plate Layout'!AH19)","v":""},{"$f":"IF(OFFSET('Plate Layout'!R93,0,0,1,1)=\"\",\"\",OFFSET('Plate Layout'!R93,0,0,1,1))","v":""}]
[{"$f":"IF('Plate Layout'!$D$8=\"\",\"\",'Plate Layout'!$D$8)","v":""},"E17",{"$f":"IF('Plate Layout'!AI19=\"\",\"\",'Plate Layout'!AI19)","v":""},{"$f":"IF('Plate Layout'!AJ19=\"\",\"\",'Plate Layout'!AJ19)","v":""},{"$f":"IF(OFFSET('Plate Layout'!S93,0,0,1,1)=\"\",\"\",OFFSET('Plate Layout'!S93,0,0,1,1))","v":""}]
[{"$f":"IF('Plate Layout'!$D$8=\"\",\"\",'Plate Layout'!$D$8)","v":""},"E18",{"$f":"IF('Plate Layout'!AK19=\"\",\"\",'Plate Layout'!AK19)","v":""},{"$f":"IF('Plate Layout'!AL19=\"\",\"\",'Plate Layout'!AL19)","v":""},{"$f":"IF(OFFSET('Plate Layout'!T93,0,0,1,1)=\"\",\"\",OFFSET('Plate Layout'!T93,0,0,1,1))","v":""}]
[{"$f":"IF('Plate Layout'!$D$8=\"\",\"\",'Plate Layout'!$D$8)","v":""},"E19",{"$f":"IF('Plate Layout'!AM19=\"\",\"\",'Plate Layout'!AM19)","v":""},{"$f":"IF('Plate Layout'!AN19=\"\",\"\",'Plate Layout'!AN19)","v":""},{"$f":"IF(OFFSET('Plate Layout'!U93,0,0,1,1)=\"\",\"\",OFFSET('Plate Layout'!U93,0,0,1,1))","v":""}]
[{"$f":"IF('Plate Layout'!$D$8=\"\",\"\",'Plate Layout'!$D$8)","v":""},"E20",{"$f":"IF('Plate Layout'!AO19=\"\",\"\",'Plate Layout'!AO19)","v":""},{"$f":"IF('Plate Layout'!AP19=\"\",\"\",'Plate Layout'!AP19)","v":""},{"$f":"IF(OFFSET('Plate Layout'!V93,0,0,1,1)=\"\",\"\",OFFSET('Plate Layout'!V93,0,0,1,1))","v":""}]
[{"$f":"IF('Plate Layout'!$D$8=\"\",\"\",'Plate Layout'!$D$8)","v":""},"E21",{"$f":"IF('Plate Layout'!AQ19=\"\",\"\",'Plate Layout'!AQ19)","v":""},{"$f":"IF('Plate Layout'!AR19=\"\",\"\",'Plate Layout'!AR19)","v":""},{"$f":"IF(OFFSET('Plate Layout'!W93,0,0,1,1)=\"\",\"\",OFFSET('Plate Layout'!W93,0,0,1,1))","v":""}]
[{"$f":"IF('Plate Layout'!$D$8=\"\",\"\",'Plate Layout'!$D$8)","v":""},"E22",{"$f":"IF('Plate Layout'!AS19=\"\",\"\",'Plate Layout'!AS19)","v":""},{"$f":"IF('Plate Layout'!AT19=\"\",\"\",'Plate Layout'!AT19)","v":""},{"$f":"IF(OFFSET('Plate Layout'!X93,0,0,1,1)=\"\",\"\",OFFSET('Plate Layout'!X93,0,0,1,1))","v":""}]
[{"$f":"IF('Plate Layout'!$D$8=\"\",\"\",'Plate Layout'!$D$8)","v":""},"E23",{"$f":"IF('Plate Layout'!AU19=\"\",\"\",'Plate Layout'!AU19)","v":""},{"$f":"IF('Plate Layout'!AV19=\"\",\"\",'Plate Layout'!AV19)","v":""},{"$f":"IF(OFFSET('Plate Layout'!Y93,0,0,1,1)=\"\",\"\",OFFSET('Plate Layout'!Y93,0,0,1,1))","v":""}]
[{"$f":"IF('Plate Layout'!$D$8=\"\",\"\",'Plate Layout'!$D$8)","v":""},"E24",{"$f":"IF('Plate Layout'!AW19=\"\",\"\",'Plate Layout'!AW19)","v":""},{"$f":"IF('Plate Layout'!AX19=\"\",\"\",'Plate Layout'!AX19)","v":""},{"$f":"IF(OFFSET('Plate Layout'!Z93,0,0,1,1)=\"\",\"\",OFFSET('Plate Layout'!Z93,0,0,1,1))","v":""}]
[{"$f":"IF('Plate Layout'!$D$8=\"\",\"\",'Plate Layout'!$D$8)","v":""},"E25",{"$f":"IF('Plate Layout'!AY19=\"\",\"\",'Plate Layout'!AY19)","v":""},{"$f":"IF('Plate Layout'!AZ19=\"\",\"\",'Plate Layout'!AZ19)","v":""},{"$f":"IF(OFFSET('Plate Layout'!AA93,0,0,1,1)=\"\",\"\",OFFSET('Plate Layout'!AA93,0,0,1,1))","v":""}]
[{"$f":"IF('Plate Layout'!$D$8=\"\",\"\",'Plate Layout'!$D$8)","v":""},"E26",{"$f":"IF('Plate Layout'!BA19=\"\",\"\",'Plate Layout'!BA19)","v":""},{"$f":"IF('Plate Layout'!BB19=\"\",\"\",'Plate Layout'!BB19)","v":""},{"$f":"IF(OFFSET('Plate Layout'!AB93,0,0,1,1)=\"\",\"\",OFFSET('Plate Layout'!AB93,0,0,1,1))","v":""}]
[{"$f":"IF('Plate Layout'!$D$8=\"\",\"\",'Plate Layout'!$D$8)","v":""},"E27",{"$f":"IF('Plate Layout'!BC19=\"\",\"\",'Plate Layout'!BC19)","v":""},{"$f":"IF('Plate Layout'!BD19=\"\",\"\",'Plate Layout'!BD19)","v":""},{"$f":"IF(OFFSET('Plate Layout'!AC93,0,0,1,1)=\"\",\"\",OFFSET('Plate Layout'!AC93,0,0,1,1))","v":""}]
[{"$f":"IF('Plate Layout'!$D$8=\"\",\"\",'Plate Layout'!$D$8)","v":""},"E28",{"$f":"IF('Plate Layout'!BE19=\"\",\"\",'Plate Layout'!BE19)","v":""},{"$f":"IF('Plate Layout'!BF19=\"\",\"\",'Plate Layout'!BF19)","v":""},{"$f":"IF(OFFSET('Plate Layout'!AD93,0,0,1,1)=\"\",\"\",OFFSET('Plate Layout'!AD93,0,0,1,1))","v":""}]
[{"$f":"IF('Plate Layout'!$D$8=\"\",\"\",'Plate Layout'!$D$8)","v":""},"E29",{"$f":"IF('Plate Layout'!BG19=\"\",\"\",'Plate Layout'!BG19)","v":""},{"$f":"IF('Plate Layout'!BH19=\"\",\"\",'Plate Layout'!BH19)","v":""},{"$f":"IF(OFFSET('Plate Layout'!AE93,0,0,1,1)=\"\",\"\",OFFSET('Plate Layout'!AE93,0,0,1,1))","v":""}]
[{"$f":"IF('Plate Layout'!$D$8=\"\",\"\",'Plate Layout'!$D$8)","v":""},"E30",{"$f":"IF('Plate Layout'!BI19=\"\",\"\",'Plate Layout'!BI19)","v":""},{"$f":"IF('Plate Layout'!BJ19=\"\",\"\",'Plate Layout'!BJ19)","v":""},{"$f":"IF(OFFSET('Plate Layout'!AF93,0,0,1,1)=\"\",\"\",OFFSET('Plate Layout'!AF93,0,0,1,1))","v":""}]
[{"$f":"IF('Plate Layout'!$D$8=\"\",\"\",'Plate Layout'!$D$8)","v":""},"E31",{"$f":"IF('Plate Layout'!BK19=\"\",\"\",'Plate Layout'!BK19)","v":""},{"$f":"IF('Plate Layout'!BL19=\"\",\"\",'Plate Layout'!BL19)","v":""},{"$f":"IF(OFFSET('Plate Layout'!AG93,0,0,1,1)=\"\",\"\",OFFSET('Plate Layout'!AG93,0,0,1,1))","v":""}]
[{"$f":"IF('Plate Layout'!$D$8=\"\",\"\",'Plate Layout'!$D$8)","v":""},"E32",{"$f":"IF('Plate Layout'!BM19=\"\",\"\",'Plate Layout'!BM19)","v":""},{"$f":"IF('Plate Layout'!BN19=\"\",\"\",'Plate Layout'!BN19)","v":""},{"$f":"IF(OFFSET('Plate Layout'!AH93,0,0,1,1)=\"\",\"\",OFFSET('Plate Layout'!AH93,0,0,1,1))","v":""}]
[{"$f":"IF('Plate Layout'!$D$8=\"\",\"\",'Plate Layout'!$D$8)","v":""},"E33",{"$f":"IF('Plate Layout'!BO19=\"\",\"\",'Plate Layout'!BO19)","v":""},{"$f":"IF('Plate Layout'!BP19=\"\",\"\",'Plate Layout'!BP19)","v":""},{"$f":"IF(OFFSET('Plate Layout'!AI93,0,0,1,1)=\"\",\"\",OFFSET('Plate Layout'!AI93,0,0,1,1))","v":""}]
[{"$f":"IF('Plate Layout'!$D$8=\"\",\"\",'Plate Layout'!$D$8)","v":""},"E34",{"$f":"IF('Plate Layout'!BQ19=\"\",\"\",'Plate Layout'!BQ19)","v":""},{"$f":"IF('Plate Layout'!BR19=\"\",\"\",'Plate Layout'!BR19)","v":""},{"$f":"IF(OFFSET('Plate Layout'!AJ93,0,0,1,1)=\"\",\"\",OFFSET('Plate Layout'!AJ93,0,0,1,1))","v":""}]
[{"$f":"IF('Plate Layout'!$D$8=\"\",\"\",'Plate Layout'!$D$8)","v":""},"E35",{"$f":"IF('Plate Layout'!BS19=\"\",\"\",'Plate Layout'!BS19)","v":""},{"$f":"IF('Plate Layout'!BT19=\"\",\"\",'Plate Layout'!BT19)","v":""},{"$f":"IF(OFFSET('Plate Layout'!AK93,0,0,1,1)=\"\",\"\",OFFSET('Plate Layout'!AK93,0,0,1,1))","v":""}]
[{"$f":"IF('Plate Layout'!$D$8=\"\",\"\",'Plate Layout'!$D$8)","v":""},"E36",{"$f":"IF('Plate Layout'!BU19=\"\",\"\",'Plate Layout'!BU19)","v":""},{"$f":"IF('Plate Layout'!BV19=\"\",\"\",'Plate Layout'!BV19)","v":""},{"$f":"IF(OFFSET('Plate Layout'!AL93,0,0,1,1)=\"\",\"\",OFFSET('Plate Layout'!AL93,0,0,1,1))","v":""}]
[{"$f":"IF('Plate Layout'!$D$8=\"\",\"\",'Plate Layout'!$D$8)","v":""},"E37",{"$f":"IF('Plate Layout'!BW19=\"\",\"\",'Plate Layout'!BW19)","v":""},{"$f":"IF('Plate Layout'!BX19=\"\",\"\",'Plate Layout'!BX19)","v":""},{"$f":"IF(OFFSET('Plate Layout'!AM93,0,0,1,1)=\"\",\"\",OFFSET('Plate Layout'!AM93,0,0,1,1))","v":""}]
[{"$f":"IF('Plate Layout'!$D$8=\"\",\"\",'Plate Layout'!$D$8)","v":""},"E38",{"$f":"IF('Plate Layout'!BY19=\"\",\"\",'Plate Layout'!BY19)","v":""},{"$f":"IF('Plate Layout'!BZ19=\"\",\"\",'Plate Layout'!BZ19)","v":""},{"$f":"IF(OFFSET('Plate Layout'!AN93,0,0,1,1)=\"\",\"\",OFFSET('Plate Layout'!AN93,0,0,1,1))","v":""}]
[{"$f":"IF('Plate Layout'!$D$8=\"\",\"\",'Plate Layout'!$D$8)","v":""},"E39",{"$f":"IF('Plate Layout'!CA19=\"\",\"\",'Plate Layout'!CA19)","v":""},{"$f":"IF('Plate Layout'!CB19=\"\",\"\",'Plate Layout'!CB19)","v":""},{"$f":"IF(OFFSET('Plate Layout'!AO93,0,0,1,1)=\"\",\"\",OFFSET('Plate Layout'!AO93,0,0,1,1))","v":""}]
[{"$f":"IF('Plate Layout'!$D$8=\"\",\"\",'Plate Layout'!$D$8)","v":""},"E40",{"$f":"IF('Plate Layout'!CC19=\"\",\"\",'Plate Layout'!CC19)","v":""},{"$f":"IF('Plate Layout'!CD19=\"\",\"\",'Plate Layout'!CD19)","v":""},{"$f":"IF(OFFSET('Plate Layout'!AP93,0,0,1,1)=\"\",\"\",OFFSET('Plate Layout'!AP93,0,0,1,1))","v":""}]
[{"$f":"IF('Plate Layout'!$D$8=\"\",\"\",'Plate Layout'!$D$8)","v":""},"E41",{"$f":"IF('Plate Layout'!CE19=\"\",\"\",'Plate Layout'!CE19)","v":""},{"$f":"IF('Plate Layout'!CF19=\"\",\"\",'Plate Layout'!CF19)","v":""},{"$f":"IF(OFFSET('Plate Layout'!AQ93,0,0,1,1)=\"\",\"\",OFFSET('Plate Layout'!AQ93,0,0,1,1))","v":""}]
[{"$f":"IF('Plate Layout'!$D$8=\"\",\"\",'Plate Layout'!$D$8)","v":""},"E42",{"$f":"IF('Plate Layout'!CG19=\"\",\"\",'Plate Layout'!CG19)","v":""},{"$f":"IF('Plate Layout'!CH19=\"\",\"\",'Plate Layout'!CH19)","v":""},{"$f":"IF(OFFSET('Plate Layout'!AR93,0,0,1,1)=\"\",\"\",OFFSET('Plate Layout'!AR93,0,0,1,1))","v":""}]
[{"$f":"IF('Plate Layout'!$D$8=\"\",\"\",'Plate Layout'!$D$8)","v":""},"E43",{"$f":"IF('Plate Layout'!CI19=\"\",\"\",'Plate Layout'!CI19)","v":""},{"$f":"IF('Plate Layout'!CJ19=\"\",\"\",'Plate Layout'!CJ19)","v":""},{"$f":"IF(OFFSET('Plate Layout'!AS93,0,0,1,1)=\"\",\"\",OFFSET('Plate Layout'!AS93,0,0,1,1))","v":""}]
[{"$f":"IF('Plate Layout'!$D$8=\"\",\"\",'Plate Layout'!$D$8)","v":""},"E44",{"$f":"IF('Plate Layout'!CK19=\"\",\"\",'Plate Layout'!CK19)","v":""},{"$f":"IF('Plate Layout'!CL19=\"\",\"\",'Plate Layout'!CL19)","v":""},{"$f":"IF(OFFSET('Plate Layout'!AT93,0,0,1,1)=\"\",\"\",OFFSET('Plate Layout'!AT93,0,0,1,1))","v":""}]
[{"$f":"IF('Plate Layout'!$D$8=\"\",\"\",'Plate Layout'!$D$8)","v":""},"E45",{"$f":"IF('Plate Layout'!CM19=\"\",\"\",'Plate Layout'!CM19)","v":""},{"$f":"IF('Plate Layout'!CN19=\"\",\"\",'Plate Layout'!CN19)","v":""},{"$f":"IF(OFFSET('Plate Layout'!AU93,0,0,1,1)=\"\",\"\",OFFSET('Plate Layout'!AU93,0,0,1,1))","v":""}]
[{"$f":"IF('Plate Layout'!$D$8=\"\",\"\",'Plate Layout'!$D$8)","v":""},"E46",{"$f":"IF('Plate Layout'!CO19=\"\",\"\",'Plate Layout'!CO19)","v":""},{"$f":"IF('Plate Layout'!CP19=\"\",\"\",'Plate Layout'!CP19)","v":""},{"$f":"IF(OFFSET('Plate Layout'!AV93,0,0,1,1)=\"\",\"\",OFFSET('Plate Layout'!AV93,0,0,1,1))","v":""}]
[{"$f":"IF('Plate Layout'!$D$8=\"\",\"\",'Plate Layout'!$D$8)","v":""},"E47",{"$f":"IF('Plate Layout'!CQ19=\"\",\"\",'Plate Layout'!CQ19)","v":""},{"$f":"IF('Plate Layout'!CR19=\"\",\"\",'Plate Layout'!CR19)","v":""},{"$f":"IF(OFFSET('Plate Layout'!AW93,0,0,1,1)=\"\",\"\",OFFSET('Plate Layout'!AW93,0,0,1,1))","v":""}]
[{"$f":"IF('Plate Layout'!$D$8=\"\",\"\",'Plate Layout'!$D$8)","v":""},"E48",{"$f":"IF('Plate Layout'!CS19=\"\",\"\",'Plate Layout'!CS19)","v":""},{"$f":"IF('Plate Layout'!CT19=\"\",\"\",'Plate Layout'!CT19)","v":""},{"$f":"IF(OFFSET('Plate Layout'!AX93,0,0,1,1)=\"\",\"\",OFFSET('Plate Layout'!AX93,0,0,1,1))","v":""}]
[{"$f":"IF('Plate Layout'!$D$8=\"\",\"\",'Plate Layout'!$D$8)","v":""},"F01",{"$f":"IF('Plate Layout'!C20=\"\",\"\",'Plate Layout'!C20)","v":""},{"$f":"IF('Plate Layout'!D20=\"\",\"\",'Plate Layout'!D20)","v":""},{"$f":"IF(OFFSET('Plate Layout'!C94,0,0,1,1)=\"\",\"\",OFFSET('Plate Layout'!C94,0,0,1,1))","v":""}]
[{"$f":"IF('Plate Layout'!$D$8=\"\",\"\",'Plate Layout'!$D$8)","v":""},"F02",{"$f":"IF('Plate Layout'!E20=\"\",\"\",'Plate Layout'!E20)","v":""},{"$f":"IF('Plate Layout'!F20=\"\",\"\",'Plate Layout'!F20)","v":""},{"$f":"IF(OFFSET('Plate Layout'!D94,0,0,1,1)=\"\",\"\",OFFSET('Plate Layout'!D94,0,0,1,1))","v":""}]
[{"$f":"IF('Plate Layout'!$D$8=\"\",\"\",'Plate Layout'!$D$8)","v":""},"F03",{"$f":"IF('Plate Layout'!G20=\"\",\"\",'Plate Layout'!G20)","v":""},{"$f":"IF('Plate Layout'!H20=\"\",\"\",'Plate Layout'!H20)","v":""},{"$f":"IF(OFFSET('Plate Layout'!E94,0,0,1,1)=\"\",\"\",OFFSET('Plate Layout'!E94,0,0,1,1))","v":""}]
[{"$f":"IF('Plate Layout'!$D$8=\"\",\"\",'Plate Layout'!$D$8)","v":""},"F04",{"$f":"IF('Plate Layout'!I20=\"\",\"\",'Plate Layout'!I20)","v":""},{"$f":"IF('Plate Layout'!J20=\"\",\"\",'Plate Layout'!J20)","v":""},{"$f":"IF(OFFSET('Plate Layout'!F94,0,0,1,1)=\"\",\"\",OFFSET('Plate Layout'!F94,0,0,1,1))","v":""}]
[{"$f":"IF('Plate Layout'!$D$8=\"\",\"\",'Plate Layout'!$D$8)","v":""},"F05",{"$f":"IF('Plate Layout'!K20=\"\",\"\",'Plate Layout'!K20)","v":""},{"$f":"IF('Plate Layout'!L20=\"\",\"\",'Plate Layout'!L20)","v":""},{"$f":"IF(OFFSET('Plate Layout'!G94,0,0,1,1)=\"\",\"\",OFFSET('Plate Layout'!G94,0,0,1,1))","v":""}]
[{"$f":"IF('Plate Layout'!$D$8=\"\",\"\",'Plate Layout'!$D$8)","v":""},"F06",{"$f":"IF('Plate Layout'!M20=\"\",\"\",'Plate Layout'!M20)","v":""},{"$f":"IF('Plate Layout'!N20=\"\",\"\",'Plate Layout'!N20)","v":""},{"$f":"IF(OFFSET('Plate Layout'!H94,0,0,1,1)=\"\",\"\",OFFSET('Plate Layout'!H94,0,0,1,1))","v":""}]
[{"$f":"IF('Plate Layout'!$D$8=\"\",\"\",'Plate Layout'!$D$8)","v":""},"F07",{"$f":"IF('Plate Layout'!O20=\"\",\"\",'Plate Layout'!O20)","v":""},{"$f":"IF('Plate Layout'!P20=\"\",\"\",'Plate Layout'!P20)","v":""},{"$f":"IF(OFFSET('Plate Layout'!I94,0,0,1,1)=\"\",\"\",OFFSET('Plate Layout'!I94,0,0,1,1))","v":""}]
[{"$f":"IF('Plate Layout'!$D$8=\"\",\"\",'Plate Layout'!$D$8)","v":""},"F08",{"$f":"IF('Plate Layout'!Q20=\"\",\"\",'Plate Layout'!Q20)","v":""},{"$f":"IF('Plate Layout'!R20=\"\",\"\",'Plate Layout'!R20)","v":""},{"$f":"IF(OFFSET('Plate Layout'!J94,0,0,1,1)=\"\",\"\",OFFSET('Plate Layout'!J94,0,0,1,1))","v":""}]
[{"$f":"IF('Plate Layout'!$D$8=\"\",\"\",'Plate Layout'!$D$8)","v":""},"F09",{"$f":"IF('Plate Layout'!S20=\"\",\"\",'Plate Layout'!S20)","v":""},{"$f":"IF('Plate Layout'!T20=\"\",\"\",'Plate Layout'!T20)","v":""},{"$f":"IF(OFFSET('Plate Layout'!K94,0,0,1,1)=\"\",\"\",OFFSET('Plate Layout'!K94,0,0,1,1))","v":""}]
[{"$f":"IF('Plate Layout'!$D$8=\"\",\"\",'Plate Layout'!$D$8)","v":""},"F10",{"$f":"IF('Plate Layout'!U20=\"\",\"\",'Plate Layout'!U20)","v":""},{"$f":"IF('Plate Layout'!V20=\"\",\"\",'Plate Layout'!V20)","v":""},{"$f":"IF(OFFSET('Plate Layout'!L94,0,0,1,1)=\"\",\"\",OFFSET('Plate Layout'!L94,0,0,1,1))","v":""}]
[{"$f":"IF('Plate Layout'!$D$8=\"\",\"\",'Plate Layout'!$D$8)","v":""},"F11",{"$f":"IF('Plate Layout'!W20=\"\",\"\",'Plate Layout'!W20)","v":""},{"$f":"IF('Plate Layout'!X20=\"\",\"\",'Plate Layout'!X20)","v":""},{"$f":"IF(OFFSET('Plate Layout'!M94,0,0,1,1)=\"\",\"\",OFFSET('Plate Layout'!M94,0,0,1,1))","v":""}]
[{"$f":"IF('Plate Layout'!$D$8=\"\",\"\",'Plate Layout'!$D$8)","v":""},"F12",{"$f":"IF('Plate Layout'!Y20=\"\",\"\",'Plate Layout'!Y20)","v":""},{"$f":"IF('Plate Layout'!Z20=\"\",\"\",'Plate Layout'!Z20)","v":""},{"$f":"IF(OFFSET('Plate Layout'!N94,0,0,1,1)=\"\",\"\",OFFSET('Plate Layout'!N94,0,0,1,1))","v":""}]
[{"$f":"IF('Plate Layout'!$D$8=\"\",\"\",'Plate Layout'!$D$8)","v":""},"F13",{"$f":"IF('Plate Layout'!AA20=\"\",\"\",'Plate Layout'!AA20)","v":""},{"$f":"IF('Plate Layout'!AB20=\"\",\"\",'Plate Layout'!AB20)","v":""},{"$f":"IF(OFFSET('Plate Layout'!O94,0,0,1,1)=\"\",\"\",OFFSET('Plate Layout'!O94,0,0,1,1))","v":""}]
[{"$f":"IF('Plate Layout'!$D$8=\"\",\"\",'Plate Layout'!$D$8)","v":""},"F14",{"$f":"IF('Plate Layout'!AC20=\"\",\"\",'Plate Layout'!AC20)","v":""},{"$f":"IF('Plate Layout'!AD20=\"\",\"\",'Plate Layout'!AD20)","v":""},{"$f":"IF(OFFSET('Plate Layout'!P94,0,0,1,1)=\"\",\"\",OFFSET('Plate Layout'!P94,0,0,1,1))","v":""}]
[{"$f":"IF('Plate Layout'!$D$8=\"\",\"\",'Plate Layout'!$D$8)","v":""},"F15",{"$f":"IF('Plate Layout'!AE20=\"\",\"\",'Plate Layout'!AE20)","v":""},{"$f":"IF('Plate Layout'!AF20=\"\",\"\",'Plate Layout'!AF20)","v":""},{"$f":"IF(OFFSET('Plate Layout'!Q94,0,0,1,1)=\"\",\"\",OFFSET('Plate Layout'!Q94,0,0,1,1))","v":""}]
[{"$f":"IF('Plate Layout'!$D$8=\"\",\"\",'Plate Layout'!$D$8)","v":""},"F16",{"$f":"IF('Plate Layout'!AG20=\"\",\"\",'Plate Layout'!AG20)","v":""},{"$f":"IF('Plate Layout'!AH20=\"\",\"\",'Plate Layout'!AH20)","v":""},{"$f":"IF(OFFSET('Plate Layout'!R94,0,0,1,1)=\"\",\"\",OFFSET('Plate Layout'!R94,0,0,1,1))","v":""}]
[{"$f":"IF('Plate Layout'!$D$8=\"\",\"\",'Plate Layout'!$D$8)","v":""},"F17",{"$f":"IF('Plate Layout'!AI20=\"\",\"\",'Plate Layout'!AI20)","v":""},{"$f":"IF('Plate Layout'!AJ20=\"\",\"\",'Plate Layout'!AJ20)","v":""},{"$f":"IF(OFFSET('Plate Layout'!S94,0,0,1,1)=\"\",\"\",OFFSET('Plate Layout'!S94,0,0,1,1))","v":""}]
[{"$f":"IF('Plate Layout'!$D$8=\"\",\"\",'Plate Layout'!$D$8)","v":""},"F18",{"$f":"IF('Plate Layout'!AK20=\"\",\"\",'Plate Layout'!AK20)","v":""},{"$f":"IF('Plate Layout'!AL20=\"\",\"\",'Plate Layout'!AL20)","v":""},{"$f":"IF(OFFSET('Plate Layout'!T94,0,0,1,1)=\"\",\"\",OFFSET('Plate Layout'!T94,0,0,1,1))","v":""}]
[{"$f":"IF('Plate Layout'!$D$8=\"\",\"\",'Plate Layout'!$D$8)","v":""},"F19",{"$f":"IF('Plate Layout'!AM20=\"\",\"\",'Plate Layout'!AM20)","v":""},{"$f":"IF('Plate Layout'!AN20=\"\",\"\",'Plate Layout'!AN20)","v":""},{"$f":"IF(OFFSET('Plate Layout'!U94,0,0,1,1)=\"\",\"\",OFFSET('Plate Layout'!U94,0,0,1,1))","v":""}]
[{"$f":"IF('Plate Layout'!$D$8=\"\",\"\",'Plate Layout'!$D$8)","v":""},"F20",{"$f":"IF('Plate Layout'!AO20=\"\",\"\",'Plate Layout'!AO20)","v":""},{"$f":"IF('Plate Layout'!AP20=\"\",\"\",'Plate Layout'!AP20)","v":""},{"$f":"IF(OFFSET('Plate Layout'!V94,0,0,1,1)=\"\",\"\",OFFSET('Plate Layout'!V94,0,0,1,1))","v":""}]
[{"$f":"IF('Plate Layout'!$D$8=\"\",\"\",'Plate Layout'!$D$8)","v":""},"F21",{"$f":"IF('Plate Layout'!AQ20=\"\",\"\",'Plate Layout'!AQ20)","v":""},{"$f":"IF('Plate Layout'!AR20=\"\",\"\",'Plate Layout'!AR20)","v":""},{"$f":"IF(OFFSET('Plate Layout'!W94,0,0,1,1)=\"\",\"\",OFFSET('Plate Layout'!W94,0,0,1,1))","v":""}]
[{"$f":"IF('Plate Layout'!$D$8=\"\",\"\",'Plate Layout'!$D$8)","v":""},"F22",{"$f":"IF('Plate Layout'!AS20=\"\",\"\",'Plate Layout'!AS20)","v":""},{"$f":"IF('Plate Layout'!AT20=\"\",\"\",'Plate Layout'!AT20)","v":""},{"$f":"IF(OFFSET('Plate Layout'!X94,0,0,1,1)=\"\",\"\",OFFSET('Plate Layout'!X94,0,0,1,1))","v":""}]
[{"$f":"IF('Plate Layout'!$D$8=\"\",\"\",'Plate Layout'!$D$8)","v":""},"F23",{"$f":"IF('Plate Layout'!AU20=\"\",\"\",'Plate Layout'!AU20)","v":""},{"$f":"IF('Plate Layout'!AV20=\"\",\"\",'Plate Layout'!AV20)","v":""},{"$f":"IF(OFFSET('Plate Layout'!Y94,0,0,1,1)=\"\",\"\",OFFSET('Plate Layout'!Y94,0,0,1,1))","v":""}]
[{"$f":"IF('Plate Layout'!$D$8=\"\",\"\",'Plate Layout'!$D$8)","v":""},"F24",{"$f":"IF('Plate Layout'!AW20=\"\",\"\",'Plate Layout'!AW20)","v":""},{"$f":"IF('Plate Layout'!AX20=\"\",\"\",'Plate Layout'!AX20)","v":""},{"$f":"IF(OFFSET('Plate Layout'!Z94,0,0,1,1)=\"\",\"\",OFFSET('Plate Layout'!Z94,0,0,1,1))","v":""}]
[{"$f":"IF('Plate Layout'!$D$8=\"\",\"\",'Plate Layout'!$D$8)","v":""},"F25",{"$f":"IF('Plate Layout'!AY20=\"\",\"\",'Plate Layout'!AY20)","v":""},{"$f":"IF('Plate Layout'!AZ20=\"\",\"\",'Plate Layout'!AZ20)","v":""},{"$f":"IF(OFFSET('Plate Layout'!AA94,0,0,1,1)=\"\",\"\",OFFSET('Plate Layout'!AA94,0,0,1,1))","v":""}]
[{"$f":"IF('Plate Layout'!$D$8=\"\",\"\",'Plate Layout'!$D$8)","v":""},"F26",{"$f":"IF('Plate Layout'!BA20=\"\",\"\",'Plate Layout'!BA20)","v":""},{"$f":"IF('Plate Layout'!BB20=\"\",\"\",'Plate Layout'!BB20)","v":""},{"$f":"IF(OFFSET('Plate Layout'!AB94,0,0,1,1)=\"\",\"\",OFFSET('Plate Layout'!AB94,0,0,1,1))","v":""}]
[{"$f":"IF('Plate Layout'!$D$8=\"\",\"\",'Plate Layout'!$D$8)","v":""},"F27",{"$f":"IF('Plate Layout'!BC20=\"\",\"\",'Plate Layout'!BC20)","v":""},{"$f":"IF('Plate Layout'!BD20=\"\",\"\",'Plate Layout'!BD20)","v":""},{"$f":"IF(OFFSET('Plate Layout'!AC94,0,0,1,1)=\"\",\"\",OFFSET('Plate Layout'!AC94,0,0,1,1))","v":""}]
[{"$f":"IF('Plate Layout'!$D$8=\"\",\"\",'Plate Layout'!$D$8)","v":""},"F28",{"$f":"IF('Plate Layout'!BE20=\"\",\"\",'Plate Layout'!BE20)","v":""},{"$f":"IF('Plate Layout'!BF20=\"\",\"\",'Plate Layout'!BF20)","v":""},{"$f":"IF(OFFSET('Plate Layout'!AD94,0,0,1,1)=\"\",\"\",OFFSET('Plate Layout'!AD94,0,0,1,1))","v":""}]
[{"$f":"IF('Plate Layout'!$D$8=\"\",\"\",'Plate Layout'!$D$8)","v":""},"F29",{"$f":"IF('Plate Layout'!BG20=\"\",\"\",'Plate Layout'!BG20)","v":""},{"$f":"IF('Plate Layout'!BH20=\"\",\"\",'Plate Layout'!BH20)","v":""},{"$f":"IF(OFFSET('Plate Layout'!AE94,0,0,1,1)=\"\",\"\",OFFSET('Plate Layout'!AE94,0,0,1,1))","v":""}]
[{"$f":"IF('Plate Layout'!$D$8=\"\",\"\",'Plate Layout'!$D$8)","v":""},"F30",{"$f":"IF('Plate Layout'!BI20=\"\",\"\",'Plate Layout'!BI20)","v":""},{"$f":"IF('Plate Layout'!BJ20=\"\",\"\",'Plate Layout'!BJ20)","v":""},{"$f":"IF(OFFSET('Plate Layout'!AF94,0,0,1,1)=\"\",\"\",OFFSET('Plate Layout'!AF94,0,0,1,1))","v":""}]
[{"$f":"IF('Plate Layout'!$D$8=\"\",\"\",'Plate Layout'!$D$8)","v":""},"F31",{"$f":"IF('Plate Layout'!BK20=\"\",\"\",'Plate Layout'!BK20)","v":""},{"$f":"IF('Plate Layout'!BL20=\"\",\"\",'Plate Layout'!BL20)","v":""},{"$f":"IF(OFFSET('Plate Layout'!AG94,0,0,1,1)=\"\",\"\",OFFSET('Plate Layout'!AG94,0,0,1,1))","v":""}]
[{"$f":"IF('Plate Layout'!$D$8=\"\",\"\",'Plate Layout'!$D$8)","v":""},"F32",{"$f":"IF('Plate Layout'!BM20=\"\",\"\",'Plate Layout'!BM20)","v":""},{"$f":"IF('Plate Layout'!BN20=\"\",\"\",'Plate Layout'!BN20)","v":""},{"$f":"IF(OFFSET('Plate Layout'!AH94,0,0,1,1)=\"\",\"\",OFFSET('Plate Layout'!AH94,0,0,1,1))","v":""}]
[{"$f":"IF('Plate Layout'!$D$8=\"\",\"\",'Plate Layout'!$D$8)","v":""},"F33",{"$f":"IF('Plate Layout'!BO20=\"\",\"\",'Plate Layout'!BO20)","v":""},{"$f":"IF('Plate Layout'!BP20=\"\",\"\",'Plate Layout'!BP20)","v":""},{"$f":"IF(OFFSET('Plate Layout'!AI94,0,0,1,1)=\"\",\"\",OFFSET('Plate Layout'!AI94,0,0,1,1))","v":""}]
[{"$f":"IF('Plate Layout'!$D$8=\"\",\"\",'Plate Layout'!$D$8)","v":""},"F34",{"$f":"IF('Plate Layout'!BQ20=\"\",\"\",'Plate Layout'!BQ20)","v":""},{"$f":"IF('Plate Layout'!BR20=\"\",\"\",'Plate Layout'!BR20)","v":""},{"$f":"IF(OFFSET('Plate Layout'!AJ94,0,0,1,1)=\"\",\"\",OFFSET('Plate Layout'!AJ94,0,0,1,1))","v":""}]
[{"$f":"IF('Plate Layout'!$D$8=\"\",\"\",'Plate Layout'!$D$8)","v":""},"F35",{"$f":"IF('Plate Layout'!BS20=\"\",\"\",'Plate Layout'!BS20)","v":""},{"$f":"IF('Plate Layout'!BT20=\"\",\"\",'Plate Layout'!BT20)","v":""},{"$f":"IF(OFFSET('Plate Layout'!AK94,0,0,1,1)=\"\",\"\",OFFSET('Plate Layout'!AK94,0,0,1,1))","v":""}]
[{"$f":"IF('Plate Layout'!$D$8=\"\",\"\",'Plate Layout'!$D$8)","v":""},"F36",{"$f":"IF('Plate Layout'!BU20=\"\",\"\",'Plate Layout'!BU20)","v":""},{"$f":"IF('Plate Layout'!BV20=\"\",\"\",'Plate Layout'!BV20)","v":""},{"$f":"IF(OFFSET('Plate Layout'!AL94,0,0,1,1)=\"\",\"\",OFFSET('Plate Layout'!AL94,0,0,1,1))","v":""}]
[{"$f":"IF('Plate Layout'!$D$8=\"\",\"\",'Plate Layout'!$D$8)","v":""},"F37",{"$f":"IF('Plate Layout'!BW20=\"\",\"\",'Plate Layout'!BW20)","v":""},{"$f":"IF('Plate Layout'!BX20=\"\",\"\",'Plate Layout'!BX20)","v":""},{"$f":"IF(OFFSET('Plate Layout'!AM94,0,0,1,1)=\"\",\"\",OFFSET('Plate Layout'!AM94,0,0,1,1))","v":""}]
[{"$f":"IF('Plate Layout'!$D$8=\"\",\"\",'Plate Layout'!$D$8)","v":""},"F38",{"$f":"IF('Plate Layout'!BY20=\"\",\"\",'Plate Layout'!BY20)","v":""},{"$f":"IF('Plate Layout'!BZ20=\"\",\"\",'Plate Layout'!BZ20)","v":""},{"$f":"IF(OFFSET('Plate Layout'!AN94,0,0,1,1)=\"\",\"\",OFFSET('Plate Layout'!AN94,0,0,1,1))","v":""}]
[{"$f":"IF('Plate Layout'!$D$8=\"\",\"\",'Plate Layout'!$D$8)","v":""},"F39",{"$f":"IF('Plate Layout'!CA20=\"\",\"\",'Plate Layout'!CA20)","v":""},{"$f":"IF('Plate Layout'!CB20=\"\",\"\",'Plate Layout'!CB20)","v":""},{"$f":"IF(OFFSET('Plate Layout'!AO94,0,0,1,1)=\"\",\"\",OFFSET('Plate Layout'!AO94,0,0,1,1))","v":""}]
[{"$f":"IF('Plate Layout'!$D$8=\"\",\"\",'Plate Layout'!$D$8)","v":""},"F40",{"$f":"IF('Plate Layout'!CC20=\"\",\"\",'Plate Layout'!CC20)","v":""},{"$f":"IF('Plate Layout'!CD20=\"\",\"\",'Plate Layout'!CD20)","v":""},{"$f":"IF(OFFSET('Plate Layout'!AP94,0,0,1,1)=\"\",\"\",OFFSET('Plate Layout'!AP94,0,0,1,1))","v":""}]
[{"$f":"IF('Plate Layout'!$D$8=\"\",\"\",'Plate Layout'!$D$8)","v":""},"F41",{"$f":"IF('Plate Layout'!CE20=\"\",\"\",'Plate Layout'!CE20)","v":""},{"$f":"IF('Plate Layout'!CF20=\"\",\"\",'Plate Layout'!CF20)","v":""},{"$f":"IF(OFFSET('Plate Layout'!AQ94,0,0,1,1)=\"\",\"\",OFFSET('Plate Layout'!AQ94,0,0,1,1))","v":""}]
[{"$f":"IF('Plate Layout'!$D$8=\"\",\"\",'Plate Layout'!$D$8)","v":""},"F42",{"$f":"IF('Plate Layout'!CG20=\"\",\"\",'Plate Layout'!CG20)","v":""},{"$f":"IF('Plate Layout'!CH20=\"\",\"\",'Plate Layout'!CH20)","v":""},{"$f":"IF(OFFSET('Plate Layout'!AR94,0,0,1,1)=\"\",\"\",OFFSET('Plate Layout'!AR94,0,0,1,1))","v":""}]
[{"$f":"IF('Plate Layout'!$D$8=\"\",\"\",'Plate Layout'!$D$8)","v":""},"F43",{"$f":"IF('Plate Layout'!CI20=\"\",\"\",'Plate Layout'!CI20)","v":""},{"$f":"IF('Plate Layout'!CJ20=\"\",\"\",'Plate Layout'!CJ20)","v":""},{"$f":"IF(OFFSET('Plate Layout'!AS94,0,0,1,1)=\"\",\"\",OFFSET('Plate Layout'!AS94,0,0,1,1))","v":""}]
[{"$f":"IF('Plate Layout'!$D$8=\"\",\"\",'Plate Layout'!$D$8)","v":""},"F44",{"$f":"IF('Plate Layout'!CK20=\"\",\"\",'Plate Layout'!CK20)","v":""},{"$f":"IF('Plate Layout'!CL20=\"\",\"\",'Plate Layout'!CL20)","v":""},{"$f":"IF(OFFSET('Plate Layout'!AT94,0,0,1,1)=\"\",\"\",OFFSET('Plate Layout'!AT94,0,0,1,1))","v":""}]
[{"$f":"IF('Plate Layout'!$D$8=\"\",\"\",'Plate Layout'!$D$8)","v":""},"F45",{"$f":"IF('Plate Layout'!CM20=\"\",\"\",'Plate Layout'!CM20)","v":""},{"$f":"IF('Plate Layout'!CN20=\"\",\"\",'Plate Layout'!CN20)","v":""},{"$f":"IF(OFFSET('Plate Layout'!AU94,0,0,1,1)=\"\",\"\",OFFSET('Plate Layout'!AU94,0,0,1,1))","v":""}]
[{"$f":"IF('Plate Layout'!$D$8=\"\",\"\",'Plate Layout'!$D$8)","v":""},"F46",{"$f":"IF('Plate Layout'!CO20=\"\",\"\",'Plate Layout'!CO20)","v":""},{"$f":"IF('Plate Layout'!CP20=\"\",\"\",'Plate Layout'!CP20)","v":""},{"$f":"IF(OFFSET('Plate Layout'!AV94,0,0,1,1)=\"\",\"\",OFFSET('Plate Layout'!AV94,0,0,1,1))","v":""}]
[{"$f":"IF('Plate Layout'!$D$8=\"\",\"\",'Plate Layout'!$D$8)","v":""},"F47",{"$f":"IF('Plate Layout'!CQ20=\"\",\"\",'Plate Layout'!CQ20)","v":""},{"$f":"IF('Plate Layout'!CR20=\"\",\"\",'Plate Layout'!CR20)","v":""},{"$f":"IF(OFFSET('Plate Layout'!AW94,0,0,1,1)=\"\",\"\",OFFSET('Plate Layout'!AW94,0,0,1,1))","v":""}]
[{"$f":"IF('Plate Layout'!$D$8=\"\",\"\",'Plate Layout'!$D$8)","v":""},"F48",{"$f":"IF('Plate Layout'!CS20=\"\",\"\",'Plate Layout'!CS20)","v":""},{"$f":"IF('Plate Layout'!CT20=\"\",\"\",'Plate Layout'!CT20)","v":""},{"$f":"IF(OFFSET('Plate Layout'!AX94,0,0,1,1)=\"\",\"\",OFFSET('Plate Layout'!AX94,0,0,1,1))","v":""}]
[{"$f":"IF('Plate Layout'!$D$8=\"\",\"\",'Plate Layout'!$D$8)","v":""},"G01",{"$f":"IF('Plate Layout'!C21=\"\",\"\",'Plate Layout'!C21)","v":""},{"$f":"IF('Plate Layout'!D21=\"\",\"\",'Plate Layout'!D21)","v":""},{"$f":"IF(OFFSET('Plate Layout'!C95,0,0,1,1)=\"\",\"\",OFFSET('Plate Layout'!C95,0,0,1,1))","v":""}]
[{"$f":"IF('Plate Layout'!$D$8=\"\",\"\",'Plate Layout'!$D$8)","v":""},"G02",{"$f":"IF('Plate Layout'!E21=\"\",\"\",'Plate Layout'!E21)","v":""},{"$f":"IF('Plate Layout'!F21=\"\",\"\",'Plate Layout'!F21)","v":""},{"$f":"IF(OFFSET('Plate Layout'!D95,0,0,1,1)=\"\",\"\",OFFSET('Plate Layout'!D95,0,0,1,1))","v":""}]
[{"$f":"IF('Plate Layout'!$D$8=\"\",\"\",'Plate Layout'!$D$8)","v":""},"G03",{"$f":"IF('Plate Layout'!G21=\"\",\"\",'Plate Layout'!G21)","v":""},{"$f":"IF('Plate Layout'!H21=\"\",\"\",'Plate Layout'!H21)","v":""},{"$f":"IF(OFFSET('Plate Layout'!E95,0,0,1,1)=\"\",\"\",OFFSET('Plate Layout'!E95,0,0,1,1))","v":""}]
[{"$f":"IF('Plate Layout'!$D$8=\"\",\"\",'Plate Layout'!$D$8)","v":""},"G04",{"$f":"IF('Plate Layout'!I21=\"\",\"\",'Plate Layout'!I21)","v":""},{"$f":"IF('Plate Layout'!J21=\"\",\"\",'Plate Layout'!J21)","v":""},{"$f":"IF(OFFSET('Plate Layout'!F95,0,0,1,1)=\"\",\"\",OFFSET('Plate Layout'!F95,0,0,1,1))","v":""}]
[{"$f":"IF('Plate Layout'!$D$8=\"\",\"\",'Plate Layout'!$D$8)","v":""},"G05",{"$f":"IF('Plate Layout'!K21=\"\",\"\",'Plate Layout'!K21)","v":""},{"$f":"IF('Plate Layout'!L21=\"\",\"\",'Plate Layout'!L21)","v":""},{"$f":"IF(OFFSET('Plate Layout'!G95,0,0,1,1)=\"\",\"\",OFFSET('Plate Layout'!G95,0,0,1,1))","v":""}]
[{"$f":"IF('Plate Layout'!$D$8=\"\",\"\",'Plate Layout'!$D$8)","v":""},"G06",{"$f":"IF('Plate Layout'!M21=\"\",\"\",'Plate Layout'!M21)","v":""},{"$f":"IF('Plate Layout'!N21=\"\",\"\",'Plate Layout'!N21)","v":""},{"$f":"IF(OFFSET('Plate Layout'!H95,0,0,1,1)=\"\",\"\",OFFSET('Plate Layout'!H95,0,0,1,1))","v":""}]
[{"$f":"IF('Plate Layout'!$D$8=\"\",\"\",'Plate Layout'!$D$8)","v":""},"G07",{"$f":"IF('Plate Layout'!O21=\"\",\"\",'Plate Layout'!O21)","v":""},{"$f":"IF('Plate Layout'!P21=\"\",\"\",'Plate Layout'!P21)","v":""},{"$f":"IF(OFFSET('Plate Layout'!I95,0,0,1,1)=\"\",\"\",OFFSET('Plate Layout'!I95,0,0,1,1))","v":""}]
[{"$f":"IF('Plate Layout'!$D$8=\"\",\"\",'Plate Layout'!$D$8)","v":""},"G08",{"$f":"IF('Plate Layout'!Q21=\"\",\"\",'Plate Layout'!Q21)","v":""},{"$f":"IF('Plate Layout'!R21=\"\",\"\",'Plate Layout'!R21)","v":""},{"$f":"IF(OFFSET('Plate Layout'!J95,0,0,1,1)=\"\",\"\",OFFSET('Plate Layout'!J95,0,0,1,1))","v":""}]
[{"$f":"IF('Plate Layout'!$D$8=\"\",\"\",'Plate Layout'!$D$8)","v":""},"G09",{"$f":"IF('Plate Layout'!S21=\"\",\"\",'Plate Layout'!S21)","v":""},{"$f":"IF('Plate Layout'!T21=\"\",\"\",'Plate Layout'!T21)","v":""},{"$f":"IF(OFFSET('Plate Layout'!K95,0,0,1,1)=\"\",\"\",OFFSET('Plate Layout'!K95,0,0,1,1))","v":""}]
[{"$f":"IF('Plate Layout'!$D$8=\"\",\"\",'Plate Layout'!$D$8)","v":""},"G10",{"$f":"IF('Plate Layout'!U21=\"\",\"\",'Plate Layout'!U21)","v":""},{"$f":"IF('Plate Layout'!V21=\"\",\"\",'Plate Layout'!V21)","v":""},{"$f":"IF(OFFSET('Plate Layout'!L95,0,0,1,1)=\"\",\"\",OFFSET('Plate Layout'!L95,0,0,1,1))","v":""}]
[{"$f":"IF('Plate Layout'!$D$8=\"\",\"\",'Plate Layout'!$D$8)","v":""},"G11",{"$f":"IF('Plate Layout'!W21=\"\",\"\",'Plate Layout'!W21)","v":""},{"$f":"IF('Plate Layout'!X21=\"\",\"\",'Plate Layout'!X21)","v":""},{"$f":"IF(OFFSET('Plate Layout'!M95,0,0,1,1)=\"\",\"\",OFFSET('Plate Layout'!M95,0,0,1,1))","v":""}]
[{"$f":"IF('Plate Layout'!$D$8=\"\",\"\",'Plate Layout'!$D$8)","v":""},"G12",{"$f":"IF('Plate Layout'!Y21=\"\",\"\",'Plate Layout'!Y21)","v":""},{"$f":"IF('Plate Layout'!Z21=\"\",\"\",'Plate Layout'!Z21)","v":""},{"$f":"IF(OFFSET('Plate Layout'!N95,0,0,1,1)=\"\",\"\",OFFSET('Plate Layout'!N95,0,0,1,1))","v":""}]
[{"$f":"IF('Plate Layout'!$D$8=\"\",\"\",'Plate Layout'!$D$8)","v":""},"G13",{"$f":"IF('Plate Layout'!AA21=\"\",\"\",'Plate Layout'!AA21)","v":""},{"$f":"IF('Plate Layout'!AB21=\"\",\"\",'Plate Layout'!AB21)","v":""},{"$f":"IF(OFFSET('Plate Layout'!O95,0,0,1,1)=\"\",\"\",OFFSET('Plate Layout'!O95,0,0,1,1))","v":""}]
[{"$f":"IF('Plate Layout'!$D$8=\"\",\"\",'Plate Layout'!$D$8)","v":""},"G14",{"$f":"IF('Plate Layout'!AC21=\"\",\"\",'Plate Layout'!AC21)","v":""},{"$f":"IF('Plate Layout'!AD21=\"\",\"\",'Plate Layout'!AD21)","v":""},{"$f":"IF(OFFSET('Plate Layout'!P95,0,0,1,1)=\"\",\"\",OFFSET('Plate Layout'!P95,0,0,1,1))","v":""}]
[{"$f":"IF('Plate Layout'!$D$8=\"\",\"\",'Plate Layout'!$D$8)","v":""},"G15",{"$f":"IF('Plate Layout'!AE21=\"\",\"\",'Plate Layout'!AE21)","v":""},{"$f":"IF('Plate Layout'!AF21=\"\",\"\",'Plate Layout'!AF21)","v":""},{"$f":"IF(OFFSET('Plate Layout'!Q95,0,0,1,1)=\"\",\"\",OFFSET('Plate Layout'!Q95,0,0,1,1))","v":""}]
[{"$f":"IF('Plate Layout'!$D$8=\"\",\"\",'Plate Layout'!$D$8)","v":""},"G16",{"$f":"IF('Plate Layout'!AG21=\"\",\"\",'Plate Layout'!AG21)","v":""},{"$f":"IF('Plate Layout'!AH21=\"\",\"\",'Plate Layout'!AH21)","v":""},{"$f":"IF(OFFSET('Plate Layout'!R95,0,0,1,1)=\"\",\"\",OFFSET('Plate Layout'!R95,0,0,1,1))","v":""}]
[{"$f":"IF('Plate Layout'!$D$8=\"\",\"\",'Plate Layout'!$D$8)","v":""},"G17",{"$f":"IF('Plate Layout'!AI21=\"\",\"\",'Plate Layout'!AI21)","v":""},{"$f":"IF('Plate Layout'!AJ21=\"\",\"\",'Plate Layout'!AJ21)","v":""},{"$f":"IF(OFFSET('Plate Layout'!S95,0,0,1,1)=\"\",\"\",OFFSET('Plate Layout'!S95,0,0,1,1))","v":""}]
[{"$f":"IF('Plate Layout'!$D$8=\"\",\"\",'Plate Layout'!$D$8)","v":""},"G18",{"$f":"IF('Plate Layout'!AK21=\"\",\"\",'Plate Layout'!AK21)","v":""},{"$f":"IF('Plate Layout'!AL21=\"\",\"\",'Plate Layout'!AL21)","v":""},{"$f":"IF(OFFSET('Plate Layout'!T95,0,0,1,1)=\"\",\"\",OFFSET('Plate Layout'!T95,0,0,1,1))","v":""}]
[{"$f":"IF('Plate Layout'!$D$8=\"\",\"\",'Plate Layout'!$D$8)","v":""},"G19",{"$f":"IF('Plate Layout'!AM21=\"\",\"\",'Plate Layout'!AM21)","v":""},{"$f":"IF('Plate Layout'!AN21=\"\",\"\",'Plate Layout'!AN21)","v":""},{"$f":"IF(OFFSET('Plate Layout'!U95,0,0,1,1)=\"\",\"\",OFFSET('Plate Layout'!U95,0,0,1,1))","v":""}]
[{"$f":"IF('Plate Layout'!$D$8=\"\",\"\",'Plate Layout'!$D$8)","v":""},"G20",{"$f":"IF('Plate Layout'!AO21=\"\",\"\",'Plate Layout'!AO21)","v":""},{"$f":"IF('Plate Layout'!AP21=\"\",\"\",'Plate Layout'!AP21)","v":""},{"$f":"IF(OFFSET('Plate Layout'!V95,0,0,1,1)=\"\",\"\",OFFSET('Plate Layout'!V95,0,0,1,1))","v":""}]
[{"$f":"IF('Plate Layout'!$D$8=\"\",\"\",'Plate Layout'!$D$8)","v":""},"G21",{"$f":"IF('Plate Layout'!AQ21=\"\",\"\",'Plate Layout'!AQ21)","v":""},{"$f":"IF('Plate Layout'!AR21=\"\",\"\",'Plate Layout'!AR21)","v":""},{"$f":"IF(OFFSET('Plate Layout'!W95,0,0,1,1)=\"\",\"\",OFFSET('Plate Layout'!W95,0,0,1,1))","v":""}]
[{"$f":"IF('Plate Layout'!$D$8=\"\",\"\",'Plate Layout'!$D$8)","v":""},"G22",{"$f":"IF('Plate Layout'!AS21=\"\",\"\",'Plate Layout'!AS21)","v":""},{"$f":"IF('Plate Layout'!AT21=\"\",\"\",'Plate Layout'!AT21)","v":""},{"$f":"IF(OFFSET('Plate Layout'!X95,0,0,1,1)=\"\",\"\",OFFSET('Plate Layout'!X95,0,0,1,1))","v":""}]
[{"$f":"IF('Plate Layout'!$D$8=\"\",\"\",'Plate Layout'!$D$8)","v":""},"G23",{"$f":"IF('Plate Layout'!AU21=\"\",\"\",'Plate Layout'!AU21)","v":""},{"$f":"IF('Plate Layout'!AV21=\"\",\"\",'Plate Layout'!AV21)","v":""},{"$f":"IF(OFFSET('Plate Layout'!Y95,0,0,1,1)=\"\",\"\",OFFSET('Plate Layout'!Y95,0,0,1,1))","v":""}]
[{"$f":"IF('Plate Layout'!$D$8=\"\",\"\",'Plate Layout'!$D$8)","v":""},"G24",{"$f":"IF('Plate Layout'!AW21=\"\",\"\",'Plate Layout'!AW21)","v":""},{"$f":"IF('Plate Layout'!AX21=\"\",\"\",'Plate Layout'!AX21)","v":""},{"$f":"IF(OFFSET('Plate Layout'!Z95,0,0,1,1)=\"\",\"\",OFFSET('Plate Layout'!Z95,0,0,1,1))","v":""}]
[{"$f":"IF('Plate Layout'!$D$8=\"\",\"\",'Plate Layout'!$D$8)","v":""},"G25",{"$f":"IF('Plate Layout'!AY21=\"\",\"\",'Plate Layout'!AY21)","v":""},{"$f":"IF('Plate Layout'!AZ21=\"\",\"\",'Plate Layout'!AZ21)","v":""},{"$f":"IF(OFFSET('Plate Layout'!AA95,0,0,1,1)=\"\",\"\",OFFSET('Plate Layout'!AA95,0,0,1,1))","v":""}]
[{"$f":"IF('Plate Layout'!$D$8=\"\",\"\",'Plate Layout'!$D$8)","v":""},"G26",{"$f":"IF('Plate Layout'!BA21=\"\",\"\",'Plate Layout'!BA21)","v":""},{"$f":"IF('Plate Layout'!BB21=\"\",\"\",'Plate Layout'!BB21)","v":""},{"$f":"IF(OFFSET('Plate Layout'!AB95,0,0,1,1)=\"\",\"\",OFFSET('Plate Layout'!AB95,0,0,1,1))","v":""}]
[{"$f":"IF('Plate Layout'!$D$8=\"\",\"\",'Plate Layout'!$D$8)","v":""},"G27",{"$f":"IF('Plate Layout'!BC21=\"\",\"\",'Plate Layout'!BC21)","v":""},{"$f":"IF('Plate Layout'!BD21=\"\",\"\",'Plate Layout'!BD21)","v":""},{"$f":"IF(OFFSET('Plate Layout'!AC95,0,0,1,1)=\"\",\"\",OFFSET('Plate Layout'!AC95,0,0,1,1))","v":""}]
[{"$f":"IF('Plate Layout'!$D$8=\"\",\"\",'Plate Layout'!$D$8)","v":""},"G28",{"$f":"IF('Plate Layout'!BE21=\"\",\"\",'Plate Layout'!BE21)","v":""},{"$f":"IF('Plate Layout'!BF21=\"\",\"\",'Plate Layout'!BF21)","v":""},{"$f":"IF(OFFSET('Plate Layout'!AD95,0,0,1,1)=\"\",\"\",OFFSET('Plate Layout'!AD95,0,0,1,1))","v":""}]
[{"$f":"IF('Plate Layout'!$D$8=\"\",\"\",'Plate Layout'!$D$8)","v":""},"G29",{"$f":"IF('Plate Layout'!BG21=\"\",\"\",'Plate Layout'!BG21)","v":""},{"$f":"IF('Plate Layout'!BH21=\"\",\"\",'Plate Layout'!BH21)","v":""},{"$f":"IF(OFFSET('Plate Layout'!AE95,0,0,1,1)=\"\",\"\",OFFSET('Plate Layout'!AE95,0,0,1,1))","v":""}]
[{"$f":"IF('Plate Layout'!$D$8=\"\",\"\",'Plate Layout'!$D$8)","v":""},"G30",{"$f":"IF('Plate Layout'!BI21=\"\",\"\",'Plate Layout'!BI21)","v":""},{"$f":"IF('Plate Layout'!BJ21=\"\",\"\",'Plate Layout'!BJ21)","v":""},{"$f":"IF(OFFSET('Plate Layout'!AF95,0,0,1,1)=\"\",\"\",OFFSET('Plate Layout'!AF95,0,0,1,1))","v":""}]
[{"$f":"IF('Plate Layout'!$D$8=\"\",\"\",'Plate Layout'!$D$8)","v":""},"G31",{"$f":"IF('Plate Layout'!BK21=\"\",\"\",'Plate Layout'!BK21)","v":""},{"$f":"IF('Plate Layout'!BL21=\"\",\"\",'Plate Layout'!BL21)","v":""},{"$f":"IF(OFFSET('Plate Layout'!AG95,0,0,1,1)=\"\",\"\",OFFSET('Plate Layout'!AG95,0,0,1,1))","v":""}]
[{"$f":"IF('Plate Layout'!$D$8=\"\",\"\",'Plate Layout'!$D$8)","v":""},"G32",{"$f":"IF('Plate Layout'!BM21=\"\",\"\",'Plate Layout'!BM21)","v":""},{"$f":"IF('Plate Layout'!BN21=\"\",\"\",'Plate Layout'!BN21)","v":""},{"$f":"IF(OFFSET('Plate Layout'!AH95,0,0,1,1)=\"\",\"\",OFFSET('Plate Layout'!AH95,0,0,1,1))","v":""}]
[{"$f":"IF('Plate Layout'!$D$8=\"\",\"\",'Plate Layout'!$D$8)","v":""},"G33",{"$f":"IF('Plate Layout'!BO21=\"\",\"\",'Plate Layout'!BO21)","v":""},{"$f":"IF('Plate Layout'!BP21=\"\",\"\",'Plate Layout'!BP21)","v":""},{"$f":"IF(OFFSET('Plate Layout'!AI95,0,0,1,1)=\"\",\"\",OFFSET('Plate Layout'!AI95,0,0,1,1))","v":""}]
[{"$f":"IF('Plate Layout'!$D$8=\"\",\"\",'Plate Layout'!$D$8)","v":""},"G34",{"$f":"IF('Plate Layout'!BQ21=\"\",\"\",'Plate Layout'!BQ21)","v":""},{"$f":"IF('Plate Layout'!BR21=\"\",\"\",'Plate Layout'!BR21)","v":""},{"$f":"IF(OFFSET('Plate Layout'!AJ95,0,0,1,1)=\"\",\"\",OFFSET('Plate Layout'!AJ95,0,0,1,1))","v":""}]
[{"$f":"IF('Plate Layout'!$D$8=\"\",\"\",'Plate Layout'!$D$8)","v":""},"G35",{"$f":"IF('Plate Layout'!BS21=\"\",\"\",'Plate Layout'!BS21)","v":""},{"$f":"IF('Plate Layout'!BT21=\"\",\"\",'Plate Layout'!BT21)","v":""},{"$f":"IF(OFFSET('Plate Layout'!AK95,0,0,1,1)=\"\",\"\",OFFSET('Plate Layout'!AK95,0,0,1,1))","v":""}]
[{"$f":"IF('Plate Layout'!$D$8=\"\",\"\",'Plate Layout'!$D$8)","v":""},"G36",{"$f":"IF('Plate Layout'!BU21=\"\",\"\",'Plate Layout'!BU21)","v":""},{"$f":"IF('Plate Layout'!BV21=\"\",\"\",'Plate Layout'!BV21)","v":""},{"$f":"IF(OFFSET('Plate Layout'!AL95,0,0,1,1)=\"\",\"\",OFFSET('Plate Layout'!AL95,0,0,1,1))","v":""}]
[{"$f":"IF('Plate Layout'!$D$8=\"\",\"\",'Plate Layout'!$D$8)","v":""},"G37",{"$f":"IF('Plate Layout'!BW21=\"\",\"\",'Plate Layout'!BW21)","v":""},{"$f":"IF('Plate Layout'!BX21=\"\",\"\",'Plate Layout'!BX21)","v":""},{"$f":"IF(OFFSET('Plate Layout'!AM95,0,0,1,1)=\"\",\"\",OFFSET('Plate Layout'!AM95,0,0,1,1))","v":""}]
[{"$f":"IF('Plate Layout'!$D$8=\"\",\"\",'Plate Layout'!$D$8)","v":""},"G38",{"$f":"IF('Plate Layout'!BY21=\"\",\"\",'Plate Layout'!BY21)","v":""},{"$f":"IF('Plate Layout'!BZ21=\"\",\"\",'Plate Layout'!BZ21)","v":""},{"$f":"IF(OFFSET('Plate Layout'!AN95,0,0,1,1)=\"\",\"\",OFFSET('Plate Layout'!AN95,0,0,1,1))","v":""}]
[{"$f":"IF('Plate Layout'!$D$8=\"\",\"\",'Plate Layout'!$D$8)","v":""},"G39",{"$f":"IF('Plate Layout'!CA21=\"\",\"\",'Plate Layout'!CA21)","v":""},{"$f":"IF('Plate Layout'!CB21=\"\",\"\",'Plate Layout'!CB21)","v":""},{"$f":"IF(OFFSET('Plate Layout'!AO95,0,0,1,1)=\"\",\"\",OFFSET('Plate Layout'!AO95,0,0,1,1))","v":""}]
[{"$f":"IF('Plate Layout'!$D$8=\"\",\"\",'Plate Layout'!$D$8)","v":""},"G40",{"$f":"IF('Plate Layout'!CC21=\"\",\"\",'Plate Layout'!CC21)","v":""},{"$f":"IF('Plate Layout'!CD21=\"\",\"\",'Plate Layout'!CD21)","v":""},{"$f":"IF(OFFSET('Plate Layout'!AP95,0,0,1,1)=\"\",\"\",OFFSET('Plate Layout'!AP95,0,0,1,1))","v":""}]
[{"$f":"IF('Plate Layout'!$D$8=\"\",\"\",'Plate Layout'!$D$8)","v":""},"G41",{"$f":"IF('Plate Layout'!CE21=\"\",\"\",'Plate Layout'!CE21)","v":""},{"$f":"IF('Plate Layout'!CF21=\"\",\"\",'Plate Layout'!CF21)","v":""},{"$f":"IF(OFFSET('Plate Layout'!AQ95,0,0,1,1)=\"\",\"\",OFFSET('Plate Layout'!AQ95,0,0,1,1))","v":""}]
[{"$f":"IF('Plate Layout'!$D$8=\"\",\"\",'Plate Layout'!$D$8)","v":""},"G42",{"$f":"IF('Plate Layout'!CG21=\"\",\"\",'Plate Layout'!CG21)","v":""},{"$f":"IF('Plate Layout'!CH21=\"\",\"\",'Plate Layout'!CH21)","v":""},{"$f":"IF(OFFSET('Plate Layout'!AR95,0,0,1,1)=\"\",\"\",OFFSET('Plate Layout'!AR95,0,0,1,1))","v":""}]
[{"$f":"IF('Plate Layout'!$D$8=\"\",\"\",'Plate Layout'!$D$8)","v":""},"G43",{"$f":"IF('Plate Layout'!CI21=\"\",\"\",'Plate Layout'!CI21)","v":""},{"$f":"IF('Plate Layout'!CJ21=\"\",\"\",'Plate Layout'!CJ21)","v":""},{"$f":"IF(OFFSET('Plate Layout'!AS95,0,0,1,1)=\"\",\"\",OFFSET('Plate Layout'!AS95,0,0,1,1))","v":""}]
[{"$f":"IF('Plate Layout'!$D$8=\"\",\"\",'Plate Layout'!$D$8)","v":""},"G44",{"$f":"IF('Plate Layout'!CK21=\"\",\"\",'Plate Layout'!CK21)","v":""},{"$f":"IF('Plate Layout'!CL21=\"\",\"\",'Plate Layout'!CL21)","v":""},{"$f":"IF(OFFSET('Plate Layout'!AT95,0,0,1,1)=\"\",\"\",OFFSET('Plate Layout'!AT95,0,0,1,1))","v":""}]
[{"$f":"IF('Plate Layout'!$D$8=\"\",\"\",'Plate Layout'!$D$8)","v":""},"G45",{"$f":"IF('Plate Layout'!CM21=\"\",\"\",'Plate Layout'!CM21)","v":""},{"$f":"IF('Plate Layout'!CN21=\"\",\"\",'Plate Layout'!CN21)","v":""},{"$f":"IF(OFFSET('Plate Layout'!AU95,0,0,1,1)=\"\",\"\",OFFSET('Plate Layout'!AU95,0,0,1,1))","v":""}]
[{"$f":"IF('Plate Layout'!$D$8=\"\",\"\",'Plate Layout'!$D$8)","v":""},"G46",{"$f":"IF('Plate Layout'!CO21=\"\",\"\",'Plate Layout'!CO21)","v":""},{"$f":"IF('Plate Layout'!CP21=\"\",\"\",'Plate Layout'!CP21)","v":""},{"$f":"IF(OFFSET('Plate Layout'!AV95,0,0,1,1)=\"\",\"\",OFFSET('Plate Layout'!AV95,0,0,1,1))","v":""}]
[{"$f":"IF('Plate Layout'!$D$8=\"\",\"\",'Plate Layout'!$D$8)","v":""},"G47",{"$f":"IF('Plate Layout'!CQ21=\"\",\"\",'Plate Layout'!CQ21)","v":""},{"$f":"IF('Plate Layout'!CR21=\"\",\"\",'Plate Layout'!CR21)","v":""},{"$f":"IF(OFFSET('Plate Layout'!AW95,0,0,1,1)=\"\",\"\",OFFSET('Plate Layout'!AW95,0,0,1,1))","v":""}]
[{"$f":"IF('Plate Layout'!$D$8=\"\",\"\",'Plate Layout'!$D$8)","v":""},"G48",{"$f":"IF('Plate Layout'!CS21=\"\",\"\",'Plate Layout'!CS21)","v":""},{"$f":"IF('Plate Layout'!CT21=\"\",\"\",'Plate Layout'!CT21)","v":""},{"$f":"IF(OFFSET('Plate Layout'!AX95,0,0,1,1)=\"\",\"\",OFFSET('Plate Layout'!AX95,0,0,1,1))","v":""}]
[{"$f":"IF('Plate Layout'!$D$8=\"\",\"\",'Plate Layout'!$D$8)","v":""},"H01",{"$f":"IF('Plate Layout'!C22=\"\",\"\",'Plate Layout'!C22)","v":""},{"$f":"IF('Plate Layout'!D22=\"\",\"\",'Plate Layout'!D22)","v":""},{"$f":"IF(OFFSET('Plate Layout'!C96,0,0,1,1)=\"\",\"\",OFFSET('Plate Layout'!C96,0,0,1,1))","v":""}]
[{"$f":"IF('Plate Layout'!$D$8=\"\",\"\",'Plate Layout'!$D$8)","v":""},"H02",{"$f":"IF('Plate Layout'!E22=\"\",\"\",'Plate Layout'!E22)","v":""},{"$f":"IF('Plate Layout'!F22=\"\",\"\",'Plate Layout'!F22)","v":""},{"$f":"IF(OFFSET('Plate Layout'!D96,0,0,1,1)=\"\",\"\",OFFSET('Plate Layout'!D96,0,0,1,1))","v":""}]
[{"$f":"IF('Plate Layout'!$D$8=\"\",\"\",'Plate Layout'!$D$8)","v":""},"H03",{"$f":"IF('Plate Layout'!G22=\"\",\"\",'Plate Layout'!G22)","v":""},{"$f":"IF('Plate Layout'!H22=\"\",\"\",'Plate Layout'!H22)","v":""},{"$f":"IF(OFFSET('Plate Layout'!E96,0,0,1,1)=\"\",\"\",OFFSET('Plate Layout'!E96,0,0,1,1))","v":""}]
[{"$f":"IF('Plate Layout'!$D$8=\"\",\"\",'Plate Layout'!$D$8)","v":""},"H04",{"$f":"IF('Plate Layout'!I22=\"\",\"\",'Plate Layout'!I22)","v":""},{"$f":"IF('Plate Layout'!J22=\"\",\"\",'Plate Layout'!J22)","v":""},{"$f":"IF(OFFSET('Plate Layout'!F96,0,0,1,1)=\"\",\"\",OFFSET('Plate Layout'!F96,0,0,1,1))","v":""}]
[{"$f":"IF('Plate Layout'!$D$8=\"\",\"\",'Plate Layout'!$D$8)","v":""},"H05",{"$f":"IF('Plate Layout'!K22=\"\",\"\",'Plate Layout'!K22)","v":""},{"$f":"IF('Plate Layout'!L22=\"\",\"\",'Plate Layout'!L22)","v":""},{"$f":"IF(OFFSET('Plate Layout'!G96,0,0,1,1)=\"\",\"\",OFFSET('Plate Layout'!G96,0,0,1,1))","v":""}]
[{"$f":"IF('Plate Layout'!$D$8=\"\",\"\",'Plate Layout'!$D$8)","v":""},"H06",{"$f":"IF('Plate Layout'!M22=\"\",\"\",'Plate Layout'!M22)","v":""},{"$f":"IF('Plate Layout'!N22=\"\",\"\",'Plate Layout'!N22)","v":""},{"$f":"IF(OFFSET('Plate Layout'!H96,0,0,1,1)=\"\",\"\",OFFSET('Plate Layout'!H96,0,0,1,1))","v":""}]
[{"$f":"IF('Plate Layout'!$D$8=\"\",\"\",'Plate Layout'!$D$8)","v":""},"H07",{"$f":"IF('Plate Layout'!O22=\"\",\"\",'Plate Layout'!O22)","v":""},{"$f":"IF('Plate Layout'!P22=\"\",\"\",'Plate Layout'!P22)","v":""},{"$f":"IF(OFFSET('Plate Layout'!I96,0,0,1,1)=\"\",\"\",OFFSET('Plate Layout'!I96,0,0,1,1))","v":""}]
[{"$f":"IF('Plate Layout'!$D$8=\"\",\"\",'Plate Layout'!$D$8)","v":""},"H08",{"$f":"IF('Plate Layout'!Q22=\"\",\"\",'Plate Layout'!Q22)","v":""},{"$f":"IF('Plate Layout'!R22=\"\",\"\",'Plate Layout'!R22)","v":""},{"$f":"IF(OFFSET('Plate Layout'!J96,0,0,1,1)=\"\",\"\",OFFSET('Plate Layout'!J96,0,0,1,1))","v":""}]
[{"$f":"IF('Plate Layout'!$D$8=\"\",\"\",'Plate Layout'!$D$8)","v":""},"H09",{"$f":"IF('Plate Layout'!S22=\"\",\"\",'Plate Layout'!S22)","v":""},{"$f":"IF('Plate Layout'!T22=\"\",\"\",'Plate Layout'!T22)","v":""},{"$f":"IF(OFFSET('Plate Layout'!K96,0,0,1,1)=\"\",\"\",OFFSET('Plate Layout'!K96,0,0,1,1))","v":""}]
[{"$f":"IF('Plate Layout'!$D$8=\"\",\"\",'Plate Layout'!$D$8)","v":""},"H10",{"$f":"IF('Plate Layout'!U22=\"\",\"\",'Plate Layout'!U22)","v":""},{"$f":"IF('Plate Layout'!V22=\"\",\"\",'Plate Layout'!V22)","v":""},{"$f":"IF(OFFSET('Plate Layout'!L96,0,0,1,1)=\"\",\"\",OFFSET('Plate Layout'!L96,0,0,1,1))","v":""}]
[{"$f":"IF('Plate Layout'!$D$8=\"\",\"\",'Plate Layout'!$D$8)","v":""},"H11",{"$f":"IF('Plate Layout'!W22=\"\",\"\",'Plate Layout'!W22)","v":""},{"$f":"IF('Plate Layout'!X22=\"\",\"\",'Plate Layout'!X22)","v":""},{"$f":"IF(OFFSET('Plate Layout'!M96,0,0,1,1)=\"\",\"\",OFFSET('Plate Layout'!M96,0,0,1,1))","v":""}]
[{"$f":"IF('Plate Layout'!$D$8=\"\",\"\",'Plate Layout'!$D$8)","v":""},"H12",{"$f":"IF('Plate Layout'!Y22=\"\",\"\",'Plate Layout'!Y22)","v":""},{"$f":"IF('Plate Layout'!Z22=\"\",\"\",'Plate Layout'!Z22)","v":""},{"$f":"IF(OFFSET('Plate Layout'!N96,0,0,1,1)=\"\",\"\",OFFSET('Plate Layout'!N96,0,0,1,1))","v":""}]
[{"$f":"IF('Plate Layout'!$D$8=\"\",\"\",'Plate Layout'!$D$8)","v":""},"H13",{"$f":"IF('Plate Layout'!AA22=\"\",\"\",'Plate Layout'!AA22)","v":""},{"$f":"IF('Plate Layout'!AB22=\"\",\"\",'Plate Layout'!AB22)","v":""},{"$f":"IF(OFFSET('Plate Layout'!O96,0,0,1,1)=\"\",\"\",OFFSET('Plate Layout'!O96,0,0,1,1))","v":""}]
[{"$f":"IF('Plate Layout'!$D$8=\"\",\"\",'Plate Layout'!$D$8)","v":""},"H14",{"$f":"IF('Plate Layout'!AC22=\"\",\"\",'Plate Layout'!AC22)","v":""},{"$f":"IF('Plate Layout'!AD22=\"\",\"\",'Plate Layout'!AD22)","v":""},{"$f":"IF(OFFSET('Plate Layout'!P96,0,0,1,1)=\"\",\"\",OFFSET('Plate Layout'!P96,0,0,1,1))","v":""}]
[{"$f":"IF('Plate Layout'!$D$8=\"\",\"\",'Plate Layout'!$D$8)","v":""},"H15",{"$f":"IF('Plate Layout'!AE22=\"\",\"\",'Plate Layout'!AE22)","v":""},{"$f":"IF('Plate Layout'!AF22=\"\",\"\",'Plate Layout'!AF22)","v":""},{"$f":"IF(OFFSET('Plate Layout'!Q96,0,0,1,1)=\"\",\"\",OFFSET('Plate Layout'!Q96,0,0,1,1))","v":""}]
[{"$f":"IF('Plate Layout'!$D$8=\"\",\"\",'Plate Layout'!$D$8)","v":""},"H16",{"$f":"IF('Plate Layout'!AG22=\"\",\"\",'Plate Layout'!AG22)","v":""},{"$f":"IF('Plate Layout'!AH22=\"\",\"\",'Plate Layout'!AH22)","v":""},{"$f":"IF(OFFSET('Plate Layout'!R96,0,0,1,1)=\"\",\"\",OFFSET('Plate Layout'!R96,0,0,1,1))","v":""}]
[{"$f":"IF('Plate Layout'!$D$8=\"\",\"\",'Plate Layout'!$D$8)","v":""},"H17",{"$f":"IF('Plate Layout'!AI22=\"\",\"\",'Plate Layout'!AI22)","v":""},{"$f":"IF('Plate Layout'!AJ22=\"\",\"\",'Plate Layout'!AJ22)","v":""},{"$f":"IF(OFFSET('Plate Layout'!S96,0,0,1,1)=\"\",\"\",OFFSET('Plate Layout'!S96,0,0,1,1))","v":""}]
[{"$f":"IF('Plate Layout'!$D$8=\"\",\"\",'Plate Layout'!$D$8)","v":""},"H18",{"$f":"IF('Plate Layout'!AK22=\"\",\"\",'Plate Layout'!AK22)","v":""},{"$f":"IF('Plate Layout'!AL22=\"\",\"\",'Plate Layout'!AL22)","v":""},{"$f":"IF(OFFSET('Plate Layout'!T96,0,0,1,1)=\"\",\"\",OFFSET('Plate Layout'!T96,0,0,1,1))","v":""}]
[{"$f":"IF('Plate Layout'!$D$8=\"\",\"\",'Plate Layout'!$D$8)","v":""},"H19",{"$f":"IF('Plate Layout'!AM22=\"\",\"\",'Plate Layout'!AM22)","v":""},{"$f":"IF('Plate Layout'!AN22=\"\",\"\",'Plate Layout'!AN22)","v":""},{"$f":"IF(OFFSET('Plate Layout'!U96,0,0,1,1)=\"\",\"\",OFFSET('Plate Layout'!U96,0,0,1,1))","v":""}]
[{"$f":"IF('Plate Layout'!$D$8=\"\",\"\",'Plate Layout'!$D$8)","v":""},"H20",{"$f":"IF('Plate Layout'!AO22=\"\",\"\",'Plate Layout'!AO22)","v":""},{"$f":"IF('Plate Layout'!AP22=\"\",\"\",'Plate Layout'!AP22)","v":""},{"$f":"IF(OFFSET('Plate Layout'!V96,0,0,1,1)=\"\",\"\",OFFSET('Plate Layout'!V96,0,0,1,1))","v":""}]
[{"$f":"IF('Plate Layout'!$D$8=\"\",\"\",'Plate Layout'!$D$8)","v":""},"H21",{"$f":"IF('Plate Layout'!AQ22=\"\",\"\",'Plate Layout'!AQ22)","v":""},{"$f":"IF('Plate Layout'!AR22=\"\",\"\",'Plate Layout'!AR22)","v":""},{"$f":"IF(OFFSET('Plate Layout'!W96,0,0,1,1)=\"\",\"\",OFFSET('Plate Layout'!W96,0,0,1,1))","v":""}]
[{"$f":"IF('Plate Layout'!$D$8=\"\",\"\",'Plate Layout'!$D$8)","v":""},"H22",{"$f":"IF('Plate Layout'!AS22=\"\",\"\",'Plate Layout'!AS22)","v":""},{"$f":"IF('Plate Layout'!AT22=\"\",\"\",'Plate Layout'!AT22)","v":""},{"$f":"IF(OFFSET('Plate Layout'!X96,0,0,1,1)=\"\",\"\",OFFSET('Plate Layout'!X96,0,0,1,1))","v":""}]
[{"$f":"IF('Plate Layout'!$D$8=\"\",\"\",'Plate Layout'!$D$8)","v":""},"H23",{"$f":"IF('Plate Layout'!AU22=\"\",\"\",'Plate Layout'!AU22)","v":""},{"$f":"IF('Plate Layout'!AV22=\"\",\"\",'Plate Layout'!AV22)","v":""},{"$f":"IF(OFFSET('Plate Layout'!Y96,0,0,1,1)=\"\",\"\",OFFSET('Plate Layout'!Y96,0,0,1,1))","v":""}]
[{"$f":"IF('Plate Layout'!$D$8=\"\",\"\",'Plate Layout'!$D$8)","v":""},"H24",{"$f":"IF('Plate Layout'!AW22=\"\",\"\",'Plate Layout'!AW22)","v":""},{"$f":"IF('Plate Layout'!AX22=\"\",\"\",'Plate Layout'!AX22)","v":""},{"$f":"IF(OFFSET('Plate Layout'!Z96,0,0,1,1)=\"\",\"\",OFFSET('Plate Layout'!Z96,0,0,1,1))","v":""}]
[{"$f":"IF('Plate Layout'!$D$8=\"\",\"\",'Plate Layout'!$D$8)","v":""},"H25",{"$f":"IF('Plate Layout'!AY22=\"\",\"\",'Plate Layout'!AY22)","v":""},{"$f":"IF('Plate Layout'!AZ22=\"\",\"\",'Plate Layout'!AZ22)","v":""},{"$f":"IF(OFFSET('Plate Layout'!AA96,0,0,1,1)=\"\",\"\",OFFSET('Plate Layout'!AA96,0,0,1,1))","v":""}]
[{"$f":"IF('Plate Layout'!$D$8=\"\",\"\",'Plate Layout'!$D$8)","v":""},"H26",{"$f":"IF('Plate Layout'!BA22=\"\",\"\",'Plate Layout'!BA22)","v":""},{"$f":"IF('Plate Layout'!BB22=\"\",\"\",'Plate Layout'!BB22)","v":""},{"$f":"IF(OFFSET('Plate Layout'!AB96,0,0,1,1)=\"\",\"\",OFFSET('Plate Layout'!AB96,0,0,1,1))","v":""}]
[{"$f":"IF('Plate Layout'!$D$8=\"\",\"\",'Plate Layout'!$D$8)","v":""},"H27",{"$f":"IF('Plate Layout'!BC22=\"\",\"\",'Plate Layout'!BC22)","v":""},{"$f":"IF('Plate Layout'!BD22=\"\",\"\",'Plate Layout'!BD22)","v":""},{"$f":"IF(OFFSET('Plate Layout'!AC96,0,0,1,1)=\"\",\"\",OFFSET('Plate Layout'!AC96,0,0,1,1))","v":""}]
[{"$f":"IF('Plate Layout'!$D$8=\"\",\"\",'Plate Layout'!$D$8)","v":""},"H28",{"$f":"IF('Plate Layout'!BE22=\"\",\"\",'Plate Layout'!BE22)","v":""},{"$f":"IF('Plate Layout'!BF22=\"\",\"\",'Plate Layout'!BF22)","v":""},{"$f":"IF(OFFSET('Plate Layout'!AD96,0,0,1,1)=\"\",\"\",OFFSET('Plate Layout'!AD96,0,0,1,1))","v":""}]
[{"$f":"IF('Plate Layout'!$D$8=\"\",\"\",'Plate Layout'!$D$8)","v":""},"H29",{"$f":"IF('Plate Layout'!BG22=\"\",\"\",'Plate Layout'!BG22)","v":""},{"$f":"IF('Plate Layout'!BH22=\"\",\"\",'Plate Layout'!BH22)","v":""},{"$f":"IF(OFFSET('Plate Layout'!AE96,0,0,1,1)=\"\",\"\",OFFSET('Plate Layout'!AE96,0,0,1,1))","v":""}]
[{"$f":"IF('Plate Layout'!$D$8=\"\",\"\",'Plate Layout'!$D$8)","v":""},"H30",{"$f":"IF('Plate Layout'!BI22=\"\",\"\",'Plate Layout'!BI22)","v":""},{"$f":"IF('Plate Layout'!BJ22=\"\",\"\",'Plate Layout'!BJ22)","v":""},{"$f":"IF(OFFSET('Plate Layout'!AF96,0,0,1,1)=\"\",\"\",OFFSET('Plate Layout'!AF96,0,0,1,1))","v":""}]
[{"$f":"IF('Plate Layout'!$D$8=\"\",\"\",'Plate Layout'!$D$8)","v":""},"H31",{"$f":"IF('Plate Layout'!BK22=\"\",\"\",'Plate Layout'!BK22)","v":""},{"$f":"IF('Plate Layout'!BL22=\"\",\"\",'Plate Layout'!BL22)","v":""},{"$f":"IF(OFFSET('Plate Layout'!AG96,0,0,1,1)=\"\",\"\",OFFSET('Plate Layout'!AG96,0,0,1,1))","v":""}]
[{"$f":"IF('Plate Layout'!$D$8=\"\",\"\",'Plate Layout'!$D$8)","v":""},"H32",{"$f":"IF('Plate Layout'!BM22=\"\",\"\",'Plate Layout'!BM22)","v":""},{"$f":"IF('Plate Layout'!BN22=\"\",\"\",'Plate Layout'!BN22)","v":""},{"$f":"IF(OFFSET('Plate Layout'!AH96,0,0,1,1)=\"\",\"\",OFFSET('Plate Layout'!AH96,0,0,1,1))","v":""}]
[{"$f":"IF('Plate Layout'!$D$8=\"\",\"\",'Plate Layout'!$D$8)","v":""},"H33",{"$f":"IF('Plate Layout'!BO22=\"\",\"\",'Plate Layout'!BO22)","v":""},{"$f":"IF('Plate Layout'!BP22=\"\",\"\",'Plate Layout'!BP22)","v":""},{"$f":"IF(OFFSET('Plate Layout'!AI96,0,0,1,1)=\"\",\"\",OFFSET('Plate Layout'!AI96,0,0,1,1))","v":""}]
[{"$f":"IF('Plate Layout'!$D$8=\"\",\"\",'Plate Layout'!$D$8)","v":""},"H34",{"$f":"IF('Plate Layout'!BQ22=\"\",\"\",'Plate Layout'!BQ22)","v":""},{"$f":"IF('Plate Layout'!BR22=\"\",\"\",'Plate Layout'!BR22)","v":""},{"$f":"IF(OFFSET('Plate Layout'!AJ96,0,0,1,1)=\"\",\"\",OFFSET('Plate Layout'!AJ96,0,0,1,1))","v":""}]
[{"$f":"IF('Plate Layout'!$D$8=\"\",\"\",'Plate Layout'!$D$8)","v":""},"H35",{"$f":"IF('Plate Layout'!BS22=\"\",\"\",'Plate Layout'!BS22)","v":""},{"$f":"IF('Plate Layout'!BT22=\"\",\"\",'Plate Layout'!BT22)","v":""},{"$f":"IF(OFFSET('Plate Layout'!AK96,0,0,1,1)=\"\",\"\",OFFSET('Plate Layout'!AK96,0,0,1,1))","v":""}]
[{"$f":"IF('Plate Layout'!$D$8=\"\",\"\",'Plate Layout'!$D$8)","v":""},"H36",{"$f":"IF('Plate Layout'!BU22=\"\",\"\",'Plate Layout'!BU22)","v":""},{"$f":"IF('Plate Layout'!BV22=\"\",\"\",'Plate Layout'!BV22)","v":""},{"$f":"IF(OFFSET('Plate Layout'!AL96,0,0,1,1)=\"\",\"\",OFFSET('Plate Layout'!AL96,0,0,1,1))","v":""}]
[{"$f":"IF('Plate Layout'!$D$8=\"\",\"\",'Plate Layout'!$D$8)","v":""},"H37",{"$f":"IF('Plate Layout'!BW22=\"\",\"\",'Plate Layout'!BW22)","v":""},{"$f":"IF('Plate Layout'!BX22=\"\",\"\",'Plate Layout'!BX22)","v":""},{"$f":"IF(OFFSET('Plate Layout'!AM96,0,0,1,1)=\"\",\"\",OFFSET('Plate Layout'!AM96,0,0,1,1))","v":""}]
[{"$f":"IF('Plate Layout'!$D$8=\"\",\"\",'Plate Layout'!$D$8)","v":""},"H38",{"$f":"IF('Plate Layout'!BY22=\"\",\"\",'Plate Layout'!BY22)","v":""},{"$f":"IF('Plate Layout'!BZ22=\"\",\"\",'Plate Layout'!BZ22)","v":""},{"$f":"IF(OFFSET('Plate Layout'!AN96,0,0,1,1)=\"\",\"\",OFFSET('Plate Layout'!AN96,0,0,1,1))","v":""}]
[{"$f":"IF('Plate Layout'!$D$8=\"\",\"\",'Plate Layout'!$D$8)","v":""},"H39",{"$f":"IF('Plate Layout'!CA22=\"\",\"\",'Plate Layout'!CA22)","v":""},{"$f":"IF('Plate Layout'!CB22=\"\",\"\",'Plate Layout'!CB22)","v":""},{"$f":"IF(OFFSET('Plate Layout'!AO96,0,0,1,1)=\"\",\"\",OFFSET('Plate Layout'!AO96,0,0,1,1))","v":""}]
[{"$f":"IF('Plate Layout'!$D$8=\"\",\"\",'Plate Layout'!$D$8)","v":""},"H40",{"$f":"IF('Plate Layout'!CC22=\"\",\"\",'Plate Layout'!CC22)","v":""},{"$f":"IF('Plate Layout'!CD22=\"\",\"\",'Plate Layout'!CD22)","v":""},{"$f":"IF(OFFSET('Plate Layout'!AP96,0,0,1,1)=\"\",\"\",OFFSET('Plate Layout'!AP96,0,0,1,1))","v":""}]
[{"$f":"IF('Plate Layout'!$D$8=\"\",\"\",'Plate Layout'!$D$8)","v":""},"H41",{"$f":"IF('Plate Layout'!CE22=\"\",\"\",'Plate Layout'!CE22)","v":""},{"$f":"IF('Plate Layout'!CF22=\"\",\"\",'Plate Layout'!CF22)","v":""},{"$f":"IF(OFFSET('Plate Layout'!AQ96,0,0,1,1)=\"\",\"\",OFFSET('Plate Layout'!AQ96,0,0,1,1))","v":""}]
[{"$f":"IF('Plate Layout'!$D$8=\"\",\"\",'Plate Layout'!$D$8)","v":""},"H42",{"$f":"IF('Plate Layout'!CG22=\"\",\"\",'Plate Layout'!CG22)","v":""},{"$f":"IF('Plate Layout'!CH22=\"\",\"\",'Plate Layout'!CH22)","v":""},{"$f":"IF(OFFSET('Plate Layout'!AR96,0,0,1,1)=\"\",\"\",OFFSET('Plate Layout'!AR96,0,0,1,1))","v":""}]
[{"$f":"IF('Plate Layout'!$D$8=\"\",\"\",'Plate Layout'!$D$8)","v":""},"H43",{"$f":"IF('Plate Layout'!CI22=\"\",\"\",'Plate Layout'!CI22)","v":""},{"$f":"IF('Plate Layout'!CJ22=\"\",\"\",'Plate Layout'!CJ22)","v":""},{"$f":"IF(OFFSET('Plate Layout'!AS96,0,0,1,1)=\"\",\"\",OFFSET('Plate Layout'!AS96,0,0,1,1))","v":""}]
[{"$f":"IF('Plate Layout'!$D$8=\"\",\"\",'Plate Layout'!$D$8)","v":""},"H44",{"$f":"IF('Plate Layout'!CK22=\"\",\"\",'Plate Layout'!CK22)","v":""},{"$f":"IF('Plate Layout'!CL22=\"\",\"\",'Plate Layout'!CL22)","v":""},{"$f":"IF(OFFSET('Plate Layout'!AT96,0,0,1,1)=\"\",\"\",OFFSET('Plate Layout'!AT96,0,0,1,1))","v":""}]
[{"$f":"IF('Plate Layout'!$D$8=\"\",\"\",'Plate Layout'!$D$8)","v":""},"H45",{"$f":"IF('Plate Layout'!CM22=\"\",\"\",'Plate Layout'!CM22)","v":""},{"$f":"IF('Plate Layout'!CN22=\"\",\"\",'Plate Layout'!CN22)","v":""},{"$f":"IF(OFFSET('Plate Layout'!AU96,0,0,1,1)=\"\",\"\",OFFSET('Plate Layout'!AU96,0,0,1,1))","v":""}]
[{"$f":"IF('Plate Layout'!$D$8=\"\",\"\",'Plate Layout'!$D$8)","v":""},"H46",{"$f":"IF('Plate Layout'!CO22=\"\",\"\",'Plate Layout'!CO22)","v":""},{"$f":"IF('Plate Layout'!CP22=\"\",\"\",'Plate Layout'!CP22)","v":""},{"$f":"IF(OFFSET('Plate Layout'!AV96,0,0,1,1)=\"\",\"\",OFFSET('Plate Layout'!AV96,0,0,1,1))","v":""}]
[{"$f":"IF('Plate Layout'!$D$8=\"\",\"\",'Plate Layout'!$D$8)","v":""},"H47",{"$f":"IF('Plate Layout'!CQ22=\"\",\"\",'Plate Layout'!CQ22)","v":""},{"$f":"IF('Plate Layout'!CR22=\"\",\"\",'Plate Layout'!CR22)","v":""},{"$f":"IF(OFFSET('Plate Layout'!AW96,0,0,1,1)=\"\",\"\",OFFSET('Plate Layout'!AW96,0,0,1,1))","v":""}]
[{"$f":"IF('Plate Layout'!$D$8=\"\",\"\",'Plate Layout'!$D$8)","v":""},"H48",{"$f":"IF('Plate Layout'!CS22=\"\",\"\",'Plate Layout'!CS22)","v":""},{"$f":"IF('Plate Layout'!CT22=\"\",\"\",'Plate Layout'!CT22)","v":""},{"$f":"IF(OFFSET('Plate Layout'!AX96,0,0,1,1)=\"\",\"\",OFFSET('Plate Layout'!AX96,0,0,1,1))","v":""}]
[{"$f":"IF('Plate Layout'!$D$8=\"\",\"\",'Plate Layout'!$D$8)","v":""},"I01",{"$f":"IF('Plate Layout'!C23=\"\",\"\",'Plate Layout'!C23)","v":""},{"$f":"IF('Plate Layout'!D23=\"\",\"\",'Plate Layout'!D23)","v":""},{"$f":"IF(OFFSET('Plate Layout'!C97,0,0,1,1)=\"\",\"\",OFFSET('Plate Layout'!C97,0,0,1,1))","v":""}]
[{"$f":"IF('Plate Layout'!$D$8=\"\",\"\",'Plate Layout'!$D$8)","v":""},"I02",{"$f":"IF('Plate Layout'!E23=\"\",\"\",'Plate Layout'!E23)","v":""},{"$f":"IF('Plate Layout'!F23=\"\",\"\",'Plate Layout'!F23)","v":""},{"$f":"IF(OFFSET('Plate Layout'!D97,0,0,1,1)=\"\",\"\",OFFSET('Plate Layout'!D97,0,0,1,1))","v":""}]
[{"$f":"IF('Plate Layout'!$D$8=\"\",\"\",'Plate Layout'!$D$8)","v":""},"I03",{"$f":"IF('Plate Layout'!G23=\"\",\"\",'Plate Layout'!G23)","v":""},{"$f":"IF('Plate Layout'!H23=\"\",\"\",'Plate Layout'!H23)","v":""},{"$f":"IF(OFFSET('Plate Layout'!E97,0,0,1,1)=\"\",\"\",OFFSET('Plate Layout'!E97,0,0,1,1))","v":""}]
[{"$f":"IF('Plate Layout'!$D$8=\"\",\"\",'Plate Layout'!$D$8)","v":""},"I04",{"$f":"IF('Plate Layout'!I23=\"\",\"\",'Plate Layout'!I23)","v":""},{"$f":"IF('Plate Layout'!J23=\"\",\"\",'Plate Layout'!J23)","v":""},{"$f":"IF(OFFSET('Plate Layout'!F97,0,0,1,1)=\"\",\"\",OFFSET('Plate Layout'!F97,0,0,1,1))","v":""}]
[{"$f":"IF('Plate Layout'!$D$8=\"\",\"\",'Plate Layout'!$D$8)","v":""},"I05",{"$f":"IF('Plate Layout'!K23=\"\",\"\",'Plate Layout'!K23)","v":""},{"$f":"IF('Plate Layout'!L23=\"\",\"\",'Plate Layout'!L23)","v":""},{"$f":"IF(OFFSET('Plate Layout'!G97,0,0,1,1)=\"\",\"\",OFFSET('Plate Layout'!G97,0,0,1,1))","v":""}]
[{"$f":"IF('Plate Layout'!$D$8=\"\",\"\",'Plate Layout'!$D$8)","v":""},"I06",{"$f":"IF('Plate Layout'!M23=\"\",\"\",'Plate Layout'!M23)","v":""},{"$f":"IF('Plate Layout'!N23=\"\",\"\",'Plate Layout'!N23)","v":""},{"$f":"IF(OFFSET('Plate Layout'!H97,0,0,1,1)=\"\",\"\",OFFSET('Plate Layout'!H97,0,0,1,1))","v":""}]
[{"$f":"IF('Plate Layout'!$D$8=\"\",\"\",'Plate Layout'!$D$8)","v":""},"I07",{"$f":"IF('Plate Layout'!O23=\"\",\"\",'Plate Layout'!O23)","v":""},{"$f":"IF('Plate Layout'!P23=\"\",\"\",'Plate Layout'!P23)","v":""},{"$f":"IF(OFFSET('Plate Layout'!I97,0,0,1,1)=\"\",\"\",OFFSET('Plate Layout'!I97,0,0,1,1))","v":""}]
[{"$f":"IF('Plate Layout'!$D$8=\"\",\"\",'Plate Layout'!$D$8)","v":""},"I08",{"$f":"IF('Plate Layout'!Q23=\"\",\"\",'Plate Layout'!Q23)","v":""},{"$f":"IF('Plate Layout'!R23=\"\",\"\",'Plate Layout'!R23)","v":""},{"$f":"IF(OFFSET('Plate Layout'!J97,0,0,1,1)=\"\",\"\",OFFSET('Plate Layout'!J97,0,0,1,1))","v":""}]
[{"$f":"IF('Plate Layout'!$D$8=\"\",\"\",'Plate Layout'!$D$8)","v":""},"I09",{"$f":"IF('Plate Layout'!S23=\"\",\"\",'Plate Layout'!S23)","v":""},{"$f":"IF('Plate Layout'!T23=\"\",\"\",'Plate Layout'!T23)","v":""},{"$f":"IF(OFFSET('Plate Layout'!K97,0,0,1,1)=\"\",\"\",OFFSET('Plate Layout'!K97,0,0,1,1))","v":""}]
[{"$f":"IF('Plate Layout'!$D$8=\"\",\"\",'Plate Layout'!$D$8)","v":""},"I10",{"$f":"IF('Plate Layout'!U23=\"\",\"\",'Plate Layout'!U23)","v":""},{"$f":"IF('Plate Layout'!V23=\"\",\"\",'Plate Layout'!V23)","v":""},{"$f":"IF(OFFSET('Plate Layout'!L97,0,0,1,1)=\"\",\"\",OFFSET('Plate Layout'!L97,0,0,1,1))","v":""}]
[{"$f":"IF('Plate Layout'!$D$8=\"\",\"\",'Plate Layout'!$D$8)","v":""},"I11",{"$f":"IF('Plate Layout'!W23=\"\",\"\",'Plate Layout'!W23)","v":""},{"$f":"IF('Plate Layout'!X23=\"\",\"\",'Plate Layout'!X23)","v":""},{"$f":"IF(OFFSET('Plate Layout'!M97,0,0,1,1)=\"\",\"\",OFFSET('Plate Layout'!M97,0,0,1,1))","v":""}]
[{"$f":"IF('Plate Layout'!$D$8=\"\",\"\",'Plate Layout'!$D$8)","v":""},"I12",{"$f":"IF('Plate Layout'!Y23=\"\",\"\",'Plate Layout'!Y23)","v":""},{"$f":"IF('Plate Layout'!Z23=\"\",\"\",'Plate Layout'!Z23)","v":""},{"$f":"IF(OFFSET('Plate Layout'!N97,0,0,1,1)=\"\",\"\",OFFSET('Plate Layout'!N97,0,0,1,1))","v":""}]
[{"$f":"IF('Plate Layout'!$D$8=\"\",\"\",'Plate Layout'!$D$8)","v":""},"I13",{"$f":"IF('Plate Layout'!AA23=\"\",\"\",'Plate Layout'!AA23)","v":""},{"$f":"IF('Plate Layout'!AB23=\"\",\"\",'Plate Layout'!AB23)","v":""},{"$f":"IF(OFFSET('Plate Layout'!O97,0,0,1,1)=\"\",\"\",OFFSET('Plate Layout'!O97,0,0,1,1))","v":""}]
[{"$f":"IF('Plate Layout'!$D$8=\"\",\"\",'Plate Layout'!$D$8)","v":""},"I14",{"$f":"IF('Plate Layout'!AC23=\"\",\"\",'Plate Layout'!AC23)","v":""},{"$f":"IF('Plate Layout'!AD23=\"\",\"\",'Plate Layout'!AD23)","v":""},{"$f":"IF(OFFSET('Plate Layout'!P97,0,0,1,1)=\"\",\"\",OFFSET('Plate Layout'!P97,0,0,1,1))","v":""}]
[{"$f":"IF('Plate Layout'!$D$8=\"\",\"\",'Plate Layout'!$D$8)","v":""},"I15",{"$f":"IF('Plate Layout'!AE23=\"\",\"\",'Plate Layout'!AE23)","v":""},{"$f":"IF('Plate Layout'!AF23=\"\",\"\",'Plate Layout'!AF23)","v":""},{"$f":"IF(OFFSET('Plate Layout'!Q97,0,0,1,1)=\"\",\"\",OFFSET('Plate Layout'!Q97,0,0,1,1))","v":""}]
[{"$f":"IF('Plate Layout'!$D$8=\"\",\"\",'Plate Layout'!$D$8)","v":""},"I16",{"$f":"IF('Plate Layout'!AG23=\"\",\"\",'Plate Layout'!AG23)","v":""},{"$f":"IF('Plate Layout'!AH23=\"\",\"\",'Plate Layout'!AH23)","v":""},{"$f":"IF(OFFSET('Plate Layout'!R97,0,0,1,1)=\"\",\"\",OFFSET('Plate Layout'!R97,0,0,1,1))","v":""}]
[{"$f":"IF('Plate Layout'!$D$8=\"\",\"\",'Plate Layout'!$D$8)","v":""},"I17",{"$f":"IF('Plate Layout'!AI23=\"\",\"\",'Plate Layout'!AI23)","v":""},{"$f":"IF('Plate Layout'!AJ23=\"\",\"\",'Plate Layout'!AJ23)","v":""},{"$f":"IF(OFFSET('Plate Layout'!S97,0,0,1,1)=\"\",\"\",OFFSET('Plate Layout'!S97,0,0,1,1))","v":""}]
[{"$f":"IF('Plate Layout'!$D$8=\"\",\"\",'Plate Layout'!$D$8)","v":""},"I18",{"$f":"IF('Plate Layout'!AK23=\"\",\"\",'Plate Layout'!AK23)","v":""},{"$f":"IF('Plate Layout'!AL23=\"\",\"\",'Plate Layout'!AL23)","v":""},{"$f":"IF(OFFSET('Plate Layout'!T97,0,0,1,1)=\"\",\"\",OFFSET('Plate Layout'!T97,0,0,1,1))","v":""}]
[{"$f":"IF('Plate Layout'!$D$8=\"\",\"\",'Plate Layout'!$D$8)","v":""},"I19",{"$f":"IF('Plate Layout'!AM23=\"\",\"\",'Plate Layout'!AM23)","v":""},{"$f":"IF('Plate Layout'!AN23=\"\",\"\",'Plate Layout'!AN23)","v":""},{"$f":"IF(OFFSET('Plate Layout'!U97,0,0,1,1)=\"\",\"\",OFFSET('Plate Layout'!U97,0,0,1,1))","v":""}]
[{"$f":"IF('Plate Layout'!$D$8=\"\",\"\",'Plate Layout'!$D$8)","v":""},"I20",{"$f":"IF('Plate Layout'!AO23=\"\",\"\",'Plate Layout'!AO23)","v":""},{"$f":"IF('Plate Layout'!AP23=\"\",\"\",'Plate Layout'!AP23)","v":""},{"$f":"IF(OFFSET('Plate Layout'!V97,0,0,1,1)=\"\",\"\",OFFSET('Plate Layout'!V97,0,0,1,1))","v":""}]
[{"$f":"IF('Plate Layout'!$D$8=\"\",\"\",'Plate Layout'!$D$8)","v":""},"I21",{"$f":"IF('Plate Layout'!AQ23=\"\",\"\",'Plate Layout'!AQ23)","v":""},{"$f":"IF('Plate Layout'!AR23=\"\",\"\",'Plate Layout'!AR23)","v":""},{"$f":"IF(OFFSET('Plate Layout'!W97,0,0,1,1)=\"\",\"\",OFFSET('Plate Layout'!W97,0,0,1,1))","v":""}]
[{"$f":"IF('Plate Layout'!$D$8=\"\",\"\",'Plate Layout'!$D$8)","v":""},"I22",{"$f":"IF('Plate Layout'!AS23=\"\",\"\",'Plate Layout'!AS23)","v":""},{"$f":"IF('Plate Layout'!AT23=\"\",\"\",'Plate Layout'!AT23)","v":""},{"$f":"IF(OFFSET('Plate Layout'!X97,0,0,1,1)=\"\",\"\",OFFSET('Plate Layout'!X97,0,0,1,1))","v":""}]
[{"$f":"IF('Plate Layout'!$D$8=\"\",\"\",'Plate Layout'!$D$8)","v":""},"I23",{"$f":"IF('Plate Layout'!AU23=\"\",\"\",'Plate Layout'!AU23)","v":""},{"$f":"IF('Plate Layout'!AV23=\"\",\"\",'Plate Layout'!AV23)","v":""},{"$f":"IF(OFFSET('Plate Layout'!Y97,0,0,1,1)=\"\",\"\",OFFSET('Plate Layout'!Y97,0,0,1,1))","v":""}]
[{"$f":"IF('Plate Layout'!$D$8=\"\",\"\",'Plate Layout'!$D$8)","v":""},"I24",{"$f":"IF('Plate Layout'!AW23=\"\",\"\",'Plate Layout'!AW23)","v":""},{"$f":"IF('Plate Layout'!AX23=\"\",\"\",'Plate Layout'!AX23)","v":""},{"$f":"IF(OFFSET('Plate Layout'!Z97,0,0,1,1)=\"\",\"\",OFFSET('Plate Layout'!Z97,0,0,1,1))","v":""}]
[{"$f":"IF('Plate Layout'!$D$8=\"\",\"\",'Plate Layout'!$D$8)","v":""},"I25",{"$f":"IF('Plate Layout'!AY23=\"\",\"\",'Plate Layout'!AY23)","v":""},{"$f":"IF('Plate Layout'!AZ23=\"\",\"\",'Plate Layout'!AZ23)","v":""},{"$f":"IF(OFFSET('Plate Layout'!AA97,0,0,1,1)=\"\",\"\",OFFSET('Plate Layout'!AA97,0,0,1,1))","v":""}]
[{"$f":"IF('Plate Layout'!$D$8=\"\",\"\",'Plate Layout'!$D$8)","v":""},"I26",{"$f":"IF('Plate Layout'!BA23=\"\",\"\",'Plate Layout'!BA23)","v":""},{"$f":"IF('Plate Layout'!BB23=\"\",\"\",'Plate Layout'!BB23)","v":""},{"$f":"IF(OFFSET('Plate Layout'!AB97,0,0,1,1)=\"\",\"\",OFFSET('Plate Layout'!AB97,0,0,1,1))","v":""}]
[{"$f":"IF('Plate Layout'!$D$8=\"\",\"\",'Plate Layout'!$D$8)","v":""},"I27",{"$f":"IF('Plate Layout'!BC23=\"\",\"\",'Plate Layout'!BC23)","v":""},{"$f":"IF('Plate Layout'!BD23=\"\",\"\",'Plate Layout'!BD23)","v":""},{"$f":"IF(OFFSET('Plate Layout'!AC97,0,0,1,1)=\"\",\"\",OFFSET('Plate Layout'!AC97,0,0,1,1))","v":""}]
[{"$f":"IF('Plate Layout'!$D$8=\"\",\"\",'Plate Layout'!$D$8)","v":""},"I28",{"$f":"IF('Plate Layout'!BE23=\"\",\"\",'Plate Layout'!BE23)","v":""},{"$f":"IF('Plate Layout'!BF23=\"\",\"\",'Plate Layout'!BF23)","v":""},{"$f":"IF(OFFSET('Plate Layout'!AD97,0,0,1,1)=\"\",\"\",OFFSET('Plate Layout'!AD97,0,0,1,1))","v":""}]
[{"$f":"IF('Plate Layout'!$D$8=\"\",\"\",'Plate Layout'!$D$8)","v":""},"I29",{"$f":"IF('Plate Layout'!BG23=\"\",\"\",'Plate Layout'!BG23)","v":""},{"$f":"IF('Plate Layout'!BH23=\"\",\"\",'Plate Layout'!BH23)","v":""},{"$f":"IF(OFFSET('Plate Layout'!AE97,0,0,1,1)=\"\",\"\",OFFSET('Plate Layout'!AE97,0,0,1,1))","v":""}]
[{"$f":"IF('Plate Layout'!$D$8=\"\",\"\",'Plate Layout'!$D$8)","v":""},"I30",{"$f":"IF('Plate Layout'!BI23=\"\",\"\",'Plate Layout'!BI23)","v":""},{"$f":"IF('Plate Layout'!BJ23=\"\",\"\",'Plate Layout'!BJ23)","v":""},{"$f":"IF(OFFSET('Plate Layout'!AF97,0,0,1,1)=\"\",\"\",OFFSET('Plate Layout'!AF97,0,0,1,1))","v":""}]
[{"$f":"IF('Plate Layout'!$D$8=\"\",\"\",'Plate Layout'!$D$8)","v":""},"I31",{"$f":"IF('Plate Layout'!BK23=\"\",\"\",'Plate Layout'!BK23)","v":""},{"$f":"IF('Plate Layout'!BL23=\"\",\"\",'Plate Layout'!BL23)","v":""},{"$f":"IF(OFFSET('Plate Layout'!AG97,0,0,1,1)=\"\",\"\",OFFSET('Plate Layout'!AG97,0,0,1,1))","v":""}]
[{"$f":"IF('Plate Layout'!$D$8=\"\",\"\",'Plate Layout'!$D$8)","v":""},"I32",{"$f":"IF('Plate Layout'!BM23=\"\",\"\",'Plate Layout'!BM23)","v":""},{"$f":"IF('Plate Layout'!BN23=\"\",\"\",'Plate Layout'!BN23)","v":""},{"$f":"IF(OFFSET('Plate Layout'!AH97,0,0,1,1)=\"\",\"\",OFFSET('Plate Layout'!AH97,0,0,1,1))","v":""}]
[{"$f":"IF('Plate Layout'!$D$8=\"\",\"\",'Plate Layout'!$D$8)","v":""},"I33",{"$f":"IF('Plate Layout'!BO23=\"\",\"\",'Plate Layout'!BO23)","v":""},{"$f":"IF('Plate Layout'!BP23=\"\",\"\",'Plate Layout'!BP23)","v":""},{"$f":"IF(OFFSET('Plate Layout'!AI97,0,0,1,1)=\"\",\"\",OFFSET('Plate Layout'!AI97,0,0,1,1))","v":""}]
[{"$f":"IF('Plate Layout'!$D$8=\"\",\"\",'Plate Layout'!$D$8)","v":""},"I34",{"$f":"IF('Plate Layout'!BQ23=\"\",\"\",'Plate Layout'!BQ23)","v":""},{"$f":"IF('Plate Layout'!BR23=\"\",\"\",'Plate Layout'!BR23)","v":""},{"$f":"IF(OFFSET('Plate Layout'!AJ97,0,0,1,1)=\"\",\"\",OFFSET('Plate Layout'!AJ97,0,0,1,1))","v":""}]
[{"$f":"IF('Plate Layout'!$D$8=\"\",\"\",'Plate Layout'!$D$8)","v":""},"I35",{"$f":"IF('Plate Layout'!BS23=\"\",\"\",'Plate Layout'!BS23)","v":""},{"$f":"IF('Plate Layout'!BT23=\"\",\"\",'Plate Layout'!BT23)","v":""},{"$f":"IF(OFFSET('Plate Layout'!AK97,0,0,1,1)=\"\",\"\",OFFSET('Plate Layout'!AK97,0,0,1,1))","v":""}]
[{"$f":"IF('Plate Layout'!$D$8=\"\",\"\",'Plate Layout'!$D$8)","v":""},"I36",{"$f":"IF('Plate Layout'!BU23=\"\",\"\",'Plate Layout'!BU23)","v":""},{"$f":"IF('Plate Layout'!BV23=\"\",\"\",'Plate Layout'!BV23)","v":""},{"$f":"IF(OFFSET('Plate Layout'!AL97,0,0,1,1)=\"\",\"\",OFFSET('Plate Layout'!AL97,0,0,1,1))","v":""}]
[{"$f":"IF('Plate Layout'!$D$8=\"\",\"\",'Plate Layout'!$D$8)","v":""},"I37",{"$f":"IF('Plate Layout'!BW23=\"\",\"\",'Plate Layout'!BW23)","v":""},{"$f":"IF('Plate Layout'!BX23=\"\",\"\",'Plate Layout'!BX23)","v":""},{"$f":"IF(OFFSET('Plate Layout'!AM97,0,0,1,1)=\"\",\"\",OFFSET('Plate Layout'!AM97,0,0,1,1))","v":""}]
[{"$f":"IF('Plate Layout'!$D$8=\"\",\"\",'Plate Layout'!$D$8)","v":""},"I38",{"$f":"IF('Plate Layout'!BY23=\"\",\"\",'Plate Layout'!BY23)","v":""},{"$f":"IF('Plate Layout'!BZ23=\"\",\"\",'Plate Layout'!BZ23)","v":""},{"$f":"IF(OFFSET('Plate Layout'!AN97,0,0,1,1)=\"\",\"\",OFFSET('Plate Layout'!AN97,0,0,1,1))","v":""}]
[{"$f":"IF('Plate Layout'!$D$8=\"\",\"\",'Plate Layout'!$D$8)","v":""},"I39",{"$f":"IF('Plate Layout'!CA23=\"\",\"\",'Plate Layout'!CA23)","v":""},{"$f":"IF('Plate Layout'!CB23=\"\",\"\",'Plate Layout'!CB23)","v":""},{"$f":"IF(OFFSET('Plate Layout'!AO97,0,0,1,1)=\"\",\"\",OFFSET('Plate Layout'!AO97,0,0,1,1))","v":""}]
[{"$f":"IF('Plate Layout'!$D$8=\"\",\"\",'Plate Layout'!$D$8)","v":""},"I40",{"$f":"IF('Plate Layout'!CC23=\"\",\"\",'Plate Layout'!CC23)","v":""},{"$f":"IF('Plate Layout'!CD23=\"\",\"\",'Plate Layout'!CD23)","v":""},{"$f":"IF(OFFSET('Plate Layout'!AP97,0,0,1,1)=\"\",\"\",OFFSET('Plate Layout'!AP97,0,0,1,1))","v":""}]
[{"$f":"IF('Plate Layout'!$D$8=\"\",\"\",'Plate Layout'!$D$8)","v":""},"I41",{"$f":"IF('Plate Layout'!CE23=\"\",\"\",'Plate Layout'!CE23)","v":""},{"$f":"IF('Plate Layout'!CF23=\"\",\"\",'Plate Layout'!CF23)","v":""},{"$f":"IF(OFFSET('Plate Layout'!AQ97,0,0,1,1)=\"\",\"\",OFFSET('Plate Layout'!AQ97,0,0,1,1))","v":""}]
[{"$f":"IF('Plate Layout'!$D$8=\"\",\"\",'Plate Layout'!$D$8)","v":""},"I42",{"$f":"IF('Plate Layout'!CG23=\"\",\"\",'Plate Layout'!CG23)","v":""},{"$f":"IF('Plate Layout'!CH23=\"\",\"\",'Plate Layout'!CH23)","v":""},{"$f":"IF(OFFSET('Plate Layout'!AR97,0,0,1,1)=\"\",\"\",OFFSET('Plate Layout'!AR97,0,0,1,1))","v":""}]
[{"$f":"IF('Plate Layout'!$D$8=\"\",\"\",'Plate Layout'!$D$8)","v":""},"I43",{"$f":"IF('Plate Layout'!CI23=\"\",\"\",'Plate Layout'!CI23)","v":""},{"$f":"IF('Plate Layout'!CJ23=\"\",\"\",'Plate Layout'!CJ23)","v":""},{"$f":"IF(OFFSET('Plate Layout'!AS97,0,0,1,1)=\"\",\"\",OFFSET('Plate Layout'!AS97,0,0,1,1))","v":""}]
[{"$f":"IF('Plate Layout'!$D$8=\"\",\"\",'Plate Layout'!$D$8)","v":""},"I44",{"$f":"IF('Plate Layout'!CK23=\"\",\"\",'Plate Layout'!CK23)","v":""},{"$f":"IF('Plate Layout'!CL23=\"\",\"\",'Plate Layout'!CL23)","v":""},{"$f":"IF(OFFSET('Plate Layout'!AT97,0,0,1,1)=\"\",\"\",OFFSET('Plate Layout'!AT97,0,0,1,1))","v":""}]
[{"$f":"IF('Plate Layout'!$D$8=\"\",\"\",'Plate Layout'!$D$8)","v":""},"I45",{"$f":"IF('Plate Layout'!CM23=\"\",\"\",'Plate Layout'!CM23)","v":""},{"$f":"IF('Plate Layout'!CN23=\"\",\"\",'Plate Layout'!CN23)","v":""},{"$f":"IF(OFFSET('Plate Layout'!AU97,0,0,1,1)=\"\",\"\",OFFSET('Plate Layout'!AU97,0,0,1,1))","v":""}]
[{"$f":"IF('Plate Layout'!$D$8=\"\",\"\",'Plate Layout'!$D$8)","v":""},"I46",{"$f":"IF('Plate Layout'!CO23=\"\",\"\",'Plate Layout'!CO23)","v":""},{"$f":"IF('Plate Layout'!CP23=\"\",\"\",'Plate Layout'!CP23)","v":""},{"$f":"IF(OFFSET('Plate Layout'!AV97,0,0,1,1)=\"\",\"\",OFFSET('Plate Layout'!AV97,0,0,1,1))","v":""}]
[{"$f":"IF('Plate Layout'!$D$8=\"\",\"\",'Plate Layout'!$D$8)","v":""},"I47",{"$f":"IF('Plate Layout'!CQ23=\"\",\"\",'Plate Layout'!CQ23)","v":""},{"$f":"IF('Plate Layout'!CR23=\"\",\"\",'Plate Layout'!CR23)","v":""},{"$f":"IF(OFFSET('Plate Layout'!AW97,0,0,1,1)=\"\",\"\",OFFSET('Plate Layout'!AW97,0,0,1,1))","v":""}]
[{"$f":"IF('Plate Layout'!$D$8=\"\",\"\",'Plate Layout'!$D$8)","v":""},"I48",{"$f":"IF('Plate Layout'!CS23=\"\",\"\",'Plate Layout'!CS23)","v":""},{"$f":"IF('Plate Layout'!CT23=\"\",\"\",'Plate Layout'!CT23)","v":""},{"$f":"IF(OFFSET('Plate Layout'!AX97,0,0,1,1)=\"\",\"\",OFFSET('Plate Layout'!AX97,0,0,1,1))","v":""}]
[{"$f":"IF('Plate Layout'!$D$8=\"\",\"\",'Plate Layout'!$D$8)","v":""},"J01",{"$f":"IF('Plate Layout'!C24=\"\",\"\",'Plate Layout'!C24)","v":""},{"$f":"IF('Plate Layout'!D24=\"\",\"\",'Plate Layout'!D24)","v":""},{"$f":"IF(OFFSET('Plate Layout'!C98,0,0,1,1)=\"\",\"\",OFFSET('Plate Layout'!C98,0,0,1,1))","v":""}]
[{"$f":"IF('Plate Layout'!$D$8=\"\",\"\",'Plate Layout'!$D$8)","v":""},"J02",{"$f":"IF('Plate Layout'!E24=\"\",\"\",'Plate Layout'!E24)","v":""},{"$f":"IF('Plate Layout'!F24=\"\",\"\",'Plate Layout'!F24)","v":""},{"$f":"IF(OFFSET('Plate Layout'!D98,0,0,1,1)=\"\",\"\",OFFSET('Plate Layout'!D98,0,0,1,1))","v":""}]
[{"$f":"IF('Plate Layout'!$D$8=\"\",\"\",'Plate Layout'!$D$8)","v":""},"J03",{"$f":"IF('Plate Layout'!G24=\"\",\"\",'Plate Layout'!G24)","v":""},{"$f":"IF('Plate Layout'!H24=\"\",\"\",'Plate Layout'!H24)","v":""},{"$f":"IF(OFFSET('Plate Layout'!E98,0,0,1,1)=\"\",\"\",OFFSET('Plate Layout'!E98,0,0,1,1))","v":""}]
[{"$f":"IF('Plate Layout'!$D$8=\"\",\"\",'Plate Layout'!$D$8)","v":""},"J04",{"$f":"IF('Plate Layout'!I24=\"\",\"\",'Plate Layout'!I24)","v":""},{"$f":"IF('Plate Layout'!J24=\"\",\"\",'Plate Layout'!J24)","v":""},{"$f":"IF(OFFSET('Plate Layout'!F98,0,0,1,1)=\"\",\"\",OFFSET('Plate Layout'!F98,0,0,1,1))","v":""}]
[{"$f":"IF('Plate Layout'!$D$8=\"\",\"\",'Plate Layout'!$D$8)","v":""},"J05",{"$f":"IF('Plate Layout'!K24=\"\",\"\",'Plate Layout'!K24)","v":""},{"$f":"IF('Plate Layout'!L24=\"\",\"\",'Plate Layout'!L24)","v":""},{"$f":"IF(OFFSET('Plate Layout'!G98,0,0,1,1)=\"\",\"\",OFFSET('Plate Layout'!G98,0,0,1,1))","v":""}]
[{"$f":"IF('Plate Layout'!$D$8=\"\",\"\",'Plate Layout'!$D$8)","v":""},"J06",{"$f":"IF('Plate Layout'!M24=\"\",\"\",'Plate Layout'!M24)","v":""},{"$f":"IF('Plate Layout'!N24=\"\",\"\",'Plate Layout'!N24)","v":""},{"$f":"IF(OFFSET('Plate Layout'!H98,0,0,1,1)=\"\",\"\",OFFSET('Plate Layout'!H98,0,0,1,1))","v":""}]
[{"$f":"IF('Plate Layout'!$D$8=\"\",\"\",'Plate Layout'!$D$8)","v":""},"J07",{"$f":"IF('Plate Layout'!O24=\"\",\"\",'Plate Layout'!O24)","v":""},{"$f":"IF('Plate Layout'!P24=\"\",\"\",'Plate Layout'!P24)","v":""},{"$f":"IF(OFFSET('Plate Layout'!I98,0,0,1,1)=\"\",\"\",OFFSET('Plate Layout'!I98,0,0,1,1))","v":""}]
[{"$f":"IF('Plate Layout'!$D$8=\"\",\"\",'Plate Layout'!$D$8)","v":""},"J08",{"$f":"IF('Plate Layout'!Q24=\"\",\"\",'Plate Layout'!Q24)","v":""},{"$f":"IF('Plate Layout'!R24=\"\",\"\",'Plate Layout'!R24)","v":""},{"$f":"IF(OFFSET('Plate Layout'!J98,0,0,1,1)=\"\",\"\",OFFSET('Plate Layout'!J98,0,0,1,1))","v":""}]
[{"$f":"IF('Plate Layout'!$D$8=\"\",\"\",'Plate Layout'!$D$8)","v":""},"J09",{"$f":"IF('Plate Layout'!S24=\"\",\"\",'Plate Layout'!S24)","v":""},{"$f":"IF('Plate Layout'!T24=\"\",\"\",'Plate Layout'!T24)","v":""},{"$f":"IF(OFFSET('Plate Layout'!K98,0,0,1,1)=\"\",\"\",OFFSET('Plate Layout'!K98,0,0,1,1))","v":""}]
[{"$f":"IF('Plate Layout'!$D$8=\"\",\"\",'Plate Layout'!$D$8)","v":""},"J10",{"$f":"IF('Plate Layout'!U24=\"\",\"\",'Plate Layout'!U24)","v":""},{"$f":"IF('Plate Layout'!V24=\"\",\"\",'Plate Layout'!V24)","v":""},{"$f":"IF(OFFSET('Plate Layout'!L98,0,0,1,1)=\"\",\"\",OFFSET('Plate Layout'!L98,0,0,1,1))","v":""}]
[{"$f":"IF('Plate Layout'!$D$8=\"\",\"\",'Plate Layout'!$D$8)","v":""},"J11",{"$f":"IF('Plate Layout'!W24=\"\",\"\",'Plate Layout'!W24)","v":""},{"$f":"IF('Plate Layout'!X24=\"\",\"\",'Plate Layout'!X24)","v":""},{"$f":"IF(OFFSET('Plate Layout'!M98,0,0,1,1)=\"\",\"\",OFFSET('Plate Layout'!M98,0,0,1,1))","v":""}]
[{"$f":"IF('Plate Layout'!$D$8=\"\",\"\",'Plate Layout'!$D$8)","v":""},"J12",{"$f":"IF('Plate Layout'!Y24=\"\",\"\",'Plate Layout'!Y24)","v":""},{"$f":"IF('Plate Layout'!Z24=\"\",\"\",'Plate Layout'!Z24)","v":""},{"$f":"IF(OFFSET('Plate Layout'!N98,0,0,1,1)=\"\",\"\",OFFSET('Plate Layout'!N98,0,0,1,1))","v":""}]
[{"$f":"IF('Plate Layout'!$D$8=\"\",\"\",'Plate Layout'!$D$8)","v":""},"J13",{"$f":"IF('Plate Layout'!AA24=\"\",\"\",'Plate Layout'!AA24)","v":""},{"$f":"IF('Plate Layout'!AB24=\"\",\"\",'Plate Layout'!AB24)","v":""},{"$f":"IF(OFFSET('Plate Layout'!O98,0,0,1,1)=\"\",\"\",OFFSET('Plate Layout'!O98,0,0,1,1))","v":""}]
[{"$f":"IF('Plate Layout'!$D$8=\"\",\"\",'Plate Layout'!$D$8)","v":""},"J14",{"$f":"IF('Plate Layout'!AC24=\"\",\"\",'Plate Layout'!AC24)","v":""},{"$f":"IF('Plate Layout'!AD24=\"\",\"\",'Plate Layout'!AD24)","v":""},{"$f":"IF(OFFSET('Plate Layout'!P98,0,0,1,1)=\"\",\"\",OFFSET('Plate Layout'!P98,0,0,1,1))","v":""}]
[{"$f":"IF('Plate Layout'!$D$8=\"\",\"\",'Plate Layout'!$D$8)","v":""},"J15",{"$f":"IF('Plate Layout'!AE24=\"\",\"\",'Plate Layout'!AE24)","v":""},{"$f":"IF('Plate Layout'!AF24=\"\",\"\",'Plate Layout'!AF24)","v":""},{"$f":"IF(OFFSET('Plate Layout'!Q98,0,0,1,1)=\"\",\"\",OFFSET('Plate Layout'!Q98,0,0,1,1))","v":""}]
[{"$f":"IF('Plate Layout'!$D$8=\"\",\"\",'Plate Layout'!$D$8)","v":""},"J16",{"$f":"IF('Plate Layout'!AG24=\"\",\"\",'Plate Layout'!AG24)","v":""},{"$f":"IF('Plate Layout'!AH24=\"\",\"\",'Plate Layout'!AH24)","v":""},{"$f":"IF(OFFSET('Plate Layout'!R98,0,0,1,1)=\"\",\"\",OFFSET('Plate Layout'!R98,0,0,1,1))","v":""}]
[{"$f":"IF('Plate Layout'!$D$8=\"\",\"\",'Plate Layout'!$D$8)","v":""},"J17",{"$f":"IF('Plate Layout'!AI24=\"\",\"\",'Plate Layout'!AI24)","v":""},{"$f":"IF('Plate Layout'!AJ24=\"\",\"\",'Plate Layout'!AJ24)","v":""},{"$f":"IF(OFFSET('Plate Layout'!S98,0,0,1,1)=\"\",\"\",OFFSET('Plate Layout'!S98,0,0,1,1))","v":""}]
[{"$f":"IF('Plate Layout'!$D$8=\"\",\"\",'Plate Layout'!$D$8)","v":""},"J18",{"$f":"IF('Plate Layout'!AK24=\"\",\"\",'Plate Layout'!AK24)","v":""},{"$f":"IF('Plate Layout'!AL24=\"\",\"\",'Plate Layout'!AL24)","v":""},{"$f":"IF(OFFSET('Plate Layout'!T98,0,0,1,1)=\"\",\"\",OFFSET('Plate Layout'!T98,0,0,1,1))","v":""}]
[{"$f":"IF('Plate Layout'!$D$8=\"\",\"\",'Plate Layout'!$D$8)","v":""},"J19",{"$f":"IF('Plate Layout'!AM24=\"\",\"\",'Plate Layout'!AM24)","v":""},{"$f":"IF('Plate Layout'!AN24=\"\",\"\",'Plate Layout'!AN24)","v":""},{"$f":"IF(OFFSET('Plate Layout'!U98,0,0,1,1)=\"\",\"\",OFFSET('Plate Layout'!U98,0,0,1,1))","v":""}]
[{"$f":"IF('Plate Layout'!$D$8=\"\",\"\",'Plate Layout'!$D$8)","v":""},"J20",{"$f":"IF('Plate Layout'!AO24=\"\",\"\",'Plate Layout'!AO24)","v":""},{"$f":"IF('Plate Layout'!AP24=\"\",\"\",'Plate Layout'!AP24)","v":""},{"$f":"IF(OFFSET('Plate Layout'!V98,0,0,1,1)=\"\",\"\",OFFSET('Plate Layout'!V98,0,0,1,1))","v":""}]
[{"$f":"IF('Plate Layout'!$D$8=\"\",\"\",'Plate Layout'!$D$8)","v":""},"J21",{"$f":"IF('Plate Layout'!AQ24=\"\",\"\",'Plate Layout'!AQ24)","v":""},{"$f":"IF('Plate Layout'!AR24=\"\",\"\",'Plate Layout'!AR24)","v":""},{"$f":"IF(OFFSET('Plate Layout'!W98,0,0,1,1)=\"\",\"\",OFFSET('Plate Layout'!W98,0,0,1,1))","v":""}]
[{"$f":"IF('Plate Layout'!$D$8=\"\",\"\",'Plate Layout'!$D$8)","v":""},"J22",{"$f":"IF('Plate Layout'!AS24=\"\",\"\",'Plate Layout'!AS24)","v":""},{"$f":"IF('Plate Layout'!AT24=\"\",\"\",'Plate Layout'!AT24)","v":""},{"$f":"IF(OFFSET('Plate Layout'!X98,0,0,1,1)=\"\",\"\",OFFSET('Plate Layout'!X98,0,0,1,1))","v":""}]
[{"$f":"IF('Plate Layout'!$D$8=\"\",\"\",'Plate Layout'!$D$8)","v":""},"J23",{"$f":"IF('Plate Layout'!AU24=\"\",\"\",'Plate Layout'!AU24)","v":""},{"$f":"IF('Plate Layout'!AV24=\"\",\"\",'Plate Layout'!AV24)","v":""},{"$f":"IF(OFFSET('Plate Layout'!Y98,0,0,1,1)=\"\",\"\",OFFSET('Plate Layout'!Y98,0,0,1,1))","v":""}]
[{"$f":"IF('Plate Layout'!$D$8=\"\",\"\",'Plate Layout'!$D$8)","v":""},"J24",{"$f":"IF('Plate Layout'!AW24=\"\",\"\",'Plate Layout'!AW24)","v":""},{"$f":"IF('Plate Layout'!AX24=\"\",\"\",'Plate Layout'!AX24)","v":""},{"$f":"IF(OFFSET('Plate Layout'!Z98,0,0,1,1)=\"\",\"\",OFFSET('Plate Layout'!Z98,0,0,1,1))","v":""}]
[{"$f":"IF('Plate Layout'!$D$8=\"\",\"\",'Plate Layout'!$D$8)","v":""},"J25",{"$f":"IF('Plate Layout'!AY24=\"\",\"\",'Plate Layout'!AY24)","v":""},{"$f":"IF('Plate Layout'!AZ24=\"\",\"\",'Plate Layout'!AZ24)","v":""},{"$f":"IF(OFFSET('Plate Layout'!AA98,0,0,1,1)=\"\",\"\",OFFSET('Plate Layout'!AA98,0,0,1,1))","v":""}]
[{"$f":"IF('Plate Layout'!$D$8=\"\",\"\",'Plate Layout'!$D$8)","v":""},"J26",{"$f":"IF('Plate Layout'!BA24=\"\",\"\",'Plate Layout'!BA24)","v":""},{"$f":"IF('Plate Layout'!BB24=\"\",\"\",'Plate Layout'!BB24)","v":""},{"$f":"IF(OFFSET('Plate Layout'!AB98,0,0,1,1)=\"\",\"\",OFFSET('Plate Layout'!AB98,0,0,1,1))","v":""}]
[{"$f":"IF('Plate Layout'!$D$8=\"\",\"\",'Plate Layout'!$D$8)","v":""},"J27",{"$f":"IF('Plate Layout'!BC24=\"\",\"\",'Plate Layout'!BC24)","v":""},{"$f":"IF('Plate Layout'!BD24=\"\",\"\",'Plate Layout'!BD24)","v":""},{"$f":"IF(OFFSET('Plate Layout'!AC98,0,0,1,1)=\"\",\"\",OFFSET('Plate Layout'!AC98,0,0,1,1))","v":""}]
[{"$f":"IF('Plate Layout'!$D$8=\"\",\"\",'Plate Layout'!$D$8)","v":""},"J28",{"$f":"IF('Plate Layout'!BE24=\"\",\"\",'Plate Layout'!BE24)","v":""},{"$f":"IF('Plate Layout'!BF24=\"\",\"\",'Plate Layout'!BF24)","v":""},{"$f":"IF(OFFSET('Plate Layout'!AD98,0,0,1,1)=\"\",\"\",OFFSET('Plate Layout'!AD98,0,0,1,1))","v":""}]
[{"$f":"IF('Plate Layout'!$D$8=\"\",\"\",'Plate Layout'!$D$8)","v":""},"J29",{"$f":"IF('Plate Layout'!BG24=\"\",\"\",'Plate Layout'!BG24)","v":""},{"$f":"IF('Plate Layout'!BH24=\"\",\"\",'Plate Layout'!BH24)","v":""},{"$f":"IF(OFFSET('Plate Layout'!AE98,0,0,1,1)=\"\",\"\",OFFSET('Plate Layout'!AE98,0,0,1,1))","v":""}]
[{"$f":"IF('Plate Layout'!$D$8=\"\",\"\",'Plate Layout'!$D$8)","v":""},"J30",{"$f":"IF('Plate Layout'!BI24=\"\",\"\",'Plate Layout'!BI24)","v":""},{"$f":"IF('Plate Layout'!BJ24=\"\",\"\",'Plate Layout'!BJ24)","v":""},{"$f":"IF(OFFSET('Plate Layout'!AF98,0,0,1,1)=\"\",\"\",OFFSET('Plate Layout'!AF98,0,0,1,1))","v":""}]
[{"$f":"IF('Plate Layout'!$D$8=\"\",\"\",'Plate Layout'!$D$8)","v":""},"J31",{"$f":"IF('Plate Layout'!BK24=\"\",\"\",'Plate Layout'!BK24)","v":""},{"$f":"IF('Plate Layout'!BL24=\"\",\"\",'Plate Layout'!BL24)","v":""},{"$f":"IF(OFFSET('Plate Layout'!AG98,0,0,1,1)=\"\",\"\",OFFSET('Plate Layout'!AG98,0,0,1,1))","v":""}]
[{"$f":"IF('Plate Layout'!$D$8=\"\",\"\",'Plate Layout'!$D$8)","v":""},"J32",{"$f":"IF('Plate Layout'!BM24=\"\",\"\",'Plate Layout'!BM24)","v":""},{"$f":"IF('Plate Layout'!BN24=\"\",\"\",'Plate Layout'!BN24)","v":""},{"$f":"IF(OFFSET('Plate Layout'!AH98,0,0,1,1)=\"\",\"\",OFFSET('Plate Layout'!AH98,0,0,1,1))","v":""}]
[{"$f":"IF('Plate Layout'!$D$8=\"\",\"\",'Plate Layout'!$D$8)","v":""},"J33",{"$f":"IF('Plate Layout'!BO24=\"\",\"\",'Plate Layout'!BO24)","v":""},{"$f":"IF('Plate Layout'!BP24=\"\",\"\",'Plate Layout'!BP24)","v":""},{"$f":"IF(OFFSET('Plate Layout'!AI98,0,0,1,1)=\"\",\"\",OFFSET('Plate Layout'!AI98,0,0,1,1))","v":""}]
[{"$f":"IF('Plate Layout'!$D$8=\"\",\"\",'Plate Layout'!$D$8)","v":""},"J34",{"$f":"IF('Plate Layout'!BQ24=\"\",\"\",'Plate Layout'!BQ24)","v":""},{"$f":"IF('Plate Layout'!BR24=\"\",\"\",'Plate Layout'!BR24)","v":""},{"$f":"IF(OFFSET('Plate Layout'!AJ98,0,0,1,1)=\"\",\"\",OFFSET('Plate Layout'!AJ98,0,0,1,1))","v":""}]
[{"$f":"IF('Plate Layout'!$D$8=\"\",\"\",'Plate Layout'!$D$8)","v":""},"J35",{"$f":"IF('Plate Layout'!BS24=\"\",\"\",'Plate Layout'!BS24)","v":""},{"$f":"IF('Plate Layout'!BT24=\"\",\"\",'Plate Layout'!BT24)","v":""},{"$f":"IF(OFFSET('Plate Layout'!AK98,0,0,1,1)=\"\",\"\",OFFSET('Plate Layout'!AK98,0,0,1,1))","v":""}]
[{"$f":"IF('Plate Layout'!$D$8=\"\",\"\",'Plate Layout'!$D$8)","v":""},"J36",{"$f":"IF('Plate Layout'!BU24=\"\",\"\",'Plate Layout'!BU24)","v":""},{"$f":"IF('Plate Layout'!BV24=\"\",\"\",'Plate Layout'!BV24)","v":""},{"$f":"IF(OFFSET('Plate Layout'!AL98,0,0,1,1)=\"\",\"\",OFFSET('Plate Layout'!AL98,0,0,1,1))","v":""}]
[{"$f":"IF('Plate Layout'!$D$8=\"\",\"\",'Plate Layout'!$D$8)","v":""},"J37",{"$f":"IF('Plate Layout'!BW24=\"\",\"\",'Plate Layout'!BW24)","v":""},{"$f":"IF('Plate Layout'!BX24=\"\",\"\",'Plate Layout'!BX24)","v":""},{"$f":"IF(OFFSET('Plate Layout'!AM98,0,0,1,1)=\"\",\"\",OFFSET('Plate Layout'!AM98,0,0,1,1))","v":""}]
[{"$f":"IF('Plate Layout'!$D$8=\"\",\"\",'Plate Layout'!$D$8)","v":""},"J38",{"$f":"IF('Plate Layout'!BY24=\"\",\"\",'Plate Layout'!BY24)","v":""},{"$f":"IF('Plate Layout'!BZ24=\"\",\"\",'Plate Layout'!BZ24)","v":""},{"$f":"IF(OFFSET('Plate Layout'!AN98,0,0,1,1)=\"\",\"\",OFFSET('Plate Layout'!AN98,0,0,1,1))","v":""}]
[{"$f":"IF('Plate Layout'!$D$8=\"\",\"\",'Plate Layout'!$D$8)","v":""},"J39",{"$f":"IF('Plate Layout'!CA24=\"\",\"\",'Plate Layout'!CA24)","v":""},{"$f":"IF('Plate Layout'!CB24=\"\",\"\",'Plate Layout'!CB24)","v":""},{"$f":"IF(OFFSET('Plate Layout'!AO98,0,0,1,1)=\"\",\"\",OFFSET('Plate Layout'!AO98,0,0,1,1))","v":""}]
[{"$f":"IF('Plate Layout'!$D$8=\"\",\"\",'Plate Layout'!$D$8)","v":""},"J40",{"$f":"IF('Plate Layout'!CC24=\"\",\"\",'Plate Layout'!CC24)","v":""},{"$f":"IF('Plate Layout'!CD24=\"\",\"\",'Plate Layout'!CD24)","v":""},{"$f":"IF(OFFSET('Plate Layout'!AP98,0,0,1,1)=\"\",\"\",OFFSET('Plate Layout'!AP98,0,0,1,1))","v":""}]
[{"$f":"IF('Plate Layout'!$D$8=\"\",\"\",'Plate Layout'!$D$8)","v":""},"J41",{"$f":"IF('Plate Layout'!CE24=\"\",\"\",'Plate Layout'!CE24)","v":""},{"$f":"IF('Plate Layout'!CF24=\"\",\"\",'Plate Layout'!CF24)","v":""},{"$f":"IF(OFFSET('Plate Layout'!AQ98,0,0,1,1)=\"\",\"\",OFFSET('Plate Layout'!AQ98,0,0,1,1))","v":""}]
[{"$f":"IF('Plate Layout'!$D$8=\"\",\"\",'Plate Layout'!$D$8)","v":""},"J42",{"$f":"IF('Plate Layout'!CG24=\"\",\"\",'Plate Layout'!CG24)","v":""},{"$f":"IF('Plate Layout'!CH24=\"\",\"\",'Plate Layout'!CH24)","v":""},{"$f":"IF(OFFSET('Plate Layout'!AR98,0,0,1,1)=\"\",\"\",OFFSET('Plate Layout'!AR98,0,0,1,1))","v":""}]
[{"$f":"IF('Plate Layout'!$D$8=\"\",\"\",'Plate Layout'!$D$8)","v":""},"J43",{"$f":"IF('Plate Layout'!CI24=\"\",\"\",'Plate Layout'!CI24)","v":""},{"$f":"IF('Plate Layout'!CJ24=\"\",\"\",'Plate Layout'!CJ24)","v":""},{"$f":"IF(OFFSET('Plate Layout'!AS98,0,0,1,1)=\"\",\"\",OFFSET('Plate Layout'!AS98,0,0,1,1))","v":""}]
[{"$f":"IF('Plate Layout'!$D$8=\"\",\"\",'Plate Layout'!$D$8)","v":""},"J44",{"$f":"IF('Plate Layout'!CK24=\"\",\"\",'Plate Layout'!CK24)","v":""},{"$f":"IF('Plate Layout'!CL24=\"\",\"\",'Plate Layout'!CL24)","v":""},{"$f":"IF(OFFSET('Plate Layout'!AT98,0,0,1,1)=\"\",\"\",OFFSET('Plate Layout'!AT98,0,0,1,1))","v":""}]
[{"$f":"IF('Plate Layout'!$D$8=\"\",\"\",'Plate Layout'!$D$8)","v":""},"J45",{"$f":"IF('Plate Layout'!CM24=\"\",\"\",'Plate Layout'!CM24)","v":""},{"$f":"IF('Plate Layout'!CN24=\"\",\"\",'Plate Layout'!CN24)","v":""},{"$f":"IF(OFFSET('Plate Layout'!AU98,0,0,1,1)=\"\",\"\",OFFSET('Plate Layout'!AU98,0,0,1,1))","v":""}]
[{"$f":"IF('Plate Layout'!$D$8=\"\",\"\",'Plate Layout'!$D$8)","v":""},"J46",{"$f":"IF('Plate Layout'!CO24=\"\",\"\",'Plate Layout'!CO24)","v":""},{"$f":"IF('Plate Layout'!CP24=\"\",\"\",'Plate Layout'!CP24)","v":""},{"$f":"IF(OFFSET('Plate Layout'!AV98,0,0,1,1)=\"\",\"\",OFFSET('Plate Layout'!AV98,0,0,1,1))","v":""}]
[{"$f":"IF('Plate Layout'!$D$8=\"\",\"\",'Plate Layout'!$D$8)","v":""},"J47",{"$f":"IF('Plate Layout'!CQ24=\"\",\"\",'Plate Layout'!CQ24)","v":""},{"$f":"IF('Plate Layout'!CR24=\"\",\"\",'Plate Layout'!CR24)","v":""},{"$f":"IF(OFFSET('Plate Layout'!AW98,0,0,1,1)=\"\",\"\",OFFSET('Plate Layout'!AW98,0,0,1,1))","v":""}]
[{"$f":"IF('Plate Layout'!$D$8=\"\",\"\",'Plate Layout'!$D$8)","v":""},"J48",{"$f":"IF('Plate Layout'!CS24=\"\",\"\",'Plate Layout'!CS24)","v":""},{"$f":"IF('Plate Layout'!CT24=\"\",\"\",'Plate Layout'!CT24)","v":""},{"$f":"IF(OFFSET('Plate Layout'!AX98,0,0,1,1)=\"\",\"\",OFFSET('Plate Layout'!AX98,0,0,1,1))","v":""}]
[{"$f":"IF('Plate Layout'!$D$8=\"\",\"\",'Plate Layout'!$D$8)","v":""},"K01",{"$f":"IF('Plate Layout'!C25=\"\",\"\",'Plate Layout'!C25)","v":""},{"$f":"IF('Plate Layout'!D25=\"\",\"\",'Plate Layout'!D25)","v":""},{"$f":"IF(OFFSET('Plate Layout'!C99,0,0,1,1)=\"\",\"\",OFFSET('Plate Layout'!C99,0,0,1,1))","v":""}]
[{"$f":"IF('Plate Layout'!$D$8=\"\",\"\",'Plate Layout'!$D$8)","v":""},"K02",{"$f":"IF('Plate Layout'!E25=\"\",\"\",'Plate Layout'!E25)","v":""},{"$f":"IF('Plate Layout'!F25=\"\",\"\",'Plate Layout'!F25)","v":""},{"$f":"IF(OFFSET('Plate Layout'!D99,0,0,1,1)=\"\",\"\",OFFSET('Plate Layout'!D99,0,0,1,1))","v":""}]
[{"$f":"IF('Plate Layout'!$D$8=\"\",\"\",'Plate Layout'!$D$8)","v":""},"K03",{"$f":"IF('Plate Layout'!G25=\"\",\"\",'Plate Layout'!G25)","v":""},{"$f":"IF('Plate Layout'!H25=\"\",\"\",'Plate Layout'!H25)","v":""},{"$f":"IF(OFFSET('Plate Layout'!E99,0,0,1,1)=\"\",\"\",OFFSET('Plate Layout'!E99,0,0,1,1))","v":""}]
[{"$f":"IF('Plate Layout'!$D$8=\"\",\"\",'Plate Layout'!$D$8)","v":""},"K04",{"$f":"IF('Plate Layout'!I25=\"\",\"\",'Plate Layout'!I25)","v":""},{"$f":"IF('Plate Layout'!J25=\"\",\"\",'Plate Layout'!J25)","v":""},{"$f":"IF(OFFSET('Plate Layout'!F99,0,0,1,1)=\"\",\"\",OFFSET('Plate Layout'!F99,0,0,1,1))","v":""}]
[{"$f":"IF('Plate Layout'!$D$8=\"\",\"\",'Plate Layout'!$D$8)","v":""},"K05",{"$f":"IF('Plate Layout'!K25=\"\",\"\",'Plate Layout'!K25)","v":""},{"$f":"IF('Plate Layout'!L25=\"\",\"\",'Plate Layout'!L25)","v":""},{"$f":"IF(OFFSET('Plate Layout'!G99,0,0,1,1)=\"\",\"\",OFFSET('Plate Layout'!G99,0,0,1,1))","v":""}]
[{"$f":"IF('Plate Layout'!$D$8=\"\",\"\",'Plate Layout'!$D$8)","v":""},"K06",{"$f":"IF('Plate Layout'!M25=\"\",\"\",'Plate Layout'!M25)","v":""},{"$f":"IF('Plate Layout'!N25=\"\",\"\",'Plate Layout'!N25)","v":""},{"$f":"IF(OFFSET('Plate Layout'!H99,0,0,1,1)=\"\",\"\",OFFSET('Plate Layout'!H99,0,0,1,1))","v":""}]
[{"$f":"IF('Plate Layout'!$D$8=\"\",\"\",'Plate Layout'!$D$8)","v":""},"K07",{"$f":"IF('Plate Layout'!O25=\"\",\"\",'Plate Layout'!O25)","v":""},{"$f":"IF('Plate Layout'!P25=\"\",\"\",'Plate Layout'!P25)","v":""},{"$f":"IF(OFFSET('Plate Layout'!I99,0,0,1,1)=\"\",\"\",OFFSET('Plate Layout'!I99,0,0,1,1))","v":""}]
[{"$f":"IF('Plate Layout'!$D$8=\"\",\"\",'Plate Layout'!$D$8)","v":""},"K08",{"$f":"IF('Plate Layout'!Q25=\"\",\"\",'Plate Layout'!Q25)","v":""},{"$f":"IF('Plate Layout'!R25=\"\",\"\",'Plate Layout'!R25)","v":""},{"$f":"IF(OFFSET('Plate Layout'!J99,0,0,1,1)=\"\",\"\",OFFSET('Plate Layout'!J99,0,0,1,1))","v":""}]
[{"$f":"IF('Plate Layout'!$D$8=\"\",\"\",'Plate Layout'!$D$8)","v":""},"K09",{"$f":"IF('Plate Layout'!S25=\"\",\"\",'Plate Layout'!S25)","v":""},{"$f":"IF('Plate Layout'!T25=\"\",\"\",'Plate Layout'!T25)","v":""},{"$f":"IF(OFFSET('Plate Layout'!K99,0,0,1,1)=\"\",\"\",OFFSET('Plate Layout'!K99,0,0,1,1))","v":""}]
[{"$f":"IF('Plate Layout'!$D$8=\"\",\"\",'Plate Layout'!$D$8)","v":""},"K10",{"$f":"IF('Plate Layout'!U25=\"\",\"\",'Plate Layout'!U25)","v":""},{"$f":"IF('Plate Layout'!V25=\"\",\"\",'Plate Layout'!V25)","v":""},{"$f":"IF(OFFSET('Plate Layout'!L99,0,0,1,1)=\"\",\"\",OFFSET('Plate Layout'!L99,0,0,1,1))","v":""}]
[{"$f":"IF('Plate Layout'!$D$8=\"\",\"\",'Plate Layout'!$D$8)","v":""},"K11",{"$f":"IF('Plate Layout'!W25=\"\",\"\",'Plate Layout'!W25)","v":""},{"$f":"IF('Plate Layout'!X25=\"\",\"\",'Plate Layout'!X25)","v":""},{"$f":"IF(OFFSET('Plate Layout'!M99,0,0,1,1)=\"\",\"\",OFFSET('Plate Layout'!M99,0,0,1,1))","v":""}]
[{"$f":"IF('Plate Layout'!$D$8=\"\",\"\",'Plate Layout'!$D$8)","v":""},"K12",{"$f":"IF('Plate Layout'!Y25=\"\",\"\",'Plate Layout'!Y25)","v":""},{"$f":"IF('Plate Layout'!Z25=\"\",\"\",'Plate Layout'!Z25)","v":""},{"$f":"IF(OFFSET('Plate Layout'!N99,0,0,1,1)=\"\",\"\",OFFSET('Plate Layout'!N99,0,0,1,1))","v":""}]
[{"$f":"IF('Plate Layout'!$D$8=\"\",\"\",'Plate Layout'!$D$8)","v":""},"K13",{"$f":"IF('Plate Layout'!AA25=\"\",\"\",'Plate Layout'!AA25)","v":""},{"$f":"IF('Plate Layout'!AB25=\"\",\"\",'Plate Layout'!AB25)","v":""},{"$f":"IF(OFFSET('Plate Layout'!O99,0,0,1,1)=\"\",\"\",OFFSET('Plate Layout'!O99,0,0,1,1))","v":""}]
[{"$f":"IF('Plate Layout'!$D$8=\"\",\"\",'Plate Layout'!$D$8)","v":""},"K14",{"$f":"IF('Plate Layout'!AC25=\"\",\"\",'Plate Layout'!AC25)","v":""},{"$f":"IF('Plate Layout'!AD25=\"\",\"\",'Plate Layout'!AD25)","v":""},{"$f":"IF(OFFSET('Plate Layout'!P99,0,0,1,1)=\"\",\"\",OFFSET('Plate Layout'!P99,0,0,1,1))","v":""}]
[{"$f":"IF('Plate Layout'!$D$8=\"\",\"\",'Plate Layout'!$D$8)","v":""},"K15",{"$f":"IF('Plate Layout'!AE25=\"\",\"\",'Plate Layout'!AE25)","v":""},{"$f":"IF('Plate Layout'!AF25=\"\",\"\",'Plate Layout'!AF25)","v":""},{"$f":"IF(OFFSET('Plate Layout'!Q99,0,0,1,1)=\"\",\"\",OFFSET('Plate Layout'!Q99,0,0,1,1))","v":""}]
[{"$f":"IF('Plate Layout'!$D$8=\"\",\"\",'Plate Layout'!$D$8)","v":""},"K16",{"$f":"IF('Plate Layout'!AG25=\"\",\"\",'Plate Layout'!AG25)","v":""},{"$f":"IF('Plate Layout'!AH25=\"\",\"\",'Plate Layout'!AH25)","v":""},{"$f":"IF(OFFSET('Plate Layout'!R99,0,0,1,1)=\"\",\"\",OFFSET('Plate Layout'!R99,0,0,1,1))","v":""}]
[{"$f":"IF('Plate Layout'!$D$8=\"\",\"\",'Plate Layout'!$D$8)","v":""},"K17",{"$f":"IF('Plate Layout'!AI25=\"\",\"\",'Plate Layout'!AI25)","v":""},{"$f":"IF('Plate Layout'!AJ25=\"\",\"\",'Plate Layout'!AJ25)","v":""},{"$f":"IF(OFFSET('Plate Layout'!S99,0,0,1,1)=\"\",\"\",OFFSET('Plate Layout'!S99,0,0,1,1))","v":""}]
[{"$f":"IF('Plate Layout'!$D$8=\"\",\"\",'Plate Layout'!$D$8)","v":""},"K18",{"$f":"IF('Plate Layout'!AK25=\"\",\"\",'Plate Layout'!AK25)","v":""},{"$f":"IF('Plate Layout'!AL25=\"\",\"\",'Plate Layout'!AL25)","v":""},{"$f":"IF(OFFSET('Plate Layout'!T99,0,0,1,1)=\"\",\"\",OFFSET('Plate Layout'!T99,0,0,1,1))","v":""}]
[{"$f":"IF('Plate Layout'!$D$8=\"\",\"\",'Plate Layout'!$D$8)","v":""},"K19",{"$f":"IF('Plate Layout'!AM25=\"\",\"\",'Plate Layout'!AM25)","v":""},{"$f":"IF('Plate Layout'!AN25=\"\",\"\",'Plate Layout'!AN25)","v":""},{"$f":"IF(OFFSET('Plate Layout'!U99,0,0,1,1)=\"\",\"\",OFFSET('Plate Layout'!U99,0,0,1,1))","v":""}]
[{"$f":"IF('Plate Layout'!$D$8=\"\",\"\",'Plate Layout'!$D$8)","v":""},"K20",{"$f":"IF('Plate Layout'!AO25=\"\",\"\",'Plate Layout'!AO25)","v":""},{"$f":"IF('Plate Layout'!AP25=\"\",\"\",'Plate Layout'!AP25)","v":""},{"$f":"IF(OFFSET('Plate Layout'!V99,0,0,1,1)=\"\",\"\",OFFSET('Plate Layout'!V99,0,0,1,1))","v":""}]
[{"$f":"IF('Plate Layout'!$D$8=\"\",\"\",'Plate Layout'!$D$8)","v":""},"K21",{"$f":"IF('Plate Layout'!AQ25=\"\",\"\",'Plate Layout'!AQ25)","v":""},{"$f":"IF('Plate Layout'!AR25=\"\",\"\",'Plate Layout'!AR25)","v":""},{"$f":"IF(OFFSET('Plate Layout'!W99,0,0,1,1)=\"\",\"\",OFFSET('Plate Layout'!W99,0,0,1,1))","v":""}]
[{"$f":"IF('Plate Layout'!$D$8=\"\",\"\",'Plate Layout'!$D$8)","v":""},"K22",{"$f":"IF('Plate Layout'!AS25=\"\",\"\",'Plate Layout'!AS25)","v":""},{"$f":"IF('Plate Layout'!AT25=\"\",\"\",'Plate Layout'!AT25)","v":""},{"$f":"IF(OFFSET('Plate Layout'!X99,0,0,1,1)=\"\",\"\",OFFSET('Plate Layout'!X99,0,0,1,1))","v":""}]
[{"$f":"IF('Plate Layout'!$D$8=\"\",\"\",'Plate Layout'!$D$8)","v":""},"K23",{"$f":"IF('Plate Layout'!AU25=\"\",\"\",'Plate Layout'!AU25)","v":""},{"$f":"IF('Plate Layout'!AV25=\"\",\"\",'Plate Layout'!AV25)","v":""},{"$f":"IF(OFFSET('Plate Layout'!Y99,0,0,1,1)=\"\",\"\",OFFSET('Plate Layout'!Y99,0,0,1,1))","v":""}]
[{"$f":"IF('Plate Layout'!$D$8=\"\",\"\",'Plate Layout'!$D$8)","v":""},"K24",{"$f":"IF('Plate Layout'!AW25=\"\",\"\",'Plate Layout'!AW25)","v":""},{"$f":"IF('Plate Layout'!AX25=\"\",\"\",'Plate Layout'!AX25)","v":""},{"$f":"IF(OFFSET('Plate Layout'!Z99,0,0,1,1)=\"\",\"\",OFFSET('Plate Layout'!Z99,0,0,1,1))","v":""}]
[{"$f":"IF('Plate Layout'!$D$8=\"\",\"\",'Plate Layout'!$D$8)","v":""},"K25",{"$f":"IF('Plate Layout'!AY25=\"\",\"\",'Plate Layout'!AY25)","v":""},{"$f":"IF('Plate Layout'!AZ25=\"\",\"\",'Plate Layout'!AZ25)","v":""},{"$f":"IF(OFFSET('Plate Layout'!AA99,0,0,1,1)=\"\",\"\",OFFSET('Plate Layout'!AA99,0,0,1,1))","v":""}]
[{"$f":"IF('Plate Layout'!$D$8=\"\",\"\",'Plate Layout'!$D$8)","v":""},"K26",{"$f":"IF('Plate Layout'!BA25=\"\",\"\",'Plate Layout'!BA25)","v":""},{"$f":"IF('Plate Layout'!BB25=\"\",\"\",'Plate Layout'!BB25)","v":""},{"$f":"IF(OFFSET('Plate Layout'!AB99,0,0,1,1)=\"\",\"\",OFFSET('Plate Layout'!AB99,0,0,1,1))","v":""}]
[{"$f":"IF('Plate Layout'!$D$8=\"\",\"\",'Plate Layout'!$D$8)","v":""},"K27",{"$f":"IF('Plate Layout'!BC25=\"\",\"\",'Plate Layout'!BC25)","v":""},{"$f":"IF('Plate Layout'!BD25=\"\",\"\",'Plate Layout'!BD25)","v":""},{"$f":"IF(OFFSET('Plate Layout'!AC99,0,0,1,1)=\"\",\"\",OFFSET('Plate Layout'!AC99,0,0,1,1))","v":""}]
[{"$f":"IF('Plate Layout'!$D$8=\"\",\"\",'Plate Layout'!$D$8)","v":""},"K28",{"$f":"IF('Plate Layout'!BE25=\"\",\"\",'Plate Layout'!BE25)","v":""},{"$f":"IF('Plate Layout'!BF25=\"\",\"\",'Plate Layout'!BF25)","v":""},{"$f":"IF(OFFSET('Plate Layout'!AD99,0,0,1,1)=\"\",\"\",OFFSET('Plate Layout'!AD99,0,0,1,1))","v":""}]
[{"$f":"IF('Plate Layout'!$D$8=\"\",\"\",'Plate Layout'!$D$8)","v":""},"K29",{"$f":"IF('Plate Layout'!BG25=\"\",\"\",'Plate Layout'!BG25)","v":""},{"$f":"IF('Plate Layout'!BH25=\"\",\"\",'Plate Layout'!BH25)","v":""},{"$f":"IF(OFFSET('Plate Layout'!AE99,0,0,1,1)=\"\",\"\",OFFSET('Plate Layout'!AE99,0,0,1,1))","v":""}]
[{"$f":"IF('Plate Layout'!$D$8=\"\",\"\",'Plate Layout'!$D$8)","v":""},"K30",{"$f":"IF('Plate Layout'!BI25=\"\",\"\",'Plate Layout'!BI25)","v":""},{"$f":"IF('Plate Layout'!BJ25=\"\",\"\",'Plate Layout'!BJ25)","v":""},{"$f":"IF(OFFSET('Plate Layout'!AF99,0,0,1,1)=\"\",\"\",OFFSET('Plate Layout'!AF99,0,0,1,1))","v":""}]
[{"$f":"IF('Plate Layout'!$D$8=\"\",\"\",'Plate Layout'!$D$8)","v":""},"K31",{"$f":"IF('Plate Layout'!BK25=\"\",\"\",'Plate Layout'!BK25)","v":""},{"$f":"IF('Plate Layout'!BL25=\"\",\"\",'Plate Layout'!BL25)","v":""},{"$f":"IF(OFFSET('Plate Layout'!AG99,0,0,1,1)=\"\",\"\",OFFSET('Plate Layout'!AG99,0,0,1,1))","v":""}]
[{"$f":"IF('Plate Layout'!$D$8=\"\",\"\",'Plate Layout'!$D$8)","v":""},"K32",{"$f":"IF('Plate Layout'!BM25=\"\",\"\",'Plate Layout'!BM25)","v":""},{"$f":"IF('Plate Layout'!BN25=\"\",\"\",'Plate Layout'!BN25)","v":""},{"$f":"IF(OFFSET('Plate Layout'!AH99,0,0,1,1)=\"\",\"\",OFFSET('Plate Layout'!AH99,0,0,1,1))","v":""}]
[{"$f":"IF('Plate Layout'!$D$8=\"\",\"\",'Plate Layout'!$D$8)","v":""},"K33",{"$f":"IF('Plate Layout'!BO25=\"\",\"\",'Plate Layout'!BO25)","v":""},{"$f":"IF('Plate Layout'!BP25=\"\",\"\",'Plate Layout'!BP25)","v":""},{"$f":"IF(OFFSET('Plate Layout'!AI99,0,0,1,1)=\"\",\"\",OFFSET('Plate Layout'!AI99,0,0,1,1))","v":""}]
[{"$f":"IF('Plate Layout'!$D$8=\"\",\"\",'Plate Layout'!$D$8)","v":""},"K34",{"$f":"IF('Plate Layout'!BQ25=\"\",\"\",'Plate Layout'!BQ25)","v":""},{"$f":"IF('Plate Layout'!BR25=\"\",\"\",'Plate Layout'!BR25)","v":""},{"$f":"IF(OFFSET('Plate Layout'!AJ99,0,0,1,1)=\"\",\"\",OFFSET('Plate Layout'!AJ99,0,0,1,1))","v":""}]
[{"$f":"IF('Plate Layout'!$D$8=\"\",\"\",'Plate Layout'!$D$8)","v":""},"K35",{"$f":"IF('Plate Layout'!BS25=\"\",\"\",'Plate Layout'!BS25)","v":""},{"$f":"IF('Plate Layout'!BT25=\"\",\"\",'Plate Layout'!BT25)","v":""},{"$f":"IF(OFFSET('Plate Layout'!AK99,0,0,1,1)=\"\",\"\",OFFSET('Plate Layout'!AK99,0,0,1,1))","v":""}]
[{"$f":"IF('Plate Layout'!$D$8=\"\",\"\",'Plate Layout'!$D$8)","v":""},"K36",{"$f":"IF('Plate Layout'!BU25=\"\",\"\",'Plate Layout'!BU25)","v":""},{"$f":"IF('Plate Layout'!BV25=\"\",\"\",'Plate Layout'!BV25)","v":""},{"$f":"IF(OFFSET('Plate Layout'!AL99,0,0,1,1)=\"\",\"\",OFFSET('Plate Layout'!AL99,0,0,1,1))","v":""}]
[{"$f":"IF('Plate Layout'!$D$8=\"\",\"\",'Plate Layout'!$D$8)","v":""},"K37",{"$f":"IF('Plate Layout'!BW25=\"\",\"\",'Plate Layout'!BW25)","v":""},{"$f":"IF('Plate Layout'!BX25=\"\",\"\",'Plate Layout'!BX25)","v":""},{"$f":"IF(OFFSET('Plate Layout'!AM99,0,0,1,1)=\"\",\"\",OFFSET('Plate Layout'!AM99,0,0,1,1))","v":""}]
[{"$f":"IF('Plate Layout'!$D$8=\"\",\"\",'Plate Layout'!$D$8)","v":""},"K38",{"$f":"IF('Plate Layout'!BY25=\"\",\"\",'Plate Layout'!BY25)","v":""},{"$f":"IF('Plate Layout'!BZ25=\"\",\"\",'Plate Layout'!BZ25)","v":""},{"$f":"IF(OFFSET('Plate Layout'!AN99,0,0,1,1)=\"\",\"\",OFFSET('Plate Layout'!AN99,0,0,1,1))","v":""}]
[{"$f":"IF('Plate Layout'!$D$8=\"\",\"\",'Plate Layout'!$D$8)","v":""},"K39",{"$f":"IF('Plate Layout'!CA25=\"\",\"\",'Plate Layout'!CA25)","v":""},{"$f":"IF('Plate Layout'!CB25=\"\",\"\",'Plate Layout'!CB25)","v":""},{"$f":"IF(OFFSET('Plate Layout'!AO99,0,0,1,1)=\"\",\"\",OFFSET('Plate Layout'!AO99,0,0,1,1))","v":""}]
[{"$f":"IF('Plate Layout'!$D$8=\"\",\"\",'Plate Layout'!$D$8)","v":""},"K40",{"$f":"IF('Plate Layout'!CC25=\"\",\"\",'Plate Layout'!CC25)","v":""},{"$f":"IF('Plate Layout'!CD25=\"\",\"\",'Plate Layout'!CD25)","v":""},{"$f":"IF(OFFSET('Plate Layout'!AP99,0,0,1,1)=\"\",\"\",OFFSET('Plate Layout'!AP99,0,0,1,1))","v":""}]
[{"$f":"IF('Plate Layout'!$D$8=\"\",\"\",'Plate Layout'!$D$8)","v":""},"K41",{"$f":"IF('Plate Layout'!CE25=\"\",\"\",'Plate Layout'!CE25)","v":""},{"$f":"IF('Plate Layout'!CF25=\"\",\"\",'Plate Layout'!CF25)","v":""},{"$f":"IF(OFFSET('Plate Layout'!AQ99,0,0,1,1)=\"\",\"\",OFFSET('Plate Layout'!AQ99,0,0,1,1))","v":""}]
[{"$f":"IF('Plate Layout'!$D$8=\"\",\"\",'Plate Layout'!$D$8)","v":""},"K42",{"$f":"IF('Plate Layout'!CG25=\"\",\"\",'Plate Layout'!CG25)","v":""},{"$f":"IF('Plate Layout'!CH25=\"\",\"\",'Plate Layout'!CH25)","v":""},{"$f":"IF(OFFSET('Plate Layout'!AR99,0,0,1,1)=\"\",\"\",OFFSET('Plate Layout'!AR99,0,0,1,1))","v":""}]
[{"$f":"IF('Plate Layout'!$D$8=\"\",\"\",'Plate Layout'!$D$8)","v":""},"K43",{"$f":"IF('Plate Layout'!CI25=\"\",\"\",'Plate Layout'!CI25)","v":""},{"$f":"IF('Plate Layout'!CJ25=\"\",\"\",'Plate Layout'!CJ25)","v":""},{"$f":"IF(OFFSET('Plate Layout'!AS99,0,0,1,1)=\"\",\"\",OFFSET('Plate Layout'!AS99,0,0,1,1))","v":""}]
[{"$f":"IF('Plate Layout'!$D$8=\"\",\"\",'Plate Layout'!$D$8)","v":""},"K44",{"$f":"IF('Plate Layout'!CK25=\"\",\"\",'Plate Layout'!CK25)","v":""},{"$f":"IF('Plate Layout'!CL25=\"\",\"\",'Plate Layout'!CL25)","v":""},{"$f":"IF(OFFSET('Plate Layout'!AT99,0,0,1,1)=\"\",\"\",OFFSET('Plate Layout'!AT99,0,0,1,1))","v":""}]
[{"$f":"IF('Plate Layout'!$D$8=\"\",\"\",'Plate Layout'!$D$8)","v":""},"K45",{"$f":"IF('Plate Layout'!CM25=\"\",\"\",'Plate Layout'!CM25)","v":""},{"$f":"IF('Plate Layout'!CN25=\"\",\"\",'Plate Layout'!CN25)","v":""},{"$f":"IF(OFFSET('Plate Layout'!AU99,0,0,1,1)=\"\",\"\",OFFSET('Plate Layout'!AU99,0,0,1,1))","v":""}]
[{"$f":"IF('Plate Layout'!$D$8=\"\",\"\",'Plate Layout'!$D$8)","v":""},"K46",{"$f":"IF('Plate Layout'!CO25=\"\",\"\",'Plate Layout'!CO25)","v":""},{"$f":"IF('Plate Layout'!CP25=\"\",\"\",'Plate Layout'!CP25)","v":""},{"$f":"IF(OFFSET('Plate Layout'!AV99,0,0,1,1)=\"\",\"\",OFFSET('Plate Layout'!AV99,0,0,1,1))","v":""}]
[{"$f":"IF('Plate Layout'!$D$8=\"\",\"\",'Plate Layout'!$D$8)","v":""},"K47",{"$f":"IF('Plate Layout'!CQ25=\"\",\"\",'Plate Layout'!CQ25)","v":""},{"$f":"IF('Plate Layout'!CR25=\"\",\"\",'Plate Layout'!CR25)","v":""},{"$f":"IF(OFFSET('Plate Layout'!AW99,0,0,1,1)=\"\",\"\",OFFSET('Plate Layout'!AW99,0,0,1,1))","v":""}]
[{"$f":"IF('Plate Layout'!$D$8=\"\",\"\",'Plate Layout'!$D$8)","v":""},"K48",{"$f":"IF('Plate Layout'!CS25=\"\",\"\",'Plate Layout'!CS25)","v":""},{"$f":"IF('Plate Layout'!CT25=\"\",\"\",'Plate Layout'!CT25)","v":""},{"$f":"IF(OFFSET('Plate Layout'!AX99,0,0,1,1)=\"\",\"\",OFFSET('Plate Layout'!AX99,0,0,1,1))","v":""}]
[{"$f":"IF('Plate Layout'!$D$8=\"\",\"\",'Plate Layout'!$D$8)","v":""},"L01",{"$f":"IF('Plate Layout'!C26=\"\",\"\",'Plate Layout'!C26)","v":""},{"$f":"IF('Plate Layout'!D26=\"\",\"\",'Plate Layout'!D26)","v":""},{"$f":"IF(OFFSET('Plate Layout'!C100,0,0,1,1)=\"\",\"\",OFFSET('Plate Layout'!C100,0,0,1,1))","v":""}]
[{"$f":"IF('Plate Layout'!$D$8=\"\",\"\",'Plate Layout'!$D$8)","v":""},"L02",{"$f":"IF('Plate Layout'!E26=\"\",\"\",'Plate Layout'!E26)","v":""},{"$f":"IF('Plate Layout'!F26=\"\",\"\",'Plate Layout'!F26)","v":""},{"$f":"IF(OFFSET('Plate Layout'!D100,0,0,1,1)=\"\",\"\",OFFSET('Plate Layout'!D100,0,0,1,1))","v":""}]
[{"$f":"IF('Plate Layout'!$D$8=\"\",\"\",'Plate Layout'!$D$8)","v":""},"L03",{"$f":"IF('Plate Layout'!G26=\"\",\"\",'Plate Layout'!G26)","v":""},{"$f":"IF('Plate Layout'!H26=\"\",\"\",'Plate Layout'!H26)","v":""},{"$f":"IF(OFFSET('Plate Layout'!E100,0,0,1,1)=\"\",\"\",OFFSET('Plate Layout'!E100,0,0,1,1))","v":""}]
[{"$f":"IF('Plate Layout'!$D$8=\"\",\"\",'Plate Layout'!$D$8)","v":""},"L04",{"$f":"IF('Plate Layout'!I26=\"\",\"\",'Plate Layout'!I26)","v":""},{"$f":"IF('Plate Layout'!J26=\"\",\"\",'Plate Layout'!J26)","v":""},{"$f":"IF(OFFSET('Plate Layout'!F100,0,0,1,1)=\"\",\"\",OFFSET('Plate Layout'!F100,0,0,1,1))","v":""}]
[{"$f":"IF('Plate Layout'!$D$8=\"\",\"\",'Plate Layout'!$D$8)","v":""},"L05",{"$f":"IF('Plate Layout'!K26=\"\",\"\",'Plate Layout'!K26)","v":""},{"$f":"IF('Plate Layout'!L26=\"\",\"\",'Plate Layout'!L26)","v":""},{"$f":"IF(OFFSET('Plate Layout'!G100,0,0,1,1)=\"\",\"\",OFFSET('Plate Layout'!G100,0,0,1,1))","v":""}]
[{"$f":"IF('Plate Layout'!$D$8=\"\",\"\",'Plate Layout'!$D$8)","v":""},"L06",{"$f":"IF('Plate Layout'!M26=\"\",\"\",'Plate Layout'!M26)","v":""},{"$f":"IF('Plate Layout'!N26=\"\",\"\",'Plate Layout'!N26)","v":""},{"$f":"IF(OFFSET('Plate Layout'!H100,0,0,1,1)=\"\",\"\",OFFSET('Plate Layout'!H100,0,0,1,1))","v":""}]
[{"$f":"IF('Plate Layout'!$D$8=\"\",\"\",'Plate Layout'!$D$8)","v":""},"L07",{"$f":"IF('Plate Layout'!O26=\"\",\"\",'Plate Layout'!O26)","v":""},{"$f":"IF('Plate Layout'!P26=\"\",\"\",'Plate Layout'!P26)","v":""},{"$f":"IF(OFFSET('Plate Layout'!I100,0,0,1,1)=\"\",\"\",OFFSET('Plate Layout'!I100,0,0,1,1))","v":""}]
[{"$f":"IF('Plate Layout'!$D$8=\"\",\"\",'Plate Layout'!$D$8)","v":""},"L08",{"$f":"IF('Plate Layout'!Q26=\"\",\"\",'Plate Layout'!Q26)","v":""},{"$f":"IF('Plate Layout'!R26=\"\",\"\",'Plate Layout'!R26)","v":""},{"$f":"IF(OFFSET('Plate Layout'!J100,0,0,1,1)=\"\",\"\",OFFSET('Plate Layout'!J100,0,0,1,1))","v":""}]
[{"$f":"IF('Plate Layout'!$D$8=\"\",\"\",'Plate Layout'!$D$8)","v":""},"L09",{"$f":"IF('Plate Layout'!S26=\"\",\"\",'Plate Layout'!S26)","v":""},{"$f":"IF('Plate Layout'!T26=\"\",\"\",'Plate Layout'!T26)","v":""},{"$f":"IF(OFFSET('Plate Layout'!K100,0,0,1,1)=\"\",\"\",OFFSET('Plate Layout'!K100,0,0,1,1))","v":""}]
[{"$f":"IF('Plate Layout'!$D$8=\"\",\"\",'Plate Layout'!$D$8)","v":""},"L10",{"$f":"IF('Plate Layout'!U26=\"\",\"\",'Plate Layout'!U26)","v":""},{"$f":"IF('Plate Layout'!V26=\"\",\"\",'Plate Layout'!V26)","v":""},{"$f":"IF(OFFSET('Plate Layout'!L100,0,0,1,1)=\"\",\"\",OFFSET('Plate Layout'!L100,0,0,1,1))","v":""}]
[{"$f":"IF('Plate Layout'!$D$8=\"\",\"\",'Plate Layout'!$D$8)","v":""},"L11",{"$f":"IF('Plate Layout'!W26=\"\",\"\",'Plate Layout'!W26)","v":""},{"$f":"IF('Plate Layout'!X26=\"\",\"\",'Plate Layout'!X26)","v":""},{"$f":"IF(OFFSET('Plate Layout'!M100,0,0,1,1)=\"\",\"\",OFFSET('Plate Layout'!M100,0,0,1,1))","v":""}]
[{"$f":"IF('Plate Layout'!$D$8=\"\",\"\",'Plate Layout'!$D$8)","v":""},"L12",{"$f":"IF('Plate Layout'!Y26=\"\",\"\",'Plate Layout'!Y26)","v":""},{"$f":"IF('Plate Layout'!Z26=\"\",\"\",'Plate Layout'!Z26)","v":""},{"$f":"IF(OFFSET('Plate Layout'!N100,0,0,1,1)=\"\",\"\",OFFSET('Plate Layout'!N100,0,0,1,1))","v":""}]
[{"$f":"IF('Plate Layout'!$D$8=\"\",\"\",'Plate Layout'!$D$8)","v":""},"L13",{"$f":"IF('Plate Layout'!AA26=\"\",\"\",'Plate Layout'!AA26)","v":""},{"$f":"IF('Plate Layout'!AB26=\"\",\"\",'Plate Layout'!AB26)","v":""},{"$f":"IF(OFFSET('Plate Layout'!O100,0,0,1,1)=\"\",\"\",OFFSET('Plate Layout'!O100,0,0,1,1))","v":""}]
[{"$f":"IF('Plate Layout'!$D$8=\"\",\"\",'Plate Layout'!$D$8)","v":""},"L14",{"$f":"IF('Plate Layout'!AC26=\"\",\"\",'Plate Layout'!AC26)","v":""},{"$f":"IF('Plate Layout'!AD26=\"\",\"\",'Plate Layout'!AD26)","v":""},{"$f":"IF(OFFSET('Plate Layout'!P100,0,0,1,1)=\"\",\"\",OFFSET('Plate Layout'!P100,0,0,1,1))","v":""}]
[{"$f":"IF('Plate Layout'!$D$8=\"\",\"\",'Plate Layout'!$D$8)","v":""},"L15",{"$f":"IF('Plate Layout'!AE26=\"\",\"\",'Plate Layout'!AE26)","v":""},{"$f":"IF('Plate Layout'!AF26=\"\",\"\",'Plate Layout'!AF26)","v":""},{"$f":"IF(OFFSET('Plate Layout'!Q100,0,0,1,1)=\"\",\"\",OFFSET('Plate Layout'!Q100,0,0,1,1))","v":""}]
[{"$f":"IF('Plate Layout'!$D$8=\"\",\"\",'Plate Layout'!$D$8)","v":""},"L16",{"$f":"IF('Plate Layout'!AG26=\"\",\"\",'Plate Layout'!AG26)","v":""},{"$f":"IF('Plate Layout'!AH26=\"\",\"\",'Plate Layout'!AH26)","v":""},{"$f":"IF(OFFSET('Plate Layout'!R100,0,0,1,1)=\"\",\"\",OFFSET('Plate Layout'!R100,0,0,1,1))","v":""}]
[{"$f":"IF('Plate Layout'!$D$8=\"\",\"\",'Plate Layout'!$D$8)","v":""},"L17",{"$f":"IF('Plate Layout'!AI26=\"\",\"\",'Plate Layout'!AI26)","v":""},{"$f":"IF('Plate Layout'!AJ26=\"\",\"\",'Plate Layout'!AJ26)","v":""},{"$f":"IF(OFFSET('Plate Layout'!S100,0,0,1,1)=\"\",\"\",OFFSET('Plate Layout'!S100,0,0,1,1))","v":""}]
[{"$f":"IF('Plate Layout'!$D$8=\"\",\"\",'Plate Layout'!$D$8)","v":""},"L18",{"$f":"IF('Plate Layout'!AK26=\"\",\"\",'Plate Layout'!AK26)","v":""},{"$f":"IF('Plate Layout'!AL26=\"\",\"\",'Plate Layout'!AL26)","v":""},{"$f":"IF(OFFSET('Plate Layout'!T100,0,0,1,1)=\"\",\"\",OFFSET('Plate Layout'!T100,0,0,1,1))","v":""}]
[{"$f":"IF('Plate Layout'!$D$8=\"\",\"\",'Plate Layout'!$D$8)","v":""},"L19",{"$f":"IF('Plate Layout'!AM26=\"\",\"\",'Plate Layout'!AM26)","v":""},{"$f":"IF('Plate Layout'!AN26=\"\",\"\",'Plate Layout'!AN26)","v":""},{"$f":"IF(OFFSET('Plate Layout'!U100,0,0,1,1)=\"\",\"\",OFFSET('Plate Layout'!U100,0,0,1,1))","v":""}]
[{"$f":"IF('Plate Layout'!$D$8=\"\",\"\",'Plate Layout'!$D$8)","v":""},"L20",{"$f":"IF('Plate Layout'!AO26=\"\",\"\",'Plate Layout'!AO26)","v":""},{"$f":"IF('Plate Layout'!AP26=\"\",\"\",'Plate Layout'!AP26)","v":""},{"$f":"IF(OFFSET('Plate Layout'!V100,0,0,1,1)=\"\",\"\",OFFSET('Plate Layout'!V100,0,0,1,1))","v":""}]
[{"$f":"IF('Plate Layout'!$D$8=\"\",\"\",'Plate Layout'!$D$8)","v":""},"L21",{"$f":"IF('Plate Layout'!AQ26=\"\",\"\",'Plate Layout'!AQ26)","v":""},{"$f":"IF('Plate Layout'!AR26=\"\",\"\",'Plate Layout'!AR26)","v":""},{"$f":"IF(OFFSET('Plate Layout'!W100,0,0,1,1)=\"\",\"\",OFFSET('Plate Layout'!W100,0,0,1,1))","v":""}]
[{"$f":"IF('Plate Layout'!$D$8=\"\",\"\",'Plate Layout'!$D$8)","v":""},"L22",{"$f":"IF('Plate Layout'!AS26=\"\",\"\",'Plate Layout'!AS26)","v":""},{"$f":"IF('Plate Layout'!AT26=\"\",\"\",'Plate Layout'!AT26)","v":""},{"$f":"IF(OFFSET('Plate Layout'!X100,0,0,1,1)=\"\",\"\",OFFSET('Plate Layout'!X100,0,0,1,1))","v":""}]
[{"$f":"IF('Plate Layout'!$D$8=\"\",\"\",'Plate Layout'!$D$8)","v":""},"L23",{"$f":"IF('Plate Layout'!AU26=\"\",\"\",'Plate Layout'!AU26)","v":""},{"$f":"IF('Plate Layout'!AV26=\"\",\"\",'Plate Layout'!AV26)","v":""},{"$f":"IF(OFFSET('Plate Layout'!Y100,0,0,1,1)=\"\",\"\",OFFSET('Plate Layout'!Y100,0,0,1,1))","v":""}]
[{"$f":"IF('Plate Layout'!$D$8=\"\",\"\",'Plate Layout'!$D$8)","v":""},"L24",{"$f":"IF('Plate Layout'!AW26=\"\",\"\",'Plate Layout'!AW26)","v":""},{"$f":"IF('Plate Layout'!AX26=\"\",\"\",'Plate Layout'!AX26)","v":""},{"$f":"IF(OFFSET('Plate Layout'!Z100,0,0,1,1)=\"\",\"\",OFFSET('Plate Layout'!Z100,0,0,1,1))","v":""}]
[{"$f":"IF('Plate Layout'!$D$8=\"\",\"\",'Plate Layout'!$D$8)","v":""},"L25",{"$f":"IF('Plate Layout'!AY26=\"\",\"\",'Plate Layout'!AY26)","v":""},{"$f":"IF('Plate Layout'!AZ26=\"\",\"\",'Plate Layout'!AZ26)","v":""},{"$f":"IF(OFFSET('Plate Layout'!AA100,0,0,1,1)=\"\",\"\",OFFSET('Plate Layout'!AA100,0,0,1,1))","v":""}]
[{"$f":"IF('Plate Layout'!$D$8=\"\",\"\",'Plate Layout'!$D$8)","v":""},"L26",{"$f":"IF('Plate Layout'!BA26=\"\",\"\",'Plate Layout'!BA26)","v":""},{"$f":"IF('Plate Layout'!BB26=\"\",\"\",'Plate Layout'!BB26)","v":""},{"$f":"IF(OFFSET('Plate Layout'!AB100,0,0,1,1)=\"\",\"\",OFFSET('Plate Layout'!AB100,0,0,1,1))","v":""}]
[{"$f":"IF('Plate Layout'!$D$8=\"\",\"\",'Plate Layout'!$D$8)","v":""},"L27",{"$f":"IF('Plate Layout'!BC26=\"\",\"\",'Plate Layout'!BC26)","v":""},{"$f":"IF('Plate Layout'!BD26=\"\",\"\",'Plate Layout'!BD26)","v":""},{"$f":"IF(OFFSET('Plate Layout'!AC100,0,0,1,1)=\"\",\"\",OFFSET('Plate Layout'!AC100,0,0,1,1))","v":""}]
[{"$f":"IF('Plate Layout'!$D$8=\"\",\"\",'Plate Layout'!$D$8)","v":""},"L28",{"$f":"IF('Plate Layout'!BE26=\"\",\"\",'Plate Layout'!BE26)","v":""},{"$f":"IF('Plate Layout'!BF26=\"\",\"\",'Plate Layout'!BF26)","v":""},{"$f":"IF(OFFSET('Plate Layout'!AD100,0,0,1,1)=\"\",\"\",OFFSET('Plate Layout'!AD100,0,0,1,1))","v":""}]
[{"$f":"IF('Plate Layout'!$D$8=\"\",\"\",'Plate Layout'!$D$8)","v":""},"L29",{"$f":"IF('Plate Layout'!BG26=\"\",\"\",'Plate Layout'!BG26)","v":""},{"$f":"IF('Plate Layout'!BH26=\"\",\"\",'Plate Layout'!BH26)","v":""},{"$f":"IF(OFFSET('Plate Layout'!AE100,0,0,1,1)=\"\",\"\",OFFSET('Plate Layout'!AE100,0,0,1,1))","v":""}]
[{"$f":"IF('Plate Layout'!$D$8=\"\",\"\",'Plate Layout'!$D$8)","v":""},"L30",{"$f":"IF('Plate Layout'!BI26=\"\",\"\",'Plate Layout'!BI26)","v":""},{"$f":"IF('Plate Layout'!BJ26=\"\",\"\",'Plate Layout'!BJ26)","v":""},{"$f":"IF(OFFSET('Plate Layout'!AF100,0,0,1,1)=\"\",\"\",OFFSET('Plate Layout'!AF100,0,0,1,1))","v":""}]
[{"$f":"IF('Plate Layout'!$D$8=\"\",\"\",'Plate Layout'!$D$8)","v":""},"L31",{"$f":"IF('Plate Layout'!BK26=\"\",\"\",'Plate Layout'!BK26)","v":""},{"$f":"IF('Plate Layout'!BL26=\"\",\"\",'Plate Layout'!BL26)","v":""},{"$f":"IF(OFFSET('Plate Layout'!AG100,0,0,1,1)=\"\",\"\",OFFSET('Plate Layout'!AG100,0,0,1,1))","v":""}]
[{"$f":"IF('Plate Layout'!$D$8=\"\",\"\",'Plate Layout'!$D$8)","v":""},"L32",{"$f":"IF('Plate Layout'!BM26=\"\",\"\",'Plate Layout'!BM26)","v":""},{"$f":"IF('Plate Layout'!BN26=\"\",\"\",'Plate Layout'!BN26)","v":""},{"$f":"IF(OFFSET('Plate Layout'!AH100,0,0,1,1)=\"\",\"\",OFFSET('Plate Layout'!AH100,0,0,1,1))","v":""}]
[{"$f":"IF('Plate Layout'!$D$8=\"\",\"\",'Plate Layout'!$D$8)","v":""},"L33",{"$f":"IF('Plate Layout'!BO26=\"\",\"\",'Plate Layout'!BO26)","v":""},{"$f":"IF('Plate Layout'!BP26=\"\",\"\",'Plate Layout'!BP26)","v":""},{"$f":"IF(OFFSET('Plate Layout'!AI100,0,0,1,1)=\"\",\"\",OFFSET('Plate Layout'!AI100,0,0,1,1))","v":""}]
[{"$f":"IF('Plate Layout'!$D$8=\"\",\"\",'Plate Layout'!$D$8)","v":""},"L34",{"$f":"IF('Plate Layout'!BQ26=\"\",\"\",'Plate Layout'!BQ26)","v":""},{"$f":"IF('Plate Layout'!BR26=\"\",\"\",'Plate Layout'!BR26)","v":""},{"$f":"IF(OFFSET('Plate Layout'!AJ100,0,0,1,1)=\"\",\"\",OFFSET('Plate Layout'!AJ100,0,0,1,1))","v":""}]
[{"$f":"IF('Plate Layout'!$D$8=\"\",\"\",'Plate Layout'!$D$8)","v":""},"L35",{"$f":"IF('Plate Layout'!BS26=\"\",\"\",'Plate Layout'!BS26)","v":""},{"$f":"IF('Plate Layout'!BT26=\"\",\"\",'Plate Layout'!BT26)","v":""},{"$f":"IF(OFFSET('Plate Layout'!AK100,0,0,1,1)=\"\",\"\",OFFSET('Plate Layout'!AK100,0,0,1,1))","v":""}]
[{"$f":"IF('Plate Layout'!$D$8=\"\",\"\",'Plate Layout'!$D$8)","v":""},"L36",{"$f":"IF('Plate Layout'!BU26=\"\",\"\",'Plate Layout'!BU26)","v":""},{"$f":"IF('Plate Layout'!BV26=\"\",\"\",'Plate Layout'!BV26)","v":""},{"$f":"IF(OFFSET('Plate Layout'!AL100,0,0,1,1)=\"\",\"\",OFFSET('Plate Layout'!AL100,0,0,1,1))","v":""}]
[{"$f":"IF('Plate Layout'!$D$8=\"\",\"\",'Plate Layout'!$D$8)","v":""},"L37",{"$f":"IF('Plate Layout'!BW26=\"\",\"\",'Plate Layout'!BW26)","v":""},{"$f":"IF('Plate Layout'!BX26=\"\",\"\",'Plate Layout'!BX26)","v":""},{"$f":"IF(OFFSET('Plate Layout'!AM100,0,0,1,1)=\"\",\"\",OFFSET('Plate Layout'!AM100,0,0,1,1))","v":""}]
[{"$f":"IF('Plate Layout'!$D$8=\"\",\"\",'Plate Layout'!$D$8)","v":""},"L38",{"$f":"IF('Plate Layout'!BY26=\"\",\"\",'Plate Layout'!BY26)","v":""},{"$f":"IF('Plate Layout'!BZ26=\"\",\"\",'Plate Layout'!BZ26)","v":""},{"$f":"IF(OFFSET('Plate Layout'!AN100,0,0,1,1)=\"\",\"\",OFFSET('Plate Layout'!AN100,0,0,1,1))","v":""}]
[{"$f":"IF('Plate Layout'!$D$8=\"\",\"\",'Plate Layout'!$D$8)","v":""},"L39",{"$f":"IF('Plate Layout'!CA26=\"\",\"\",'Plate Layout'!CA26)","v":""},{"$f":"IF('Plate Layout'!CB26=\"\",\"\",'Plate Layout'!CB26)","v":""},{"$f":"IF(OFFSET('Plate Layout'!AO100,0,0,1,1)=\"\",\"\",OFFSET('Plate Layout'!AO100,0,0,1,1))","v":""}]
[{"$f":"IF('Plate Layout'!$D$8=\"\",\"\",'Plate Layout'!$D$8)","v":""},"L40",{"$f":"IF('Plate Layout'!CC26=\"\",\"\",'Plate Layout'!CC26)","v":""},{"$f":"IF('Plate Layout'!CD26=\"\",\"\",'Plate Layout'!CD26)","v":""},{"$f":"IF(OFFSET('Plate Layout'!AP100,0,0,1,1)=\"\",\"\",OFFSET('Plate Layout'!AP100,0,0,1,1))","v":""}]
[{"$f":"IF('Plate Layout'!$D$8=\"\",\"\",'Plate Layout'!$D$8)","v":""},"L41",{"$f":"IF('Plate Layout'!CE26=\"\",\"\",'Plate Layout'!CE26)","v":""},{"$f":"IF('Plate Layout'!CF26=\"\",\"\",'Plate Layout'!CF26)","v":""},{"$f":"IF(OFFSET('Plate Layout'!AQ100,0,0,1,1)=\"\",\"\",OFFSET('Plate Layout'!AQ100,0,0,1,1))","v":""}]
[{"$f":"IF('Plate Layout'!$D$8=\"\",\"\",'Plate Layout'!$D$8)","v":""},"L42",{"$f":"IF('Plate Layout'!CG26=\"\",\"\",'Plate Layout'!CG26)","v":""},{"$f":"IF('Plate Layout'!CH26=\"\",\"\",'Plate Layout'!CH26)","v":""},{"$f":"IF(OFFSET('Plate Layout'!AR100,0,0,1,1)=\"\",\"\",OFFSET('Plate Layout'!AR100,0,0,1,1))","v":""}]
[{"$f":"IF('Plate Layout'!$D$8=\"\",\"\",'Plate Layout'!$D$8)","v":""},"L43",{"$f":"IF('Plate Layout'!CI26=\"\",\"\",'Plate Layout'!CI26)","v":""},{"$f":"IF('Plate Layout'!CJ26=\"\",\"\",'Plate Layout'!CJ26)","v":""},{"$f":"IF(OFFSET('Plate Layout'!AS100,0,0,1,1)=\"\",\"\",OFFSET('Plate Layout'!AS100,0,0,1,1))","v":""}]
[{"$f":"IF('Plate Layout'!$D$8=\"\",\"\",'Plate Layout'!$D$8)","v":""},"L44",{"$f":"IF('Plate Layout'!CK26=\"\",\"\",'Plate Layout'!CK26)","v":""},{"$f":"IF('Plate Layout'!CL26=\"\",\"\",'Plate Layout'!CL26)","v":""},{"$f":"IF(OFFSET('Plate Layout'!AT100,0,0,1,1)=\"\",\"\",OFFSET('Plate Layout'!AT100,0,0,1,1))","v":""}]
[{"$f":"IF('Plate Layout'!$D$8=\"\",\"\",'Plate Layout'!$D$8)","v":""},"L45",{"$f":"IF('Plate Layout'!CM26=\"\",\"\",'Plate Layout'!CM26)","v":""},{"$f":"IF('Plate Layout'!CN26=\"\",\"\",'Plate Layout'!CN26)","v":""},{"$f":"IF(OFFSET('Plate Layout'!AU100,0,0,1,1)=\"\",\"\",OFFSET('Plate Layout'!AU100,0,0,1,1))","v":""}]
[{"$f":"IF('Plate Layout'!$D$8=\"\",\"\",'Plate Layout'!$D$8)","v":""},"L46",{"$f":"IF('Plate Layout'!CO26=\"\",\"\",'Plate Layout'!CO26)","v":""},{"$f":"IF('Plate Layout'!CP26=\"\",\"\",'Plate Layout'!CP26)","v":""},{"$f":"IF(OFFSET('Plate Layout'!AV100,0,0,1,1)=\"\",\"\",OFFSET('Plate Layout'!AV100,0,0,1,1))","v":""}]
[{"$f":"IF('Plate Layout'!$D$8=\"\",\"\",'Plate Layout'!$D$8)","v":""},"L47",{"$f":"IF('Plate Layout'!CQ26=\"\",\"\",'Plate Layout'!CQ26)","v":""},{"$f":"IF('Plate Layout'!CR26=\"\",\"\",'Plate Layout'!CR26)","v":""},{"$f":"IF(OFFSET('Plate Layout'!AW100,0,0,1,1)=\"\",\"\",OFFSET('Plate Layout'!AW100,0,0,1,1))","v":""}]
[{"$f":"IF('Plate Layout'!$D$8=\"\",\"\",'Plate Layout'!$D$8)","v":""},"L48",{"$f":"IF('Plate Layout'!CS26=\"\",\"\",'Plate Layout'!CS26)","v":""},{"$f":"IF('Plate Layout'!CT26=\"\",\"\",'Plate Layout'!CT26)","v":""},{"$f":"IF(OFFSET('Plate Layout'!AX100,0,0,1,1)=\"\",\"\",OFFSET('Plate Layout'!AX100,0,0,1,1))","v":""}]
[{"$f":"IF('Plate Layout'!$D$8=\"\",\"\",'Plate Layout'!$D$8)","v":""},"M01",{"$f":"IF('Plate Layout'!C27=\"\",\"\",'Plate Layout'!C27)","v":""},{"$f":"IF('Plate Layout'!D27=\"\",\"\",'Plate Layout'!D27)","v":""},{"$f":"IF(OFFSET('Plate Layout'!C101,0,0,1,1)=\"\",\"\",OFFSET('Plate Layout'!C101,0,0,1,1))","v":""}]
[{"$f":"IF('Plate Layout'!$D$8=\"\",\"\",'Plate Layout'!$D$8)","v":""},"M02",{"$f":"IF('Plate Layout'!E27=\"\",\"\",'Plate Layout'!E27)","v":""},{"$f":"IF('Plate Layout'!F27=\"\",\"\",'Plate Layout'!F27)","v":""},{"$f":"IF(OFFSET('Plate Layout'!D101,0,0,1,1)=\"\",\"\",OFFSET('Plate Layout'!D101,0,0,1,1))","v":""}]
[{"$f":"IF('Plate Layout'!$D$8=\"\",\"\",'Plate Layout'!$D$8)","v":""},"M03",{"$f":"IF('Plate Layout'!G27=\"\",\"\",'Plate Layout'!G27)","v":""},{"$f":"IF('Plate Layout'!H27=\"\",\"\",'Plate Layout'!H27)","v":""},{"$f":"IF(OFFSET('Plate Layout'!E101,0,0,1,1)=\"\",\"\",OFFSET('Plate Layout'!E101,0,0,1,1))","v":""}]
[{"$f":"IF('Plate Layout'!$D$8=\"\",\"\",'Plate Layout'!$D$8)","v":""},"M04",{"$f":"IF('Plate Layout'!I27=\"\",\"\",'Plate Layout'!I27)","v":""},{"$f":"IF('Plate Layout'!J27=\"\",\"\",'Plate Layout'!J27)","v":""},{"$f":"IF(OFFSET('Plate Layout'!F101,0,0,1,1)=\"\",\"\",OFFSET('Plate Layout'!F101,0,0,1,1))","v":""}]
[{"$f":"IF('Plate Layout'!$D$8=\"\",\"\",'Plate Layout'!$D$8)","v":""},"M05",{"$f":"IF('Plate Layout'!K27=\"\",\"\",'Plate Layout'!K27)","v":""},{"$f":"IF('Plate Layout'!L27=\"\",\"\",'Plate Layout'!L27)","v":""},{"$f":"IF(OFFSET('Plate Layout'!G101,0,0,1,1)=\"\",\"\",OFFSET('Plate Layout'!G101,0,0,1,1))","v":""}]
[{"$f":"IF('Plate Layout'!$D$8=\"\",\"\",'Plate Layout'!$D$8)","v":""},"M06",{"$f":"IF('Plate Layout'!M27=\"\",\"\",'Plate Layout'!M27)","v":""},{"$f":"IF('Plate Layout'!N27=\"\",\"\",'Plate Layout'!N27)","v":""},{"$f":"IF(OFFSET('Plate Layout'!H101,0,0,1,1)=\"\",\"\",OFFSET('Plate Layout'!H101,0,0,1,1))","v":""}]
[{"$f":"IF('Plate Layout'!$D$8=\"\",\"\",'Plate Layout'!$D$8)","v":""},"M07",{"$f":"IF('Plate Layout'!O27=\"\",\"\",'Plate Layout'!O27)","v":""},{"$f":"IF('Plate Layout'!P27=\"\",\"\",'Plate Layout'!P27)","v":""},{"$f":"IF(OFFSET('Plate Layout'!I101,0,0,1,1)=\"\",\"\",OFFSET('Plate Layout'!I101,0,0,1,1))","v":""}]
[{"$f":"IF('Plate Layout'!$D$8=\"\",\"\",'Plate Layout'!$D$8)","v":""},"M08",{"$f":"IF('Plate Layout'!Q27=\"\",\"\",'Plate Layout'!Q27)","v":""},{"$f":"IF('Plate Layout'!R27=\"\",\"\",'Plate Layout'!R27)","v":""},{"$f":"IF(OFFSET('Plate Layout'!J101,0,0,1,1)=\"\",\"\",OFFSET('Plate Layout'!J101,0,0,1,1))","v":""}]
[{"$f":"IF('Plate Layout'!$D$8=\"\",\"\",'Plate Layout'!$D$8)","v":""},"M09",{"$f":"IF('Plate Layout'!S27=\"\",\"\",'Plate Layout'!S27)","v":""},{"$f":"IF('Plate Layout'!T27=\"\",\"\",'Plate Layout'!T27)","v":""},{"$f":"IF(OFFSET('Plate Layout'!K101,0,0,1,1)=\"\",\"\",OFFSET('Plate Layout'!K101,0,0,1,1))","v":""}]
[{"$f":"IF('Plate Layout'!$D$8=\"\",\"\",'Plate Layout'!$D$8)","v":""},"M10",{"$f":"IF('Plate Layout'!U27=\"\",\"\",'Plate Layout'!U27)","v":""},{"$f":"IF('Plate Layout'!V27=\"\",\"\",'Plate Layout'!V27)","v":""},{"$f":"IF(OFFSET('Plate Layout'!L101,0,0,1,1)=\"\",\"\",OFFSET('Plate Layout'!L101,0,0,1,1))","v":""}]
[{"$f":"IF('Plate Layout'!$D$8=\"\",\"\",'Plate Layout'!$D$8)","v":""},"M11",{"$f":"IF('Plate Layout'!W27=\"\",\"\",'Plate Layout'!W27)","v":""},{"$f":"IF('Plate Layout'!X27=\"\",\"\",'Plate Layout'!X27)","v":""},{"$f":"IF(OFFSET('Plate Layout'!M101,0,0,1,1)=\"\",\"\",OFFSET('Plate Layout'!M101,0,0,1,1))","v":""}]
[{"$f":"IF('Plate Layout'!$D$8=\"\",\"\",'Plate Layout'!$D$8)","v":""},"M12",{"$f":"IF('Plate Layout'!Y27=\"\",\"\",'Plate Layout'!Y27)","v":""},{"$f":"IF('Plate Layout'!Z27=\"\",\"\",'Plate Layout'!Z27)","v":""},{"$f":"IF(OFFSET('Plate Layout'!N101,0,0,1,1)=\"\",\"\",OFFSET('Plate Layout'!N101,0,0,1,1))","v":""}]
[{"$f":"IF('Plate Layout'!$D$8=\"\",\"\",'Plate Layout'!$D$8)","v":""},"M13",{"$f":"IF('Plate Layout'!AA27=\"\",\"\",'Plate Layout'!AA27)","v":""},{"$f":"IF('Plate Layout'!AB27=\"\",\"\",'Plate Layout'!AB27)","v":""},{"$f":"IF(OFFSET('Plate Layout'!O101,0,0,1,1)=\"\",\"\",OFFSET('Plate Layout'!O101,0,0,1,1))","v":""}]
[{"$f":"IF('Plate Layout'!$D$8=\"\",\"\",'Plate Layout'!$D$8)","v":""},"M14",{"$f":"IF('Plate Layout'!AC27=\"\",\"\",'Plate Layout'!AC27)","v":""},{"$f":"IF('Plate Layout'!AD27=\"\",\"\",'Plate Layout'!AD27)","v":""},{"$f":"IF(OFFSET('Plate Layout'!P101,0,0,1,1)=\"\",\"\",OFFSET('Plate Layout'!P101,0,0,1,1))","v":""}]
[{"$f":"IF('Plate Layout'!$D$8=\"\",\"\",'Plate Layout'!$D$8)","v":""},"M15",{"$f":"IF('Plate Layout'!AE27=\"\",\"\",'Plate Layout'!AE27)","v":""},{"$f":"IF('Plate Layout'!AF27=\"\",\"\",'Plate Layout'!AF27)","v":""},{"$f":"IF(OFFSET('Plate Layout'!Q101,0,0,1,1)=\"\",\"\",OFFSET('Plate Layout'!Q101,0,0,1,1))","v":""}]
[{"$f":"IF('Plate Layout'!$D$8=\"\",\"\",'Plate Layout'!$D$8)","v":""},"M16",{"$f":"IF('Plate Layout'!AG27=\"\",\"\",'Plate Layout'!AG27)","v":""},{"$f":"IF('Plate Layout'!AH27=\"\",\"\",'Plate Layout'!AH27)","v":""},{"$f":"IF(OFFSET('Plate Layout'!R101,0,0,1,1)=\"\",\"\",OFFSET('Plate Layout'!R101,0,0,1,1))","v":""}]
[{"$f":"IF('Plate Layout'!$D$8=\"\",\"\",'Plate Layout'!$D$8)","v":""},"M17",{"$f":"IF('Plate Layout'!AI27=\"\",\"\",'Plate Layout'!AI27)","v":""},{"$f":"IF('Plate Layout'!AJ27=\"\",\"\",'Plate Layout'!AJ27)","v":""},{"$f":"IF(OFFSET('Plate Layout'!S101,0,0,1,1)=\"\",\"\",OFFSET('Plate Layout'!S101,0,0,1,1))","v":""}]
[{"$f":"IF('Plate Layout'!$D$8=\"\",\"\",'Plate Layout'!$D$8)","v":""},"M18",{"$f":"IF('Plate Layout'!AK27=\"\",\"\",'Plate Layout'!AK27)","v":""},{"$f":"IF('Plate Layout'!AL27=\"\",\"\",'Plate Layout'!AL27)","v":""},{"$f":"IF(OFFSET('Plate Layout'!T101,0,0,1,1)=\"\",\"\",OFFSET('Plate Layout'!T101,0,0,1,1))","v":""}]
[{"$f":"IF('Plate Layout'!$D$8=\"\",\"\",'Plate Layout'!$D$8)","v":""},"M19",{"$f":"IF('Plate Layout'!AM27=\"\",\"\",'Plate Layout'!AM27)","v":""},{"$f":"IF('Plate Layout'!AN27=\"\",\"\",'Plate Layout'!AN27)","v":""},{"$f":"IF(OFFSET('Plate Layout'!U101,0,0,1,1)=\"\",\"\",OFFSET('Plate Layout'!U101,0,0,1,1))","v":""}]
[{"$f":"IF('Plate Layout'!$D$8=\"\",\"\",'Plate Layout'!$D$8)","v":""},"M20",{"$f":"IF('Plate Layout'!AO27=\"\",\"\",'Plate Layout'!AO27)","v":""},{"$f":"IF('Plate Layout'!AP27=\"\",\"\",'Plate Layout'!AP27)","v":""},{"$f":"IF(OFFSET('Plate Layout'!V101,0,0,1,1)=\"\",\"\",OFFSET('Plate Layout'!V101,0,0,1,1))","v":""}]
[{"$f":"IF('Plate Layout'!$D$8=\"\",\"\",'Plate Layout'!$D$8)","v":""},"M21",{"$f":"IF('Plate Layout'!AQ27=\"\",\"\",'Plate Layout'!AQ27)","v":""},{"$f":"IF('Plate Layout'!AR27=\"\",\"\",'Plate Layout'!AR27)","v":""},{"$f":"IF(OFFSET('Plate Layout'!W101,0,0,1,1)=\"\",\"\",OFFSET('Plate Layout'!W101,0,0,1,1))","v":""}]
[{"$f":"IF('Plate Layout'!$D$8=\"\",\"\",'Plate Layout'!$D$8)","v":""},"M22",{"$f":"IF('Plate Layout'!AS27=\"\",\"\",'Plate Layout'!AS27)","v":""},{"$f":"IF('Plate Layout'!AT27=\"\",\"\",'Plate Layout'!AT27)","v":""},{"$f":"IF(OFFSET('Plate Layout'!X101,0,0,1,1)=\"\",\"\",OFFSET('Plate Layout'!X101,0,0,1,1))","v":""}]
[{"$f":"IF('Plate Layout'!$D$8=\"\",\"\",'Plate Layout'!$D$8)","v":""},"M23",{"$f":"IF('Plate Layout'!AU27=\"\",\"\",'Plate Layout'!AU27)","v":""},{"$f":"IF('Plate Layout'!AV27=\"\",\"\",'Plate Layout'!AV27)","v":""},{"$f":"IF(OFFSET('Plate Layout'!Y101,0,0,1,1)=\"\",\"\",OFFSET('Plate Layout'!Y101,0,0,1,1))","v":""}]
[{"$f":"IF('Plate Layout'!$D$8=\"\",\"\",'Plate Layout'!$D$8)","v":""},"M24",{"$f":"IF('Plate Layout'!AW27=\"\",\"\",'Plate Layout'!AW27)","v":""},{"$f":"IF('Plate Layout'!AX27=\"\",\"\",'Plate Layout'!AX27)","v":""},{"$f":"IF(OFFSET('Plate Layout'!Z101,0,0,1,1)=\"\",\"\",OFFSET('Plate Layout'!Z101,0,0,1,1))","v":""}]
[{"$f":"IF('Plate Layout'!$D$8=\"\",\"\",'Plate Layout'!$D$8)","v":""},"M25",{"$f":"IF('Plate Layout'!AY27=\"\",\"\",'Plate Layout'!AY27)","v":""},{"$f":"IF('Plate Layout'!AZ27=\"\",\"\",'Plate Layout'!AZ27)","v":""},{"$f":"IF(OFFSET('Plate Layout'!AA101,0,0,1,1)=\"\",\"\",OFFSET('Plate Layout'!AA101,0,0,1,1))","v":""}]
[{"$f":"IF('Plate Layout'!$D$8=\"\",\"\",'Plate Layout'!$D$8)","v":""},"M26",{"$f":"IF('Plate Layout'!BA27=\"\",\"\",'Plate Layout'!BA27)","v":""},{"$f":"IF('Plate Layout'!BB27=\"\",\"\",'Plate Layout'!BB27)","v":""},{"$f":"IF(OFFSET('Plate Layout'!AB101,0,0,1,1)=\"\",\"\",OFFSET('Plate Layout'!AB101,0,0,1,1))","v":""}]
[{"$f":"IF('Plate Layout'!$D$8=\"\",\"\",'Plate Layout'!$D$8)","v":""},"M27",{"$f":"IF('Plate Layout'!BC27=\"\",\"\",'Plate Layout'!BC27)","v":""},{"$f":"IF('Plate Layout'!BD27=\"\",\"\",'Plate Layout'!BD27)","v":""},{"$f":"IF(OFFSET('Plate Layout'!AC101,0,0,1,1)=\"\",\"\",OFFSET('Plate Layout'!AC101,0,0,1,1))","v":""}]
[{"$f":"IF('Plate Layout'!$D$8=\"\",\"\",'Plate Layout'!$D$8)","v":""},"M28",{"$f":"IF('Plate Layout'!BE27=\"\",\"\",'Plate Layout'!BE27)","v":""},{"$f":"IF('Plate Layout'!BF27=\"\",\"\",'Plate Layout'!BF27)","v":""},{"$f":"IF(OFFSET('Plate Layout'!AD101,0,0,1,1)=\"\",\"\",OFFSET('Plate Layout'!AD101,0,0,1,1))","v":""}]
[{"$f":"IF('Plate Layout'!$D$8=\"\",\"\",'Plate Layout'!$D$8)","v":""},"M29",{"$f":"IF('Plate Layout'!BG27=\"\",\"\",'Plate Layout'!BG27)","v":""},{"$f":"IF('Plate Layout'!BH27=\"\",\"\",'Plate Layout'!BH27)","v":""},{"$f":"IF(OFFSET('Plate Layout'!AE101,0,0,1,1)=\"\",\"\",OFFSET('Plate Layout'!AE101,0,0,1,1))","v":""}]
[{"$f":"IF('Plate Layout'!$D$8=\"\",\"\",'Plate Layout'!$D$8)","v":""},"M30",{"$f":"IF('Plate Layout'!BI27=\"\",\"\",'Plate Layout'!BI27)","v":""},{"$f":"IF('Plate Layout'!BJ27=\"\",\"\",'Plate Layout'!BJ27)","v":""},{"$f":"IF(OFFSET('Plate Layout'!AF101,0,0,1,1)=\"\",\"\",OFFSET('Plate Layout'!AF101,0,0,1,1))","v":""}]
[{"$f":"IF('Plate Layout'!$D$8=\"\",\"\",'Plate Layout'!$D$8)","v":""},"M31",{"$f":"IF('Plate Layout'!BK27=\"\",\"\",'Plate Layout'!BK27)","v":""},{"$f":"IF('Plate Layout'!BL27=\"\",\"\",'Plate Layout'!BL27)","v":""},{"$f":"IF(OFFSET('Plate Layout'!AG101,0,0,1,1)=\"\",\"\",OFFSET('Plate Layout'!AG101,0,0,1,1))","v":""}]
[{"$f":"IF('Plate Layout'!$D$8=\"\",\"\",'Plate Layout'!$D$8)","v":""},"M32",{"$f":"IF('Plate Layout'!BM27=\"\",\"\",'Plate Layout'!BM27)","v":""},{"$f":"IF('Plate Layout'!BN27=\"\",\"\",'Plate Layout'!BN27)","v":""},{"$f":"IF(OFFSET('Plate Layout'!AH101,0,0,1,1)=\"\",\"\",OFFSET('Plate Layout'!AH101,0,0,1,1))","v":""}]
[{"$f":"IF('Plate Layout'!$D$8=\"\",\"\",'Plate Layout'!$D$8)","v":""},"M33",{"$f":"IF('Plate Layout'!BO27=\"\",\"\",'Plate Layout'!BO27)","v":""},{"$f":"IF('Plate Layout'!BP27=\"\",\"\",'Plate Layout'!BP27)","v":""},{"$f":"IF(OFFSET('Plate Layout'!AI101,0,0,1,1)=\"\",\"\",OFFSET('Plate Layout'!AI101,0,0,1,1))","v":""}]
[{"$f":"IF('Plate Layout'!$D$8=\"\",\"\",'Plate Layout'!$D$8)","v":""},"M34",{"$f":"IF('Plate Layout'!BQ27=\"\",\"\",'Plate Layout'!BQ27)","v":""},{"$f":"IF('Plate Layout'!BR27=\"\",\"\",'Plate Layout'!BR27)","v":""},{"$f":"IF(OFFSET('Plate Layout'!AJ101,0,0,1,1)=\"\",\"\",OFFSET('Plate Layout'!AJ101,0,0,1,1))","v":""}]
[{"$f":"IF('Plate Layout'!$D$8=\"\",\"\",'Plate Layout'!$D$8)","v":""},"M35",{"$f":"IF('Plate Layout'!BS27=\"\",\"\",'Plate Layout'!BS27)","v":""},{"$f":"IF('Plate Layout'!BT27=\"\",\"\",'Plate Layout'!BT27)","v":""},{"$f":"IF(OFFSET('Plate Layout'!AK101,0,0,1,1)=\"\",\"\",OFFSET('Plate Layout'!AK101,0,0,1,1))","v":""}]
[{"$f":"IF('Plate Layout'!$D$8=\"\",\"\",'Plate Layout'!$D$8)","v":""},"M36",{"$f":"IF('Plate Layout'!BU27=\"\",\"\",'Plate Layout'!BU27)","v":""},{"$f":"IF('Plate Layout'!BV27=\"\",\"\",'Plate Layout'!BV27)","v":""},{"$f":"IF(OFFSET('Plate Layout'!AL101,0,0,1,1)=\"\",\"\",OFFSET('Plate Layout'!AL101,0,0,1,1))","v":""}]
[{"$f":"IF('Plate Layout'!$D$8=\"\",\"\",'Plate Layout'!$D$8)","v":""},"M37",{"$f":"IF('Plate Layout'!BW27=\"\",\"\",'Plate Layout'!BW27)","v":""},{"$f":"IF('Plate Layout'!BX27=\"\",\"\",'Plate Layout'!BX27)","v":""},{"$f":"IF(OFFSET('Plate Layout'!AM101,0,0,1,1)=\"\",\"\",OFFSET('Plate Layout'!AM101,0,0,1,1))","v":""}]
[{"$f":"IF('Plate Layout'!$D$8=\"\",\"\",'Plate Layout'!$D$8)","v":""},"M38",{"$f":"IF('Plate Layout'!BY27=\"\",\"\",'Plate Layout'!BY27)","v":""},{"$f":"IF('Plate Layout'!BZ27=\"\",\"\",'Plate Layout'!BZ27)","v":""},{"$f":"IF(OFFSET('Plate Layout'!AN101,0,0,1,1)=\"\",\"\",OFFSET('Plate Layout'!AN101,0,0,1,1))","v":""}]
[{"$f":"IF('Plate Layout'!$D$8=\"\",\"\",'Plate Layout'!$D$8)","v":""},"M39",{"$f":"IF('Plate Layout'!CA27=\"\",\"\",'Plate Layout'!CA27)","v":""},{"$f":"IF('Plate Layout'!CB27=\"\",\"\",'Plate Layout'!CB27)","v":""},{"$f":"IF(OFFSET('Plate Layout'!AO101,0,0,1,1)=\"\",\"\",OFFSET('Plate Layout'!AO101,0,0,1,1))","v":""}]
[{"$f":"IF('Plate Layout'!$D$8=\"\",\"\",'Plate Layout'!$D$8)","v":""},"M40",{"$f":"IF('Plate Layout'!CC27=\"\",\"\",'Plate Layout'!CC27)","v":""},{"$f":"IF('Plate Layout'!CD27=\"\",\"\",'Plate Layout'!CD27)","v":""},{"$f":"IF(OFFSET('Plate Layout'!AP101,0,0,1,1)=\"\",\"\",OFFSET('Plate Layout'!AP101,0,0,1,1))","v":""}]
[{"$f":"IF('Plate Layout'!$D$8=\"\",\"\",'Plate Layout'!$D$8)","v":""},"M41",{"$f":"IF('Plate Layout'!CE27=\"\",\"\",'Plate Layout'!CE27)","v":""},{"$f":"IF('Plate Layout'!CF27=\"\",\"\",'Plate Layout'!CF27)","v":""},{"$f":"IF(OFFSET('Plate Layout'!AQ101,0,0,1,1)=\"\",\"\",OFFSET('Plate Layout'!AQ101,0,0,1,1))","v":""}]
[{"$f":"IF('Plate Layout'!$D$8=\"\",\"\",'Plate Layout'!$D$8)","v":""},"M42",{"$f":"IF('Plate Layout'!CG27=\"\",\"\",'Plate Layout'!CG27)","v":""},{"$f":"IF('Plate Layout'!CH27=\"\",\"\",'Plate Layout'!CH27)","v":""},{"$f":"IF(OFFSET('Plate Layout'!AR101,0,0,1,1)=\"\",\"\",OFFSET('Plate Layout'!AR101,0,0,1,1))","v":""}]
[{"$f":"IF('Plate Layout'!$D$8=\"\",\"\",'Plate Layout'!$D$8)","v":""},"M43",{"$f":"IF('Plate Layout'!CI27=\"\",\"\",'Plate Layout'!CI27)","v":""},{"$f":"IF('Plate Layout'!CJ27=\"\",\"\",'Plate Layout'!CJ27)","v":""},{"$f":"IF(OFFSET('Plate Layout'!AS101,0,0,1,1)=\"\",\"\",OFFSET('Plate Layout'!AS101,0,0,1,1))","v":""}]
[{"$f":"IF('Plate Layout'!$D$8=\"\",\"\",'Plate Layout'!$D$8)","v":""},"M44",{"$f":"IF('Plate Layout'!CK27=\"\",\"\",'Plate Layout'!CK27)","v":""},{"$f":"IF('Plate Layout'!CL27=\"\",\"\",'Plate Layout'!CL27)","v":""},{"$f":"IF(OFFSET('Plate Layout'!AT101,0,0,1,1)=\"\",\"\",OFFSET('Plate Layout'!AT101,0,0,1,1))","v":""}]
[{"$f":"IF('Plate Layout'!$D$8=\"\",\"\",'Plate Layout'!$D$8)","v":""},"M45",{"$f":"IF('Plate Layout'!CM27=\"\",\"\",'Plate Layout'!CM27)","v":""},{"$f":"IF('Plate Layout'!CN27=\"\",\"\",'Plate Layout'!CN27)","v":""},{"$f":"IF(OFFSET('Plate Layout'!AU101,0,0,1,1)=\"\",\"\",OFFSET('Plate Layout'!AU101,0,0,1,1))","v":""}]
[{"$f":"IF('Plate Layout'!$D$8=\"\",\"\",'Plate Layout'!$D$8)","v":""},"M46",{"$f":"IF('Plate Layout'!CO27=\"\",\"\",'Plate Layout'!CO27)","v":""},{"$f":"IF('Plate Layout'!CP27=\"\",\"\",'Plate Layout'!CP27)","v":""},{"$f":"IF(OFFSET('Plate Layout'!AV101,0,0,1,1)=\"\",\"\",OFFSET('Plate Layout'!AV101,0,0,1,1))","v":""}]
[{"$f":"IF('Plate Layout'!$D$8=\"\",\"\",'Plate Layout'!$D$8)","v":""},"M47",{"$f":"IF('Plate Layout'!CQ27=\"\",\"\",'Plate Layout'!CQ27)","v":""},{"$f":"IF('Plate Layout'!CR27=\"\",\"\",'Plate Layout'!CR27)","v":""},{"$f":"IF(OFFSET('Plate Layout'!AW101,0,0,1,1)=\"\",\"\",OFFSET('Plate Layout'!AW101,0,0,1,1))","v":""}]
[{"$f":"IF('Plate Layout'!$D$8=\"\",\"\",'Plate Layout'!$D$8)","v":""},"M48",{"$f":"IF('Plate Layout'!CS27=\"\",\"\",'Plate Layout'!CS27)","v":""},{"$f":"IF('Plate Layout'!CT27=\"\",\"\",'Plate Layout'!CT27)","v":""},{"$f":"IF(OFFSET('Plate Layout'!AX101,0,0,1,1)=\"\",\"\",OFFSET('Plate Layout'!AX101,0,0,1,1))","v":""}]
[{"$f":"IF('Plate Layout'!$D$8=\"\",\"\",'Plate Layout'!$D$8)","v":""},"N01",{"$f":"IF('Plate Layout'!C28=\"\",\"\",'Plate Layout'!C28)","v":""},{"$f":"IF('Plate Layout'!D28=\"\",\"\",'Plate Layout'!D28)","v":""},{"$f":"IF(OFFSET('Plate Layout'!C102,0,0,1,1)=\"\",\"\",OFFSET('Plate Layout'!C102,0,0,1,1))","v":""}]
[{"$f":"IF('Plate Layout'!$D$8=\"\",\"\",'Plate Layout'!$D$8)","v":""},"N02",{"$f":"IF('Plate Layout'!E28=\"\",\"\",'Plate Layout'!E28)","v":""},{"$f":"IF('Plate Layout'!F28=\"\",\"\",'Plate Layout'!F28)","v":""},{"$f":"IF(OFFSET('Plate Layout'!D102,0,0,1,1)=\"\",\"\",OFFSET('Plate Layout'!D102,0,0,1,1))","v":""}]
[{"$f":"IF('Plate Layout'!$D$8=\"\",\"\",'Plate Layout'!$D$8)","v":""},"N03",{"$f":"IF('Plate Layout'!G28=\"\",\"\",'Plate Layout'!G28)","v":""},{"$f":"IF('Plate Layout'!H28=\"\",\"\",'Plate Layout'!H28)","v":""},{"$f":"IF(OFFSET('Plate Layout'!E102,0,0,1,1)=\"\",\"\",OFFSET('Plate Layout'!E102,0,0,1,1))","v":""}]
[{"$f":"IF('Plate Layout'!$D$8=\"\",\"\",'Plate Layout'!$D$8)","v":""},"N04",{"$f":"IF('Plate Layout'!I28=\"\",\"\",'Plate Layout'!I28)","v":""},{"$f":"IF('Plate Layout'!J28=\"\",\"\",'Plate Layout'!J28)","v":""},{"$f":"IF(OFFSET('Plate Layout'!F102,0,0,1,1)=\"\",\"\",OFFSET('Plate Layout'!F102,0,0,1,1))","v":""}]
[{"$f":"IF('Plate Layout'!$D$8=\"\",\"\",'Plate Layout'!$D$8)","v":""},"N05",{"$f":"IF('Plate Layout'!K28=\"\",\"\",'Plate Layout'!K28)","v":""},{"$f":"IF('Plate Layout'!L28=\"\",\"\",'Plate Layout'!L28)","v":""},{"$f":"IF(OFFSET('Plate Layout'!G102,0,0,1,1)=\"\",\"\",OFFSET('Plate Layout'!G102,0,0,1,1))","v":""}]
[{"$f":"IF('Plate Layout'!$D$8=\"\",\"\",'Plate Layout'!$D$8)","v":""},"N06",{"$f":"IF('Plate Layout'!M28=\"\",\"\",'Plate Layout'!M28)","v":""},{"$f":"IF('Plate Layout'!N28=\"\",\"\",'Plate Layout'!N28)","v":""},{"$f":"IF(OFFSET('Plate Layout'!H102,0,0,1,1)=\"\",\"\",OFFSET('Plate Layout'!H102,0,0,1,1))","v":""}]
[{"$f":"IF('Plate Layout'!$D$8=\"\",\"\",'Plate Layout'!$D$8)","v":""},"N07",{"$f":"IF('Plate Layout'!O28=\"\",\"\",'Plate Layout'!O28)","v":""},{"$f":"IF('Plate Layout'!P28=\"\",\"\",'Plate Layout'!P28)","v":""},{"$f":"IF(OFFSET('Plate Layout'!I102,0,0,1,1)=\"\",\"\",OFFSET('Plate Layout'!I102,0,0,1,1))","v":""}]
[{"$f":"IF('Plate Layout'!$D$8=\"\",\"\",'Plate Layout'!$D$8)","v":""},"N08",{"$f":"IF('Plate Layout'!Q28=\"\",\"\",'Plate Layout'!Q28)","v":""},{"$f":"IF('Plate Layout'!R28=\"\",\"\",'Plate Layout'!R28)","v":""},{"$f":"IF(OFFSET('Plate Layout'!J102,0,0,1,1)=\"\",\"\",OFFSET('Plate Layout'!J102,0,0,1,1))","v":""}]
[{"$f":"IF('Plate Layout'!$D$8=\"\",\"\",'Plate Layout'!$D$8)","v":""},"N09",{"$f":"IF('Plate Layout'!S28=\"\",\"\",'Plate Layout'!S28)","v":""},{"$f":"IF('Plate Layout'!T28=\"\",\"\",'Plate Layout'!T28)","v":""},{"$f":"IF(OFFSET('Plate Layout'!K102,0,0,1,1)=\"\",\"\",OFFSET('Plate Layout'!K102,0,0,1,1))","v":""}]
[{"$f":"IF('Plate Layout'!$D$8=\"\",\"\",'Plate Layout'!$D$8)","v":""},"N10",{"$f":"IF('Plate Layout'!U28=\"\",\"\",'Plate Layout'!U28)","v":""},{"$f":"IF('Plate Layout'!V28=\"\",\"\",'Plate Layout'!V28)","v":""},{"$f":"IF(OFFSET('Plate Layout'!L102,0,0,1,1)=\"\",\"\",OFFSET('Plate Layout'!L102,0,0,1,1))","v":""}]
[{"$f":"IF('Plate Layout'!$D$8=\"\",\"\",'Plate Layout'!$D$8)","v":""},"N11",{"$f":"IF('Plate Layout'!W28=\"\",\"\",'Plate Layout'!W28)","v":""},{"$f":"IF('Plate Layout'!X28=\"\",\"\",'Plate Layout'!X28)","v":""},{"$f":"IF(OFFSET('Plate Layout'!M102,0,0,1,1)=\"\",\"\",OFFSET('Plate Layout'!M102,0,0,1,1))","v":""}]
[{"$f":"IF('Plate Layout'!$D$8=\"\",\"\",'Plate Layout'!$D$8)","v":""},"N12",{"$f":"IF('Plate Layout'!Y28=\"\",\"\",'Plate Layout'!Y28)","v":""},{"$f":"IF('Plate Layout'!Z28=\"\",\"\",'Plate Layout'!Z28)","v":""},{"$f":"IF(OFFSET('Plate Layout'!N102,0,0,1,1)=\"\",\"\",OFFSET('Plate Layout'!N102,0,0,1,1))","v":""}]
[{"$f":"IF('Plate Layout'!$D$8=\"\",\"\",'Plate Layout'!$D$8)","v":""},"N13",{"$f":"IF('Plate Layout'!AA28=\"\",\"\",'Plate Layout'!AA28)","v":""},{"$f":"IF('Plate Layout'!AB28=\"\",\"\",'Plate Layout'!AB28)","v":""},{"$f":"IF(OFFSET('Plate Layout'!O102,0,0,1,1)=\"\",\"\",OFFSET('Plate Layout'!O102,0,0,1,1))","v":""}]
[{"$f":"IF('Plate Layout'!$D$8=\"\",\"\",'Plate Layout'!$D$8)","v":""},"N14",{"$f":"IF('Plate Layout'!AC28=\"\",\"\",'Plate Layout'!AC28)","v":""},{"$f":"IF('Plate Layout'!AD28=\"\",\"\",'Plate Layout'!AD28)","v":""},{"$f":"IF(OFFSET('Plate Layout'!P102,0,0,1,1)=\"\",\"\",OFFSET('Plate Layout'!P102,0,0,1,1))","v":""}]
[{"$f":"IF('Plate Layout'!$D$8=\"\",\"\",'Plate Layout'!$D$8)","v":""},"N15",{"$f":"IF('Plate Layout'!AE28=\"\",\"\",'Plate Layout'!AE28)","v":""},{"$f":"IF('Plate Layout'!AF28=\"\",\"\",'Plate Layout'!AF28)","v":""},{"$f":"IF(OFFSET('Plate Layout'!Q102,0,0,1,1)=\"\",\"\",OFFSET('Plate Layout'!Q102,0,0,1,1))","v":""}]
[{"$f":"IF('Plate Layout'!$D$8=\"\",\"\",'Plate Layout'!$D$8)","v":""},"N16",{"$f":"IF('Plate Layout'!AG28=\"\",\"\",'Plate Layout'!AG28)","v":""},{"$f":"IF('Plate Layout'!AH28=\"\",\"\",'Plate Layout'!AH28)","v":""},{"$f":"IF(OFFSET('Plate Layout'!R102,0,0,1,1)=\"\",\"\",OFFSET('Plate Layout'!R102,0,0,1,1))","v":""}]
[{"$f":"IF('Plate Layout'!$D$8=\"\",\"\",'Plate Layout'!$D$8)","v":""},"N17",{"$f":"IF('Plate Layout'!AI28=\"\",\"\",'Plate Layout'!AI28)","v":""},{"$f":"IF('Plate Layout'!AJ28=\"\",\"\",'Plate Layout'!AJ28)","v":""},{"$f":"IF(OFFSET('Plate Layout'!S102,0,0,1,1)=\"\",\"\",OFFSET('Plate Layout'!S102,0,0,1,1))","v":""}]
[{"$f":"IF('Plate Layout'!$D$8=\"\",\"\",'Plate Layout'!$D$8)","v":""},"N18",{"$f":"IF('Plate Layout'!AK28=\"\",\"\",'Plate Layout'!AK28)","v":""},{"$f":"IF('Plate Layout'!AL28=\"\",\"\",'Plate Layout'!AL28)","v":""},{"$f":"IF(OFFSET('Plate Layout'!T102,0,0,1,1)=\"\",\"\",OFFSET('Plate Layout'!T102,0,0,1,1))","v":""}]
[{"$f":"IF('Plate Layout'!$D$8=\"\",\"\",'Plate Layout'!$D$8)","v":""},"N19",{"$f":"IF('Plate Layout'!AM28=\"\",\"\",'Plate Layout'!AM28)","v":""},{"$f":"IF('Plate Layout'!AN28=\"\",\"\",'Plate Layout'!AN28)","v":""},{"$f":"IF(OFFSET('Plate Layout'!U102,0,0,1,1)=\"\",\"\",OFFSET('Plate Layout'!U102,0,0,1,1))","v":""}]
[{"$f":"IF('Plate Layout'!$D$8=\"\",\"\",'Plate Layout'!$D$8)","v":""},"N20",{"$f":"IF('Plate Layout'!AO28=\"\",\"\",'Plate Layout'!AO28)","v":""},{"$f":"IF('Plate Layout'!AP28=\"\",\"\",'Plate Layout'!AP28)","v":""},{"$f":"IF(OFFSET('Plate Layout'!V102,0,0,1,1)=\"\",\"\",OFFSET('Plate Layout'!V102,0,0,1,1))","v":""}]
[{"$f":"IF('Plate Layout'!$D$8=\"\",\"\",'Plate Layout'!$D$8)","v":""},"N21",{"$f":"IF('Plate Layout'!AQ28=\"\",\"\",'Plate Layout'!AQ28)","v":""},{"$f":"IF('Plate Layout'!AR28=\"\",\"\",'Plate Layout'!AR28)","v":""},{"$f":"IF(OFFSET('Plate Layout'!W102,0,0,1,1)=\"\",\"\",OFFSET('Plate Layout'!W102,0,0,1,1))","v":""}]
[{"$f":"IF('Plate Layout'!$D$8=\"\",\"\",'Plate Layout'!$D$8)","v":""},"N22",{"$f":"IF('Plate Layout'!AS28=\"\",\"\",'Plate Layout'!AS28)","v":""},{"$f":"IF('Plate Layout'!AT28=\"\",\"\",'Plate Layout'!AT28)","v":""},{"$f":"IF(OFFSET('Plate Layout'!X102,0,0,1,1)=\"\",\"\",OFFSET('Plate Layout'!X102,0,0,1,1))","v":""}]
[{"$f":"IF('Plate Layout'!$D$8=\"\",\"\",'Plate Layout'!$D$8)","v":""},"N23",{"$f":"IF('Plate Layout'!AU28=\"\",\"\",'Plate Layout'!AU28)","v":""},{"$f":"IF('Plate Layout'!AV28=\"\",\"\",'Plate Layout'!AV28)","v":""},{"$f":"IF(OFFSET('Plate Layout'!Y102,0,0,1,1)=\"\",\"\",OFFSET('Plate Layout'!Y102,0,0,1,1))","v":""}]
[{"$f":"IF('Plate Layout'!$D$8=\"\",\"\",'Plate Layout'!$D$8)","v":""},"N24",{"$f":"IF('Plate Layout'!AW28=\"\",\"\",'Plate Layout'!AW28)","v":""},{"$f":"IF('Plate Layout'!AX28=\"\",\"\",'Plate Layout'!AX28)","v":""},{"$f":"IF(OFFSET('Plate Layout'!Z102,0,0,1,1)=\"\",\"\",OFFSET('Plate Layout'!Z102,0,0,1,1))","v":""}]
[{"$f":"IF('Plate Layout'!$D$8=\"\",\"\",'Plate Layout'!$D$8)","v":""},"N25",{"$f":"IF('Plate Layout'!AY28=\"\",\"\",'Plate Layout'!AY28)","v":""},{"$f":"IF('Plate Layout'!AZ28=\"\",\"\",'Plate Layout'!AZ28)","v":""},{"$f":"IF(OFFSET('Plate Layout'!AA102,0,0,1,1)=\"\",\"\",OFFSET('Plate Layout'!AA102,0,0,1,1))","v":""}]
[{"$f":"IF('Plate Layout'!$D$8=\"\",\"\",'Plate Layout'!$D$8)","v":""},"N26",{"$f":"IF('Plate Layout'!BA28=\"\",\"\",'Plate Layout'!BA28)","v":""},{"$f":"IF('Plate Layout'!BB28=\"\",\"\",'Plate Layout'!BB28)","v":""},{"$f":"IF(OFFSET('Plate Layout'!AB102,0,0,1,1)=\"\",\"\",OFFSET('Plate Layout'!AB102,0,0,1,1))","v":""}]
[{"$f":"IF('Plate Layout'!$D$8=\"\",\"\",'Plate Layout'!$D$8)","v":""},"N27",{"$f":"IF('Plate Layout'!BC28=\"\",\"\",'Plate Layout'!BC28)","v":""},{"$f":"IF('Plate Layout'!BD28=\"\",\"\",'Plate Layout'!BD28)","v":""},{"$f":"IF(OFFSET('Plate Layout'!AC102,0,0,1,1)=\"\",\"\",OFFSET('Plate Layout'!AC102,0,0,1,1))","v":""}]
[{"$f":"IF('Plate Layout'!$D$8=\"\",\"\",'Plate Layout'!$D$8)","v":""},"N28",{"$f":"IF('Plate Layout'!BE28=\"\",\"\",'Plate Layout'!BE28)","v":""},{"$f":"IF('Plate Layout'!BF28=\"\",\"\",'Plate Layout'!BF28)","v":""},{"$f":"IF(OFFSET('Plate Layout'!AD102,0,0,1,1)=\"\",\"\",OFFSET('Plate Layout'!AD102,0,0,1,1))","v":""}]
[{"$f":"IF('Plate Layout'!$D$8=\"\",\"\",'Plate Layout'!$D$8)","v":""},"N29",{"$f":"IF('Plate Layout'!BG28=\"\",\"\",'Plate Layout'!BG28)","v":""},{"$f":"IF('Plate Layout'!BH28=\"\",\"\",'Plate Layout'!BH28)","v":""},{"$f":"IF(OFFSET('Plate Layout'!AE102,0,0,1,1)=\"\",\"\",OFFSET('Plate Layout'!AE102,0,0,1,1))","v":""}]
[{"$f":"IF('Plate Layout'!$D$8=\"\",\"\",'Plate Layout'!$D$8)","v":""},"N30",{"$f":"IF('Plate Layout'!BI28=\"\",\"\",'Plate Layout'!BI28)","v":""},{"$f":"IF('Plate Layout'!BJ28=\"\",\"\",'Plate Layout'!BJ28)","v":""},{"$f":"IF(OFFSET('Plate Layout'!AF102,0,0,1,1)=\"\",\"\",OFFSET('Plate Layout'!AF102,0,0,1,1))","v":""}]
[{"$f":"IF('Plate Layout'!$D$8=\"\",\"\",'Plate Layout'!$D$8)","v":""},"N31",{"$f":"IF('Plate Layout'!BK28=\"\",\"\",'Plate Layout'!BK28)","v":""},{"$f":"IF('Plate Layout'!BL28=\"\",\"\",'Plate Layout'!BL28)","v":""},{"$f":"IF(OFFSET('Plate Layout'!AG102,0,0,1,1)=\"\",\"\",OFFSET('Plate Layout'!AG102,0,0,1,1))","v":""}]
[{"$f":"IF('Plate Layout'!$D$8=\"\",\"\",'Plate Layout'!$D$8)","v":""},"N32",{"$f":"IF('Plate Layout'!BM28=\"\",\"\",'Plate Layout'!BM28)","v":""},{"$f":"IF('Plate Layout'!BN28=\"\",\"\",'Plate Layout'!BN28)","v":""},{"$f":"IF(OFFSET('Plate Layout'!AH102,0,0,1,1)=\"\",\"\",OFFSET('Plate Layout'!AH102,0,0,1,1))","v":""}]
[{"$f":"IF('Plate Layout'!$D$8=\"\",\"\",'Plate Layout'!$D$8)","v":""},"N33",{"$f":"IF('Plate Layout'!BO28=\"\",\"\",'Plate Layout'!BO28)","v":""},{"$f":"IF('Plate Layout'!BP28=\"\",\"\",'Plate Layout'!BP28)","v":""},{"$f":"IF(OFFSET('Plate Layout'!AI102,0,0,1,1)=\"\",\"\",OFFSET('Plate Layout'!AI102,0,0,1,1))","v":""}]
[{"$f":"IF('Plate Layout'!$D$8=\"\",\"\",'Plate Layout'!$D$8)","v":""},"N34",{"$f":"IF('Plate Layout'!BQ28=\"\",\"\",'Plate Layout'!BQ28)","v":""},{"$f":"IF('Plate Layout'!BR28=\"\",\"\",'Plate Layout'!BR28)","v":""},{"$f":"IF(OFFSET('Plate Layout'!AJ102,0,0,1,1)=\"\",\"\",OFFSET('Plate Layout'!AJ102,0,0,1,1))","v":""}]
[{"$f":"IF('Plate Layout'!$D$8=\"\",\"\",'Plate Layout'!$D$8)","v":""},"N35",{"$f":"IF('Plate Layout'!BS28=\"\",\"\",'Plate Layout'!BS28)","v":""},{"$f":"IF('Plate Layout'!BT28=\"\",\"\",'Plate Layout'!BT28)","v":""},{"$f":"IF(OFFSET('Plate Layout'!AK102,0,0,1,1)=\"\",\"\",OFFSET('Plate Layout'!AK102,0,0,1,1))","v":""}]
[{"$f":"IF('Plate Layout'!$D$8=\"\",\"\",'Plate Layout'!$D$8)","v":""},"N36",{"$f":"IF('Plate Layout'!BU28=\"\",\"\",'Plate Layout'!BU28)","v":""},{"$f":"IF('Plate Layout'!BV28=\"\",\"\",'Plate Layout'!BV28)","v":""},{"$f":"IF(OFFSET('Plate Layout'!AL102,0,0,1,1)=\"\",\"\",OFFSET('Plate Layout'!AL102,0,0,1,1))","v":""}]
[{"$f":"IF('Plate Layout'!$D$8=\"\",\"\",'Plate Layout'!$D$8)","v":""},"N37",{"$f":"IF('Plate Layout'!BW28=\"\",\"\",'Plate Layout'!BW28)","v":""},{"$f":"IF('Plate Layout'!BX28=\"\",\"\",'Plate Layout'!BX28)","v":""},{"$f":"IF(OFFSET('Plate Layout'!AM102,0,0,1,1)=\"\",\"\",OFFSET('Plate Layout'!AM102,0,0,1,1))","v":""}]
[{"$f":"IF('Plate Layout'!$D$8=\"\",\"\",'Plate Layout'!$D$8)","v":""},"N38",{"$f":"IF('Plate Layout'!BY28=\"\",\"\",'Plate Layout'!BY28)","v":""},{"$f":"IF('Plate Layout'!BZ28=\"\",\"\",'Plate Layout'!BZ28)","v":""},{"$f":"IF(OFFSET('Plate Layout'!AN102,0,0,1,1)=\"\",\"\",OFFSET('Plate Layout'!AN102,0,0,1,1))","v":""}]
[{"$f":"IF('Plate Layout'!$D$8=\"\",\"\",'Plate Layout'!$D$8)","v":""},"N39",{"$f":"IF('Plate Layout'!CA28=\"\",\"\",'Plate Layout'!CA28)","v":""},{"$f":"IF('Plate Layout'!CB28=\"\",\"\",'Plate Layout'!CB28)","v":""},{"$f":"IF(OFFSET('Plate Layout'!AO102,0,0,1,1)=\"\",\"\",OFFSET('Plate Layout'!AO102,0,0,1,1))","v":""}]
[{"$f":"IF('Plate Layout'!$D$8=\"\",\"\",'Plate Layout'!$D$8)","v":""},"N40",{"$f":"IF('Plate Layout'!CC28=\"\",\"\",'Plate Layout'!CC28)","v":""},{"$f":"IF('Plate Layout'!CD28=\"\",\"\",'Plate Layout'!CD28)","v":""},{"$f":"IF(OFFSET('Plate Layout'!AP102,0,0,1,1)=\"\",\"\",OFFSET('Plate Layout'!AP102,0,0,1,1))","v":""}]
[{"$f":"IF('Plate Layout'!$D$8=\"\",\"\",'Plate Layout'!$D$8)","v":""},"N41",{"$f":"IF('Plate Layout'!CE28=\"\",\"\",'Plate Layout'!CE28)","v":""},{"$f":"IF('Plate Layout'!CF28=\"\",\"\",'Plate Layout'!CF28)","v":""},{"$f":"IF(OFFSET('Plate Layout'!AQ102,0,0,1,1)=\"\",\"\",OFFSET('Plate Layout'!AQ102,0,0,1,1))","v":""}]
[{"$f":"IF('Plate Layout'!$D$8=\"\",\"\",'Plate Layout'!$D$8)","v":""},"N42",{"$f":"IF('Plate Layout'!CG28=\"\",\"\",'Plate Layout'!CG28)","v":""},{"$f":"IF('Plate Layout'!CH28=\"\",\"\",'Plate Layout'!CH28)","v":""},{"$f":"IF(OFFSET('Plate Layout'!AR102,0,0,1,1)=\"\",\"\",OFFSET('Plate Layout'!AR102,0,0,1,1))","v":""}]
[{"$f":"IF('Plate Layout'!$D$8=\"\",\"\",'Plate Layout'!$D$8)","v":""},"N43",{"$f":"IF('Plate Layout'!CI28=\"\",\"\",'Plate Layout'!CI28)","v":""},{"$f":"IF('Plate Layout'!CJ28=\"\",\"\",'Plate Layout'!CJ28)","v":""},{"$f":"IF(OFFSET('Plate Layout'!AS102,0,0,1,1)=\"\",\"\",OFFSET('Plate Layout'!AS102,0,0,1,1))","v":""}]
[{"$f":"IF('Plate Layout'!$D$8=\"\",\"\",'Plate Layout'!$D$8)","v":""},"N44",{"$f":"IF('Plate Layout'!CK28=\"\",\"\",'Plate Layout'!CK28)","v":""},{"$f":"IF('Plate Layout'!CL28=\"\",\"\",'Plate Layout'!CL28)","v":""},{"$f":"IF(OFFSET('Plate Layout'!AT102,0,0,1,1)=\"\",\"\",OFFSET('Plate Layout'!AT102,0,0,1,1))","v":""}]
[{"$f":"IF('Plate Layout'!$D$8=\"\",\"\",'Plate Layout'!$D$8)","v":""},"N45",{"$f":"IF('Plate Layout'!CM28=\"\",\"\",'Plate Layout'!CM28)","v":""},{"$f":"IF('Plate Layout'!CN28=\"\",\"\",'Plate Layout'!CN28)","v":""},{"$f":"IF(OFFSET('Plate Layout'!AU102,0,0,1,1)=\"\",\"\",OFFSET('Plate Layout'!AU102,0,0,1,1))","v":""}]
[{"$f":"IF('Plate Layout'!$D$8=\"\",\"\",'Plate Layout'!$D$8)","v":""},"N46",{"$f":"IF('Plate Layout'!CO28=\"\",\"\",'Plate Layout'!CO28)","v":""},{"$f":"IF('Plate Layout'!CP28=\"\",\"\",'Plate Layout'!CP28)","v":""},{"$f":"IF(OFFSET('Plate Layout'!AV102,0,0,1,1)=\"\",\"\",OFFSET('Plate Layout'!AV102,0,0,1,1))","v":""}]
[{"$f":"IF('Plate Layout'!$D$8=\"\",\"\",'Plate Layout'!$D$8)","v":""},"N47",{"$f":"IF('Plate Layout'!CQ28=\"\",\"\",'Plate Layout'!CQ28)","v":""},{"$f":"IF('Plate Layout'!CR28=\"\",\"\",'Plate Layout'!CR28)","v":""},{"$f":"IF(OFFSET('Plate Layout'!AW102,0,0,1,1)=\"\",\"\",OFFSET('Plate Layout'!AW102,0,0,1,1))","v":""}]
[{"$f":"IF('Plate Layout'!$D$8=\"\",\"\",'Plate Layout'!$D$8)","v":""},"N48",{"$f":"IF('Plate Layout'!CS28=\"\",\"\",'Plate Layout'!CS28)","v":""},{"$f":"IF('Plate Layout'!CT28=\"\",\"\",'Plate Layout'!CT28)","v":""},{"$f":"IF(OFFSET('Plate Layout'!AX102,0,0,1,1)=\"\",\"\",OFFSET('Plate Layout'!AX102,0,0,1,1))","v":""}]
[{"$f":"IF('Plate Layout'!$D$8=\"\",\"\",'Plate Layout'!$D$8)","v":""},"O01",{"$f":"IF('Plate Layout'!C29=\"\",\"\",'Plate Layout'!C29)","v":""},{"$f":"IF('Plate Layout'!D29=\"\",\"\",'Plate Layout'!D29)","v":""},{"$f":"IF(OFFSET('Plate Layout'!C103,0,0,1,1)=\"\",\"\",OFFSET('Plate Layout'!C103,0,0,1,1))","v":""}]
[{"$f":"IF('Plate Layout'!$D$8=\"\",\"\",'Plate Layout'!$D$8)","v":""},"O02",{"$f":"IF('Plate Layout'!E29=\"\",\"\",'Plate Layout'!E29)","v":""},{"$f":"IF('Plate Layout'!F29=\"\",\"\",'Plate Layout'!F29)","v":""},{"$f":"IF(OFFSET('Plate Layout'!D103,0,0,1,1)=\"\",\"\",OFFSET('Plate Layout'!D103,0,0,1,1))","v":""}]
[{"$f":"IF('Plate Layout'!$D$8=\"\",\"\",'Plate Layout'!$D$8)","v":""},"O03",{"$f":"IF('Plate Layout'!G29=\"\",\"\",'Plate Layout'!G29)","v":""},{"$f":"IF('Plate Layout'!H29=\"\",\"\",'Plate Layout'!H29)","v":""},{"$f":"IF(OFFSET('Plate Layout'!E103,0,0,1,1)=\"\",\"\",OFFSET('Plate Layout'!E103,0,0,1,1))","v":""}]
[{"$f":"IF('Plate Layout'!$D$8=\"\",\"\",'Plate Layout'!$D$8)","v":""},"O04",{"$f":"IF('Plate Layout'!I29=\"\",\"\",'Plate Layout'!I29)","v":""},{"$f":"IF('Plate Layout'!J29=\"\",\"\",'Plate Layout'!J29)","v":""},{"$f":"IF(OFFSET('Plate Layout'!F103,0,0,1,1)=\"\",\"\",OFFSET('Plate Layout'!F103,0,0,1,1))","v":""}]
[{"$f":"IF('Plate Layout'!$D$8=\"\",\"\",'Plate Layout'!$D$8)","v":""},"O05",{"$f":"IF('Plate Layout'!K29=\"\",\"\",'Plate Layout'!K29)","v":""},{"$f":"IF('Plate Layout'!L29=\"\",\"\",'Plate Layout'!L29)","v":""},{"$f":"IF(OFFSET('Plate Layout'!G103,0,0,1,1)=\"\",\"\",OFFSET('Plate Layout'!G103,0,0,1,1))","v":""}]
[{"$f":"IF('Plate Layout'!$D$8=\"\",\"\",'Plate Layout'!$D$8)","v":""},"O06",{"$f":"IF('Plate Layout'!M29=\"\",\"\",'Plate Layout'!M29)","v":""},{"$f":"IF('Plate Layout'!N29=\"\",\"\",'Plate Layout'!N29)","v":""},{"$f":"IF(OFFSET('Plate Layout'!H103,0,0,1,1)=\"\",\"\",OFFSET('Plate Layout'!H103,0,0,1,1))","v":""}]
[{"$f":"IF('Plate Layout'!$D$8=\"\",\"\",'Plate Layout'!$D$8)","v":""},"O07",{"$f":"IF('Plate Layout'!O29=\"\",\"\",'Plate Layout'!O29)","v":""},{"$f":"IF('Plate Layout'!P29=\"\",\"\",'Plate Layout'!P29)","v":""},{"$f":"IF(OFFSET('Plate Layout'!I103,0,0,1,1)=\"\",\"\",OFFSET('Plate Layout'!I103,0,0,1,1))","v":""}]
[{"$f":"IF('Plate Layout'!$D$8=\"\",\"\",'Plate Layout'!$D$8)","v":""},"O08",{"$f":"IF('Plate Layout'!Q29=\"\",\"\",'Plate Layout'!Q29)","v":""},{"$f":"IF('Plate Layout'!R29=\"\",\"\",'Plate Layout'!R29)","v":""},{"$f":"IF(OFFSET('Plate Layout'!J103,0,0,1,1)=\"\",\"\",OFFSET('Plate Layout'!J103,0,0,1,1))","v":""}]
[{"$f":"IF('Plate Layout'!$D$8=\"\",\"\",'Plate Layout'!$D$8)","v":""},"O09",{"$f":"IF('Plate Layout'!S29=\"\",\"\",'Plate Layout'!S29)","v":""},{"$f":"IF('Plate Layout'!T29=\"\",\"\",'Plate Layout'!T29)","v":""},{"$f":"IF(OFFSET('Plate Layout'!K103,0,0,1,1)=\"\",\"\",OFFSET('Plate Layout'!K103,0,0,1,1))","v":""}]
[{"$f":"IF('Plate Layout'!$D$8=\"\",\"\",'Plate Layout'!$D$8)","v":""},"O10",{"$f":"IF('Plate Layout'!U29=\"\",\"\",'Plate Layout'!U29)","v":""},{"$f":"IF('Plate Layout'!V29=\"\",\"\",'Plate Layout'!V29)","v":""},{"$f":"IF(OFFSET('Plate Layout'!L103,0,0,1,1)=\"\",\"\",OFFSET('Plate Layout'!L103,0,0,1,1))","v":""}]
[{"$f":"IF('Plate Layout'!$D$8=\"\",\"\",'Plate Layout'!$D$8)","v":""},"O11",{"$f":"IF('Plate Layout'!W29=\"\",\"\",'Plate Layout'!W29)","v":""},{"$f":"IF('Plate Layout'!X29=\"\",\"\",'Plate Layout'!X29)","v":""},{"$f":"IF(OFFSET('Plate Layout'!M103,0,0,1,1)=\"\",\"\",OFFSET('Plate Layout'!M103,0,0,1,1))","v":""}]
[{"$f":"IF('Plate Layout'!$D$8=\"\",\"\",'Plate Layout'!$D$8)","v":""},"O12",{"$f":"IF('Plate Layout'!Y29=\"\",\"\",'Plate Layout'!Y29)","v":""},{"$f":"IF('Plate Layout'!Z29=\"\",\"\",'Plate Layout'!Z29)","v":""},{"$f":"IF(OFFSET('Plate Layout'!N103,0,0,1,1)=\"\",\"\",OFFSET('Plate Layout'!N103,0,0,1,1))","v":""}]
[{"$f":"IF('Plate Layout'!$D$8=\"\",\"\",'Plate Layout'!$D$8)","v":""},"O13",{"$f":"IF('Plate Layout'!AA29=\"\",\"\",'Plate Layout'!AA29)","v":""},{"$f":"IF('Plate Layout'!AB29=\"\",\"\",'Plate Layout'!AB29)","v":""},{"$f":"IF(OFFSET('Plate Layout'!O103,0,0,1,1)=\"\",\"\",OFFSET('Plate Layout'!O103,0,0,1,1))","v":""}]
[{"$f":"IF('Plate Layout'!$D$8=\"\",\"\",'Plate Layout'!$D$8)","v":""},"O14",{"$f":"IF('Plate Layout'!AC29=\"\",\"\",'Plate Layout'!AC29)","v":""},{"$f":"IF('Plate Layout'!AD29=\"\",\"\",'Plate Layout'!AD29)","v":""},{"$f":"IF(OFFSET('Plate Layout'!P103,0,0,1,1)=\"\",\"\",OFFSET('Plate Layout'!P103,0,0,1,1))","v":""}]
[{"$f":"IF('Plate Layout'!$D$8=\"\",\"\",'Plate Layout'!$D$8)","v":""},"O15",{"$f":"IF('Plate Layout'!AE29=\"\",\"\",'Plate Layout'!AE29)","v":""},{"$f":"IF('Plate Layout'!AF29=\"\",\"\",'Plate Layout'!AF29)","v":""},{"$f":"IF(OFFSET('Plate Layout'!Q103,0,0,1,1)=\"\",\"\",OFFSET('Plate Layout'!Q103,0,0,1,1))","v":""}]
[{"$f":"IF('Plate Layout'!$D$8=\"\",\"\",'Plate Layout'!$D$8)","v":""},"O16",{"$f":"IF('Plate Layout'!AG29=\"\",\"\",'Plate Layout'!AG29)","v":""},{"$f":"IF('Plate Layout'!AH29=\"\",\"\",'Plate Layout'!AH29)","v":""},{"$f":"IF(OFFSET('Plate Layout'!R103,0,0,1,1)=\"\",\"\",OFFSET('Plate Layout'!R103,0,0,1,1))","v":""}]
[{"$f":"IF('Plate Layout'!$D$8=\"\",\"\",'Plate Layout'!$D$8)","v":""},"O17",{"$f":"IF('Plate Layout'!AI29=\"\",\"\",'Plate Layout'!AI29)","v":""},{"$f":"IF('Plate Layout'!AJ29=\"\",\"\",'Plate Layout'!AJ29)","v":""},{"$f":"IF(OFFSET('Plate Layout'!S103,0,0,1,1)=\"\",\"\",OFFSET('Plate Layout'!S103,0,0,1,1))","v":""}]
[{"$f":"IF('Plate Layout'!$D$8=\"\",\"\",'Plate Layout'!$D$8)","v":""},"O18",{"$f":"IF('Plate Layout'!AK29=\"\",\"\",'Plate Layout'!AK29)","v":""},{"$f":"IF('Plate Layout'!AL29=\"\",\"\",'Plate Layout'!AL29)","v":""},{"$f":"IF(OFFSET('Plate Layout'!T103,0,0,1,1)=\"\",\"\",OFFSET('Plate Layout'!T103,0,0,1,1))","v":""}]
[{"$f":"IF('Plate Layout'!$D$8=\"\",\"\",'Plate Layout'!$D$8)","v":""},"O19",{"$f":"IF('Plate Layout'!AM29=\"\",\"\",'Plate Layout'!AM29)","v":""},{"$f":"IF('Plate Layout'!AN29=\"\",\"\",'Plate Layout'!AN29)","v":""},{"$f":"IF(OFFSET('Plate Layout'!U103,0,0,1,1)=\"\",\"\",OFFSET('Plate Layout'!U103,0,0,1,1))","v":""}]
[{"$f":"IF('Plate Layout'!$D$8=\"\",\"\",'Plate Layout'!$D$8)","v":""},"O20",{"$f":"IF('Plate Layout'!AO29=\"\",\"\",'Plate Layout'!AO29)","v":""},{"$f":"IF('Plate Layout'!AP29=\"\",\"\",'Plate Layout'!AP29)","v":""},{"$f":"IF(OFFSET('Plate Layout'!V103,0,0,1,1)=\"\",\"\",OFFSET('Plate Layout'!V103,0,0,1,1))","v":""}]
[{"$f":"IF('Plate Layout'!$D$8=\"\",\"\",'Plate Layout'!$D$8)","v":""},"O21",{"$f":"IF('Plate Layout'!AQ29=\"\",\"\",'Plate Layout'!AQ29)","v":""},{"$f":"IF('Plate Layout'!AR29=\"\",\"\",'Plate Layout'!AR29)","v":""},{"$f":"IF(OFFSET('Plate Layout'!W103,0,0,1,1)=\"\",\"\",OFFSET('Plate Layout'!W103,0,0,1,1))","v":""}]
[{"$f":"IF('Plate Layout'!$D$8=\"\",\"\",'Plate Layout'!$D$8)","v":""},"O22",{"$f":"IF('Plate Layout'!AS29=\"\",\"\",'Plate Layout'!AS29)","v":""},{"$f":"IF('Plate Layout'!AT29=\"\",\"\",'Plate Layout'!AT29)","v":""},{"$f":"IF(OFFSET('Plate Layout'!X103,0,0,1,1)=\"\",\"\",OFFSET('Plate Layout'!X103,0,0,1,1))","v":""}]
[{"$f":"IF('Plate Layout'!$D$8=\"\",\"\",'Plate Layout'!$D$8)","v":""},"O23",{"$f":"IF('Plate Layout'!AU29=\"\",\"\",'Plate Layout'!AU29)","v":""},{"$f":"IF('Plate Layout'!AV29=\"\",\"\",'Plate Layout'!AV29)","v":""},{"$f":"IF(OFFSET('Plate Layout'!Y103,0,0,1,1)=\"\",\"\",OFFSET('Plate Layout'!Y103,0,0,1,1))","v":""}]
[{"$f":"IF('Plate Layout'!$D$8=\"\",\"\",'Plate Layout'!$D$8)","v":""},"O24",{"$f":"IF('Plate Layout'!AW29=\"\",\"\",'Plate Layout'!AW29)","v":""},{"$f":"IF('Plate Layout'!AX29=\"\",\"\",'Plate Layout'!AX29)","v":""},{"$f":"IF(OFFSET('Plate Layout'!Z103,0,0,1,1)=\"\",\"\",OFFSET('Plate Layout'!Z103,0,0,1,1))","v":""}]
[{"$f":"IF('Plate Layout'!$D$8=\"\",\"\",'Plate Layout'!$D$8)","v":""},"O25",{"$f":"IF('Plate Layout'!AY29=\"\",\"\",'Plate Layout'!AY29)","v":""},{"$f":"IF('Plate Layout'!AZ29=\"\",\"\",'Plate Layout'!AZ29)","v":""},{"$f":"IF(OFFSET('Plate Layout'!AA103,0,0,1,1)=\"\",\"\",OFFSET('Plate Layout'!AA103,0,0,1,1))","v":""}]
[{"$f":"IF('Plate Layout'!$D$8=\"\",\"\",'Plate Layout'!$D$8)","v":""},"O26",{"$f":"IF('Plate Layout'!BA29=\"\",\"\",'Plate Layout'!BA29)","v":""},{"$f":"IF('Plate Layout'!BB29=\"\",\"\",'Plate Layout'!BB29)","v":""},{"$f":"IF(OFFSET('Plate Layout'!AB103,0,0,1,1)=\"\",\"\",OFFSET('Plate Layout'!AB103,0,0,1,1))","v":""}]
[{"$f":"IF('Plate Layout'!$D$8=\"\",\"\",'Plate Layout'!$D$8)","v":""},"O27",{"$f":"IF('Plate Layout'!BC29=\"\",\"\",'Plate Layout'!BC29)","v":""},{"$f":"IF('Plate Layout'!BD29=\"\",\"\",'Plate Layout'!BD29)","v":""},{"$f":"IF(OFFSET('Plate Layout'!AC103,0,0,1,1)=\"\",\"\",OFFSET('Plate Layout'!AC103,0,0,1,1))","v":""}]
[{"$f":"IF('Plate Layout'!$D$8=\"\",\"\",'Plate Layout'!$D$8)","v":""},"O28",{"$f":"IF('Plate Layout'!BE29=\"\",\"\",'Plate Layout'!BE29)","v":""},{"$f":"IF('Plate Layout'!BF29=\"\",\"\",'Plate Layout'!BF29)","v":""},{"$f":"IF(OFFSET('Plate Layout'!AD103,0,0,1,1)=\"\",\"\",OFFSET('Plate Layout'!AD103,0,0,1,1))","v":""}]
[{"$f":"IF('Plate Layout'!$D$8=\"\",\"\",'Plate Layout'!$D$8)","v":""},"O29",{"$f":"IF('Plate Layout'!BG29=\"\",\"\",'Plate Layout'!BG29)","v":""},{"$f":"IF('Plate Layout'!BH29=\"\",\"\",'Plate Layout'!BH29)","v":""},{"$f":"IF(OFFSET('Plate Layout'!AE103,0,0,1,1)=\"\",\"\",OFFSET('Plate Layout'!AE103,0,0,1,1))","v":""}]
[{"$f":"IF('Plate Layout'!$D$8=\"\",\"\",'Plate Layout'!$D$8)","v":""},"O30",{"$f":"IF('Plate Layout'!BI29=\"\",\"\",'Plate Layout'!BI29)","v":""},{"$f":"IF('Plate Layout'!BJ29=\"\",\"\",'Plate Layout'!BJ29)","v":""},{"$f":"IF(OFFSET('Plate Layout'!AF103,0,0,1,1)=\"\",\"\",OFFSET('Plate Layout'!AF103,0,0,1,1))","v":""}]
[{"$f":"IF('Plate Layout'!$D$8=\"\",\"\",'Plate Layout'!$D$8)","v":""},"O31",{"$f":"IF('Plate Layout'!BK29=\"\",\"\",'Plate Layout'!BK29)","v":""},{"$f":"IF('Plate Layout'!BL29=\"\",\"\",'Plate Layout'!BL29)","v":""},{"$f":"IF(OFFSET('Plate Layout'!AG103,0,0,1,1)=\"\",\"\",OFFSET('Plate Layout'!AG103,0,0,1,1))","v":""}]
[{"$f":"IF('Plate Layout'!$D$8=\"\",\"\",'Plate Layout'!$D$8)","v":""},"O32",{"$f":"IF('Plate Layout'!BM29=\"\",\"\",'Plate Layout'!BM29)","v":""},{"$f":"IF('Plate Layout'!BN29=\"\",\"\",'Plate Layout'!BN29)","v":""},{"$f":"IF(OFFSET('Plate Layout'!AH103,0,0,1,1)=\"\",\"\",OFFSET('Plate Layout'!AH103,0,0,1,1))","v":""}]
[{"$f":"IF('Plate Layout'!$D$8=\"\",\"\",'Plate Layout'!$D$8)","v":""},"O33",{"$f":"IF('Plate Layout'!BO29=\"\",\"\",'Plate Layout'!BO29)","v":""},{"$f":"IF('Plate Layout'!BP29=\"\",\"\",'Plate Layout'!BP29)","v":""},{"$f":"IF(OFFSET('Plate Layout'!AI103,0,0,1,1)=\"\",\"\",OFFSET('Plate Layout'!AI103,0,0,1,1))","v":""}]
[{"$f":"IF('Plate Layout'!$D$8=\"\",\"\",'Plate Layout'!$D$8)","v":""},"O34",{"$f":"IF('Plate Layout'!BQ29=\"\",\"\",'Plate Layout'!BQ29)","v":""},{"$f":"IF('Plate Layout'!BR29=\"\",\"\",'Plate Layout'!BR29)","v":""},{"$f":"IF(OFFSET('Plate Layout'!AJ103,0,0,1,1)=\"\",\"\",OFFSET('Plate Layout'!AJ103,0,0,1,1))","v":""}]
[{"$f":"IF('Plate Layout'!$D$8=\"\",\"\",'Plate Layout'!$D$8)","v":""},"O35",{"$f":"IF('Plate Layout'!BS29=\"\",\"\",'Plate Layout'!BS29)","v":""},{"$f":"IF('Plate Layout'!BT29=\"\",\"\",'Plate Layout'!BT29)","v":""},{"$f":"IF(OFFSET('Plate Layout'!AK103,0,0,1,1)=\"\",\"\",OFFSET('Plate Layout'!AK103,0,0,1,1))","v":""}]
[{"$f":"IF('Plate Layout'!$D$8=\"\",\"\",'Plate Layout'!$D$8)","v":""},"O36",{"$f":"IF('Plate Layout'!BU29=\"\",\"\",'Plate Layout'!BU29)","v":""},{"$f":"IF('Plate Layout'!BV29=\"\",\"\",'Plate Layout'!BV29)","v":""},{"$f":"IF(OFFSET('Plate Layout'!AL103,0,0,1,1)=\"\",\"\",OFFSET('Plate Layout'!AL103,0,0,1,1))","v":""}]
[{"$f":"IF('Plate Layout'!$D$8=\"\",\"\",'Plate Layout'!$D$8)","v":""},"O37",{"$f":"IF('Plate Layout'!BW29=\"\",\"\",'Plate Layout'!BW29)","v":""},{"$f":"IF('Plate Layout'!BX29=\"\",\"\",'Plate Layout'!BX29)","v":""},{"$f":"IF(OFFSET('Plate Layout'!AM103,0,0,1,1)=\"\",\"\",OFFSET('Plate Layout'!AM103,0,0,1,1))","v":""}]
[{"$f":"IF('Plate Layout'!$D$8=\"\",\"\",'Plate Layout'!$D$8)","v":""},"O38",{"$f":"IF('Plate Layout'!BY29=\"\",\"\",'Plate Layout'!BY29)","v":""},{"$f":"IF('Plate Layout'!BZ29=\"\",\"\",'Plate Layout'!BZ29)","v":""},{"$f":"IF(OFFSET('Plate Layout'!AN103,0,0,1,1)=\"\",\"\",OFFSET('Plate Layout'!AN103,0,0,1,1))","v":""}]
[{"$f":"IF('Plate Layout'!$D$8=\"\",\"\",'Plate Layout'!$D$8)","v":""},"O39",{"$f":"IF('Plate Layout'!CA29=\"\",\"\",'Plate Layout'!CA29)","v":""},{"$f":"IF('Plate Layout'!CB29=\"\",\"\",'Plate Layout'!CB29)","v":""},{"$f":"IF(OFFSET('Plate Layout'!AO103,0,0,1,1)=\"\",\"\",OFFSET('Plate Layout'!AO103,0,0,1,1))","v":""}]
[{"$f":"IF('Plate Layout'!$D$8=\"\",\"\",'Plate Layout'!$D$8)","v":""},"O40",{"$f":"IF('Plate Layout'!CC29=\"\",\"\",'Plate Layout'!CC29)","v":""},{"$f":"IF('Plate Layout'!CD29=\"\",\"\",'Plate Layout'!CD29)","v":""},{"$f":"IF(OFFSET('Plate Layout'!AP103,0,0,1,1)=\"\",\"\",OFFSET('Plate Layout'!AP103,0,0,1,1))","v":""}]
[{"$f":"IF('Plate Layout'!$D$8=\"\",\"\",'Plate Layout'!$D$8)","v":""},"O41",{"$f":"IF('Plate Layout'!CE29=\"\",\"\",'Plate Layout'!CE29)","v":""},{"$f":"IF('Plate Layout'!CF29=\"\",\"\",'Plate Layout'!CF29)","v":""},{"$f":"IF(OFFSET('Plate Layout'!AQ103,0,0,1,1)=\"\",\"\",OFFSET('Plate Layout'!AQ103,0,0,1,1))","v":""}]
[{"$f":"IF('Plate Layout'!$D$8=\"\",\"\",'Plate Layout'!$D$8)","v":""},"O42",{"$f":"IF('Plate Layout'!CG29=\"\",\"\",'Plate Layout'!CG29)","v":""},{"$f":"IF('Plate Layout'!CH29=\"\",\"\",'Plate Layout'!CH29)","v":""},{"$f":"IF(OFFSET('Plate Layout'!AR103,0,0,1,1)=\"\",\"\",OFFSET('Plate Layout'!AR103,0,0,1,1))","v":""}]
[{"$f":"IF('Plate Layout'!$D$8=\"\",\"\",'Plate Layout'!$D$8)","v":""},"O43",{"$f":"IF('Plate Layout'!CI29=\"\",\"\",'Plate Layout'!CI29)","v":""},{"$f":"IF('Plate Layout'!CJ29=\"\",\"\",'Plate Layout'!CJ29)","v":""},{"$f":"IF(OFFSET('Plate Layout'!AS103,0,0,1,1)=\"\",\"\",OFFSET('Plate Layout'!AS103,0,0,1,1))","v":""}]
[{"$f":"IF('Plate Layout'!$D$8=\"\",\"\",'Plate Layout'!$D$8)","v":""},"O44",{"$f":"IF('Plate Layout'!CK29=\"\",\"\",'Plate Layout'!CK29)","v":""},{"$f":"IF('Plate Layout'!CL29=\"\",\"\",'Plate Layout'!CL29)","v":""},{"$f":"IF(OFFSET('Plate Layout'!AT103,0,0,1,1)=\"\",\"\",OFFSET('Plate Layout'!AT103,0,0,1,1))","v":""}]
[{"$f":"IF('Plate Layout'!$D$8=\"\",\"\",'Plate Layout'!$D$8)","v":""},"O45",{"$f":"IF('Plate Layout'!CM29=\"\",\"\",'Plate Layout'!CM29)","v":""},{"$f":"IF('Plate Layout'!CN29=\"\",\"\",'Plate Layout'!CN29)","v":""},{"$f":"IF(OFFSET('Plate Layout'!AU103,0,0,1,1)=\"\",\"\",OFFSET('Plate Layout'!AU103,0,0,1,1))","v":""}]
[{"$f":"IF('Plate Layout'!$D$8=\"\",\"\",'Plate Layout'!$D$8)","v":""},"O46",{"$f":"IF('Plate Layout'!CO29=\"\",\"\",'Plate Layout'!CO29)","v":""},{"$f":"IF('Plate Layout'!CP29=\"\",\"\",'Plate Layout'!CP29)","v":""},{"$f":"IF(OFFSET('Plate Layout'!AV103,0,0,1,1)=\"\",\"\",OFFSET('Plate Layout'!AV103,0,0,1,1))","v":""}]
[{"$f":"IF('Plate Layout'!$D$8=\"\",\"\",'Plate Layout'!$D$8)","v":""},"O47",{"$f":"IF('Plate Layout'!CQ29=\"\",\"\",'Plate Layout'!CQ29)","v":""},{"$f":"IF('Plate Layout'!CR29=\"\",\"\",'Plate Layout'!CR29)","v":""},{"$f":"IF(OFFSET('Plate Layout'!AW103,0,0,1,1)=\"\",\"\",OFFSET('Plate Layout'!AW103,0,0,1,1))","v":""}]
[{"$f":"IF('Plate Layout'!$D$8=\"\",\"\",'Plate Layout'!$D$8)","v":""},"O48",{"$f":"IF('Plate Layout'!CS29=\"\",\"\",'Plate Layout'!CS29)","v":""},{"$f":"IF('Plate Layout'!CT29=\"\",\"\",'Plate Layout'!CT29)","v":""},{"$f":"IF(OFFSET('Plate Layout'!AX103,0,0,1,1)=\"\",\"\",OFFSET('Plate Layout'!AX103,0,0,1,1))","v":""}]
[{"$f":"IF('Plate Layout'!$D$8=\"\",\"\",'Plate Layout'!$D$8)","v":""},"P01",{"$f":"IF('Plate Layout'!C30=\"\",\"\",'Plate Layout'!C30)","v":""},{"$f":"IF('Plate Layout'!D30=\"\",\"\",'Plate Layout'!D30)","v":""},{"$f":"IF(OFFSET('Plate Layout'!C104,0,0,1,1)=\"\",\"\",OFFSET('Plate Layout'!C104,0,0,1,1))","v":""}]
[{"$f":"IF('Plate Layout'!$D$8=\"\",\"\",'Plate Layout'!$D$8)","v":""},"P02",{"$f":"IF('Plate Layout'!E30=\"\",\"\",'Plate Layout'!E30)","v":""},{"$f":"IF('Plate Layout'!F30=\"\",\"\",'Plate Layout'!F30)","v":""},{"$f":"IF(OFFSET('Plate Layout'!D104,0,0,1,1)=\"\",\"\",OFFSET('Plate Layout'!D104,0,0,1,1))","v":""}]
[{"$f":"IF('Plate Layout'!$D$8=\"\",\"\",'Plate Layout'!$D$8)","v":""},"P03",{"$f":"IF('Plate Layout'!G30=\"\",\"\",'Plate Layout'!G30)","v":""},{"$f":"IF('Plate Layout'!H30=\"\",\"\",'Plate Layout'!H30)","v":""},{"$f":"IF(OFFSET('Plate Layout'!E104,0,0,1,1)=\"\",\"\",OFFSET('Plate Layout'!E104,0,0,1,1))","v":""}]
[{"$f":"IF('Plate Layout'!$D$8=\"\",\"\",'Plate Layout'!$D$8)","v":""},"P04",{"$f":"IF('Plate Layout'!I30=\"\",\"\",'Plate Layout'!I30)","v":""},{"$f":"IF('Plate Layout'!J30=\"\",\"\",'Plate Layout'!J30)","v":""},{"$f":"IF(OFFSET('Plate Layout'!F104,0,0,1,1)=\"\",\"\",OFFSET('Plate Layout'!F104,0,0,1,1))","v":""}]
[{"$f":"IF('Plate Layout'!$D$8=\"\",\"\",'Plate Layout'!$D$8)","v":""},"P05",{"$f":"IF('Plate Layout'!K30=\"\",\"\",'Plate Layout'!K30)","v":""},{"$f":"IF('Plate Layout'!L30=\"\",\"\",'Plate Layout'!L30)","v":""},{"$f":"IF(OFFSET('Plate Layout'!G104,0,0,1,1)=\"\",\"\",OFFSET('Plate Layout'!G104,0,0,1,1))","v":""}]
[{"$f":"IF('Plate Layout'!$D$8=\"\",\"\",'Plate Layout'!$D$8)","v":""},"P06",{"$f":"IF('Plate Layout'!M30=\"\",\"\",'Plate Layout'!M30)","v":""},{"$f":"IF('Plate Layout'!N30=\"\",\"\",'Plate Layout'!N30)","v":""},{"$f":"IF(OFFSET('Plate Layout'!H104,0,0,1,1)=\"\",\"\",OFFSET('Plate Layout'!H104,0,0,1,1))","v":""}]
[{"$f":"IF('Plate Layout'!$D$8=\"\",\"\",'Plate Layout'!$D$8)","v":""},"P07",{"$f":"IF('Plate Layout'!O30=\"\",\"\",'Plate Layout'!O30)","v":""},{"$f":"IF('Plate Layout'!P30=\"\",\"\",'Plate Layout'!P30)","v":""},{"$f":"IF(OFFSET('Plate Layout'!I104,0,0,1,1)=\"\",\"\",OFFSET('Plate Layout'!I104,0,0,1,1))","v":""}]
[{"$f":"IF('Plate Layout'!$D$8=\"\",\"\",'Plate Layout'!$D$8)","v":""},"P08",{"$f":"IF('Plate Layout'!Q30=\"\",\"\",'Plate Layout'!Q30)","v":""},{"$f":"IF('Plate Layout'!R30=\"\",\"\",'Plate Layout'!R30)","v":""},{"$f":"IF(OFFSET('Plate Layout'!J104,0,0,1,1)=\"\",\"\",OFFSET('Plate Layout'!J104,0,0,1,1))","v":""}]
[{"$f":"IF('Plate Layout'!$D$8=\"\",\"\",'Plate Layout'!$D$8)","v":""},"P09",{"$f":"IF('Plate Layout'!S30=\"\",\"\",'Plate Layout'!S30)","v":""},{"$f":"IF('Plate Layout'!T30=\"\",\"\",'Plate Layout'!T30)","v":""},{"$f":"IF(OFFSET('Plate Layout'!K104,0,0,1,1)=\"\",\"\",OFFSET('Plate Layout'!K104,0,0,1,1))","v":""}]
[{"$f":"IF('Plate Layout'!$D$8=\"\",\"\",'Plate Layout'!$D$8)","v":""},"P10",{"$f":"IF('Plate Layout'!U30=\"\",\"\",'Plate Layout'!U30)","v":""},{"$f":"IF('Plate Layout'!V30=\"\",\"\",'Plate Layout'!V30)","v":""},{"$f":"IF(OFFSET('Plate Layout'!L104,0,0,1,1)=\"\",\"\",OFFSET('Plate Layout'!L104,0,0,1,1))","v":""}]
[{"$f":"IF('Plate Layout'!$D$8=\"\",\"\",'Plate Layout'!$D$8)","v":""},"P11",{"$f":"IF('Plate Layout'!W30=\"\",\"\",'Plate Layout'!W30)","v":""},{"$f":"IF('Plate Layout'!X30=\"\",\"\",'Plate Layout'!X30)","v":""},{"$f":"IF(OFFSET('Plate Layout'!M104,0,0,1,1)=\"\",\"\",OFFSET('Plate Layout'!M104,0,0,1,1))","v":""}]
[{"$f":"IF('Plate Layout'!$D$8=\"\",\"\",'Plate Layout'!$D$8)","v":""},"P12",{"$f":"IF('Plate Layout'!Y30=\"\",\"\",'Plate Layout'!Y30)","v":""},{"$f":"IF('Plate Layout'!Z30=\"\",\"\",'Plate Layout'!Z30)","v":""},{"$f":"IF(OFFSET('Plate Layout'!N104,0,0,1,1)=\"\",\"\",OFFSET('Plate Layout'!N104,0,0,1,1))","v":""}]
[{"$f":"IF('Plate Layout'!$D$8=\"\",\"\",'Plate Layout'!$D$8)","v":""},"P13",{"$f":"IF('Plate Layout'!AA30=\"\",\"\",'Plate Layout'!AA30)","v":""},{"$f":"IF('Plate Layout'!AB30=\"\",\"\",'Plate Layout'!AB30)","v":""},{"$f":"IF(OFFSET('Plate Layout'!O104,0,0,1,1)=\"\",\"\",OFFSET('Plate Layout'!O104,0,0,1,1))","v":""}]
[{"$f":"IF('Plate Layout'!$D$8=\"\",\"\",'Plate Layout'!$D$8)","v":""},"P14",{"$f":"IF('Plate Layout'!AC30=\"\",\"\",'Plate Layout'!AC30)","v":""},{"$f":"IF('Plate Layout'!AD30=\"\",\"\",'Plate Layout'!AD30)","v":""},{"$f":"IF(OFFSET('Plate Layout'!P104,0,0,1,1)=\"\",\"\",OFFSET('Plate Layout'!P104,0,0,1,1))","v":""}]
[{"$f":"IF('Plate Layout'!$D$8=\"\",\"\",'Plate Layout'!$D$8)","v":""},"P15",{"$f":"IF('Plate Layout'!AE30=\"\",\"\",'Plate Layout'!AE30)","v":""},{"$f":"IF('Plate Layout'!AF30=\"\",\"\",'Plate Layout'!AF30)","v":""},{"$f":"IF(OFFSET('Plate Layout'!Q104,0,0,1,1)=\"\",\"\",OFFSET('Plate Layout'!Q104,0,0,1,1))","v":""}]
[{"$f":"IF('Plate Layout'!$D$8=\"\",\"\",'Plate Layout'!$D$8)","v":""},"P16",{"$f":"IF('Plate Layout'!AG30=\"\",\"\",'Plate Layout'!AG30)","v":""},{"$f":"IF('Plate Layout'!AH30=\"\",\"\",'Plate Layout'!AH30)","v":""},{"$f":"IF(OFFSET('Plate Layout'!R104,0,0,1,1)=\"\",\"\",OFFSET('Plate Layout'!R104,0,0,1,1))","v":""}]
[{"$f":"IF('Plate Layout'!$D$8=\"\",\"\",'Plate Layout'!$D$8)","v":""},"P17",{"$f":"IF('Plate Layout'!AI30=\"\",\"\",'Plate Layout'!AI30)","v":""},{"$f":"IF('Plate Layout'!AJ30=\"\",\"\",'Plate Layout'!AJ30)","v":""},{"$f":"IF(OFFSET('Plate Layout'!S104,0,0,1,1)=\"\",\"\",OFFSET('Plate Layout'!S104,0,0,1,1))","v":""}]
[{"$f":"IF('Plate Layout'!$D$8=\"\",\"\",'Plate Layout'!$D$8)","v":""},"P18",{"$f":"IF('Plate Layout'!AK30=\"\",\"\",'Plate Layout'!AK30)","v":""},{"$f":"IF('Plate Layout'!AL30=\"\",\"\",'Plate Layout'!AL30)","v":""},{"$f":"IF(OFFSET('Plate Layout'!T104,0,0,1,1)=\"\",\"\",OFFSET('Plate Layout'!T104,0,0,1,1))","v":""}]
[{"$f":"IF('Plate Layout'!$D$8=\"\",\"\",'Plate Layout'!$D$8)","v":""},"P19",{"$f":"IF('Plate Layout'!AM30=\"\",\"\",'Plate Layout'!AM30)","v":""},{"$f":"IF('Plate Layout'!AN30=\"\",\"\",'Plate Layout'!AN30)","v":""},{"$f":"IF(OFFSET('Plate Layout'!U104,0,0,1,1)=\"\",\"\",OFFSET('Plate Layout'!U104,0,0,1,1))","v":""}]
[{"$f":"IF('Plate Layout'!$D$8=\"\",\"\",'Plate Layout'!$D$8)","v":""},"P20",{"$f":"IF('Plate Layout'!AO30=\"\",\"\",'Plate Layout'!AO30)","v":""},{"$f":"IF('Plate Layout'!AP30=\"\",\"\",'Plate Layout'!AP30)","v":""},{"$f":"IF(OFFSET('Plate Layout'!V104,0,0,1,1)=\"\",\"\",OFFSET('Plate Layout'!V104,0,0,1,1))","v":""}]
[{"$f":"IF('Plate Layout'!$D$8=\"\",\"\",'Plate Layout'!$D$8)","v":""},"P21",{"$f":"IF('Plate Layout'!AQ30=\"\",\"\",'Plate Layout'!AQ30)","v":""},{"$f":"IF('Plate Layout'!AR30=\"\",\"\",'Plate Layout'!AR30)","v":""},{"$f":"IF(OFFSET('Plate Layout'!W104,0,0,1,1)=\"\",\"\",OFFSET('Plate Layout'!W104,0,0,1,1))","v":""}]
[{"$f":"IF('Plate Layout'!$D$8=\"\",\"\",'Plate Layout'!$D$8)","v":""},"P22",{"$f":"IF('Plate Layout'!AS30=\"\",\"\",'Plate Layout'!AS30)","v":""},{"$f":"IF('Plate Layout'!AT30=\"\",\"\",'Plate Layout'!AT30)","v":""},{"$f":"IF(OFFSET('Plate Layout'!X104,0,0,1,1)=\"\",\"\",OFFSET('Plate Layout'!X104,0,0,1,1))","v":""}]
[{"$f":"IF('Plate Layout'!$D$8=\"\",\"\",'Plate Layout'!$D$8)","v":""},"P23",{"$f":"IF('Plate Layout'!AU30=\"\",\"\",'Plate Layout'!AU30)","v":""},{"$f":"IF('Plate Layout'!AV30=\"\",\"\",'Plate Layout'!AV30)","v":""},{"$f":"IF(OFFSET('Plate Layout'!Y104,0,0,1,1)=\"\",\"\",OFFSET('Plate Layout'!Y104,0,0,1,1))","v":""}]
[{"$f":"IF('Plate Layout'!$D$8=\"\",\"\",'Plate Layout'!$D$8)","v":""},"P24",{"$f":"IF('Plate Layout'!AW30=\"\",\"\",'Plate Layout'!AW30)","v":""},{"$f":"IF('Plate Layout'!AX30=\"\",\"\",'Plate Layout'!AX30)","v":""},{"$f":"IF(OFFSET('Plate Layout'!Z104,0,0,1,1)=\"\",\"\",OFFSET('Plate Layout'!Z104,0,0,1,1))","v":""}]
[{"$f":"IF('Plate Layout'!$D$8=\"\",\"\",'Plate Layout'!$D$8)","v":""},"P25",{"$f":"IF('Plate Layout'!AY30=\"\",\"\",'Plate Layout'!AY30)","v":""},{"$f":"IF('Plate Layout'!AZ30=\"\",\"\",'Plate Layout'!AZ30)","v":""},{"$f":"IF(OFFSET('Plate Layout'!AA104,0,0,1,1)=\"\",\"\",OFFSET('Plate Layout'!AA104,0,0,1,1))","v":""}]
[{"$f":"IF('Plate Layout'!$D$8=\"\",\"\",'Plate Layout'!$D$8)","v":""},"P26",{"$f":"IF('Plate Layout'!BA30=\"\",\"\",'Plate Layout'!BA30)","v":""},{"$f":"IF('Plate Layout'!BB30=\"\",\"\",'Plate Layout'!BB30)","v":""},{"$f":"IF(OFFSET('Plate Layout'!AB104,0,0,1,1)=\"\",\"\",OFFSET('Plate Layout'!AB104,0,0,1,1))","v":""}]
[{"$f":"IF('Plate Layout'!$D$8=\"\",\"\",'Plate Layout'!$D$8)","v":""},"P27",{"$f":"IF('Plate Layout'!BC30=\"\",\"\",'Plate Layout'!BC30)","v":""},{"$f":"IF('Plate Layout'!BD30=\"\",\"\",'Plate Layout'!BD30)","v":""},{"$f":"IF(OFFSET('Plate Layout'!AC104,0,0,1,1)=\"\",\"\",OFFSET('Plate Layout'!AC104,0,0,1,1))","v":""}]
[{"$f":"IF('Plate Layout'!$D$8=\"\",\"\",'Plate Layout'!$D$8)","v":""},"P28",{"$f":"IF('Plate Layout'!BE30=\"\",\"\",'Plate Layout'!BE30)","v":""},{"$f":"IF('Plate Layout'!BF30=\"\",\"\",'Plate Layout'!BF30)","v":""},{"$f":"IF(OFFSET('Plate Layout'!AD104,0,0,1,1)=\"\",\"\",OFFSET('Plate Layout'!AD104,0,0,1,1))","v":""}]
[{"$f":"IF('Plate Layout'!$D$8=\"\",\"\",'Plate Layout'!$D$8)","v":""},"P29",{"$f":"IF('Plate Layout'!BG30=\"\",\"\",'Plate Layout'!BG30)","v":""},{"$f":"IF('Plate Layout'!BH30=\"\",\"\",'Plate Layout'!BH30)","v":""},{"$f":"IF(OFFSET('Plate Layout'!AE104,0,0,1,1)=\"\",\"\",OFFSET('Plate Layout'!AE104,0,0,1,1))","v":""}]
[{"$f":"IF('Plate Layout'!$D$8=\"\",\"\",'Plate Layout'!$D$8)","v":""},"P30",{"$f":"IF('Plate Layout'!BI30=\"\",\"\",'Plate Layout'!BI30)","v":""},{"$f":"IF('Plate Layout'!BJ30=\"\",\"\",'Plate Layout'!BJ30)","v":""},{"$f":"IF(OFFSET('Plate Layout'!AF104,0,0,1,1)=\"\",\"\",OFFSET('Plate Layout'!AF104,0,0,1,1))","v":""}]
[{"$f":"IF('Plate Layout'!$D$8=\"\",\"\",'Plate Layout'!$D$8)","v":""},"P31",{"$f":"IF('Plate Layout'!BK30=\"\",\"\",'Plate Layout'!BK30)","v":""},{"$f":"IF('Plate Layout'!BL30=\"\",\"\",'Plate Layout'!BL30)","v":""},{"$f":"IF(OFFSET('Plate Layout'!AG104,0,0,1,1)=\"\",\"\",OFFSET('Plate Layout'!AG104,0,0,1,1))","v":""}]
[{"$f":"IF('Plate Layout'!$D$8=\"\",\"\",'Plate Layout'!$D$8)","v":""},"P32",{"$f":"IF('Plate Layout'!BM30=\"\",\"\",'Plate Layout'!BM30)","v":""},{"$f":"IF('Plate Layout'!BN30=\"\",\"\",'Plate Layout'!BN30)","v":""},{"$f":"IF(OFFSET('Plate Layout'!AH104,0,0,1,1)=\"\",\"\",OFFSET('Plate Layout'!AH104,0,0,1,1))","v":""}]
[{"$f":"IF('Plate Layout'!$D$8=\"\",\"\",'Plate Layout'!$D$8)","v":""},"P33",{"$f":"IF('Plate Layout'!BO30=\"\",\"\",'Plate Layout'!BO30)","v":""},{"$f":"IF('Plate Layout'!BP30=\"\",\"\",'Plate Layout'!BP30)","v":""},{"$f":"IF(OFFSET('Plate Layout'!AI104,0,0,1,1)=\"\",\"\",OFFSET('Plate Layout'!AI104,0,0,1,1))","v":""}]
[{"$f":"IF('Plate Layout'!$D$8=\"\",\"\",'Plate Layout'!$D$8)","v":""},"P34",{"$f":"IF('Plate Layout'!BQ30=\"\",\"\",'Plate Layout'!BQ30)","v":""},{"$f":"IF('Plate Layout'!BR30=\"\",\"\",'Plate Layout'!BR30)","v":""},{"$f":"IF(OFFSET('Plate Layout'!AJ104,0,0,1,1)=\"\",\"\",OFFSET('Plate Layout'!AJ104,0,0,1,1))","v":""}]
[{"$f":"IF('Plate Layout'!$D$8=\"\",\"\",'Plate Layout'!$D$8)","v":""},"P35",{"$f":"IF('Plate Layout'!BS30=\"\",\"\",'Plate Layout'!BS30)","v":""},{"$f":"IF('Plate Layout'!BT30=\"\",\"\",'Plate Layout'!BT30)","v":""},{"$f":"IF(OFFSET('Plate Layout'!AK104,0,0,1,1)=\"\",\"\",OFFSET('Plate Layout'!AK104,0,0,1,1))","v":""}]
[{"$f":"IF('Plate Layout'!$D$8=\"\",\"\",'Plate Layout'!$D$8)","v":""},"P36",{"$f":"IF('Plate Layout'!BU30=\"\",\"\",'Plate Layout'!BU30)","v":""},{"$f":"IF('Plate Layout'!BV30=\"\",\"\",'Plate Layout'!BV30)","v":""},{"$f":"IF(OFFSET('Plate Layout'!AL104,0,0,1,1)=\"\",\"\",OFFSET('Plate Layout'!AL104,0,0,1,1))","v":""}]
[{"$f":"IF('Plate Layout'!$D$8=\"\",\"\",'Plate Layout'!$D$8)","v":""},"P37",{"$f":"IF('Plate Layout'!BW30=\"\",\"\",'Plate Layout'!BW30)","v":""},{"$f":"IF('Plate Layout'!BX30=\"\",\"\",'Plate Layout'!BX30)","v":""},{"$f":"IF(OFFSET('Plate Layout'!AM104,0,0,1,1)=\"\",\"\",OFFSET('Plate Layout'!AM104,0,0,1,1))","v":""}]
[{"$f":"IF('Plate Layout'!$D$8=\"\",\"\",'Plate Layout'!$D$8)","v":""},"P38",{"$f":"IF('Plate Layout'!BY30=\"\",\"\",'Plate Layout'!BY30)","v":""},{"$f":"IF('Plate Layout'!BZ30=\"\",\"\",'Plate Layout'!BZ30)","v":""},{"$f":"IF(OFFSET('Plate Layout'!AN104,0,0,1,1)=\"\",\"\",OFFSET('Plate Layout'!AN104,0,0,1,1))","v":""}]
[{"$f":"IF('Plate Layout'!$D$8=\"\",\"\",'Plate Layout'!$D$8)","v":""},"P39",{"$f":"IF('Plate Layout'!CA30=\"\",\"\",'Plate Layout'!CA30)","v":""},{"$f":"IF('Plate Layout'!CB30=\"\",\"\",'Plate Layout'!CB30)","v":""},{"$f":"IF(OFFSET('Plate Layout'!AO104,0,0,1,1)=\"\",\"\",OFFSET('Plate Layout'!AO104,0,0,1,1))","v":""}]
[{"$f":"IF('Plate Layout'!$D$8=\"\",\"\",'Plate Layout'!$D$8)","v":""},"P40",{"$f":"IF('Plate Layout'!CC30=\"\",\"\",'Plate Layout'!CC30)","v":""},{"$f":"IF('Plate Layout'!CD30=\"\",\"\",'Plate Layout'!CD30)","v":""},{"$f":"IF(OFFSET('Plate Layout'!AP104,0,0,1,1)=\"\",\"\",OFFSET('Plate Layout'!AP104,0,0,1,1))","v":""}]
[{"$f":"IF('Plate Layout'!$D$8=\"\",\"\",'Plate Layout'!$D$8)","v":""},"P41",{"$f":"IF('Plate Layout'!CE30=\"\",\"\",'Plate Layout'!CE30)","v":""},{"$f":"IF('Plate Layout'!CF30=\"\",\"\",'Plate Layout'!CF30)","v":""},{"$f":"IF(OFFSET('Plate Layout'!AQ104,0,0,1,1)=\"\",\"\",OFFSET('Plate Layout'!AQ104,0,0,1,1))","v":""}]
[{"$f":"IF('Plate Layout'!$D$8=\"\",\"\",'Plate Layout'!$D$8)","v":""},"P42",{"$f":"IF('Plate Layout'!CG30=\"\",\"\",'Plate Layout'!CG30)","v":""},{"$f":"IF('Plate Layout'!CH30=\"\",\"\",'Plate Layout'!CH30)","v":""},{"$f":"IF(OFFSET('Plate Layout'!AR104,0,0,1,1)=\"\",\"\",OFFSET('Plate Layout'!AR104,0,0,1,1))","v":""}]
[{"$f":"IF('Plate Layout'!$D$8=\"\",\"\",'Plate Layout'!$D$8)","v":""},"P43",{"$f":"IF('Plate Layout'!CI30=\"\",\"\",'Plate Layout'!CI30)","v":""},{"$f":"IF('Plate Layout'!CJ30=\"\",\"\",'Plate Layout'!CJ30)","v":""},{"$f":"IF(OFFSET('Plate Layout'!AS104,0,0,1,1)=\"\",\"\",OFFSET('Plate Layout'!AS104,0,0,1,1))","v":""}]
[{"$f":"IF('Plate Layout'!$D$8=\"\",\"\",'Plate Layout'!$D$8)","v":""},"P44",{"$f":"IF('Plate Layout'!CK30=\"\",\"\",'Plate Layout'!CK30)","v":""},{"$f":"IF('Plate Layout'!CL30=\"\",\"\",'Plate Layout'!CL30)","v":""},{"$f":"IF(OFFSET('Plate Layout'!AT104,0,0,1,1)=\"\",\"\",OFFSET('Plate Layout'!AT104,0,0,1,1))","v":""}]
[{"$f":"IF('Plate Layout'!$D$8=\"\",\"\",'Plate Layout'!$D$8)","v":""},"P45",{"$f":"IF('Plate Layout'!CM30=\"\",\"\",'Plate Layout'!CM30)","v":""},{"$f":"IF('Plate Layout'!CN30=\"\",\"\",'Plate Layout'!CN30)","v":""},{"$f":"IF(OFFSET('Plate Layout'!AU104,0,0,1,1)=\"\",\"\",OFFSET('Plate Layout'!AU104,0,0,1,1))","v":""}]
[{"$f":"IF('Plate Layout'!$D$8=\"\",\"\",'Plate Layout'!$D$8)","v":""},"P46",{"$f":"IF('Plate Layout'!CO30=\"\",\"\",'Plate Layout'!CO30)","v":""},{"$f":"IF('Plate Layout'!CP30=\"\",\"\",'Plate Layout'!CP30)","v":""},{"$f":"IF(OFFSET('Plate Layout'!AV104,0,0,1,1)=\"\",\"\",OFFSET('Plate Layout'!AV104,0,0,1,1))","v":""}]
[{"$f":"IF('Plate Layout'!$D$8=\"\",\"\",'Plate Layout'!$D$8)","v":""},"P47",{"$f":"IF('Plate Layout'!CQ30=\"\",\"\",'Plate Layout'!CQ30)","v":""},{"$f":"IF('Plate Layout'!CR30=\"\",\"\",'Plate Layout'!CR30)","v":""},{"$f":"IF(OFFSET('Plate Layout'!AW104,0,0,1,1)=\"\",\"\",OFFSET('Plate Layout'!AW104,0,0,1,1))","v":""}]
[{"$f":"IF('Plate Layout'!$D$8=\"\",\"\",'Plate Layout'!$D$8)","v":""},"P48",{"$f":"IF('Plate Layout'!CS30=\"\",\"\",'Plate Layout'!CS30)","v":""},{"$f":"IF('Plate Layout'!CT30=\"\",\"\",'Plate Layout'!CT30)","v":""},{"$f":"IF(OFFSET('Plate Layout'!AX104,0,0,1,1)=\"\",\"\",OFFSET('Plate Layout'!AX104,0,0,1,1))","v":""}]
[{"$f":"IF('Plate Layout'!$D$8=\"\",\"\",'Plate Layout'!$D$8)","v":""},"Q01",{"$f":"IF('Plate Layout'!C31=\"\",\"\",'Plate Layout'!C31)","v":""},{"$f":"IF('Plate Layout'!D31=\"\",\"\",'Plate Layout'!D31)","v":""},{"$f":"IF(OFFSET('Plate Layout'!C105,0,0,1,1)=\"\",\"\",OFFSET('Plate Layout'!C105,0,0,1,1))","v":""}]
[{"$f":"IF('Plate Layout'!$D$8=\"\",\"\",'Plate Layout'!$D$8)","v":""},"Q02",{"$f":"IF('Plate Layout'!E31=\"\",\"\",'Plate Layout'!E31)","v":""},{"$f":"IF('Plate Layout'!F31=\"\",\"\",'Plate Layout'!F31)","v":""},{"$f":"IF(OFFSET('Plate Layout'!D105,0,0,1,1)=\"\",\"\",OFFSET('Plate Layout'!D105,0,0,1,1))","v":""}]
[{"$f":"IF('Plate Layout'!$D$8=\"\",\"\",'Plate Layout'!$D$8)","v":""},"Q03",{"$f":"IF('Plate Layout'!G31=\"\",\"\",'Plate Layout'!G31)","v":""},{"$f":"IF('Plate Layout'!H31=\"\",\"\",'Plate Layout'!H31)","v":""},{"$f":"IF(OFFSET('Plate Layout'!E105,0,0,1,1)=\"\",\"\",OFFSET('Plate Layout'!E105,0,0,1,1))","v":""}]
[{"$f":"IF('Plate Layout'!$D$8=\"\",\"\",'Plate Layout'!$D$8)","v":""},"Q04",{"$f":"IF('Plate Layout'!I31=\"\",\"\",'Plate Layout'!I31)","v":""},{"$f":"IF('Plate Layout'!J31=\"\",\"\",'Plate Layout'!J31)","v":""},{"$f":"IF(OFFSET('Plate Layout'!F105,0,0,1,1)=\"\",\"\",OFFSET('Plate Layout'!F105,0,0,1,1))","v":""}]
[{"$f":"IF('Plate Layout'!$D$8=\"\",\"\",'Plate Layout'!$D$8)","v":""},"Q05",{"$f":"IF('Plate Layout'!K31=\"\",\"\",'Plate Layout'!K31)","v":""},{"$f":"IF('Plate Layout'!L31=\"\",\"\",'Plate Layout'!L31)","v":""},{"$f":"IF(OFFSET('Plate Layout'!G105,0,0,1,1)=\"\",\"\",OFFSET('Plate Layout'!G105,0,0,1,1))","v":""}]
[{"$f":"IF('Plate Layout'!$D$8=\"\",\"\",'Plate Layout'!$D$8)","v":""},"Q06",{"$f":"IF('Plate Layout'!M31=\"\",\"\",'Plate Layout'!M31)","v":""},{"$f":"IF('Plate Layout'!N31=\"\",\"\",'Plate Layout'!N31)","v":""},{"$f":"IF(OFFSET('Plate Layout'!H105,0,0,1,1)=\"\",\"\",OFFSET('Plate Layout'!H105,0,0,1,1))","v":""}]
[{"$f":"IF('Plate Layout'!$D$8=\"\",\"\",'Plate Layout'!$D$8)","v":""},"Q07",{"$f":"IF('Plate Layout'!O31=\"\",\"\",'Plate Layout'!O31)","v":""},{"$f":"IF('Plate Layout'!P31=\"\",\"\",'Plate Layout'!P31)","v":""},{"$f":"IF(OFFSET('Plate Layout'!I105,0,0,1,1)=\"\",\"\",OFFSET('Plate Layout'!I105,0,0,1,1))","v":""}]
[{"$f":"IF('Plate Layout'!$D$8=\"\",\"\",'Plate Layout'!$D$8)","v":""},"Q08",{"$f":"IF('Plate Layout'!Q31=\"\",\"\",'Plate Layout'!Q31)","v":""},{"$f":"IF('Plate Layout'!R31=\"\",\"\",'Plate Layout'!R31)","v":""},{"$f":"IF(OFFSET('Plate Layout'!J105,0,0,1,1)=\"\",\"\",OFFSET('Plate Layout'!J105,0,0,1,1))","v":""}]
[{"$f":"IF('Plate Layout'!$D$8=\"\",\"\",'Plate Layout'!$D$8)","v":""},"Q09",{"$f":"IF('Plate Layout'!S31=\"\",\"\",'Plate Layout'!S31)","v":""},{"$f":"IF('Plate Layout'!T31=\"\",\"\",'Plate Layout'!T31)","v":""},{"$f":"IF(OFFSET('Plate Layout'!K105,0,0,1,1)=\"\",\"\",OFFSET('Plate Layout'!K105,0,0,1,1))","v":""}]
[{"$f":"IF('Plate Layout'!$D$8=\"\",\"\",'Plate Layout'!$D$8)","v":""},"Q10",{"$f":"IF('Plate Layout'!U31=\"\",\"\",'Plate Layout'!U31)","v":""},{"$f":"IF('Plate Layout'!V31=\"\",\"\",'Plate Layout'!V31)","v":""},{"$f":"IF(OFFSET('Plate Layout'!L105,0,0,1,1)=\"\",\"\",OFFSET('Plate Layout'!L105,0,0,1,1))","v":""}]
[{"$f":"IF('Plate Layout'!$D$8=\"\",\"\",'Plate Layout'!$D$8)","v":""},"Q11",{"$f":"IF('Plate Layout'!W31=\"\",\"\",'Plate Layout'!W31)","v":""},{"$f":"IF('Plate Layout'!X31=\"\",\"\",'Plate Layout'!X31)","v":""},{"$f":"IF(OFFSET('Plate Layout'!M105,0,0,1,1)=\"\",\"\",OFFSET('Plate Layout'!M105,0,0,1,1))","v":""}]
[{"$f":"IF('Plate Layout'!$D$8=\"\",\"\",'Plate Layout'!$D$8)","v":""},"Q12",{"$f":"IF('Plate Layout'!Y31=\"\",\"\",'Plate Layout'!Y31)","v":""},{"$f":"IF('Plate Layout'!Z31=\"\",\"\",'Plate Layout'!Z31)","v":""},{"$f":"IF(OFFSET('Plate Layout'!N105,0,0,1,1)=\"\",\"\",OFFSET('Plate Layout'!N105,0,0,1,1))","v":""}]
[{"$f":"IF('Plate Layout'!$D$8=\"\",\"\",'Plate Layout'!$D$8)","v":""},"Q13",{"$f":"IF('Plate Layout'!AA31=\"\",\"\",'Plate Layout'!AA31)","v":""},{"$f":"IF('Plate Layout'!AB31=\"\",\"\",'Plate Layout'!AB31)","v":""},{"$f":"IF(OFFSET('Plate Layout'!O105,0,0,1,1)=\"\",\"\",OFFSET('Plate Layout'!O105,0,0,1,1))","v":""}]
[{"$f":"IF('Plate Layout'!$D$8=\"\",\"\",'Plate Layout'!$D$8)","v":""},"Q14",{"$f":"IF('Plate Layout'!AC31=\"\",\"\",'Plate Layout'!AC31)","v":""},{"$f":"IF('Plate Layout'!AD31=\"\",\"\",'Plate Layout'!AD31)","v":""},{"$f":"IF(OFFSET('Plate Layout'!P105,0,0,1,1)=\"\",\"\",OFFSET('Plate Layout'!P105,0,0,1,1))","v":""}]
[{"$f":"IF('Plate Layout'!$D$8=\"\",\"\",'Plate Layout'!$D$8)","v":""},"Q15",{"$f":"IF('Plate Layout'!AE31=\"\",\"\",'Plate Layout'!AE31)","v":""},{"$f":"IF('Plate Layout'!AF31=\"\",\"\",'Plate Layout'!AF31)","v":""},{"$f":"IF(OFFSET('Plate Layout'!Q105,0,0,1,1)=\"\",\"\",OFFSET('Plate Layout'!Q105,0,0,1,1))","v":""}]
[{"$f":"IF('Plate Layout'!$D$8=\"\",\"\",'Plate Layout'!$D$8)","v":""},"Q16",{"$f":"IF('Plate Layout'!AG31=\"\",\"\",'Plate Layout'!AG31)","v":""},{"$f":"IF('Plate Layout'!AH31=\"\",\"\",'Plate Layout'!AH31)","v":""},{"$f":"IF(OFFSET('Plate Layout'!R105,0,0,1,1)=\"\",\"\",OFFSET('Plate Layout'!R105,0,0,1,1))","v":""}]
[{"$f":"IF('Plate Layout'!$D$8=\"\",\"\",'Plate Layout'!$D$8)","v":""},"Q17",{"$f":"IF('Plate Layout'!AI31=\"\",\"\",'Plate Layout'!AI31)","v":""},{"$f":"IF('Plate Layout'!AJ31=\"\",\"\",'Plate Layout'!AJ31)","v":""},{"$f":"IF(OFFSET('Plate Layout'!S105,0,0,1,1)=\"\",\"\",OFFSET('Plate Layout'!S105,0,0,1,1))","v":""}]
[{"$f":"IF('Plate Layout'!$D$8=\"\",\"\",'Plate Layout'!$D$8)","v":""},"Q18",{"$f":"IF('Plate Layout'!AK31=\"\",\"\",'Plate Layout'!AK31)","v":""},{"$f":"IF('Plate Layout'!AL31=\"\",\"\",'Plate Layout'!AL31)","v":""},{"$f":"IF(OFFSET('Plate Layout'!T105,0,0,1,1)=\"\",\"\",OFFSET('Plate Layout'!T105,0,0,1,1))","v":""}]
[{"$f":"IF('Plate Layout'!$D$8=\"\",\"\",'Plate Layout'!$D$8)","v":""},"Q19",{"$f":"IF('Plate Layout'!AM31=\"\",\"\",'Plate Layout'!AM31)","v":""},{"$f":"IF('Plate Layout'!AN31=\"\",\"\",'Plate Layout'!AN31)","v":""},{"$f":"IF(OFFSET('Plate Layout'!U105,0,0,1,1)=\"\",\"\",OFFSET('Plate Layout'!U105,0,0,1,1))","v":""}]
[{"$f":"IF('Plate Layout'!$D$8=\"\",\"\",'Plate Layout'!$D$8)","v":""},"Q20",{"$f":"IF('Plate Layout'!AO31=\"\",\"\",'Plate Layout'!AO31)","v":""},{"$f":"IF('Plate Layout'!AP31=\"\",\"\",'Plate Layout'!AP31)","v":""},{"$f":"IF(OFFSET('Plate Layout'!V105,0,0,1,1)=\"\",\"\",OFFSET('Plate Layout'!V105,0,0,1,1))","v":""}]
[{"$f":"IF('Plate Layout'!$D$8=\"\",\"\",'Plate Layout'!$D$8)","v":""},"Q21",{"$f":"IF('Plate Layout'!AQ31=\"\",\"\",'Plate Layout'!AQ31)","v":""},{"$f":"IF('Plate Layout'!AR31=\"\",\"\",'Plate Layout'!AR31)","v":""},{"$f":"IF(OFFSET('Plate Layout'!W105,0,0,1,1)=\"\",\"\",OFFSET('Plate Layout'!W105,0,0,1,1))","v":""}]
[{"$f":"IF('Plate Layout'!$D$8=\"\",\"\",'Plate Layout'!$D$8)","v":""},"Q22",{"$f":"IF('Plate Layout'!AS31=\"\",\"\",'Plate Layout'!AS31)","v":""},{"$f":"IF('Plate Layout'!AT31=\"\",\"\",'Plate Layout'!AT31)","v":""},{"$f":"IF(OFFSET('Plate Layout'!X105,0,0,1,1)=\"\",\"\",OFFSET('Plate Layout'!X105,0,0,1,1))","v":""}]
[{"$f":"IF('Plate Layout'!$D$8=\"\",\"\",'Plate Layout'!$D$8)","v":""},"Q23",{"$f":"IF('Plate Layout'!AU31=\"\",\"\",'Plate Layout'!AU31)","v":""},{"$f":"IF('Plate Layout'!AV31=\"\",\"\",'Plate Layout'!AV31)","v":""},{"$f":"IF(OFFSET('Plate Layout'!Y105,0,0,1,1)=\"\",\"\",OFFSET('Plate Layout'!Y105,0,0,1,1))","v":""}]
[{"$f":"IF('Plate Layout'!$D$8=\"\",\"\",'Plate Layout'!$D$8)","v":""},"Q24",{"$f":"IF('Plate Layout'!AW31=\"\",\"\",'Plate Layout'!AW31)","v":""},{"$f":"IF('Plate Layout'!AX31=\"\",\"\",'Plate Layout'!AX31)","v":""},{"$f":"IF(OFFSET('Plate Layout'!Z105,0,0,1,1)=\"\",\"\",OFFSET('Plate Layout'!Z105,0,0,1,1))","v":""}]
[{"$f":"IF('Plate Layout'!$D$8=\"\",\"\",'Plate Layout'!$D$8)","v":""},"Q25",{"$f":"IF('Plate Layout'!AY31=\"\",\"\",'Plate Layout'!AY31)","v":""},{"$f":"IF('Plate Layout'!AZ31=\"\",\"\",'Plate Layout'!AZ31)","v":""},{"$f":"IF(OFFSET('Plate Layout'!AA105,0,0,1,1)=\"\",\"\",OFFSET('Plate Layout'!AA105,0,0,1,1))","v":""}]
[{"$f":"IF('Plate Layout'!$D$8=\"\",\"\",'Plate Layout'!$D$8)","v":""},"Q26",{"$f":"IF('Plate Layout'!BA31=\"\",\"\",'Plate Layout'!BA31)","v":""},{"$f":"IF('Plate Layout'!BB31=\"\",\"\",'Plate Layout'!BB31)","v":""},{"$f":"IF(OFFSET('Plate Layout'!AB105,0,0,1,1)=\"\",\"\",OFFSET('Plate Layout'!AB105,0,0,1,1))","v":""}]
[{"$f":"IF('Plate Layout'!$D$8=\"\",\"\",'Plate Layout'!$D$8)","v":""},"Q27",{"$f":"IF('Plate Layout'!BC31=\"\",\"\",'Plate Layout'!BC31)","v":""},{"$f":"IF('Plate Layout'!BD31=\"\",\"\",'Plate Layout'!BD31)","v":""},{"$f":"IF(OFFSET('Plate Layout'!AC105,0,0,1,1)=\"\",\"\",OFFSET('Plate Layout'!AC105,0,0,1,1))","v":""}]
[{"$f":"IF('Plate Layout'!$D$8=\"\",\"\",'Plate Layout'!$D$8)","v":""},"Q28",{"$f":"IF('Plate Layout'!BE31=\"\",\"\",'Plate Layout'!BE31)","v":""},{"$f":"IF('Plate Layout'!BF31=\"\",\"\",'Plate Layout'!BF31)","v":""},{"$f":"IF(OFFSET('Plate Layout'!AD105,0,0,1,1)=\"\",\"\",OFFSET('Plate Layout'!AD105,0,0,1,1))","v":""}]
[{"$f":"IF('Plate Layout'!$D$8=\"\",\"\",'Plate Layout'!$D$8)","v":""},"Q29",{"$f":"IF('Plate Layout'!BG31=\"\",\"\",'Plate Layout'!BG31)","v":""},{"$f":"IF('Plate Layout'!BH31=\"\",\"\",'Plate Layout'!BH31)","v":""},{"$f":"IF(OFFSET('Plate Layout'!AE105,0,0,1,1)=\"\",\"\",OFFSET('Plate Layout'!AE105,0,0,1,1))","v":""}]
[{"$f":"IF('Plate Layout'!$D$8=\"\",\"\",'Plate Layout'!$D$8)","v":""},"Q30",{"$f":"IF('Plate Layout'!BI31=\"\",\"\",'Plate Layout'!BI31)","v":""},{"$f":"IF('Plate Layout'!BJ31=\"\",\"\",'Plate Layout'!BJ31)","v":""},{"$f":"IF(OFFSET('Plate Layout'!AF105,0,0,1,1)=\"\",\"\",OFFSET('Plate Layout'!AF105,0,0,1,1))","v":""}]
[{"$f":"IF('Plate Layout'!$D$8=\"\",\"\",'Plate Layout'!$D$8)","v":""},"Q31",{"$f":"IF('Plate Layout'!BK31=\"\",\"\",'Plate Layout'!BK31)","v":""},{"$f":"IF('Plate Layout'!BL31=\"\",\"\",'Plate Layout'!BL31)","v":""},{"$f":"IF(OFFSET('Plate Layout'!AG105,0,0,1,1)=\"\",\"\",OFFSET('Plate Layout'!AG105,0,0,1,1))","v":""}]
[{"$f":"IF('Plate Layout'!$D$8=\"\",\"\",'Plate Layout'!$D$8)","v":""},"Q32",{"$f":"IF('Plate Layout'!BM31=\"\",\"\",'Plate Layout'!BM31)","v":""},{"$f":"IF('Plate Layout'!BN31=\"\",\"\",'Plate Layout'!BN31)","v":""},{"$f":"IF(OFFSET('Plate Layout'!AH105,0,0,1,1)=\"\",\"\",OFFSET('Plate Layout'!AH105,0,0,1,1))","v":""}]
[{"$f":"IF('Plate Layout'!$D$8=\"\",\"\",'Plate Layout'!$D$8)","v":""},"Q33",{"$f":"IF('Plate Layout'!BO31=\"\",\"\",'Plate Layout'!BO31)","v":""},{"$f":"IF('Plate Layout'!BP31=\"\",\"\",'Plate Layout'!BP31)","v":""},{"$f":"IF(OFFSET('Plate Layout'!AI105,0,0,1,1)=\"\",\"\",OFFSET('Plate Layout'!AI105,0,0,1,1))","v":""}]
[{"$f":"IF('Plate Layout'!$D$8=\"\",\"\",'Plate Layout'!$D$8)","v":""},"Q34",{"$f":"IF('Plate Layout'!BQ31=\"\",\"\",'Plate Layout'!BQ31)","v":""},{"$f":"IF('Plate Layout'!BR31=\"\",\"\",'Plate Layout'!BR31)","v":""},{"$f":"IF(OFFSET('Plate Layout'!AJ105,0,0,1,1)=\"\",\"\",OFFSET('Plate Layout'!AJ105,0,0,1,1))","v":""}]
[{"$f":"IF('Plate Layout'!$D$8=\"\",\"\",'Plate Layout'!$D$8)","v":""},"Q35",{"$f":"IF('Plate Layout'!BS31=\"\",\"\",'Plate Layout'!BS31)","v":""},{"$f":"IF('Plate Layout'!BT31=\"\",\"\",'Plate Layout'!BT31)","v":""},{"$f":"IF(OFFSET('Plate Layout'!AK105,0,0,1,1)=\"\",\"\",OFFSET('Plate Layout'!AK105,0,0,1,1))","v":""}]
[{"$f":"IF('Plate Layout'!$D$8=\"\",\"\",'Plate Layout'!$D$8)","v":""},"Q36",{"$f":"IF('Plate Layout'!BU31=\"\",\"\",'Plate Layout'!BU31)","v":""},{"$f":"IF('Plate Layout'!BV31=\"\",\"\",'Plate Layout'!BV31)","v":""},{"$f":"IF(OFFSET('Plate Layout'!AL105,0,0,1,1)=\"\",\"\",OFFSET('Plate Layout'!AL105,0,0,1,1))","v":""}]
[{"$f":"IF('Plate Layout'!$D$8=\"\",\"\",'Plate Layout'!$D$8)","v":""},"Q37",{"$f":"IF('Plate Layout'!BW31=\"\",\"\",'Plate Layout'!BW31)","v":""},{"$f":"IF('Plate Layout'!BX31=\"\",\"\",'Plate Layout'!BX31)","v":""},{"$f":"IF(OFFSET('Plate Layout'!AM105,0,0,1,1)=\"\",\"\",OFFSET('Plate Layout'!AM105,0,0,1,1))","v":""}]
[{"$f":"IF('Plate Layout'!$D$8=\"\",\"\",'Plate Layout'!$D$8)","v":""},"Q38",{"$f":"IF('Plate Layout'!BY31=\"\",\"\",'Plate Layout'!BY31)","v":""},{"$f":"IF('Plate Layout'!BZ31=\"\",\"\",'Plate Layout'!BZ31)","v":""},{"$f":"IF(OFFSET('Plate Layout'!AN105,0,0,1,1)=\"\",\"\",OFFSET('Plate Layout'!AN105,0,0,1,1))","v":""}]
[{"$f":"IF('Plate Layout'!$D$8=\"\",\"\",'Plate Layout'!$D$8)","v":""},"Q39",{"$f":"IF('Plate Layout'!CA31=\"\",\"\",'Plate Layout'!CA31)","v":""},{"$f":"IF('Plate Layout'!CB31=\"\",\"\",'Plate Layout'!CB31)","v":""},{"$f":"IF(OFFSET('Plate Layout'!AO105,0,0,1,1)=\"\",\"\",OFFSET('Plate Layout'!AO105,0,0,1,1))","v":""}]
[{"$f":"IF('Plate Layout'!$D$8=\"\",\"\",'Plate Layout'!$D$8)","v":""},"Q40",{"$f":"IF('Plate Layout'!CC31=\"\",\"\",'Plate Layout'!CC31)","v":""},{"$f":"IF('Plate Layout'!CD31=\"\",\"\",'Plate Layout'!CD31)","v":""},{"$f":"IF(OFFSET('Plate Layout'!AP105,0,0,1,1)=\"\",\"\",OFFSET('Plate Layout'!AP105,0,0,1,1))","v":""}]
[{"$f":"IF('Plate Layout'!$D$8=\"\",\"\",'Plate Layout'!$D$8)","v":""},"Q41",{"$f":"IF('Plate Layout'!CE31=\"\",\"\",'Plate Layout'!CE31)","v":""},{"$f":"IF('Plate Layout'!CF31=\"\",\"\",'Plate Layout'!CF31)","v":""},{"$f":"IF(OFFSET('Plate Layout'!AQ105,0,0,1,1)=\"\",\"\",OFFSET('Plate Layout'!AQ105,0,0,1,1))","v":""}]
[{"$f":"IF('Plate Layout'!$D$8=\"\",\"\",'Plate Layout'!$D$8)","v":""},"Q42",{"$f":"IF('Plate Layout'!CG31=\"\",\"\",'Plate Layout'!CG31)","v":""},{"$f":"IF('Plate Layout'!CH31=\"\",\"\",'Plate Layout'!CH31)","v":""},{"$f":"IF(OFFSET('Plate Layout'!AR105,0,0,1,1)=\"\",\"\",OFFSET('Plate Layout'!AR105,0,0,1,1))","v":""}]
[{"$f":"IF('Plate Layout'!$D$8=\"\",\"\",'Plate Layout'!$D$8)","v":""},"Q43",{"$f":"IF('Plate Layout'!CI31=\"\",\"\",'Plate Layout'!CI31)","v":""},{"$f":"IF('Plate Layout'!CJ31=\"\",\"\",'Plate Layout'!CJ31)","v":""},{"$f":"IF(OFFSET('Plate Layout'!AS105,0,0,1,1)=\"\",\"\",OFFSET('Plate Layout'!AS105,0,0,1,1))","v":""}]
[{"$f":"IF('Plate Layout'!$D$8=\"\",\"\",'Plate Layout'!$D$8)","v":""},"Q44",{"$f":"IF('Plate Layout'!CK31=\"\",\"\",'Plate Layout'!CK31)","v":""},{"$f":"IF('Plate Layout'!CL31=\"\",\"\",'Plate Layout'!CL31)","v":""},{"$f":"IF(OFFSET('Plate Layout'!AT105,0,0,1,1)=\"\",\"\",OFFSET('Plate Layout'!AT105,0,0,1,1))","v":""}]
[{"$f":"IF('Plate Layout'!$D$8=\"\",\"\",'Plate Layout'!$D$8)","v":""},"Q45",{"$f":"IF('Plate Layout'!CM31=\"\",\"\",'Plate Layout'!CM31)","v":""},{"$f":"IF('Plate Layout'!CN31=\"\",\"\",'Plate Layout'!CN31)","v":""},{"$f":"IF(OFFSET('Plate Layout'!AU105,0,0,1,1)=\"\",\"\",OFFSET('Plate Layout'!AU105,0,0,1,1))","v":""}]
[{"$f":"IF('Plate Layout'!$D$8=\"\",\"\",'Plate Layout'!$D$8)","v":""},"Q46",{"$f":"IF('Plate Layout'!CO31=\"\",\"\",'Plate Layout'!CO31)","v":""},{"$f":"IF('Plate Layout'!CP31=\"\",\"\",'Plate Layout'!CP31)","v":""},{"$f":"IF(OFFSET('Plate Layout'!AV105,0,0,1,1)=\"\",\"\",OFFSET('Plate Layout'!AV105,0,0,1,1))","v":""}]
[{"$f":"IF('Plate Layout'!$D$8=\"\",\"\",'Plate Layout'!$D$8)","v":""},"Q47",{"$f":"IF('Plate Layout'!CQ31=\"\",\"\",'Plate Layout'!CQ31)","v":""},{"$f":"IF('Plate Layout'!CR31=\"\",\"\",'Plate Layout'!CR31)","v":""},{"$f":"IF(OFFSET('Plate Layout'!AW105,0,0,1,1)=\"\",\"\",OFFSET('Plate Layout'!AW105,0,0,1,1))","v":""}]
[{"$f":"IF('Plate Layout'!$D$8=\"\",\"\",'Plate Layout'!$D$8)","v":""},"Q48",{"$f":"IF('Plate Layout'!CS31=\"\",\"\",'Plate Layout'!CS31)","v":""},{"$f":"IF('Plate Layout'!CT31=\"\",\"\",'Plate Layout'!CT31)","v":""},{"$f":"IF(OFFSET('Plate Layout'!AX105,0,0,1,1)=\"\",\"\",OFFSET('Plate Layout'!AX105,0,0,1,1))","v":""}]
[{"$f":"IF('Plate Layout'!$D$8=\"\",\"\",'Plate Layout'!$D$8)","v":""},"R01",{"$f":"IF('Plate Layout'!C32=\"\",\"\",'Plate Layout'!C32)","v":""},{"$f":"IF('Plate Layout'!D32=\"\",\"\",'Plate Layout'!D32)","v":""},{"$f":"IF(OFFSET('Plate Layout'!C106,0,0,1,1)=\"\",\"\",OFFSET('Plate Layout'!C106,0,0,1,1))","v":""}]
[{"$f":"IF('Plate Layout'!$D$8=\"\",\"\",'Plate Layout'!$D$8)","v":""},"R02",{"$f":"IF('Plate Layout'!E32=\"\",\"\",'Plate Layout'!E32)","v":""},{"$f":"IF('Plate Layout'!F32=\"\",\"\",'Plate Layout'!F32)","v":""},{"$f":"IF(OFFSET('Plate Layout'!D106,0,0,1,1)=\"\",\"\",OFFSET('Plate Layout'!D106,0,0,1,1))","v":""}]
[{"$f":"IF('Plate Layout'!$D$8=\"\",\"\",'Plate Layout'!$D$8)","v":""},"R03",{"$f":"IF('Plate Layout'!G32=\"\",\"\",'Plate Layout'!G32)","v":""},{"$f":"IF('Plate Layout'!H32=\"\",\"\",'Plate Layout'!H32)","v":""},{"$f":"IF(OFFSET('Plate Layout'!E106,0,0,1,1)=\"\",\"\",OFFSET('Plate Layout'!E106,0,0,1,1))","v":""}]
[{"$f":"IF('Plate Layout'!$D$8=\"\",\"\",'Plate Layout'!$D$8)","v":""},"R04",{"$f":"IF('Plate Layout'!I32=\"\",\"\",'Plate Layout'!I32)","v":""},{"$f":"IF('Plate Layout'!J32=\"\",\"\",'Plate Layout'!J32)","v":""},{"$f":"IF(OFFSET('Plate Layout'!F106,0,0,1,1)=\"\",\"\",OFFSET('Plate Layout'!F106,0,0,1,1))","v":""}]
[{"$f":"IF('Plate Layout'!$D$8=\"\",\"\",'Plate Layout'!$D$8)","v":""},"R05",{"$f":"IF('Plate Layout'!K32=\"\",\"\",'Plate Layout'!K32)","v":""},{"$f":"IF('Plate Layout'!L32=\"\",\"\",'Plate Layout'!L32)","v":""},{"$f":"IF(OFFSET('Plate Layout'!G106,0,0,1,1)=\"\",\"\",OFFSET('Plate Layout'!G106,0,0,1,1))","v":""}]
[{"$f":"IF('Plate Layout'!$D$8=\"\",\"\",'Plate Layout'!$D$8)","v":""},"R06",{"$f":"IF('Plate Layout'!M32=\"\",\"\",'Plate Layout'!M32)","v":""},{"$f":"IF('Plate Layout'!N32=\"\",\"\",'Plate Layout'!N32)","v":""},{"$f":"IF(OFFSET('Plate Layout'!H106,0,0,1,1)=\"\",\"\",OFFSET('Plate Layout'!H106,0,0,1,1))","v":""}]
[{"$f":"IF('Plate Layout'!$D$8=\"\",\"\",'Plate Layout'!$D$8)","v":""},"R07",{"$f":"IF('Plate Layout'!O32=\"\",\"\",'Plate Layout'!O32)","v":""},{"$f":"IF('Plate Layout'!P32=\"\",\"\",'Plate Layout'!P32)","v":""},{"$f":"IF(OFFSET('Plate Layout'!I106,0,0,1,1)=\"\",\"\",OFFSET('Plate Layout'!I106,0,0,1,1))","v":""}]
[{"$f":"IF('Plate Layout'!$D$8=\"\",\"\",'Plate Layout'!$D$8)","v":""},"R08",{"$f":"IF('Plate Layout'!Q32=\"\",\"\",'Plate Layout'!Q32)","v":""},{"$f":"IF('Plate Layout'!R32=\"\",\"\",'Plate Layout'!R32)","v":""},{"$f":"IF(OFFSET('Plate Layout'!J106,0,0,1,1)=\"\",\"\",OFFSET('Plate Layout'!J106,0,0,1,1))","v":""}]
[{"$f":"IF('Plate Layout'!$D$8=\"\",\"\",'Plate Layout'!$D$8)","v":""},"R09",{"$f":"IF('Plate Layout'!S32=\"\",\"\",'Plate Layout'!S32)","v":""},{"$f":"IF('Plate Layout'!T32=\"\",\"\",'Plate Layout'!T32)","v":""},{"$f":"IF(OFFSET('Plate Layout'!K106,0,0,1,1)=\"\",\"\",OFFSET('Plate Layout'!K106,0,0,1,1))","v":""}]
[{"$f":"IF('Plate Layout'!$D$8=\"\",\"\",'Plate Layout'!$D$8)","v":""},"R10",{"$f":"IF('Plate Layout'!U32=\"\",\"\",'Plate Layout'!U32)","v":""},{"$f":"IF('Plate Layout'!V32=\"\",\"\",'Plate Layout'!V32)","v":""},{"$f":"IF(OFFSET('Plate Layout'!L106,0,0,1,1)=\"\",\"\",OFFSET('Plate Layout'!L106,0,0,1,1))","v":""}]
[{"$f":"IF('Plate Layout'!$D$8=\"\",\"\",'Plate Layout'!$D$8)","v":""},"R11",{"$f":"IF('Plate Layout'!W32=\"\",\"\",'Plate Layout'!W32)","v":""},{"$f":"IF('Plate Layout'!X32=\"\",\"\",'Plate Layout'!X32)","v":""},{"$f":"IF(OFFSET('Plate Layout'!M106,0,0,1,1)=\"\",\"\",OFFSET('Plate Layout'!M106,0,0,1,1))","v":""}]
[{"$f":"IF('Plate Layout'!$D$8=\"\",\"\",'Plate Layout'!$D$8)","v":""},"R12",{"$f":"IF('Plate Layout'!Y32=\"\",\"\",'Plate Layout'!Y32)","v":""},{"$f":"IF('Plate Layout'!Z32=\"\",\"\",'Plate Layout'!Z32)","v":""},{"$f":"IF(OFFSET('Plate Layout'!N106,0,0,1,1)=\"\",\"\",OFFSET('Plate Layout'!N106,0,0,1,1))","v":""}]
[{"$f":"IF('Plate Layout'!$D$8=\"\",\"\",'Plate Layout'!$D$8)","v":""},"R13",{"$f":"IF('Plate Layout'!AA32=\"\",\"\",'Plate Layout'!AA32)","v":""},{"$f":"IF('Plate Layout'!AB32=\"\",\"\",'Plate Layout'!AB32)","v":""},{"$f":"IF(OFFSET('Plate Layout'!O106,0,0,1,1)=\"\",\"\",OFFSET('Plate Layout'!O106,0,0,1,1))","v":""}]
[{"$f":"IF('Plate Layout'!$D$8=\"\",\"\",'Plate Layout'!$D$8)","v":""},"R14",{"$f":"IF('Plate Layout'!AC32=\"\",\"\",'Plate Layout'!AC32)","v":""},{"$f":"IF('Plate Layout'!AD32=\"\",\"\",'Plate Layout'!AD32)","v":""},{"$f":"IF(OFFSET('Plate Layout'!P106,0,0,1,1)=\"\",\"\",OFFSET('Plate Layout'!P106,0,0,1,1))","v":""}]
[{"$f":"IF('Plate Layout'!$D$8=\"\",\"\",'Plate Layout'!$D$8)","v":""},"R15",{"$f":"IF('Plate Layout'!AE32=\"\",\"\",'Plate Layout'!AE32)","v":""},{"$f":"IF('Plate Layout'!AF32=\"\",\"\",'Plate Layout'!AF32)","v":""},{"$f":"IF(OFFSET('Plate Layout'!Q106,0,0,1,1)=\"\",\"\",OFFSET('Plate Layout'!Q106,0,0,1,1))","v":""}]
[{"$f":"IF('Plate Layout'!$D$8=\"\",\"\",'Plate Layout'!$D$8)","v":""},"R16",{"$f":"IF('Plate Layout'!AG32=\"\",\"\",'Plate Layout'!AG32)","v":""},{"$f":"IF('Plate Layout'!AH32=\"\",\"\",'Plate Layout'!AH32)","v":""},{"$f":"IF(OFFSET('Plate Layout'!R106,0,0,1,1)=\"\",\"\",OFFSET('Plate Layout'!R106,0,0,1,1))","v":""}]
[{"$f":"IF('Plate Layout'!$D$8=\"\",\"\",'Plate Layout'!$D$8)","v":""},"R17",{"$f":"IF('Plate Layout'!AI32=\"\",\"\",'Plate Layout'!AI32)","v":""},{"$f":"IF('Plate Layout'!AJ32=\"\",\"\",'Plate Layout'!AJ32)","v":""},{"$f":"IF(OFFSET('Plate Layout'!S106,0,0,1,1)=\"\",\"\",OFFSET('Plate Layout'!S106,0,0,1,1))","v":""}]
[{"$f":"IF('Plate Layout'!$D$8=\"\",\"\",'Plate Layout'!$D$8)","v":""},"R18",{"$f":"IF('Plate Layout'!AK32=\"\",\"\",'Plate Layout'!AK32)","v":""},{"$f":"IF('Plate Layout'!AL32=\"\",\"\",'Plate Layout'!AL32)","v":""},{"$f":"IF(OFFSET('Plate Layout'!T106,0,0,1,1)=\"\",\"\",OFFSET('Plate Layout'!T106,0,0,1,1))","v":""}]
[{"$f":"IF('Plate Layout'!$D$8=\"\",\"\",'Plate Layout'!$D$8)","v":""},"R19",{"$f":"IF('Plate Layout'!AM32=\"\",\"\",'Plate Layout'!AM32)","v":""},{"$f":"IF('Plate Layout'!AN32=\"\",\"\",'Plate Layout'!AN32)","v":""},{"$f":"IF(OFFSET('Plate Layout'!U106,0,0,1,1)=\"\",\"\",OFFSET('Plate Layout'!U106,0,0,1,1))","v":""}]
[{"$f":"IF('Plate Layout'!$D$8=\"\",\"\",'Plate Layout'!$D$8)","v":""},"R20",{"$f":"IF('Plate Layout'!AO32=\"\",\"\",'Plate Layout'!AO32)","v":""},{"$f":"IF('Plate Layout'!AP32=\"\",\"\",'Plate Layout'!AP32)","v":""},{"$f":"IF(OFFSET('Plate Layout'!V106,0,0,1,1)=\"\",\"\",OFFSET('Plate Layout'!V106,0,0,1,1))","v":""}]
[{"$f":"IF('Plate Layout'!$D$8=\"\",\"\",'Plate Layout'!$D$8)","v":""},"R21",{"$f":"IF('Plate Layout'!AQ32=\"\",\"\",'Plate Layout'!AQ32)","v":""},{"$f":"IF('Plate Layout'!AR32=\"\",\"\",'Plate Layout'!AR32)","v":""},{"$f":"IF(OFFSET('Plate Layout'!W106,0,0,1,1)=\"\",\"\",OFFSET('Plate Layout'!W106,0,0,1,1))","v":""}]
[{"$f":"IF('Plate Layout'!$D$8=\"\",\"\",'Plate Layout'!$D$8)","v":""},"R22",{"$f":"IF('Plate Layout'!AS32=\"\",\"\",'Plate Layout'!AS32)","v":""},{"$f":"IF('Plate Layout'!AT32=\"\",\"\",'Plate Layout'!AT32)","v":""},{"$f":"IF(OFFSET('Plate Layout'!X106,0,0,1,1)=\"\",\"\",OFFSET('Plate Layout'!X106,0,0,1,1))","v":""}]
[{"$f":"IF('Plate Layout'!$D$8=\"\",\"\",'Plate Layout'!$D$8)","v":""},"R23",{"$f":"IF('Plate Layout'!AU32=\"\",\"\",'Plate Layout'!AU32)","v":""},{"$f":"IF('Plate Layout'!AV32=\"\",\"\",'Plate Layout'!AV32)","v":""},{"$f":"IF(OFFSET('Plate Layout'!Y106,0,0,1,1)=\"\",\"\",OFFSET('Plate Layout'!Y106,0,0,1,1))","v":""}]
[{"$f":"IF('Plate Layout'!$D$8=\"\",\"\",'Plate Layout'!$D$8)","v":""},"R24",{"$f":"IF('Plate Layout'!AW32=\"\",\"\",'Plate Layout'!AW32)","v":""},{"$f":"IF('Plate Layout'!AX32=\"\",\"\",'Plate Layout'!AX32)","v":""},{"$f":"IF(OFFSET('Plate Layout'!Z106,0,0,1,1)=\"\",\"\",OFFSET('Plate Layout'!Z106,0,0,1,1))","v":""}]
[{"$f":"IF('Plate Layout'!$D$8=\"\",\"\",'Plate Layout'!$D$8)","v":""},"R25",{"$f":"IF('Plate Layout'!AY32=\"\",\"\",'Plate Layout'!AY32)","v":""},{"$f":"IF('Plate Layout'!AZ32=\"\",\"\",'Plate Layout'!AZ32)","v":""},{"$f":"IF(OFFSET('Plate Layout'!AA106,0,0,1,1)=\"\",\"\",OFFSET('Plate Layout'!AA106,0,0,1,1))","v":""}]
[{"$f":"IF('Plate Layout'!$D$8=\"\",\"\",'Plate Layout'!$D$8)","v":""},"R26",{"$f":"IF('Plate Layout'!BA32=\"\",\"\",'Plate Layout'!BA32)","v":""},{"$f":"IF('Plate Layout'!BB32=\"\",\"\",'Plate Layout'!BB32)","v":""},{"$f":"IF(OFFSET('Plate Layout'!AB106,0,0,1,1)=\"\",\"\",OFFSET('Plate Layout'!AB106,0,0,1,1))","v":""}]
[{"$f":"IF('Plate Layout'!$D$8=\"\",\"\",'Plate Layout'!$D$8)","v":""},"R27",{"$f":"IF('Plate Layout'!BC32=\"\",\"\",'Plate Layout'!BC32)","v":""},{"$f":"IF('Plate Layout'!BD32=\"\",\"\",'Plate Layout'!BD32)","v":""},{"$f":"IF(OFFSET('Plate Layout'!AC106,0,0,1,1)=\"\",\"\",OFFSET('Plate Layout'!AC106,0,0,1,1))","v":""}]
[{"$f":"IF('Plate Layout'!$D$8=\"\",\"\",'Plate Layout'!$D$8)","v":""},"R28",{"$f":"IF('Plate Layout'!BE32=\"\",\"\",'Plate Layout'!BE32)","v":""},{"$f":"IF('Plate Layout'!BF32=\"\",\"\",'Plate Layout'!BF32)","v":""},{"$f":"IF(OFFSET('Plate Layout'!AD106,0,0,1,1)=\"\",\"\",OFFSET('Plate Layout'!AD106,0,0,1,1))","v":""}]
[{"$f":"IF('Plate Layout'!$D$8=\"\",\"\",'Plate Layout'!$D$8)","v":""},"R29",{"$f":"IF('Plate Layout'!BG32=\"\",\"\",'Plate Layout'!BG32)","v":""},{"$f":"IF('Plate Layout'!BH32=\"\",\"\",'Plate Layout'!BH32)","v":""},{"$f":"IF(OFFSET('Plate Layout'!AE106,0,0,1,1)=\"\",\"\",OFFSET('Plate Layout'!AE106,0,0,1,1))","v":""}]
[{"$f":"IF('Plate Layout'!$D$8=\"\",\"\",'Plate Layout'!$D$8)","v":""},"R30",{"$f":"IF('Plate Layout'!BI32=\"\",\"\",'Plate Layout'!BI32)","v":""},{"$f":"IF('Plate Layout'!BJ32=\"\",\"\",'Plate Layout'!BJ32)","v":""},{"$f":"IF(OFFSET('Plate Layout'!AF106,0,0,1,1)=\"\",\"\",OFFSET('Plate Layout'!AF106,0,0,1,1))","v":""}]
[{"$f":"IF('Plate Layout'!$D$8=\"\",\"\",'Plate Layout'!$D$8)","v":""},"R31",{"$f":"IF('Plate Layout'!BK32=\"\",\"\",'Plate Layout'!BK32)","v":""},{"$f":"IF('Plate Layout'!BL32=\"\",\"\",'Plate Layout'!BL32)","v":""},{"$f":"IF(OFFSET('Plate Layout'!AG106,0,0,1,1)=\"\",\"\",OFFSET('Plate Layout'!AG106,0,0,1,1))","v":""}]
[{"$f":"IF('Plate Layout'!$D$8=\"\",\"\",'Plate Layout'!$D$8)","v":""},"R32",{"$f":"IF('Plate Layout'!BM32=\"\",\"\",'Plate Layout'!BM32)","v":""},{"$f":"IF('Plate Layout'!BN32=\"\",\"\",'Plate Layout'!BN32)","v":""},{"$f":"IF(OFFSET('Plate Layout'!AH106,0,0,1,1)=\"\",\"\",OFFSET('Plate Layout'!AH106,0,0,1,1))","v":""}]
[{"$f":"IF('Plate Layout'!$D$8=\"\",\"\",'Plate Layout'!$D$8)","v":""},"R33",{"$f":"IF('Plate Layout'!BO32=\"\",\"\",'Plate Layout'!BO32)","v":""},{"$f":"IF('Plate Layout'!BP32=\"\",\"\",'Plate Layout'!BP32)","v":""},{"$f":"IF(OFFSET('Plate Layout'!AI106,0,0,1,1)=\"\",\"\",OFFSET('Plate Layout'!AI106,0,0,1,1))","v":""}]
[{"$f":"IF('Plate Layout'!$D$8=\"\",\"\",'Plate Layout'!$D$8)","v":""},"R34",{"$f":"IF('Plate Layout'!BQ32=\"\",\"\",'Plate Layout'!BQ32)","v":""},{"$f":"IF('Plate Layout'!BR32=\"\",\"\",'Plate Layout'!BR32)","v":""},{"$f":"IF(OFFSET('Plate Layout'!AJ106,0,0,1,1)=\"\",\"\",OFFSET('Plate Layout'!AJ106,0,0,1,1))","v":""}]
[{"$f":"IF('Plate Layout'!$D$8=\"\",\"\",'Plate Layout'!$D$8)","v":""},"R35",{"$f":"IF('Plate Layout'!BS32=\"\",\"\",'Plate Layout'!BS32)","v":""},{"$f":"IF('Plate Layout'!BT32=\"\",\"\",'Plate Layout'!BT32)","v":""},{"$f":"IF(OFFSET('Plate Layout'!AK106,0,0,1,1)=\"\",\"\",OFFSET('Plate Layout'!AK106,0,0,1,1))","v":""}]
[{"$f":"IF('Plate Layout'!$D$8=\"\",\"\",'Plate Layout'!$D$8)","v":""},"R36",{"$f":"IF('Plate Layout'!BU32=\"\",\"\",'Plate Layout'!BU32)","v":""},{"$f":"IF('Plate Layout'!BV32=\"\",\"\",'Plate Layout'!BV32)","v":""},{"$f":"IF(OFFSET('Plate Layout'!AL106,0,0,1,1)=\"\",\"\",OFFSET('Plate Layout'!AL106,0,0,1,1))","v":""}]
[{"$f":"IF('Plate Layout'!$D$8=\"\",\"\",'Plate Layout'!$D$8)","v":""},"R37",{"$f":"IF('Plate Layout'!BW32=\"\",\"\",'Plate Layout'!BW32)","v":""},{"$f":"IF('Plate Layout'!BX32=\"\",\"\",'Plate Layout'!BX32)","v":""},{"$f":"IF(OFFSET('Plate Layout'!AM106,0,0,1,1)=\"\",\"\",OFFSET('Plate Layout'!AM106,0,0,1,1))","v":""}]
[{"$f":"IF('Plate Layout'!$D$8=\"\",\"\",'Plate Layout'!$D$8)","v":""},"R38",{"$f":"IF('Plate Layout'!BY32=\"\",\"\",'Plate Layout'!BY32)","v":""},{"$f":"IF('Plate Layout'!BZ32=\"\",\"\",'Plate Layout'!BZ32)","v":""},{"$f":"IF(OFFSET('Plate Layout'!AN106,0,0,1,1)=\"\",\"\",OFFSET('Plate Layout'!AN106,0,0,1,1))","v":""}]
[{"$f":"IF('Plate Layout'!$D$8=\"\",\"\",'Plate Layout'!$D$8)","v":""},"R39",{"$f":"IF('Plate Layout'!CA32=\"\",\"\",'Plate Layout'!CA32)","v":""},{"$f":"IF('Plate Layout'!CB32=\"\",\"\",'Plate Layout'!CB32)","v":""},{"$f":"IF(OFFSET('Plate Layout'!AO106,0,0,1,1)=\"\",\"\",OFFSET('Plate Layout'!AO106,0,0,1,1))","v":""}]
[{"$f":"IF('Plate Layout'!$D$8=\"\",\"\",'Plate Layout'!$D$8)","v":""},"R40",{"$f":"IF('Plate Layout'!CC32=\"\",\"\",'Plate Layout'!CC32)","v":""},{"$f":"IF('Plate Layout'!CD32=\"\",\"\",'Plate Layout'!CD32)","v":""},{"$f":"IF(OFFSET('Plate Layout'!AP106,0,0,1,1)=\"\",\"\",OFFSET('Plate Layout'!AP106,0,0,1,1))","v":""}]
[{"$f":"IF('Plate Layout'!$D$8=\"\",\"\",'Plate Layout'!$D$8)","v":""},"R41",{"$f":"IF('Plate Layout'!CE32=\"\",\"\",'Plate Layout'!CE32)","v":""},{"$f":"IF('Plate Layout'!CF32=\"\",\"\",'Plate Layout'!CF32)","v":""},{"$f":"IF(OFFSET('Plate Layout'!AQ106,0,0,1,1)=\"\",\"\",OFFSET('Plate Layout'!AQ106,0,0,1,1))","v":""}]
[{"$f":"IF('Plate Layout'!$D$8=\"\",\"\",'Plate Layout'!$D$8)","v":""},"R42",{"$f":"IF('Plate Layout'!CG32=\"\",\"\",'Plate Layout'!CG32)","v":""},{"$f":"IF('Plate Layout'!CH32=\"\",\"\",'Plate Layout'!CH32)","v":""},{"$f":"IF(OFFSET('Plate Layout'!AR106,0,0,1,1)=\"\",\"\",OFFSET('Plate Layout'!AR106,0,0,1,1))","v":""}]
[{"$f":"IF('Plate Layout'!$D$8=\"\",\"\",'Plate Layout'!$D$8)","v":""},"R43",{"$f":"IF('Plate Layout'!CI32=\"\",\"\",'Plate Layout'!CI32)","v":""},{"$f":"IF('Plate Layout'!CJ32=\"\",\"\",'Plate Layout'!CJ32)","v":""},{"$f":"IF(OFFSET('Plate Layout'!AS106,0,0,1,1)=\"\",\"\",OFFSET('Plate Layout'!AS106,0,0,1,1))","v":""}]
[{"$f":"IF('Plate Layout'!$D$8=\"\",\"\",'Plate Layout'!$D$8)","v":""},"R44",{"$f":"IF('Plate Layout'!CK32=\"\",\"\",'Plate Layout'!CK32)","v":""},{"$f":"IF('Plate Layout'!CL32=\"\",\"\",'Plate Layout'!CL32)","v":""},{"$f":"IF(OFFSET('Plate Layout'!AT106,0,0,1,1)=\"\",\"\",OFFSET('Plate Layout'!AT106,0,0,1,1))","v":""}]
[{"$f":"IF('Plate Layout'!$D$8=\"\",\"\",'Plate Layout'!$D$8)","v":""},"R45",{"$f":"IF('Plate Layout'!CM32=\"\",\"\",'Plate Layout'!CM32)","v":""},{"$f":"IF('Plate Layout'!CN32=\"\",\"\",'Plate Layout'!CN32)","v":""},{"$f":"IF(OFFSET('Plate Layout'!AU106,0,0,1,1)=\"\",\"\",OFFSET('Plate Layout'!AU106,0,0,1,1))","v":""}]
[{"$f":"IF('Plate Layout'!$D$8=\"\",\"\",'Plate Layout'!$D$8)","v":""},"R46",{"$f":"IF('Plate Layout'!CO32=\"\",\"\",'Plate Layout'!CO32)","v":""},{"$f":"IF('Plate Layout'!CP32=\"\",\"\",'Plate Layout'!CP32)","v":""},{"$f":"IF(OFFSET('Plate Layout'!AV106,0,0,1,1)=\"\",\"\",OFFSET('Plate Layout'!AV106,0,0,1,1))","v":""}]
[{"$f":"IF('Plate Layout'!$D$8=\"\",\"\",'Plate Layout'!$D$8)","v":""},"R47",{"$f":"IF('Plate Layout'!CQ32=\"\",\"\",'Plate Layout'!CQ32)","v":""},{"$f":"IF('Plate Layout'!CR32=\"\",\"\",'Plate Layout'!CR32)","v":""},{"$f":"IF(OFFSET('Plate Layout'!AW106,0,0,1,1)=\"\",\"\",OFFSET('Plate Layout'!AW106,0,0,1,1))","v":""}]
[{"$f":"IF('Plate Layout'!$D$8=\"\",\"\",'Plate Layout'!$D$8)","v":""},"R48",{"$f":"IF('Plate Layout'!CS32=\"\",\"\",'Plate Layout'!CS32)","v":""},{"$f":"IF('Plate Layout'!CT32=\"\",\"\",'Plate Layout'!CT32)","v":""},{"$f":"IF(OFFSET('Plate Layout'!AX106,0,0,1,1)=\"\",\"\",OFFSET('Plate Layout'!AX106,0,0,1,1))","v":""}]
[{"$f":"IF('Plate Layout'!$D$8=\"\",\"\",'Plate Layout'!$D$8)","v":""},"S01",{"$f":"IF('Plate Layout'!C33=\"\",\"\",'Plate Layout'!C33)","v":""},{"$f":"IF('Plate Layout'!D33=\"\",\"\",'Plate Layout'!D33)","v":""},{"$f":"IF(OFFSET('Plate Layout'!C107,0,0,1,1)=\"\",\"\",OFFSET('Plate Layout'!C107,0,0,1,1))","v":""}]
[{"$f":"IF('Plate Layout'!$D$8=\"\",\"\",'Plate Layout'!$D$8)","v":""},"S02",{"$f":"IF('Plate Layout'!E33=\"\",\"\",'Plate Layout'!E33)","v":""},{"$f":"IF('Plate Layout'!F33=\"\",\"\",'Plate Layout'!F33)","v":""},{"$f":"IF(OFFSET('Plate Layout'!D107,0,0,1,1)=\"\",\"\",OFFSET('Plate Layout'!D107,0,0,1,1))","v":""}]
[{"$f":"IF('Plate Layout'!$D$8=\"\",\"\",'Plate Layout'!$D$8)","v":""},"S03",{"$f":"IF('Plate Layout'!G33=\"\",\"\",'Plate Layout'!G33)","v":""},{"$f":"IF('Plate Layout'!H33=\"\",\"\",'Plate Layout'!H33)","v":""},{"$f":"IF(OFFSET('Plate Layout'!E107,0,0,1,1)=\"\",\"\",OFFSET('Plate Layout'!E107,0,0,1,1))","v":""}]
[{"$f":"IF('Plate Layout'!$D$8=\"\",\"\",'Plate Layout'!$D$8)","v":""},"S04",{"$f":"IF('Plate Layout'!I33=\"\",\"\",'Plate Layout'!I33)","v":""},{"$f":"IF('Plate Layout'!J33=\"\",\"\",'Plate Layout'!J33)","v":""},{"$f":"IF(OFFSET('Plate Layout'!F107,0,0,1,1)=\"\",\"\",OFFSET('Plate Layout'!F107,0,0,1,1))","v":""}]
[{"$f":"IF('Plate Layout'!$D$8=\"\",\"\",'Plate Layout'!$D$8)","v":""},"S05",{"$f":"IF('Plate Layout'!K33=\"\",\"\",'Plate Layout'!K33)","v":""},{"$f":"IF('Plate Layout'!L33=\"\",\"\",'Plate Layout'!L33)","v":""},{"$f":"IF(OFFSET('Plate Layout'!G107,0,0,1,1)=\"\",\"\",OFFSET('Plate Layout'!G107,0,0,1,1))","v":""}]
[{"$f":"IF('Plate Layout'!$D$8=\"\",\"\",'Plate Layout'!$D$8)","v":""},"S06",{"$f":"IF('Plate Layout'!M33=\"\",\"\",'Plate Layout'!M33)","v":""},{"$f":"IF('Plate Layout'!N33=\"\",\"\",'Plate Layout'!N33)","v":""},{"$f":"IF(OFFSET('Plate Layout'!H107,0,0,1,1)=\"\",\"\",OFFSET('Plate Layout'!H107,0,0,1,1))","v":""}]
[{"$f":"IF('Plate Layout'!$D$8=\"\",\"\",'Plate Layout'!$D$8)","v":""},"S07",{"$f":"IF('Plate Layout'!O33=\"\",\"\",'Plate Layout'!O33)","v":""},{"$f":"IF('Plate Layout'!P33=\"\",\"\",'Plate Layout'!P33)","v":""},{"$f":"IF(OFFSET('Plate Layout'!I107,0,0,1,1)=\"\",\"\",OFFSET('Plate Layout'!I107,0,0,1,1))","v":""}]
[{"$f":"IF('Plate Layout'!$D$8=\"\",\"\",'Plate Layout'!$D$8)","v":""},"S08",{"$f":"IF('Plate Layout'!Q33=\"\",\"\",'Plate Layout'!Q33)","v":""},{"$f":"IF('Plate Layout'!R33=\"\",\"\",'Plate Layout'!R33)","v":""},{"$f":"IF(OFFSET('Plate Layout'!J107,0,0,1,1)=\"\",\"\",OFFSET('Plate Layout'!J107,0,0,1,1))","v":""}]
[{"$f":"IF('Plate Layout'!$D$8=\"\",\"\",'Plate Layout'!$D$8)","v":""},"S09",{"$f":"IF('Plate Layout'!S33=\"\",\"\",'Plate Layout'!S33)","v":""},{"$f":"IF('Plate Layout'!T33=\"\",\"\",'Plate Layout'!T33)","v":""},{"$f":"IF(OFFSET('Plate Layout'!K107,0,0,1,1)=\"\",\"\",OFFSET('Plate Layout'!K107,0,0,1,1))","v":""}]
[{"$f":"IF('Plate Layout'!$D$8=\"\",\"\",'Plate Layout'!$D$8)","v":""},"S10",{"$f":"IF('Plate Layout'!U33=\"\",\"\",'Plate Layout'!U33)","v":""},{"$f":"IF('Plate Layout'!V33=\"\",\"\",'Plate Layout'!V33)","v":""},{"$f":"IF(OFFSET('Plate Layout'!L107,0,0,1,1)=\"\",\"\",OFFSET('Plate Layout'!L107,0,0,1,1))","v":""}]
[{"$f":"IF('Plate Layout'!$D$8=\"\",\"\",'Plate Layout'!$D$8)","v":""},"S11",{"$f":"IF('Plate Layout'!W33=\"\",\"\",'Plate Layout'!W33)","v":""},{"$f":"IF('Plate Layout'!X33=\"\",\"\",'Plate Layout'!X33)","v":""},{"$f":"IF(OFFSET('Plate Layout'!M107,0,0,1,1)=\"\",\"\",OFFSET('Plate Layout'!M107,0,0,1,1))","v":""}]
[{"$f":"IF('Plate Layout'!$D$8=\"\",\"\",'Plate Layout'!$D$8)","v":""},"S12",{"$f":"IF('Plate Layout'!Y33=\"\",\"\",'Plate Layout'!Y33)","v":""},{"$f":"IF('Plate Layout'!Z33=\"\",\"\",'Plate Layout'!Z33)","v":""},{"$f":"IF(OFFSET('Plate Layout'!N107,0,0,1,1)=\"\",\"\",OFFSET('Plate Layout'!N107,0,0,1,1))","v":""}]
[{"$f":"IF('Plate Layout'!$D$8=\"\",\"\",'Plate Layout'!$D$8)","v":""},"S13",{"$f":"IF('Plate Layout'!AA33=\"\",\"\",'Plate Layout'!AA33)","v":""},{"$f":"IF('Plate Layout'!AB33=\"\",\"\",'Plate Layout'!AB33)","v":""},{"$f":"IF(OFFSET('Plate Layout'!O107,0,0,1,1)=\"\",\"\",OFFSET('Plate Layout'!O107,0,0,1,1))","v":""}]
[{"$f":"IF('Plate Layout'!$D$8=\"\",\"\",'Plate Layout'!$D$8)","v":""},"S14",{"$f":"IF('Plate Layout'!AC33=\"\",\"\",'Plate Layout'!AC33)","v":""},{"$f":"IF('Plate Layout'!AD33=\"\",\"\",'Plate Layout'!AD33)","v":""},{"$f":"IF(OFFSET('Plate Layout'!P107,0,0,1,1)=\"\",\"\",OFFSET('Plate Layout'!P107,0,0,1,1))","v":""}]
[{"$f":"IF('Plate Layout'!$D$8=\"\",\"\",'Plate Layout'!$D$8)","v":""},"S15",{"$f":"IF('Plate Layout'!AE33=\"\",\"\",'Plate Layout'!AE33)","v":""},{"$f":"IF('Plate Layout'!AF33=\"\",\"\",'Plate Layout'!AF33)","v":""},{"$f":"IF(OFFSET('Plate Layout'!Q107,0,0,1,1)=\"\",\"\",OFFSET('Plate Layout'!Q107,0,0,1,1))","v":""}]
[{"$f":"IF('Plate Layout'!$D$8=\"\",\"\",'Plate Layout'!$D$8)","v":""},"S16",{"$f":"IF('Plate Layout'!AG33=\"\",\"\",'Plate Layout'!AG33)","v":""},{"$f":"IF('Plate Layout'!AH33=\"\",\"\",'Plate Layout'!AH33)","v":""},{"$f":"IF(OFFSET('Plate Layout'!R107,0,0,1,1)=\"\",\"\",OFFSET('Plate Layout'!R107,0,0,1,1))","v":""}]
[{"$f":"IF('Plate Layout'!$D$8=\"\",\"\",'Plate Layout'!$D$8)","v":""},"S17",{"$f":"IF('Plate Layout'!AI33=\"\",\"\",'Plate Layout'!AI33)","v":""},{"$f":"IF('Plate Layout'!AJ33=\"\",\"\",'Plate Layout'!AJ33)","v":""},{"$f":"IF(OFFSET('Plate Layout'!S107,0,0,1,1)=\"\",\"\",OFFSET('Plate Layout'!S107,0,0,1,1))","v":""}]
[{"$f":"IF('Plate Layout'!$D$8=\"\",\"\",'Plate Layout'!$D$8)","v":""},"S18",{"$f":"IF('Plate Layout'!AK33=\"\",\"\",'Plate Layout'!AK33)","v":""},{"$f":"IF('Plate Layout'!AL33=\"\",\"\",'Plate Layout'!AL33)","v":""},{"$f":"IF(OFFSET('Plate Layout'!T107,0,0,1,1)=\"\",\"\",OFFSET('Plate Layout'!T107,0,0,1,1))","v":""}]
[{"$f":"IF('Plate Layout'!$D$8=\"\",\"\",'Plate Layout'!$D$8)","v":""},"S19",{"$f":"IF('Plate Layout'!AM33=\"\",\"\",'Plate Layout'!AM33)","v":""},{"$f":"IF('Plate Layout'!AN33=\"\",\"\",'Plate Layout'!AN33)","v":""},{"$f":"IF(OFFSET('Plate Layout'!U107,0,0,1,1)=\"\",\"\",OFFSET('Plate Layout'!U107,0,0,1,1))","v":""}]
[{"$f":"IF('Plate Layout'!$D$8=\"\",\"\",'Plate Layout'!$D$8)","v":""},"S20",{"$f":"IF('Plate Layout'!AO33=\"\",\"\",'Plate Layout'!AO33)","v":""},{"$f":"IF('Plate Layout'!AP33=\"\",\"\",'Plate Layout'!AP33)","v":""},{"$f":"IF(OFFSET('Plate Layout'!V107,0,0,1,1)=\"\",\"\",OFFSET('Plate Layout'!V107,0,0,1,1))","v":""}]
[{"$f":"IF('Plate Layout'!$D$8=\"\",\"\",'Plate Layout'!$D$8)","v":""},"S21",{"$f":"IF('Plate Layout'!AQ33=\"\",\"\",'Plate Layout'!AQ33)","v":""},{"$f":"IF('Plate Layout'!AR33=\"\",\"\",'Plate Layout'!AR33)","v":""},{"$f":"IF(OFFSET('Plate Layout'!W107,0,0,1,1)=\"\",\"\",OFFSET('Plate Layout'!W107,0,0,1,1))","v":""}]
[{"$f":"IF('Plate Layout'!$D$8=\"\",\"\",'Plate Layout'!$D$8)","v":""},"S22",{"$f":"IF('Plate Layout'!AS33=\"\",\"\",'Plate Layout'!AS33)","v":""},{"$f":"IF('Plate Layout'!AT33=\"\",\"\",'Plate Layout'!AT33)","v":""},{"$f":"IF(OFFSET('Plate Layout'!X107,0,0,1,1)=\"\",\"\",OFFSET('Plate Layout'!X107,0,0,1,1))","v":""}]
[{"$f":"IF('Plate Layout'!$D$8=\"\",\"\",'Plate Layout'!$D$8)","v":""},"S23",{"$f":"IF('Plate Layout'!AU33=\"\",\"\",'Plate Layout'!AU33)","v":""},{"$f":"IF('Plate Layout'!AV33=\"\",\"\",'Plate Layout'!AV33)","v":""},{"$f":"IF(OFFSET('Plate Layout'!Y107,0,0,1,1)=\"\",\"\",OFFSET('Plate Layout'!Y107,0,0,1,1))","v":""}]
[{"$f":"IF('Plate Layout'!$D$8=\"\",\"\",'Plate Layout'!$D$8)","v":""},"S24",{"$f":"IF('Plate Layout'!AW33=\"\",\"\",'Plate Layout'!AW33)","v":""},{"$f":"IF('Plate Layout'!AX33=\"\",\"\",'Plate Layout'!AX33)","v":""},{"$f":"IF(OFFSET('Plate Layout'!Z107,0,0,1,1)=\"\",\"\",OFFSET('Plate Layout'!Z107,0,0,1,1))","v":""}]
[{"$f":"IF('Plate Layout'!$D$8=\"\",\"\",'Plate Layout'!$D$8)","v":""},"S25",{"$f":"IF('Plate Layout'!AY33=\"\",\"\",'Plate Layout'!AY33)","v":""},{"$f":"IF('Plate Layout'!AZ33=\"\",\"\",'Plate Layout'!AZ33)","v":""},{"$f":"IF(OFFSET('Plate Layout'!AA107,0,0,1,1)=\"\",\"\",OFFSET('Plate Layout'!AA107,0,0,1,1))","v":""}]
[{"$f":"IF('Plate Layout'!$D$8=\"\",\"\",'Plate Layout'!$D$8)","v":""},"S26",{"$f":"IF('Plate Layout'!BA33=\"\",\"\",'Plate Layout'!BA33)","v":""},{"$f":"IF('Plate Layout'!BB33=\"\",\"\",'Plate Layout'!BB33)","v":""},{"$f":"IF(OFFSET('Plate Layout'!AB107,0,0,1,1)=\"\",\"\",OFFSET('Plate Layout'!AB107,0,0,1,1))","v":""}]
[{"$f":"IF('Plate Layout'!$D$8=\"\",\"\",'Plate Layout'!$D$8)","v":""},"S27",{"$f":"IF('Plate Layout'!BC33=\"\",\"\",'Plate Layout'!BC33)","v":""},{"$f":"IF('Plate Layout'!BD33=\"\",\"\",'Plate Layout'!BD33)","v":""},{"$f":"IF(OFFSET('Plate Layout'!AC107,0,0,1,1)=\"\",\"\",OFFSET('Plate Layout'!AC107,0,0,1,1))","v":""}]
[{"$f":"IF('Plate Layout'!$D$8=\"\",\"\",'Plate Layout'!$D$8)","v":""},"S28",{"$f":"IF('Plate Layout'!BE33=\"\",\"\",'Plate Layout'!BE33)","v":""},{"$f":"IF('Plate Layout'!BF33=\"\",\"\",'Plate Layout'!BF33)","v":""},{"$f":"IF(OFFSET('Plate Layout'!AD107,0,0,1,1)=\"\",\"\",OFFSET('Plate Layout'!AD107,0,0,1,1))","v":""}]
[{"$f":"IF('Plate Layout'!$D$8=\"\",\"\",'Plate Layout'!$D$8)","v":""},"S29",{"$f":"IF('Plate Layout'!BG33=\"\",\"\",'Plate Layout'!BG33)","v":""},{"$f":"IF('Plate Layout'!BH33=\"\",\"\",'Plate Layout'!BH33)","v":""},{"$f":"IF(OFFSET('Plate Layout'!AE107,0,0,1,1)=\"\",\"\",OFFSET('Plate Layout'!AE107,0,0,1,1))","v":""}]
[{"$f":"IF('Plate Layout'!$D$8=\"\",\"\",'Plate Layout'!$D$8)","v":""},"S30",{"$f":"IF('Plate Layout'!BI33=\"\",\"\",'Plate Layout'!BI33)","v":""},{"$f":"IF('Plate Layout'!BJ33=\"\",\"\",'Plate Layout'!BJ33)","v":""},{"$f":"IF(OFFSET('Plate Layout'!AF107,0,0,1,1)=\"\",\"\",OFFSET('Plate Layout'!AF107,0,0,1,1))","v":""}]
[{"$f":"IF('Plate Layout'!$D$8=\"\",\"\",'Plate Layout'!$D$8)","v":""},"S31",{"$f":"IF('Plate Layout'!BK33=\"\",\"\",'Plate Layout'!BK33)","v":""},{"$f":"IF('Plate Layout'!BL33=\"\",\"\",'Plate Layout'!BL33)","v":""},{"$f":"IF(OFFSET('Plate Layout'!AG107,0,0,1,1)=\"\",\"\",OFFSET('Plate Layout'!AG107,0,0,1,1))","v":""}]
[{"$f":"IF('Plate Layout'!$D$8=\"\",\"\",'Plate Layout'!$D$8)","v":""},"S32",{"$f":"IF('Plate Layout'!BM33=\"\",\"\",'Plate Layout'!BM33)","v":""},{"$f":"IF('Plate Layout'!BN33=\"\",\"\",'Plate Layout'!BN33)","v":""},{"$f":"IF(OFFSET('Plate Layout'!AH107,0,0,1,1)=\"\",\"\",OFFSET('Plate Layout'!AH107,0,0,1,1))","v":""}]
[{"$f":"IF('Plate Layout'!$D$8=\"\",\"\",'Plate Layout'!$D$8)","v":""},"S33",{"$f":"IF('Plate Layout'!BO33=\"\",\"\",'Plate Layout'!BO33)","v":""},{"$f":"IF('Plate Layout'!BP33=\"\",\"\",'Plate Layout'!BP33)","v":""},{"$f":"IF(OFFSET('Plate Layout'!AI107,0,0,1,1)=\"\",\"\",OFFSET('Plate Layout'!AI107,0,0,1,1))","v":""}]
[{"$f":"IF('Plate Layout'!$D$8=\"\",\"\",'Plate Layout'!$D$8)","v":""},"S34",{"$f":"IF('Plate Layout'!BQ33=\"\",\"\",'Plate Layout'!BQ33)","v":""},{"$f":"IF('Plate Layout'!BR33=\"\",\"\",'Plate Layout'!BR33)","v":""},{"$f":"IF(OFFSET('Plate Layout'!AJ107,0,0,1,1)=\"\",\"\",OFFSET('Plate Layout'!AJ107,0,0,1,1))","v":""}]
[{"$f":"IF('Plate Layout'!$D$8=\"\",\"\",'Plate Layout'!$D$8)","v":""},"S35",{"$f":"IF('Plate Layout'!BS33=\"\",\"\",'Plate Layout'!BS33)","v":""},{"$f":"IF('Plate Layout'!BT33=\"\",\"\",'Plate Layout'!BT33)","v":""},{"$f":"IF(OFFSET('Plate Layout'!AK107,0,0,1,1)=\"\",\"\",OFFSET('Plate Layout'!AK107,0,0,1,1))","v":""}]
[{"$f":"IF('Plate Layout'!$D$8=\"\",\"\",'Plate Layout'!$D$8)","v":""},"S36",{"$f":"IF('Plate Layout'!BU33=\"\",\"\",'Plate Layout'!BU33)","v":""},{"$f":"IF('Plate Layout'!BV33=\"\",\"\",'Plate Layout'!BV33)","v":""},{"$f":"IF(OFFSET('Plate Layout'!AL107,0,0,1,1)=\"\",\"\",OFFSET('Plate Layout'!AL107,0,0,1,1))","v":""}]
[{"$f":"IF('Plate Layout'!$D$8=\"\",\"\",'Plate Layout'!$D$8)","v":""},"S37",{"$f":"IF('Plate Layout'!BW33=\"\",\"\",'Plate Layout'!BW33)","v":""},{"$f":"IF('Plate Layout'!BX33=\"\",\"\",'Plate Layout'!BX33)","v":""},{"$f":"IF(OFFSET('Plate Layout'!AM107,0,0,1,1)=\"\",\"\",OFFSET('Plate Layout'!AM107,0,0,1,1))","v":""}]
[{"$f":"IF('Plate Layout'!$D$8=\"\",\"\",'Plate Layout'!$D$8)","v":""},"S38",{"$f":"IF('Plate Layout'!BY33=\"\",\"\",'Plate Layout'!BY33)","v":""},{"$f":"IF('Plate Layout'!BZ33=\"\",\"\",'Plate Layout'!BZ33)","v":""},{"$f":"IF(OFFSET('Plate Layout'!AN107,0,0,1,1)=\"\",\"\",OFFSET('Plate Layout'!AN107,0,0,1,1))","v":""}]
[{"$f":"IF('Plate Layout'!$D$8=\"\",\"\",'Plate Layout'!$D$8)","v":""},"S39",{"$f":"IF('Plate Layout'!CA33=\"\",\"\",'Plate Layout'!CA33)","v":""},{"$f":"IF('Plate Layout'!CB33=\"\",\"\",'Plate Layout'!CB33)","v":""},{"$f":"IF(OFFSET('Plate Layout'!AO107,0,0,1,1)=\"\",\"\",OFFSET('Plate Layout'!AO107,0,0,1,1))","v":""}]
[{"$f":"IF('Plate Layout'!$D$8=\"\",\"\",'Plate Layout'!$D$8)","v":""},"S40",{"$f":"IF('Plate Layout'!CC33=\"\",\"\",'Plate Layout'!CC33)","v":""},{"$f":"IF('Plate Layout'!CD33=\"\",\"\",'Plate Layout'!CD33)","v":""},{"$f":"IF(OFFSET('Plate Layout'!AP107,0,0,1,1)=\"\",\"\",OFFSET('Plate Layout'!AP107,0,0,1,1))","v":""}]
[{"$f":"IF('Plate Layout'!$D$8=\"\",\"\",'Plate Layout'!$D$8)","v":""},"S41",{"$f":"IF('Plate Layout'!CE33=\"\",\"\",'Plate Layout'!CE33)","v":""},{"$f":"IF('Plate Layout'!CF33=\"\",\"\",'Plate Layout'!CF33)","v":""},{"$f":"IF(OFFSET('Plate Layout'!AQ107,0,0,1,1)=\"\",\"\",OFFSET('Plate Layout'!AQ107,0,0,1,1))","v":""}]
[{"$f":"IF('Plate Layout'!$D$8=\"\",\"\",'Plate Layout'!$D$8)","v":""},"S42",{"$f":"IF('Plate Layout'!CG33=\"\",\"\",'Plate Layout'!CG33)","v":""},{"$f":"IF('Plate Layout'!CH33=\"\",\"\",'Plate Layout'!CH33)","v":""},{"$f":"IF(OFFSET('Plate Layout'!AR107,0,0,1,1)=\"\",\"\",OFFSET('Plate Layout'!AR107,0,0,1,1))","v":""}]
[{"$f":"IF('Plate Layout'!$D$8=\"\",\"\",'Plate Layout'!$D$8)","v":""},"S43",{"$f":"IF('Plate Layout'!CI33=\"\",\"\",'Plate Layout'!CI33)","v":""},{"$f":"IF('Plate Layout'!CJ33=\"\",\"\",'Plate Layout'!CJ33)","v":""},{"$f":"IF(OFFSET('Plate Layout'!AS107,0,0,1,1)=\"\",\"\",OFFSET('Plate Layout'!AS107,0,0,1,1))","v":""}]
[{"$f":"IF('Plate Layout'!$D$8=\"\",\"\",'Plate Layout'!$D$8)","v":""},"S44",{"$f":"IF('Plate Layout'!CK33=\"\",\"\",'Plate Layout'!CK33)","v":""},{"$f":"IF('Plate Layout'!CL33=\"\",\"\",'Plate Layout'!CL33)","v":""},{"$f":"IF(OFFSET('Plate Layout'!AT107,0,0,1,1)=\"\",\"\",OFFSET('Plate Layout'!AT107,0,0,1,1))","v":""}]
[{"$f":"IF('Plate Layout'!$D$8=\"\",\"\",'Plate Layout'!$D$8)","v":""},"S45",{"$f":"IF('Plate Layout'!CM33=\"\",\"\",'Plate Layout'!CM33)","v":""},{"$f":"IF('Plate Layout'!CN33=\"\",\"\",'Plate Layout'!CN33)","v":""},{"$f":"IF(OFFSET('Plate Layout'!AU107,0,0,1,1)=\"\",\"\",OFFSET('Plate Layout'!AU107,0,0,1,1))","v":""}]
[{"$f":"IF('Plate Layout'!$D$8=\"\",\"\",'Plate Layout'!$D$8)","v":""},"S46",{"$f":"IF('Plate Layout'!CO33=\"\",\"\",'Plate Layout'!CO33)","v":""},{"$f":"IF('Plate Layout'!CP33=\"\",\"\",'Plate Layout'!CP33)","v":""},{"$f":"IF(OFFSET('Plate Layout'!AV107,0,0,1,1)=\"\",\"\",OFFSET('Plate Layout'!AV107,0,0,1,1))","v":""}]
[{"$f":"IF('Plate Layout'!$D$8=\"\",\"\",'Plate Layout'!$D$8)","v":""},"S47",{"$f":"IF('Plate Layout'!CQ33=\"\",\"\",'Plate Layout'!CQ33)","v":""},{"$f":"IF('Plate Layout'!CR33=\"\",\"\",'Plate Layout'!CR33)","v":""},{"$f":"IF(OFFSET('Plate Layout'!AW107,0,0,1,1)=\"\",\"\",OFFSET('Plate Layout'!AW107,0,0,1,1))","v":""}]
[{"$f":"IF('Plate Layout'!$D$8=\"\",\"\",'Plate Layout'!$D$8)","v":""},"S48",{"$f":"IF('Plate Layout'!CS33=\"\",\"\",'Plate Layout'!CS33)","v":""},{"$f":"IF('Plate Layout'!CT33=\"\",\"\",'Plate Layout'!CT33)","v":""},{"$f":"IF(OFFSET('Plate Layout'!AX107,0,0,1,1)=\"\",\"\",OFFSET('Plate Layout'!AX107,0,0,1,1))","v":""}]
[{"$f":"IF('Plate Layout'!$D$8=\"\",\"\",'Plate Layout'!$D$8)","v":""},"T01",{"$f":"IF('Plate Layout'!C34=\"\",\"\",'Plate Layout'!C34)","v":""},{"$f":"IF('Plate Layout'!D34=\"\",\"\",'Plate Layout'!D34)","v":""},{"$f":"IF(OFFSET('Plate Layout'!C108,0,0,1,1)=\"\",\"\",OFFSET('Plate Layout'!C108,0,0,1,1))","v":""}]
[{"$f":"IF('Plate Layout'!$D$8=\"\",\"\",'Plate Layout'!$D$8)","v":""},"T02",{"$f":"IF('Plate Layout'!E34=\"\",\"\",'Plate Layout'!E34)","v":""},{"$f":"IF('Plate Layout'!F34=\"\",\"\",'Plate Layout'!F34)","v":""},{"$f":"IF(OFFSET('Plate Layout'!D108,0,0,1,1)=\"\",\"\",OFFSET('Plate Layout'!D108,0,0,1,1))","v":""}]
[{"$f":"IF('Plate Layout'!$D$8=\"\",\"\",'Plate Layout'!$D$8)","v":""},"T03",{"$f":"IF('Plate Layout'!G34=\"\",\"\",'Plate Layout'!G34)","v":""},{"$f":"IF('Plate Layout'!H34=\"\",\"\",'Plate Layout'!H34)","v":""},{"$f":"IF(OFFSET('Plate Layout'!E108,0,0,1,1)=\"\",\"\",OFFSET('Plate Layout'!E108,0,0,1,1))","v":""}]
[{"$f":"IF('Plate Layout'!$D$8=\"\",\"\",'Plate Layout'!$D$8)","v":""},"T04",{"$f":"IF('Plate Layout'!I34=\"\",\"\",'Plate Layout'!I34)","v":""},{"$f":"IF('Plate Layout'!J34=\"\",\"\",'Plate Layout'!J34)","v":""},{"$f":"IF(OFFSET('Plate Layout'!F108,0,0,1,1)=\"\",\"\",OFFSET('Plate Layout'!F108,0,0,1,1))","v":""}]
[{"$f":"IF('Plate Layout'!$D$8=\"\",\"\",'Plate Layout'!$D$8)","v":""},"T05",{"$f":"IF('Plate Layout'!K34=\"\",\"\",'Plate Layout'!K34)","v":""},{"$f":"IF('Plate Layout'!L34=\"\",\"\",'Plate Layout'!L34)","v":""},{"$f":"IF(OFFSET('Plate Layout'!G108,0,0,1,1)=\"\",\"\",OFFSET('Plate Layout'!G108,0,0,1,1))","v":""}]
[{"$f":"IF('Plate Layout'!$D$8=\"\",\"\",'Plate Layout'!$D$8)","v":""},"T06",{"$f":"IF('Plate Layout'!M34=\"\",\"\",'Plate Layout'!M34)","v":""},{"$f":"IF('Plate Layout'!N34=\"\",\"\",'Plate Layout'!N34)","v":""},{"$f":"IF(OFFSET('Plate Layout'!H108,0,0,1,1)=\"\",\"\",OFFSET('Plate Layout'!H108,0,0,1,1))","v":""}]
[{"$f":"IF('Plate Layout'!$D$8=\"\",\"\",'Plate Layout'!$D$8)","v":""},"T07",{"$f":"IF('Plate Layout'!O34=\"\",\"\",'Plate Layout'!O34)","v":""},{"$f":"IF('Plate Layout'!P34=\"\",\"\",'Plate Layout'!P34)","v":""},{"$f":"IF(OFFSET('Plate Layout'!I108,0,0,1,1)=\"\",\"\",OFFSET('Plate Layout'!I108,0,0,1,1))","v":""}]
[{"$f":"IF('Plate Layout'!$D$8=\"\",\"\",'Plate Layout'!$D$8)","v":""},"T08",{"$f":"IF('Plate Layout'!Q34=\"\",\"\",'Plate Layout'!Q34)","v":""},{"$f":"IF('Plate Layout'!R34=\"\",\"\",'Plate Layout'!R34)","v":""},{"$f":"IF(OFFSET('Plate Layout'!J108,0,0,1,1)=\"\",\"\",OFFSET('Plate Layout'!J108,0,0,1,1))","v":""}]
[{"$f":"IF('Plate Layout'!$D$8=\"\",\"\",'Plate Layout'!$D$8)","v":""},"T09",{"$f":"IF('Plate Layout'!S34=\"\",\"\",'Plate Layout'!S34)","v":""},{"$f":"IF('Plate Layout'!T34=\"\",\"\",'Plate Layout'!T34)","v":""},{"$f":"IF(OFFSET('Plate Layout'!K108,0,0,1,1)=\"\",\"\",OFFSET('Plate Layout'!K108,0,0,1,1))","v":""}]
[{"$f":"IF('Plate Layout'!$D$8=\"\",\"\",'Plate Layout'!$D$8)","v":""},"T10",{"$f":"IF('Plate Layout'!U34=\"\",\"\",'Plate Layout'!U34)","v":""},{"$f":"IF('Plate Layout'!V34=\"\",\"\",'Plate Layout'!V34)","v":""},{"$f":"IF(OFFSET('Plate Layout'!L108,0,0,1,1)=\"\",\"\",OFFSET('Plate Layout'!L108,0,0,1,1))","v":""}]
[{"$f":"IF('Plate Layout'!$D$8=\"\",\"\",'Plate Layout'!$D$8)","v":""},"T11",{"$f":"IF('Plate Layout'!W34=\"\",\"\",'Plate Layout'!W34)","v":""},{"$f":"IF('Plate Layout'!X34=\"\",\"\",'Plate Layout'!X34)","v":""},{"$f":"IF(OFFSET('Plate Layout'!M108,0,0,1,1)=\"\",\"\",OFFSET('Plate Layout'!M108,0,0,1,1))","v":""}]
[{"$f":"IF('Plate Layout'!$D$8=\"\",\"\",'Plate Layout'!$D$8)","v":""},"T12",{"$f":"IF('Plate Layout'!Y34=\"\",\"\",'Plate Layout'!Y34)","v":""},{"$f":"IF('Plate Layout'!Z34=\"\",\"\",'Plate Layout'!Z34)","v":""},{"$f":"IF(OFFSET('Plate Layout'!N108,0,0,1,1)=\"\",\"\",OFFSET('Plate Layout'!N108,0,0,1,1))","v":""}]
[{"$f":"IF('Plate Layout'!$D$8=\"\",\"\",'Plate Layout'!$D$8)","v":""},"T13",{"$f":"IF('Plate Layout'!AA34=\"\",\"\",'Plate Layout'!AA34)","v":""},{"$f":"IF('Plate Layout'!AB34=\"\",\"\",'Plate Layout'!AB34)","v":""},{"$f":"IF(OFFSET('Plate Layout'!O108,0,0,1,1)=\"\",\"\",OFFSET('Plate Layout'!O108,0,0,1,1))","v":""}]
[{"$f":"IF('Plate Layout'!$D$8=\"\",\"\",'Plate Layout'!$D$8)","v":""},"T14",{"$f":"IF('Plate Layout'!AC34=\"\",\"\",'Plate Layout'!AC34)","v":""},{"$f":"IF('Plate Layout'!AD34=\"\",\"\",'Plate Layout'!AD34)","v":""},{"$f":"IF(OFFSET('Plate Layout'!P108,0,0,1,1)=\"\",\"\",OFFSET('Plate Layout'!P108,0,0,1,1))","v":""}]
[{"$f":"IF('Plate Layout'!$D$8=\"\",\"\",'Plate Layout'!$D$8)","v":""},"T15",{"$f":"IF('Plate Layout'!AE34=\"\",\"\",'Plate Layout'!AE34)","v":""},{"$f":"IF('Plate Layout'!AF34=\"\",\"\",'Plate Layout'!AF34)","v":""},{"$f":"IF(OFFSET('Plate Layout'!Q108,0,0,1,1)=\"\",\"\",OFFSET('Plate Layout'!Q108,0,0,1,1))","v":""}]
[{"$f":"IF('Plate Layout'!$D$8=\"\",\"\",'Plate Layout'!$D$8)","v":""},"T16",{"$f":"IF('Plate Layout'!AG34=\"\",\"\",'Plate Layout'!AG34)","v":""},{"$f":"IF('Plate Layout'!AH34=\"\",\"\",'Plate Layout'!AH34)","v":""},{"$f":"IF(OFFSET('Plate Layout'!R108,0,0,1,1)=\"\",\"\",OFFSET('Plate Layout'!R108,0,0,1,1))","v":""}]
[{"$f":"IF('Plate Layout'!$D$8=\"\",\"\",'Plate Layout'!$D$8)","v":""},"T17",{"$f":"IF('Plate Layout'!AI34=\"\",\"\",'Plate Layout'!AI34)","v":""},{"$f":"IF('Plate Layout'!AJ34=\"\",\"\",'Plate Layout'!AJ34)","v":""},{"$f":"IF(OFFSET('Plate Layout'!S108,0,0,1,1)=\"\",\"\",OFFSET('Plate Layout'!S108,0,0,1,1))","v":""}]
[{"$f":"IF('Plate Layout'!$D$8=\"\",\"\",'Plate Layout'!$D$8)","v":""},"T18",{"$f":"IF('Plate Layout'!AK34=\"\",\"\",'Plate Layout'!AK34)","v":""},{"$f":"IF('Plate Layout'!AL34=\"\",\"\",'Plate Layout'!AL34)","v":""},{"$f":"IF(OFFSET('Plate Layout'!T108,0,0,1,1)=\"\",\"\",OFFSET('Plate Layout'!T108,0,0,1,1))","v":""}]
[{"$f":"IF('Plate Layout'!$D$8=\"\",\"\",'Plate Layout'!$D$8)","v":""},"T19",{"$f":"IF('Plate Layout'!AM34=\"\",\"\",'Plate Layout'!AM34)","v":""},{"$f":"IF('Plate Layout'!AN34=\"\",\"\",'Plate Layout'!AN34)","v":""},{"$f":"IF(OFFSET('Plate Layout'!U108,0,0,1,1)=\"\",\"\",OFFSET('Plate Layout'!U108,0,0,1,1))","v":""}]
[{"$f":"IF('Plate Layout'!$D$8=\"\",\"\",'Plate Layout'!$D$8)","v":""},"T20",{"$f":"IF('Plate Layout'!AO34=\"\",\"\",'Plate Layout'!AO34)","v":""},{"$f":"IF('Plate Layout'!AP34=\"\",\"\",'Plate Layout'!AP34)","v":""},{"$f":"IF(OFFSET('Plate Layout'!V108,0,0,1,1)=\"\",\"\",OFFSET('Plate Layout'!V108,0,0,1,1))","v":""}]
[{"$f":"IF('Plate Layout'!$D$8=\"\",\"\",'Plate Layout'!$D$8)","v":""},"T21",{"$f":"IF('Plate Layout'!AQ34=\"\",\"\",'Plate Layout'!AQ34)","v":""},{"$f":"IF('Plate Layout'!AR34=\"\",\"\",'Plate Layout'!AR34)","v":""},{"$f":"IF(OFFSET('Plate Layout'!W108,0,0,1,1)=\"\",\"\",OFFSET('Plate Layout'!W108,0,0,1,1))","v":""}]
[{"$f":"IF('Plate Layout'!$D$8=\"\",\"\",'Plate Layout'!$D$8)","v":""},"T22",{"$f":"IF('Plate Layout'!AS34=\"\",\"\",'Plate Layout'!AS34)","v":""},{"$f":"IF('Plate Layout'!AT34=\"\",\"\",'Plate Layout'!AT34)","v":""},{"$f":"IF(OFFSET('Plate Layout'!X108,0,0,1,1)=\"\",\"\",OFFSET('Plate Layout'!X108,0,0,1,1))","v":""}]
[{"$f":"IF('Plate Layout'!$D$8=\"\",\"\",'Plate Layout'!$D$8)","v":""},"T23",{"$f":"IF('Plate Layout'!AU34=\"\",\"\",'Plate Layout'!AU34)","v":""},{"$f":"IF('Plate Layout'!AV34=\"\",\"\",'Plate Layout'!AV34)","v":""},{"$f":"IF(OFFSET('Plate Layout'!Y108,0,0,1,1)=\"\",\"\",OFFSET('Plate Layout'!Y108,0,0,1,1))","v":""}]
[{"$f":"IF('Plate Layout'!$D$8=\"\",\"\",'Plate Layout'!$D$8)","v":""},"T24",{"$f":"IF('Plate Layout'!AW34=\"\",\"\",'Plate Layout'!AW34)","v":""},{"$f":"IF('Plate Layout'!AX34=\"\",\"\",'Plate Layout'!AX34)","v":""},{"$f":"IF(OFFSET('Plate Layout'!Z108,0,0,1,1)=\"\",\"\",OFFSET('Plate Layout'!Z108,0,0,1,1))","v":""}]
[{"$f":"IF('Plate Layout'!$D$8=\"\",\"\",'Plate Layout'!$D$8)","v":""},"T25",{"$f":"IF('Plate Layout'!AY34=\"\",\"\",'Plate Layout'!AY34)","v":""},{"$f":"IF('Plate Layout'!AZ34=\"\",\"\",'Plate Layout'!AZ34)","v":""},{"$f":"IF(OFFSET('Plate Layout'!AA108,0,0,1,1)=\"\",\"\",OFFSET('Plate Layout'!AA108,0,0,1,1))","v":""}]
[{"$f":"IF('Plate Layout'!$D$8=\"\",\"\",'Plate Layout'!$D$8)","v":""},"T26",{"$f":"IF('Plate Layout'!BA34=\"\",\"\",'Plate Layout'!BA34)","v":""},{"$f":"IF('Plate Layout'!BB34=\"\",\"\",'Plate Layout'!BB34)","v":""},{"$f":"IF(OFFSET('Plate Layout'!AB108,0,0,1,1)=\"\",\"\",OFFSET('Plate Layout'!AB108,0,0,1,1))","v":""}]
[{"$f":"IF('Plate Layout'!$D$8=\"\",\"\",'Plate Layout'!$D$8)","v":""},"T27",{"$f":"IF('Plate Layout'!BC34=\"\",\"\",'Plate Layout'!BC34)","v":""},{"$f":"IF('Plate Layout'!BD34=\"\",\"\",'Plate Layout'!BD34)","v":""},{"$f":"IF(OFFSET('Plate Layout'!AC108,0,0,1,1)=\"\",\"\",OFFSET('Plate Layout'!AC108,0,0,1,1))","v":""}]
[{"$f":"IF('Plate Layout'!$D$8=\"\",\"\",'Plate Layout'!$D$8)","v":""},"T28",{"$f":"IF('Plate Layout'!BE34=\"\",\"\",'Plate Layout'!BE34)","v":""},{"$f":"IF('Plate Layout'!BF34=\"\",\"\",'Plate Layout'!BF34)","v":""},{"$f":"IF(OFFSET('Plate Layout'!AD108,0,0,1,1)=\"\",\"\",OFFSET('Plate Layout'!AD108,0,0,1,1))","v":""}]
[{"$f":"IF('Plate Layout'!$D$8=\"\",\"\",'Plate Layout'!$D$8)","v":""},"T29",{"$f":"IF('Plate Layout'!BG34=\"\",\"\",'Plate Layout'!BG34)","v":""},{"$f":"IF('Plate Layout'!BH34=\"\",\"\",'Plate Layout'!BH34)","v":""},{"$f":"IF(OFFSET('Plate Layout'!AE108,0,0,1,1)=\"\",\"\",OFFSET('Plate Layout'!AE108,0,0,1,1))","v":""}]
[{"$f":"IF('Plate Layout'!$D$8=\"\",\"\",'Plate Layout'!$D$8)","v":""},"T30",{"$f":"IF('Plate Layout'!BI34=\"\",\"\",'Plate Layout'!BI34)","v":""},{"$f":"IF('Plate Layout'!BJ34=\"\",\"\",'Plate Layout'!BJ34)","v":""},{"$f":"IF(OFFSET('Plate Layout'!AF108,0,0,1,1)=\"\",\"\",OFFSET('Plate Layout'!AF108,0,0,1,1))","v":""}]
[{"$f":"IF('Plate Layout'!$D$8=\"\",\"\",'Plate Layout'!$D$8)","v":""},"T31",{"$f":"IF('Plate Layout'!BK34=\"\",\"\",'Plate Layout'!BK34)","v":""},{"$f":"IF('Plate Layout'!BL34=\"\",\"\",'Plate Layout'!BL34)","v":""},{"$f":"IF(OFFSET('Plate Layout'!AG108,0,0,1,1)=\"\",\"\",OFFSET('Plate Layout'!AG108,0,0,1,1))","v":""}]
[{"$f":"IF('Plate Layout'!$D$8=\"\",\"\",'Plate Layout'!$D$8)","v":""},"T32",{"$f":"IF('Plate Layout'!BM34=\"\",\"\",'Plate Layout'!BM34)","v":""},{"$f":"IF('Plate Layout'!BN34=\"\",\"\",'Plate Layout'!BN34)","v":""},{"$f":"IF(OFFSET('Plate Layout'!AH108,0,0,1,1)=\"\",\"\",OFFSET('Plate Layout'!AH108,0,0,1,1))","v":""}]
[{"$f":"IF('Plate Layout'!$D$8=\"\",\"\",'Plate Layout'!$D$8)","v":""},"T33",{"$f":"IF('Plate Layout'!BO34=\"\",\"\",'Plate Layout'!BO34)","v":""},{"$f":"IF('Plate Layout'!BP34=\"\",\"\",'Plate Layout'!BP34)","v":""},{"$f":"IF(OFFSET('Plate Layout'!AI108,0,0,1,1)=\"\",\"\",OFFSET('Plate Layout'!AI108,0,0,1,1))","v":""}]
[{"$f":"IF('Plate Layout'!$D$8=\"\",\"\",'Plate Layout'!$D$8)","v":""},"T34",{"$f":"IF('Plate Layout'!BQ34=\"\",\"\",'Plate Layout'!BQ34)","v":""},{"$f":"IF('Plate Layout'!BR34=\"\",\"\",'Plate Layout'!BR34)","v":""},{"$f":"IF(OFFSET('Plate Layout'!AJ108,0,0,1,1)=\"\",\"\",OFFSET('Plate Layout'!AJ108,0,0,1,1))","v":""}]
[{"$f":"IF('Plate Layout'!$D$8=\"\",\"\",'Plate Layout'!$D$8)","v":""},"T35",{"$f":"IF('Plate Layout'!BS34=\"\",\"\",'Plate Layout'!BS34)","v":""},{"$f":"IF('Plate Layout'!BT34=\"\",\"\",'Plate Layout'!BT34)","v":""},{"$f":"IF(OFFSET('Plate Layout'!AK108,0,0,1,1)=\"\",\"\",OFFSET('Plate Layout'!AK108,0,0,1,1))","v":""}]
[{"$f":"IF('Plate Layout'!$D$8=\"\",\"\",'Plate Layout'!$D$8)","v":""},"T36",{"$f":"IF('Plate Layout'!BU34=\"\",\"\",'Plate Layout'!BU34)","v":""},{"$f":"IF('Plate Layout'!BV34=\"\",\"\",'Plate Layout'!BV34)","v":""},{"$f":"IF(OFFSET('Plate Layout'!AL108,0,0,1,1)=\"\",\"\",OFFSET('Plate Layout'!AL108,0,0,1,1))","v":""}]
[{"$f":"IF('Plate Layout'!$D$8=\"\",\"\",'Plate Layout'!$D$8)","v":""},"T37",{"$f":"IF('Plate Layout'!BW34=\"\",\"\",'Plate Layout'!BW34)","v":""},{"$f":"IF('Plate Layout'!BX34=\"\",\"\",'Plate Layout'!BX34)","v":""},{"$f":"IF(OFFSET('Plate Layout'!AM108,0,0,1,1)=\"\",\"\",OFFSET('Plate Layout'!AM108,0,0,1,1))","v":""}]
[{"$f":"IF('Plate Layout'!$D$8=\"\",\"\",'Plate Layout'!$D$8)","v":""},"T38",{"$f":"IF('Plate Layout'!BY34=\"\",\"\",'Plate Layout'!BY34)","v":""},{"$f":"IF('Plate Layout'!BZ34=\"\",\"\",'Plate Layout'!BZ34)","v":""},{"$f":"IF(OFFSET('Plate Layout'!AN108,0,0,1,1)=\"\",\"\",OFFSET('Plate Layout'!AN108,0,0,1,1))","v":""}]
[{"$f":"IF('Plate Layout'!$D$8=\"\",\"\",'Plate Layout'!$D$8)","v":""},"T39",{"$f":"IF('Plate Layout'!CA34=\"\",\"\",'Plate Layout'!CA34)","v":""},{"$f":"IF('Plate Layout'!CB34=\"\",\"\",'Plate Layout'!CB34)","v":""},{"$f":"IF(OFFSET('Plate Layout'!AO108,0,0,1,1)=\"\",\"\",OFFSET('Plate Layout'!AO108,0,0,1,1))","v":""}]
[{"$f":"IF('Plate Layout'!$D$8=\"\",\"\",'Plate Layout'!$D$8)","v":""},"T40",{"$f":"IF('Plate Layout'!CC34=\"\",\"\",'Plate Layout'!CC34)","v":""},{"$f":"IF('Plate Layout'!CD34=\"\",\"\",'Plate Layout'!CD34)","v":""},{"$f":"IF(OFFSET('Plate Layout'!AP108,0,0,1,1)=\"\",\"\",OFFSET('Plate Layout'!AP108,0,0,1,1))","v":""}]
[{"$f":"IF('Plate Layout'!$D$8=\"\",\"\",'Plate Layout'!$D$8)","v":""},"T41",{"$f":"IF('Plate Layout'!CE34=\"\",\"\",'Plate Layout'!CE34)","v":""},{"$f":"IF('Plate Layout'!CF34=\"\",\"\",'Plate Layout'!CF34)","v":""},{"$f":"IF(OFFSET('Plate Layout'!AQ108,0,0,1,1)=\"\",\"\",OFFSET('Plate Layout'!AQ108,0,0,1,1))","v":""}]
[{"$f":"IF('Plate Layout'!$D$8=\"\",\"\",'Plate Layout'!$D$8)","v":""},"T42",{"$f":"IF('Plate Layout'!CG34=\"\",\"\",'Plate Layout'!CG34)","v":""},{"$f":"IF('Plate Layout'!CH34=\"\",\"\",'Plate Layout'!CH34)","v":""},{"$f":"IF(OFFSET('Plate Layout'!AR108,0,0,1,1)=\"\",\"\",OFFSET('Plate Layout'!AR108,0,0,1,1))","v":""}]
[{"$f":"IF('Plate Layout'!$D$8=\"\",\"\",'Plate Layout'!$D$8)","v":""},"T43",{"$f":"IF('Plate Layout'!CI34=\"\",\"\",'Plate Layout'!CI34)","v":""},{"$f":"IF('Plate Layout'!CJ34=\"\",\"\",'Plate Layout'!CJ34)","v":""},{"$f":"IF(OFFSET('Plate Layout'!AS108,0,0,1,1)=\"\",\"\",OFFSET('Plate Layout'!AS108,0,0,1,1))","v":""}]
[{"$f":"IF('Plate Layout'!$D$8=\"\",\"\",'Plate Layout'!$D$8)","v":""},"T44",{"$f":"IF('Plate Layout'!CK34=\"\",\"\",'Plate Layout'!CK34)","v":""},{"$f":"IF('Plate Layout'!CL34=\"\",\"\",'Plate Layout'!CL34)","v":""},{"$f":"IF(OFFSET('Plate Layout'!AT108,0,0,1,1)=\"\",\"\",OFFSET('Plate Layout'!AT108,0,0,1,1))","v":""}]
[{"$f":"IF('Plate Layout'!$D$8=\"\",\"\",'Plate Layout'!$D$8)","v":""},"T45",{"$f":"IF('Plate Layout'!CM34=\"\",\"\",'Plate Layout'!CM34)","v":""},{"$f":"IF('Plate Layout'!CN34=\"\",\"\",'Plate Layout'!CN34)","v":""},{"$f":"IF(OFFSET('Plate Layout'!AU108,0,0,1,1)=\"\",\"\",OFFSET('Plate Layout'!AU108,0,0,1,1))","v":""}]
[{"$f":"IF('Plate Layout'!$D$8=\"\",\"\",'Plate Layout'!$D$8)","v":""},"T46",{"$f":"IF('Plate Layout'!CO34=\"\",\"\",'Plate Layout'!CO34)","v":""},{"$f":"IF('Plate Layout'!CP34=\"\",\"\",'Plate Layout'!CP34)","v":""},{"$f":"IF(OFFSET('Plate Layout'!AV108,0,0,1,1)=\"\",\"\",OFFSET('Plate Layout'!AV108,0,0,1,1))","v":""}]
[{"$f":"IF('Plate Layout'!$D$8=\"\",\"\",'Plate Layout'!$D$8)","v":""},"T47",{"$f":"IF('Plate Layout'!CQ34=\"\",\"\",'Plate Layout'!CQ34)","v":""},{"$f":"IF('Plate Layout'!CR34=\"\",\"\",'Plate Layout'!CR34)","v":""},{"$f":"IF(OFFSET('Plate Layout'!AW108,0,0,1,1)=\"\",\"\",OFFSET('Plate Layout'!AW108,0,0,1,1))","v":""}]
[{"$f":"IF('Plate Layout'!$D$8=\"\",\"\",'Plate Layout'!$D$8)","v":""},"T48",{"$f":"IF('Plate Layout'!CS34=\"\",\"\",'Plate Layout'!CS34)","v":""},{"$f":"IF('Plate Layout'!CT34=\"\",\"\",'Plate Layout'!CT34)","v":""},{"$f":"IF(OFFSET('Plate Layout'!AX108,0,0,1,1)=\"\",\"\",OFFSET('Plate Layout'!AX108,0,0,1,1))","v":""}]
[{"$f":"IF('Plate Layout'!$D$8=\"\",\"\",'Plate Layout'!$D$8)","v":""},"U01",{"$f":"IF('Plate Layout'!C35=\"\",\"\",'Plate Layout'!C35)","v":""},{"$f":"IF('Plate Layout'!D35=\"\",\"\",'Plate Layout'!D35)","v":""},{"$f":"IF(OFFSET('Plate Layout'!C109,0,0,1,1)=\"\",\"\",OFFSET('Plate Layout'!C109,0,0,1,1))","v":""}]
[{"$f":"IF('Plate Layout'!$D$8=\"\",\"\",'Plate Layout'!$D$8)","v":""},"U02",{"$f":"IF('Plate Layout'!E35=\"\",\"\",'Plate Layout'!E35)","v":""},{"$f":"IF('Plate Layout'!F35=\"\",\"\",'Plate Layout'!F35)","v":""},{"$f":"IF(OFFSET('Plate Layout'!D109,0,0,1,1)=\"\",\"\",OFFSET('Plate Layout'!D109,0,0,1,1))","v":""}]
[{"$f":"IF('Plate Layout'!$D$8=\"\",\"\",'Plate Layout'!$D$8)","v":""},"U03",{"$f":"IF('Plate Layout'!G35=\"\",\"\",'Plate Layout'!G35)","v":""},{"$f":"IF('Plate Layout'!H35=\"\",\"\",'Plate Layout'!H35)","v":""},{"$f":"IF(OFFSET('Plate Layout'!E109,0,0,1,1)=\"\",\"\",OFFSET('Plate Layout'!E109,0,0,1,1))","v":""}]
[{"$f":"IF('Plate Layout'!$D$8=\"\",\"\",'Plate Layout'!$D$8)","v":""},"U04",{"$f":"IF('Plate Layout'!I35=\"\",\"\",'Plate Layout'!I35)","v":""},{"$f":"IF('Plate Layout'!J35=\"\",\"\",'Plate Layout'!J35)","v":""},{"$f":"IF(OFFSET('Plate Layout'!F109,0,0,1,1)=\"\",\"\",OFFSET('Plate Layout'!F109,0,0,1,1))","v":""}]
[{"$f":"IF('Plate Layout'!$D$8=\"\",\"\",'Plate Layout'!$D$8)","v":""},"U05",{"$f":"IF('Plate Layout'!K35=\"\",\"\",'Plate Layout'!K35)","v":""},{"$f":"IF('Plate Layout'!L35=\"\",\"\",'Plate Layout'!L35)","v":""},{"$f":"IF(OFFSET('Plate Layout'!G109,0,0,1,1)=\"\",\"\",OFFSET('Plate Layout'!G109,0,0,1,1))","v":""}]
[{"$f":"IF('Plate Layout'!$D$8=\"\",\"\",'Plate Layout'!$D$8)","v":""},"U06",{"$f":"IF('Plate Layout'!M35=\"\",\"\",'Plate Layout'!M35)","v":""},{"$f":"IF('Plate Layout'!N35=\"\",\"\",'Plate Layout'!N35)","v":""},{"$f":"IF(OFFSET('Plate Layout'!H109,0,0,1,1)=\"\",\"\",OFFSET('Plate Layout'!H109,0,0,1,1))","v":""}]
[{"$f":"IF('Plate Layout'!$D$8=\"\",\"\",'Plate Layout'!$D$8)","v":""},"U07",{"$f":"IF('Plate Layout'!O35=\"\",\"\",'Plate Layout'!O35)","v":""},{"$f":"IF('Plate Layout'!P35=\"\",\"\",'Plate Layout'!P35)","v":""},{"$f":"IF(OFFSET('Plate Layout'!I109,0,0,1,1)=\"\",\"\",OFFSET('Plate Layout'!I109,0,0,1,1))","v":""}]
[{"$f":"IF('Plate Layout'!$D$8=\"\",\"\",'Plate Layout'!$D$8)","v":""},"U08",{"$f":"IF('Plate Layout'!Q35=\"\",\"\",'Plate Layout'!Q35)","v":""},{"$f":"IF('Plate Layout'!R35=\"\",\"\",'Plate Layout'!R35)","v":""},{"$f":"IF(OFFSET('Plate Layout'!J109,0,0,1,1)=\"\",\"\",OFFSET('Plate Layout'!J109,0,0,1,1))","v":""}]
[{"$f":"IF('Plate Layout'!$D$8=\"\",\"\",'Plate Layout'!$D$8)","v":""},"U09",{"$f":"IF('Plate Layout'!S35=\"\",\"\",'Plate Layout'!S35)","v":""},{"$f":"IF('Plate Layout'!T35=\"\",\"\",'Plate Layout'!T35)","v":""},{"$f":"IF(OFFSET('Plate Layout'!K109,0,0,1,1)=\"\",\"\",OFFSET('Plate Layout'!K109,0,0,1,1))","v":""}]
[{"$f":"IF('Plate Layout'!$D$8=\"\",\"\",'Plate Layout'!$D$8)","v":""},"U10",{"$f":"IF('Plate Layout'!U35=\"\",\"\",'Plate Layout'!U35)","v":""},{"$f":"IF('Plate Layout'!V35=\"\",\"\",'Plate Layout'!V35)","v":""},{"$f":"IF(OFFSET('Plate Layout'!L109,0,0,1,1)=\"\",\"\",OFFSET('Plate Layout'!L109,0,0,1,1))","v":""}]
[{"$f":"IF('Plate Layout'!$D$8=\"\",\"\",'Plate Layout'!$D$8)","v":""},"U11",{"$f":"IF('Plate Layout'!W35=\"\",\"\",'Plate Layout'!W35)","v":""},{"$f":"IF('Plate Layout'!X35=\"\",\"\",'Plate Layout'!X35)","v":""},{"$f":"IF(OFFSET('Plate Layout'!M109,0,0,1,1)=\"\",\"\",OFFSET('Plate Layout'!M109,0,0,1,1))","v":""}]
[{"$f":"IF('Plate Layout'!$D$8=\"\",\"\",'Plate Layout'!$D$8)","v":""},"U12",{"$f":"IF('Plate Layout'!Y35=\"\",\"\",'Plate Layout'!Y35)","v":""},{"$f":"IF('Plate Layout'!Z35=\"\",\"\",'Plate Layout'!Z35)","v":""},{"$f":"IF(OFFSET('Plate Layout'!N109,0,0,1,1)=\"\",\"\",OFFSET('Plate Layout'!N109,0,0,1,1))","v":""}]
[{"$f":"IF('Plate Layout'!$D$8=\"\",\"\",'Plate Layout'!$D$8)","v":""},"U13",{"$f":"IF('Plate Layout'!AA35=\"\",\"\",'Plate Layout'!AA35)","v":""},{"$f":"IF('Plate Layout'!AB35=\"\",\"\",'Plate Layout'!AB35)","v":""},{"$f":"IF(OFFSET('Plate Layout'!O109,0,0,1,1)=\"\",\"\",OFFSET('Plate Layout'!O109,0,0,1,1))","v":""}]
[{"$f":"IF('Plate Layout'!$D$8=\"\",\"\",'Plate Layout'!$D$8)","v":""},"U14",{"$f":"IF('Plate Layout'!AC35=\"\",\"\",'Plate Layout'!AC35)","v":""},{"$f":"IF('Plate Layout'!AD35=\"\",\"\",'Plate Layout'!AD35)","v":""},{"$f":"IF(OFFSET('Plate Layout'!P109,0,0,1,1)=\"\",\"\",OFFSET('Plate Layout'!P109,0,0,1,1))","v":""}]
[{"$f":"IF('Plate Layout'!$D$8=\"\",\"\",'Plate Layout'!$D$8)","v":""},"U15",{"$f":"IF('Plate Layout'!AE35=\"\",\"\",'Plate Layout'!AE35)","v":""},{"$f":"IF('Plate Layout'!AF35=\"\",\"\",'Plate Layout'!AF35)","v":""},{"$f":"IF(OFFSET('Plate Layout'!Q109,0,0,1,1)=\"\",\"\",OFFSET('Plate Layout'!Q109,0,0,1,1))","v":""}]
[{"$f":"IF('Plate Layout'!$D$8=\"\",\"\",'Plate Layout'!$D$8)","v":""},"U16",{"$f":"IF('Plate Layout'!AG35=\"\",\"\",'Plate Layout'!AG35)","v":""},{"$f":"IF('Plate Layout'!AH35=\"\",\"\",'Plate Layout'!AH35)","v":""},{"$f":"IF(OFFSET('Plate Layout'!R109,0,0,1,1)=\"\",\"\",OFFSET('Plate Layout'!R109,0,0,1,1))","v":""}]
[{"$f":"IF('Plate Layout'!$D$8=\"\",\"\",'Plate Layout'!$D$8)","v":""},"U17",{"$f":"IF('Plate Layout'!AI35=\"\",\"\",'Plate Layout'!AI35)","v":""},{"$f":"IF('Plate Layout'!AJ35=\"\",\"\",'Plate Layout'!AJ35)","v":""},{"$f":"IF(OFFSET('Plate Layout'!S109,0,0,1,1)=\"\",\"\",OFFSET('Plate Layout'!S109,0,0,1,1))","v":""}]
[{"$f":"IF('Plate Layout'!$D$8=\"\",\"\",'Plate Layout'!$D$8)","v":""},"U18",{"$f":"IF('Plate Layout'!AK35=\"\",\"\",'Plate Layout'!AK35)","v":""},{"$f":"IF('Plate Layout'!AL35=\"\",\"\",'Plate Layout'!AL35)","v":""},{"$f":"IF(OFFSET('Plate Layout'!T109,0,0,1,1)=\"\",\"\",OFFSET('Plate Layout'!T109,0,0,1,1))","v":""}]
[{"$f":"IF('Plate Layout'!$D$8=\"\",\"\",'Plate Layout'!$D$8)","v":""},"U19",{"$f":"IF('Plate Layout'!AM35=\"\",\"\",'Plate Layout'!AM35)","v":""},{"$f":"IF('Plate Layout'!AN35=\"\",\"\",'Plate Layout'!AN35)","v":""},{"$f":"IF(OFFSET('Plate Layout'!U109,0,0,1,1)=\"\",\"\",OFFSET('Plate Layout'!U109,0,0,1,1))","v":""}]
[{"$f":"IF('Plate Layout'!$D$8=\"\",\"\",'Plate Layout'!$D$8)","v":""},"U20",{"$f":"IF('Plate Layout'!AO35=\"\",\"\",'Plate Layout'!AO35)","v":""},{"$f":"IF('Plate Layout'!AP35=\"\",\"\",'Plate Layout'!AP35)","v":""},{"$f":"IF(OFFSET('Plate Layout'!V109,0,0,1,1)=\"\",\"\",OFFSET('Plate Layout'!V109,0,0,1,1))","v":""}]
[{"$f":"IF('Plate Layout'!$D$8=\"\",\"\",'Plate Layout'!$D$8)","v":""},"U21",{"$f":"IF('Plate Layout'!AQ35=\"\",\"\",'Plate Layout'!AQ35)","v":""},{"$f":"IF('Plate Layout'!AR35=\"\",\"\",'Plate Layout'!AR35)","v":""},{"$f":"IF(OFFSET('Plate Layout'!W109,0,0,1,1)=\"\",\"\",OFFSET('Plate Layout'!W109,0,0,1,1))","v":""}]
[{"$f":"IF('Plate Layout'!$D$8=\"\",\"\",'Plate Layout'!$D$8)","v":""},"U22",{"$f":"IF('Plate Layout'!AS35=\"\",\"\",'Plate Layout'!AS35)","v":""},{"$f":"IF('Plate Layout'!AT35=\"\",\"\",'Plate Layout'!AT35)","v":""},{"$f":"IF(OFFSET('Plate Layout'!X109,0,0,1,1)=\"\",\"\",OFFSET('Plate Layout'!X109,0,0,1,1))","v":""}]
[{"$f":"IF('Plate Layout'!$D$8=\"\",\"\",'Plate Layout'!$D$8)","v":""},"U23",{"$f":"IF('Plate Layout'!AU35=\"\",\"\",'Plate Layout'!AU35)","v":""},{"$f":"IF('Plate Layout'!AV35=\"\",\"\",'Plate Layout'!AV35)","v":""},{"$f":"IF(OFFSET('Plate Layout'!Y109,0,0,1,1)=\"\",\"\",OFFSET('Plate Layout'!Y109,0,0,1,1))","v":""}]
[{"$f":"IF('Plate Layout'!$D$8=\"\",\"\",'Plate Layout'!$D$8)","v":""},"U24",{"$f":"IF('Plate Layout'!AW35=\"\",\"\",'Plate Layout'!AW35)","v":""},{"$f":"IF('Plate Layout'!AX35=\"\",\"\",'Plate Layout'!AX35)","v":""},{"$f":"IF(OFFSET('Plate Layout'!Z109,0,0,1,1)=\"\",\"\",OFFSET('Plate Layout'!Z109,0,0,1,1))","v":""}]
[{"$f":"IF('Plate Layout'!$D$8=\"\",\"\",'Plate Layout'!$D$8)","v":""},"U25",{"$f":"IF('Plate Layout'!AY35=\"\",\"\",'Plate Layout'!AY35)","v":""},{"$f":"IF('Plate Layout'!AZ35=\"\",\"\",'Plate Layout'!AZ35)","v":""},{"$f":"IF(OFFSET('Plate Layout'!AA109,0,0,1,1)=\"\",\"\",OFFSET('Plate Layout'!AA109,0,0,1,1))","v":""}]
[{"$f":"IF('Plate Layout'!$D$8=\"\",\"\",'Plate Layout'!$D$8)","v":""},"U26",{"$f":"IF('Plate Layout'!BA35=\"\",\"\",'Plate Layout'!BA35)","v":""},{"$f":"IF('Plate Layout'!BB35=\"\",\"\",'Plate Layout'!BB35)","v":""},{"$f":"IF(OFFSET('Plate Layout'!AB109,0,0,1,1)=\"\",\"\",OFFSET('Plate Layout'!AB109,0,0,1,1))","v":""}]
[{"$f":"IF('Plate Layout'!$D$8=\"\",\"\",'Plate Layout'!$D$8)","v":""},"U27",{"$f":"IF('Plate Layout'!BC35=\"\",\"\",'Plate Layout'!BC35)","v":""},{"$f":"IF('Plate Layout'!BD35=\"\",\"\",'Plate Layout'!BD35)","v":""},{"$f":"IF(OFFSET('Plate Layout'!AC109,0,0,1,1)=\"\",\"\",OFFSET('Plate Layout'!AC109,0,0,1,1))","v":""}]
[{"$f":"IF('Plate Layout'!$D$8=\"\",\"\",'Plate Layout'!$D$8)","v":""},"U28",{"$f":"IF('Plate Layout'!BE35=\"\",\"\",'Plate Layout'!BE35)","v":""},{"$f":"IF('Plate Layout'!BF35=\"\",\"\",'Plate Layout'!BF35)","v":""},{"$f":"IF(OFFSET('Plate Layout'!AD109,0,0,1,1)=\"\",\"\",OFFSET('Plate Layout'!AD109,0,0,1,1))","v":""}]
[{"$f":"IF('Plate Layout'!$D$8=\"\",\"\",'Plate Layout'!$D$8)","v":""},"U29",{"$f":"IF('Plate Layout'!BG35=\"\",\"\",'Plate Layout'!BG35)","v":""},{"$f":"IF('Plate Layout'!BH35=\"\",\"\",'Plate Layout'!BH35)","v":""},{"$f":"IF(OFFSET('Plate Layout'!AE109,0,0,1,1)=\"\",\"\",OFFSET('Plate Layout'!AE109,0,0,1,1))","v":""}]
[{"$f":"IF('Plate Layout'!$D$8=\"\",\"\",'Plate Layout'!$D$8)","v":""},"U30",{"$f":"IF('Plate Layout'!BI35=\"\",\"\",'Plate Layout'!BI35)","v":""},{"$f":"IF('Plate Layout'!BJ35=\"\",\"\",'Plate Layout'!BJ35)","v":""},{"$f":"IF(OFFSET('Plate Layout'!AF109,0,0,1,1)=\"\",\"\",OFFSET('Plate Layout'!AF109,0,0,1,1))","v":""}]
[{"$f":"IF('Plate Layout'!$D$8=\"\",\"\",'Plate Layout'!$D$8)","v":""},"U31",{"$f":"IF('Plate Layout'!BK35=\"\",\"\",'Plate Layout'!BK35)","v":""},{"$f":"IF('Plate Layout'!BL35=\"\",\"\",'Plate Layout'!BL35)","v":""},{"$f":"IF(OFFSET('Plate Layout'!AG109,0,0,1,1)=\"\",\"\",OFFSET('Plate Layout'!AG109,0,0,1,1))","v":""}]
[{"$f":"IF('Plate Layout'!$D$8=\"\",\"\",'Plate Layout'!$D$8)","v":""},"U32",{"$f":"IF('Plate Layout'!BM35=\"\",\"\",'Plate Layout'!BM35)","v":""},{"$f":"IF('Plate Layout'!BN35=\"\",\"\",'Plate Layout'!BN35)","v":""},{"$f":"IF(OFFSET('Plate Layout'!AH109,0,0,1,1)=\"\",\"\",OFFSET('Plate Layout'!AH109,0,0,1,1))","v":""}]
[{"$f":"IF('Plate Layout'!$D$8=\"\",\"\",'Plate Layout'!$D$8)","v":""},"U33",{"$f":"IF('Plate Layout'!BO35=\"\",\"\",'Plate Layout'!BO35)","v":""},{"$f":"IF('Plate Layout'!BP35=\"\",\"\",'Plate Layout'!BP35)","v":""},{"$f":"IF(OFFSET('Plate Layout'!AI109,0,0,1,1)=\"\",\"\",OFFSET('Plate Layout'!AI109,0,0,1,1))","v":""}]
[{"$f":"IF('Plate Layout'!$D$8=\"\",\"\",'Plate Layout'!$D$8)","v":""},"U34",{"$f":"IF('Plate Layout'!BQ35=\"\",\"\",'Plate Layout'!BQ35)","v":""},{"$f":"IF('Plate Layout'!BR35=\"\",\"\",'Plate Layout'!BR35)","v":""},{"$f":"IF(OFFSET('Plate Layout'!AJ109,0,0,1,1)=\"\",\"\",OFFSET('Plate Layout'!AJ109,0,0,1,1))","v":""}]
[{"$f":"IF('Plate Layout'!$D$8=\"\",\"\",'Plate Layout'!$D$8)","v":""},"U35",{"$f":"IF('Plate Layout'!BS35=\"\",\"\",'Plate Layout'!BS35)","v":""},{"$f":"IF('Plate Layout'!BT35=\"\",\"\",'Plate Layout'!BT35)","v":""},{"$f":"IF(OFFSET('Plate Layout'!AK109,0,0,1,1)=\"\",\"\",OFFSET('Plate Layout'!AK109,0,0,1,1))","v":""}]
[{"$f":"IF('Plate Layout'!$D$8=\"\",\"\",'Plate Layout'!$D$8)","v":""},"U36",{"$f":"IF('Plate Layout'!BU35=\"\",\"\",'Plate Layout'!BU35)","v":""},{"$f":"IF('Plate Layout'!BV35=\"\",\"\",'Plate Layout'!BV35)","v":""},{"$f":"IF(OFFSET('Plate Layout'!AL109,0,0,1,1)=\"\",\"\",OFFSET('Plate Layout'!AL109,0,0,1,1))","v":""}]
[{"$f":"IF('Plate Layout'!$D$8=\"\",\"\",'Plate Layout'!$D$8)","v":""},"U37",{"$f":"IF('Plate Layout'!BW35=\"\",\"\",'Plate Layout'!BW35)","v":""},{"$f":"IF('Plate Layout'!BX35=\"\",\"\",'Plate Layout'!BX35)","v":""},{"$f":"IF(OFFSET('Plate Layout'!AM109,0,0,1,1)=\"\",\"\",OFFSET('Plate Layout'!AM109,0,0,1,1))","v":""}]
[{"$f":"IF('Plate Layout'!$D$8=\"\",\"\",'Plate Layout'!$D$8)","v":""},"U38",{"$f":"IF('Plate Layout'!BY35=\"\",\"\",'Plate Layout'!BY35)","v":""},{"$f":"IF('Plate Layout'!BZ35=\"\",\"\",'Plate Layout'!BZ35)","v":""},{"$f":"IF(OFFSET('Plate Layout'!AN109,0,0,1,1)=\"\",\"\",OFFSET('Plate Layout'!AN109,0,0,1,1))","v":""}]
[{"$f":"IF('Plate Layout'!$D$8=\"\",\"\",'Plate Layout'!$D$8)","v":""},"U39",{"$f":"IF('Plate Layout'!CA35=\"\",\"\",'Plate Layout'!CA35)","v":""},{"$f":"IF('Plate Layout'!CB35=\"\",\"\",'Plate Layout'!CB35)","v":""},{"$f":"IF(OFFSET('Plate Layout'!AO109,0,0,1,1)=\"\",\"\",OFFSET('Plate Layout'!AO109,0,0,1,1))","v":""}]
[{"$f":"IF('Plate Layout'!$D$8=\"\",\"\",'Plate Layout'!$D$8)","v":""},"U40",{"$f":"IF('Plate Layout'!CC35=\"\",\"\",'Plate Layout'!CC35)","v":""},{"$f":"IF('Plate Layout'!CD35=\"\",\"\",'Plate Layout'!CD35)","v":""},{"$f":"IF(OFFSET('Plate Layout'!AP109,0,0,1,1)=\"\",\"\",OFFSET('Plate Layout'!AP109,0,0,1,1))","v":""}]
[{"$f":"IF('Plate Layout'!$D$8=\"\",\"\",'Plate Layout'!$D$8)","v":""},"U41",{"$f":"IF('Plate Layout'!CE35=\"\",\"\",'Plate Layout'!CE35)","v":""},{"$f":"IF('Plate Layout'!CF35=\"\",\"\",'Plate Layout'!CF35)","v":""},{"$f":"IF(OFFSET('Plate Layout'!AQ109,0,0,1,1)=\"\",\"\",OFFSET('Plate Layout'!AQ109,0,0,1,1))","v":""}]
[{"$f":"IF('Plate Layout'!$D$8=\"\",\"\",'Plate Layout'!$D$8)","v":""},"U42",{"$f":"IF('Plate Layout'!CG35=\"\",\"\",'Plate Layout'!CG35)","v":""},{"$f":"IF('Plate Layout'!CH35=\"\",\"\",'Plate Layout'!CH35)","v":""},{"$f":"IF(OFFSET('Plate Layout'!AR109,0,0,1,1)=\"\",\"\",OFFSET('Plate Layout'!AR109,0,0,1,1))","v":""}]
[{"$f":"IF('Plate Layout'!$D$8=\"\",\"\",'Plate Layout'!$D$8)","v":""},"U43",{"$f":"IF('Plate Layout'!CI35=\"\",\"\",'Plate Layout'!CI35)","v":""},{"$f":"IF('Plate Layout'!CJ35=\"\",\"\",'Plate Layout'!CJ35)","v":""},{"$f":"IF(OFFSET('Plate Layout'!AS109,0,0,1,1)=\"\",\"\",OFFSET('Plate Layout'!AS109,0,0,1,1))","v":""}]
[{"$f":"IF('Plate Layout'!$D$8=\"\",\"\",'Plate Layout'!$D$8)","v":""},"U44",{"$f":"IF('Plate Layout'!CK35=\"\",\"\",'Plate Layout'!CK35)","v":""},{"$f":"IF('Plate Layout'!CL35=\"\",\"\",'Plate Layout'!CL35)","v":""},{"$f":"IF(OFFSET('Plate Layout'!AT109,0,0,1,1)=\"\",\"\",OFFSET('Plate Layout'!AT109,0,0,1,1))","v":""}]
[{"$f":"IF('Plate Layout'!$D$8=\"\",\"\",'Plate Layout'!$D$8)","v":""},"U45",{"$f":"IF('Plate Layout'!CM35=\"\",\"\",'Plate Layout'!CM35)","v":""},{"$f":"IF('Plate Layout'!CN35=\"\",\"\",'Plate Layout'!CN35)","v":""},{"$f":"IF(OFFSET('Plate Layout'!AU109,0,0,1,1)=\"\",\"\",OFFSET('Plate Layout'!AU109,0,0,1,1))","v":""}]
[{"$f":"IF('Plate Layout'!$D$8=\"\",\"\",'Plate Layout'!$D$8)","v":""},"U46",{"$f":"IF('Plate Layout'!CO35=\"\",\"\",'Plate Layout'!CO35)","v":""},{"$f":"IF('Plate Layout'!CP35=\"\",\"\",'Plate Layout'!CP35)","v":""},{"$f":"IF(OFFSET('Plate Layout'!AV109,0,0,1,1)=\"\",\"\",OFFSET('Plate Layout'!AV109,0,0,1,1))","v":""}]
[{"$f":"IF('Plate Layout'!$D$8=\"\",\"\",'Plate Layout'!$D$8)","v":""},"U47",{"$f":"IF('Plate Layout'!CQ35=\"\",\"\",'Plate Layout'!CQ35)","v":""},{"$f":"IF('Plate Layout'!CR35=\"\",\"\",'Plate Layout'!CR35)","v":""},{"$f":"IF(OFFSET('Plate Layout'!AW109,0,0,1,1)=\"\",\"\",OFFSET('Plate Layout'!AW109,0,0,1,1))","v":""}]
[{"$f":"IF('Plate Layout'!$D$8=\"\",\"\",'Plate Layout'!$D$8)","v":""},"U48",{"$f":"IF('Plate Layout'!CS35=\"\",\"\",'Plate Layout'!CS35)","v":""},{"$f":"IF('Plate Layout'!CT35=\"\",\"\",'Plate Layout'!CT35)","v":""},{"$f":"IF(OFFSET('Plate Layout'!AX109,0,0,1,1)=\"\",\"\",OFFSET('Plate Layout'!AX109,0,0,1,1))","v":""}]
[{"$f":"IF('Plate Layout'!$D$8=\"\",\"\",'Plate Layout'!$D$8)","v":""},"V01",{"$f":"IF('Plate Layout'!C36=\"\",\"\",'Plate Layout'!C36)","v":""},{"$f":"IF('Plate Layout'!D36=\"\",\"\",'Plate Layout'!D36)","v":""},{"$f":"IF(OFFSET('Plate Layout'!C110,0,0,1,1)=\"\",\"\",OFFSET('Plate Layout'!C110,0,0,1,1))","v":""}]
[{"$f":"IF('Plate Layout'!$D$8=\"\",\"\",'Plate Layout'!$D$8)","v":""},"V02",{"$f":"IF('Plate Layout'!E36=\"\",\"\",'Plate Layout'!E36)","v":""},{"$f":"IF('Plate Layout'!F36=\"\",\"\",'Plate Layout'!F36)","v":""},{"$f":"IF(OFFSET('Plate Layout'!D110,0,0,1,1)=\"\",\"\",OFFSET('Plate Layout'!D110,0,0,1,1))","v":""}]
[{"$f":"IF('Plate Layout'!$D$8=\"\",\"\",'Plate Layout'!$D$8)","v":""},"V03",{"$f":"IF('Plate Layout'!G36=\"\",\"\",'Plate Layout'!G36)","v":""},{"$f":"IF('Plate Layout'!H36=\"\",\"\",'Plate Layout'!H36)","v":""},{"$f":"IF(OFFSET('Plate Layout'!E110,0,0,1,1)=\"\",\"\",OFFSET('Plate Layout'!E110,0,0,1,1))","v":""}]
[{"$f":"IF('Plate Layout'!$D$8=\"\",\"\",'Plate Layout'!$D$8)","v":""},"V04",{"$f":"IF('Plate Layout'!I36=\"\",\"\",'Plate Layout'!I36)","v":""},{"$f":"IF('Plate Layout'!J36=\"\",\"\",'Plate Layout'!J36)","v":""},{"$f":"IF(OFFSET('Plate Layout'!F110,0,0,1,1)=\"\",\"\",OFFSET('Plate Layout'!F110,0,0,1,1))","v":""}]
[{"$f":"IF('Plate Layout'!$D$8=\"\",\"\",'Plate Layout'!$D$8)","v":""},"V05",{"$f":"IF('Plate Layout'!K36=\"\",\"\",'Plate Layout'!K36)","v":""},{"$f":"IF('Plate Layout'!L36=\"\",\"\",'Plate Layout'!L36)","v":""},{"$f":"IF(OFFSET('Plate Layout'!G110,0,0,1,1)=\"\",\"\",OFFSET('Plate Layout'!G110,0,0,1,1))","v":""}]
[{"$f":"IF('Plate Layout'!$D$8=\"\",\"\",'Plate Layout'!$D$8)","v":""},"V06",{"$f":"IF('Plate Layout'!M36=\"\",\"\",'Plate Layout'!M36)","v":""},{"$f":"IF('Plate Layout'!N36=\"\",\"\",'Plate Layout'!N36)","v":""},{"$f":"IF(OFFSET('Plate Layout'!H110,0,0,1,1)=\"\",\"\",OFFSET('Plate Layout'!H110,0,0,1,1))","v":""}]
[{"$f":"IF('Plate Layout'!$D$8=\"\",\"\",'Plate Layout'!$D$8)","v":""},"V07",{"$f":"IF('Plate Layout'!O36=\"\",\"\",'Plate Layout'!O36)","v":""},{"$f":"IF('Plate Layout'!P36=\"\",\"\",'Plate Layout'!P36)","v":""},{"$f":"IF(OFFSET('Plate Layout'!I110,0,0,1,1)=\"\",\"\",OFFSET('Plate Layout'!I110,0,0,1,1))","v":""}]
[{"$f":"IF('Plate Layout'!$D$8=\"\",\"\",'Plate Layout'!$D$8)","v":""},"V08",{"$f":"IF('Plate Layout'!Q36=\"\",\"\",'Plate Layout'!Q36)","v":""},{"$f":"IF('Plate Layout'!R36=\"\",\"\",'Plate Layout'!R36)","v":""},{"$f":"IF(OFFSET('Plate Layout'!J110,0,0,1,1)=\"\",\"\",OFFSET('Plate Layout'!J110,0,0,1,1))","v":""}]
[{"$f":"IF('Plate Layout'!$D$8=\"\",\"\",'Plate Layout'!$D$8)","v":""},"V09",{"$f":"IF('Plate Layout'!S36=\"\",\"\",'Plate Layout'!S36)","v":""},{"$f":"IF('Plate Layout'!T36=\"\",\"\",'Plate Layout'!T36)","v":""},{"$f":"IF(OFFSET('Plate Layout'!K110,0,0,1,1)=\"\",\"\",OFFSET('Plate Layout'!K110,0,0,1,1))","v":""}]
[{"$f":"IF('Plate Layout'!$D$8=\"\",\"\",'Plate Layout'!$D$8)","v":""},"V10",{"$f":"IF('Plate Layout'!U36=\"\",\"\",'Plate Layout'!U36)","v":""},{"$f":"IF('Plate Layout'!V36=\"\",\"\",'Plate Layout'!V36)","v":""},{"$f":"IF(OFFSET('Plate Layout'!L110,0,0,1,1)=\"\",\"\",OFFSET('Plate Layout'!L110,0,0,1,1))","v":""}]
[{"$f":"IF('Plate Layout'!$D$8=\"\",\"\",'Plate Layout'!$D$8)","v":""},"V11",{"$f":"IF('Plate Layout'!W36=\"\",\"\",'Plate Layout'!W36)","v":""},{"$f":"IF('Plate Layout'!X36=\"\",\"\",'Plate Layout'!X36)","v":""},{"$f":"IF(OFFSET('Plate Layout'!M110,0,0,1,1)=\"\",\"\",OFFSET('Plate Layout'!M110,0,0,1,1))","v":""}]
[{"$f":"IF('Plate Layout'!$D$8=\"\",\"\",'Plate Layout'!$D$8)","v":""},"V12",{"$f":"IF('Plate Layout'!Y36=\"\",\"\",'Plate Layout'!Y36)","v":""},{"$f":"IF('Plate Layout'!Z36=\"\",\"\",'Plate Layout'!Z36)","v":""},{"$f":"IF(OFFSET('Plate Layout'!N110,0,0,1,1)=\"\",\"\",OFFSET('Plate Layout'!N110,0,0,1,1))","v":""}]
[{"$f":"IF('Plate Layout'!$D$8=\"\",\"\",'Plate Layout'!$D$8)","v":""},"V13",{"$f":"IF('Plate Layout'!AA36=\"\",\"\",'Plate Layout'!AA36)","v":""},{"$f":"IF('Plate Layout'!AB36=\"\",\"\",'Plate Layout'!AB36)","v":""},{"$f":"IF(OFFSET('Plate Layout'!O110,0,0,1,1)=\"\",\"\",OFFSET('Plate Layout'!O110,0,0,1,1))","v":""}]
[{"$f":"IF('Plate Layout'!$D$8=\"\",\"\",'Plate Layout'!$D$8)","v":""},"V14",{"$f":"IF('Plate Layout'!AC36=\"\",\"\",'Plate Layout'!AC36)","v":""},{"$f":"IF('Plate Layout'!AD36=\"\",\"\",'Plate Layout'!AD36)","v":""},{"$f":"IF(OFFSET('Plate Layout'!P110,0,0,1,1)=\"\",\"\",OFFSET('Plate Layout'!P110,0,0,1,1))","v":""}]
[{"$f":"IF('Plate Layout'!$D$8=\"\",\"\",'Plate Layout'!$D$8)","v":""},"V15",{"$f":"IF('Plate Layout'!AE36=\"\",\"\",'Plate Layout'!AE36)","v":""},{"$f":"IF('Plate Layout'!AF36=\"\",\"\",'Plate Layout'!AF36)","v":""},{"$f":"IF(OFFSET('Plate Layout'!Q110,0,0,1,1)=\"\",\"\",OFFSET('Plate Layout'!Q110,0,0,1,1))","v":""}]
[{"$f":"IF('Plate Layout'!$D$8=\"\",\"\",'Plate Layout'!$D$8)","v":""},"V16",{"$f":"IF('Plate Layout'!AG36=\"\",\"\",'Plate Layout'!AG36)","v":""},{"$f":"IF('Plate Layout'!AH36=\"\",\"\",'Plate Layout'!AH36)","v":""},{"$f":"IF(OFFSET('Plate Layout'!R110,0,0,1,1)=\"\",\"\",OFFSET('Plate Layout'!R110,0,0,1,1))","v":""}]
[{"$f":"IF('Plate Layout'!$D$8=\"\",\"\",'Plate Layout'!$D$8)","v":""},"V17",{"$f":"IF('Plate Layout'!AI36=\"\",\"\",'Plate Layout'!AI36)","v":""},{"$f":"IF('Plate Layout'!AJ36=\"\",\"\",'Plate Layout'!AJ36)","v":""},{"$f":"IF(OFFSET('Plate Layout'!S110,0,0,1,1)=\"\",\"\",OFFSET('Plate Layout'!S110,0,0,1,1))","v":""}]
[{"$f":"IF('Plate Layout'!$D$8=\"\",\"\",'Plate Layout'!$D$8)","v":""},"V18",{"$f":"IF('Plate Layout'!AK36=\"\",\"\",'Plate Layout'!AK36)","v":""},{"$f":"IF('Plate Layout'!AL36=\"\",\"\",'Plate Layout'!AL36)","v":""},{"$f":"IF(OFFSET('Plate Layout'!T110,0,0,1,1)=\"\",\"\",OFFSET('Plate Layout'!T110,0,0,1,1))","v":""}]
[{"$f":"IF('Plate Layout'!$D$8=\"\",\"\",'Plate Layout'!$D$8)","v":""},"V19",{"$f":"IF('Plate Layout'!AM36=\"\",\"\",'Plate Layout'!AM36)","v":""},{"$f":"IF('Plate Layout'!AN36=\"\",\"\",'Plate Layout'!AN36)","v":""},{"$f":"IF(OFFSET('Plate Layout'!U110,0,0,1,1)=\"\",\"\",OFFSET('Plate Layout'!U110,0,0,1,1))","v":""}]
[{"$f":"IF('Plate Layout'!$D$8=\"\",\"\",'Plate Layout'!$D$8)","v":""},"V20",{"$f":"IF('Plate Layout'!AO36=\"\",\"\",'Plate Layout'!AO36)","v":""},{"$f":"IF('Plate Layout'!AP36=\"\",\"\",'Plate Layout'!AP36)","v":""},{"$f":"IF(OFFSET('Plate Layout'!V110,0,0,1,1)=\"\",\"\",OFFSET('Plate Layout'!V110,0,0,1,1))","v":""}]
[{"$f":"IF('Plate Layout'!$D$8=\"\",\"\",'Plate Layout'!$D$8)","v":""},"V21",{"$f":"IF('Plate Layout'!AQ36=\"\",\"\",'Plate Layout'!AQ36)","v":""},{"$f":"IF('Plate Layout'!AR36=\"\",\"\",'Plate Layout'!AR36)","v":""},{"$f":"IF(OFFSET('Plate Layout'!W110,0,0,1,1)=\"\",\"\",OFFSET('Plate Layout'!W110,0,0,1,1))","v":""}]
[{"$f":"IF('Plate Layout'!$D$8=\"\",\"\",'Plate Layout'!$D$8)","v":""},"V22",{"$f":"IF('Plate Layout'!AS36=\"\",\"\",'Plate Layout'!AS36)","v":""},{"$f":"IF('Plate Layout'!AT36=\"\",\"\",'Plate Layout'!AT36)","v":""},{"$f":"IF(OFFSET('Plate Layout'!X110,0,0,1,1)=\"\",\"\",OFFSET('Plate Layout'!X110,0,0,1,1))","v":""}]
[{"$f":"IF('Plate Layout'!$D$8=\"\",\"\",'Plate Layout'!$D$8)","v":""},"V23",{"$f":"IF('Plate Layout'!AU36=\"\",\"\",'Plate Layout'!AU36)","v":""},{"$f":"IF('Plate Layout'!AV36=\"\",\"\",'Plate Layout'!AV36)","v":""},{"$f":"IF(OFFSET('Plate Layout'!Y110,0,0,1,1)=\"\",\"\",OFFSET('Plate Layout'!Y110,0,0,1,1))","v":""}]
[{"$f":"IF('Plate Layout'!$D$8=\"\",\"\",'Plate Layout'!$D$8)","v":""},"V24",{"$f":"IF('Plate Layout'!AW36=\"\",\"\",'Plate Layout'!AW36)","v":""},{"$f":"IF('Plate Layout'!AX36=\"\",\"\",'Plate Layout'!AX36)","v":""},{"$f":"IF(OFFSET('Plate Layout'!Z110,0,0,1,1)=\"\",\"\",OFFSET('Plate Layout'!Z110,0,0,1,1))","v":""}]
[{"$f":"IF('Plate Layout'!$D$8=\"\",\"\",'Plate Layout'!$D$8)","v":""},"V25",{"$f":"IF('Plate Layout'!AY36=\"\",\"\",'Plate Layout'!AY36)","v":""},{"$f":"IF('Plate Layout'!AZ36=\"\",\"\",'Plate Layout'!AZ36)","v":""},{"$f":"IF(OFFSET('Plate Layout'!AA110,0,0,1,1)=\"\",\"\",OFFSET('Plate Layout'!AA110,0,0,1,1))","v":""}]
[{"$f":"IF('Plate Layout'!$D$8=\"\",\"\",'Plate Layout'!$D$8)","v":""},"V26",{"$f":"IF('Plate Layout'!BA36=\"\",\"\",'Plate Layout'!BA36)","v":""},{"$f":"IF('Plate Layout'!BB36=\"\",\"\",'Plate Layout'!BB36)","v":""},{"$f":"IF(OFFSET('Plate Layout'!AB110,0,0,1,1)=\"\",\"\",OFFSET('Plate Layout'!AB110,0,0,1,1))","v":""}]
[{"$f":"IF('Plate Layout'!$D$8=\"\",\"\",'Plate Layout'!$D$8)","v":""},"V27",{"$f":"IF('Plate Layout'!BC36=\"\",\"\",'Plate Layout'!BC36)","v":""},{"$f":"IF('Plate Layout'!BD36=\"\",\"\",'Plate Layout'!BD36)","v":""},{"$f":"IF(OFFSET('Plate Layout'!AC110,0,0,1,1)=\"\",\"\",OFFSET('Plate Layout'!AC110,0,0,1,1))","v":""}]
[{"$f":"IF('Plate Layout'!$D$8=\"\",\"\",'Plate Layout'!$D$8)","v":""},"V28",{"$f":"IF('Plate Layout'!BE36=\"\",\"\",'Plate Layout'!BE36)","v":""},{"$f":"IF('Plate Layout'!BF36=\"\",\"\",'Plate Layout'!BF36)","v":""},{"$f":"IF(OFFSET('Plate Layout'!AD110,0,0,1,1)=\"\",\"\",OFFSET('Plate Layout'!AD110,0,0,1,1))","v":""}]
[{"$f":"IF('Plate Layout'!$D$8=\"\",\"\",'Plate Layout'!$D$8)","v":""},"V29",{"$f":"IF('Plate Layout'!BG36=\"\",\"\",'Plate Layout'!BG36)","v":""},{"$f":"IF('Plate Layout'!BH36=\"\",\"\",'Plate Layout'!BH36)","v":""},{"$f":"IF(OFFSET('Plate Layout'!AE110,0,0,1,1)=\"\",\"\",OFFSET('Plate Layout'!AE110,0,0,1,1))","v":""}]
[{"$f":"IF('Plate Layout'!$D$8=\"\",\"\",'Plate Layout'!$D$8)","v":""},"V30",{"$f":"IF('Plate Layout'!BI36=\"\",\"\",'Plate Layout'!BI36)","v":""},{"$f":"IF('Plate Layout'!BJ36=\"\",\"\",'Plate Layout'!BJ36)","v":""},{"$f":"IF(OFFSET('Plate Layout'!AF110,0,0,1,1)=\"\",\"\",OFFSET('Plate Layout'!AF110,0,0,1,1))","v":""}]
[{"$f":"IF('Plate Layout'!$D$8=\"\",\"\",'Plate Layout'!$D$8)","v":""},"V31",{"$f":"IF('Plate Layout'!BK36=\"\",\"\",'Plate Layout'!BK36)","v":""},{"$f":"IF('Plate Layout'!BL36=\"\",\"\",'Plate Layout'!BL36)","v":""},{"$f":"IF(OFFSET('Plate Layout'!AG110,0,0,1,1)=\"\",\"\",OFFSET('Plate Layout'!AG110,0,0,1,1))","v":""}]
[{"$f":"IF('Plate Layout'!$D$8=\"\",\"\",'Plate Layout'!$D$8)","v":""},"V32",{"$f":"IF('Plate Layout'!BM36=\"\",\"\",'Plate Layout'!BM36)","v":""},{"$f":"IF('Plate Layout'!BN36=\"\",\"\",'Plate Layout'!BN36)","v":""},{"$f":"IF(OFFSET('Plate Layout'!AH110,0,0,1,1)=\"\",\"\",OFFSET('Plate Layout'!AH110,0,0,1,1))","v":""}]
[{"$f":"IF('Plate Layout'!$D$8=\"\",\"\",'Plate Layout'!$D$8)","v":""},"V33",{"$f":"IF('Plate Layout'!BO36=\"\",\"\",'Plate Layout'!BO36)","v":""},{"$f":"IF('Plate Layout'!BP36=\"\",\"\",'Plate Layout'!BP36)","v":""},{"$f":"IF(OFFSET('Plate Layout'!AI110,0,0,1,1)=\"\",\"\",OFFSET('Plate Layout'!AI110,0,0,1,1))","v":""}]
[{"$f":"IF('Plate Layout'!$D$8=\"\",\"\",'Plate Layout'!$D$8)","v":""},"V34",{"$f":"IF('Plate Layout'!BQ36=\"\",\"\",'Plate Layout'!BQ36)","v":""},{"$f":"IF('Plate Layout'!BR36=\"\",\"\",'Plate Layout'!BR36)","v":""},{"$f":"IF(OFFSET('Plate Layout'!AJ110,0,0,1,1)=\"\",\"\",OFFSET('Plate Layout'!AJ110,0,0,1,1))","v":""}]
[{"$f":"IF('Plate Layout'!$D$8=\"\",\"\",'Plate Layout'!$D$8)","v":""},"V35",{"$f":"IF('Plate Layout'!BS36=\"\",\"\",'Plate Layout'!BS36)","v":""},{"$f":"IF('Plate Layout'!BT36=\"\",\"\",'Plate Layout'!BT36)","v":""},{"$f":"IF(OFFSET('Plate Layout'!AK110,0,0,1,1)=\"\",\"\",OFFSET('Plate Layout'!AK110,0,0,1,1))","v":""}]
[{"$f":"IF('Plate Layout'!$D$8=\"\",\"\",'Plate Layout'!$D$8)","v":""},"V36",{"$f":"IF('Plate Layout'!BU36=\"\",\"\",'Plate Layout'!BU36)","v":""},{"$f":"IF('Plate Layout'!BV36=\"\",\"\",'Plate Layout'!BV36)","v":""},{"$f":"IF(OFFSET('Plate Layout'!AL110,0,0,1,1)=\"\",\"\",OFFSET('Plate Layout'!AL110,0,0,1,1))","v":""}]
[{"$f":"IF('Plate Layout'!$D$8=\"\",\"\",'Plate Layout'!$D$8)","v":""},"V37",{"$f":"IF('Plate Layout'!BW36=\"\",\"\",'Plate Layout'!BW36)","v":""},{"$f":"IF('Plate Layout'!BX36=\"\",\"\",'Plate Layout'!BX36)","v":""},{"$f":"IF(OFFSET('Plate Layout'!AM110,0,0,1,1)=\"\",\"\",OFFSET('Plate Layout'!AM110,0,0,1,1))","v":""}]
[{"$f":"IF('Plate Layout'!$D$8=\"\",\"\",'Plate Layout'!$D$8)","v":""},"V38",{"$f":"IF('Plate Layout'!BY36=\"\",\"\",'Plate Layout'!BY36)","v":""},{"$f":"IF('Plate Layout'!BZ36=\"\",\"\",'Plate Layout'!BZ36)","v":""},{"$f":"IF(OFFSET('Plate Layout'!AN110,0,0,1,1)=\"\",\"\",OFFSET('Plate Layout'!AN110,0,0,1,1))","v":""}]
[{"$f":"IF('Plate Layout'!$D$8=\"\",\"\",'Plate Layout'!$D$8)","v":""},"V39",{"$f":"IF('Plate Layout'!CA36=\"\",\"\",'Plate Layout'!CA36)","v":""},{"$f":"IF('Plate Layout'!CB36=\"\",\"\",'Plate Layout'!CB36)","v":""},{"$f":"IF(OFFSET('Plate Layout'!AO110,0,0,1,1)=\"\",\"\",OFFSET('Plate Layout'!AO110,0,0,1,1))","v":""}]
[{"$f":"IF('Plate Layout'!$D$8=\"\",\"\",'Plate Layout'!$D$8)","v":""},"V40",{"$f":"IF('Plate Layout'!CC36=\"\",\"\",'Plate Layout'!CC36)","v":""},{"$f":"IF('Plate Layout'!CD36=\"\",\"\",'Plate Layout'!CD36)","v":""},{"$f":"IF(OFFSET('Plate Layout'!AP110,0,0,1,1)=\"\",\"\",OFFSET('Plate Layout'!AP110,0,0,1,1))","v":""}]
[{"$f":"IF('Plate Layout'!$D$8=\"\",\"\",'Plate Layout'!$D$8)","v":""},"V41",{"$f":"IF('Plate Layout'!CE36=\"\",\"\",'Plate Layout'!CE36)","v":""},{"$f":"IF('Plate Layout'!CF36=\"\",\"\",'Plate Layout'!CF36)","v":""},{"$f":"IF(OFFSET('Plate Layout'!AQ110,0,0,1,1)=\"\",\"\",OFFSET('Plate Layout'!AQ110,0,0,1,1))","v":""}]
[{"$f":"IF('Plate Layout'!$D$8=\"\",\"\",'Plate Layout'!$D$8)","v":""},"V42",{"$f":"IF('Plate Layout'!CG36=\"\",\"\",'Plate Layout'!CG36)","v":""},{"$f":"IF('Plate Layout'!CH36=\"\",\"\",'Plate Layout'!CH36)","v":""},{"$f":"IF(OFFSET('Plate Layout'!AR110,0,0,1,1)=\"\",\"\",OFFSET('Plate Layout'!AR110,0,0,1,1))","v":""}]
[{"$f":"IF('Plate Layout'!$D$8=\"\",\"\",'Plate Layout'!$D$8)","v":""},"V43",{"$f":"IF('Plate Layout'!CI36=\"\",\"\",'Plate Layout'!CI36)","v":""},{"$f":"IF('Plate Layout'!CJ36=\"\",\"\",'Plate Layout'!CJ36)","v":""},{"$f":"IF(OFFSET('Plate Layout'!AS110,0,0,1,1)=\"\",\"\",OFFSET('Plate Layout'!AS110,0,0,1,1))","v":""}]
[{"$f":"IF('Plate Layout'!$D$8=\"\",\"\",'Plate Layout'!$D$8)","v":""},"V44",{"$f":"IF('Plate Layout'!CK36=\"\",\"\",'Plate Layout'!CK36)","v":""},{"$f":"IF('Plate Layout'!CL36=\"\",\"\",'Plate Layout'!CL36)","v":""},{"$f":"IF(OFFSET('Plate Layout'!AT110,0,0,1,1)=\"\",\"\",OFFSET('Plate Layout'!AT110,0,0,1,1))","v":""}]
[{"$f":"IF('Plate Layout'!$D$8=\"\",\"\",'Plate Layout'!$D$8)","v":""},"V45",{"$f":"IF('Plate Layout'!CM36=\"\",\"\",'Plate Layout'!CM36)","v":""},{"$f":"IF('Plate Layout'!CN36=\"\",\"\",'Plate Layout'!CN36)","v":""},{"$f":"IF(OFFSET('Plate Layout'!AU110,0,0,1,1)=\"\",\"\",OFFSET('Plate Layout'!AU110,0,0,1,1))","v":""}]
[{"$f":"IF('Plate Layout'!$D$8=\"\",\"\",'Plate Layout'!$D$8)","v":""},"V46",{"$f":"IF('Plate Layout'!CO36=\"\",\"\",'Plate Layout'!CO36)","v":""},{"$f":"IF('Plate Layout'!CP36=\"\",\"\",'Plate Layout'!CP36)","v":""},{"$f":"IF(OFFSET('Plate Layout'!AV110,0,0,1,1)=\"\",\"\",OFFSET('Plate Layout'!AV110,0,0,1,1))","v":""}]
[{"$f":"IF('Plate Layout'!$D$8=\"\",\"\",'Plate Layout'!$D$8)","v":""},"V47",{"$f":"IF('Plate Layout'!CQ36=\"\",\"\",'Plate Layout'!CQ36)","v":""},{"$f":"IF('Plate Layout'!CR36=\"\",\"\",'Plate Layout'!CR36)","v":""},{"$f":"IF(OFFSET('Plate Layout'!AW110,0,0,1,1)=\"\",\"\",OFFSET('Plate Layout'!AW110,0,0,1,1))","v":""}]
[{"$f":"IF('Plate Layout'!$D$8=\"\",\"\",'Plate Layout'!$D$8)","v":""},"V48",{"$f":"IF('Plate Layout'!CS36=\"\",\"\",'Plate Layout'!CS36)","v":""},{"$f":"IF('Plate Layout'!CT36=\"\",\"\",'Plate Layout'!CT36)","v":""},{"$f":"IF(OFFSET('Plate Layout'!AX110,0,0,1,1)=\"\",\"\",OFFSET('Plate Layout'!AX110,0,0,1,1))","v":""}]
[{"$f":"IF('Plate Layout'!$D$8=\"\",\"\",'Plate Layout'!$D$8)","v":""},"W01",{"$f":"IF('Plate Layout'!C37=\"\",\"\",'Plate Layout'!C37)","v":""},{"$f":"IF('Plate Layout'!D37=\"\",\"\",'Plate Layout'!D37)","v":""},{"$f":"IF(OFFSET('Plate Layout'!C111,0,0,1,1)=\"\",\"\",OFFSET('Plate Layout'!C111,0,0,1,1))","v":""}]
[{"$f":"IF('Plate Layout'!$D$8=\"\",\"\",'Plate Layout'!$D$8)","v":""},"W02",{"$f":"IF('Plate Layout'!E37=\"\",\"\",'Plate Layout'!E37)","v":""},{"$f":"IF('Plate Layout'!F37=\"\",\"\",'Plate Layout'!F37)","v":""},{"$f":"IF(OFFSET('Plate Layout'!D111,0,0,1,1)=\"\",\"\",OFFSET('Plate Layout'!D111,0,0,1,1))","v":""}]
[{"$f":"IF('Plate Layout'!$D$8=\"\",\"\",'Plate Layout'!$D$8)","v":""},"W03",{"$f":"IF('Plate Layout'!G37=\"\",\"\",'Plate Layout'!G37)","v":""},{"$f":"IF('Plate Layout'!H37=\"\",\"\",'Plate Layout'!H37)","v":""},{"$f":"IF(OFFSET('Plate Layout'!E111,0,0,1,1)=\"\",\"\",OFFSET('Plate Layout'!E111,0,0,1,1))","v":""}]
[{"$f":"IF('Plate Layout'!$D$8=\"\",\"\",'Plate Layout'!$D$8)","v":""},"W04",{"$f":"IF('Plate Layout'!I37=\"\",\"\",'Plate Layout'!I37)","v":""},{"$f":"IF('Plate Layout'!J37=\"\",\"\",'Plate Layout'!J37)","v":""},{"$f":"IF(OFFSET('Plate Layout'!F111,0,0,1,1)=\"\",\"\",OFFSET('Plate Layout'!F111,0,0,1,1))","v":""}]
[{"$f":"IF('Plate Layout'!$D$8=\"\",\"\",'Plate Layout'!$D$8)","v":""},"W05",{"$f":"IF('Plate Layout'!K37=\"\",\"\",'Plate Layout'!K37)","v":""},{"$f":"IF('Plate Layout'!L37=\"\",\"\",'Plate Layout'!L37)","v":""},{"$f":"IF(OFFSET('Plate Layout'!G111,0,0,1,1)=\"\",\"\",OFFSET('Plate Layout'!G111,0,0,1,1))","v":""}]
[{"$f":"IF('Plate Layout'!$D$8=\"\",\"\",'Plate Layout'!$D$8)","v":""},"W06",{"$f":"IF('Plate Layout'!M37=\"\",\"\",'Plate Layout'!M37)","v":""},{"$f":"IF('Plate Layout'!N37=\"\",\"\",'Plate Layout'!N37)","v":""},{"$f":"IF(OFFSET('Plate Layout'!H111,0,0,1,1)=\"\",\"\",OFFSET('Plate Layout'!H111,0,0,1,1))","v":""}]
[{"$f":"IF('Plate Layout'!$D$8=\"\",\"\",'Plate Layout'!$D$8)","v":""},"W07",{"$f":"IF('Plate Layout'!O37=\"\",\"\",'Plate Layout'!O37)","v":""},{"$f":"IF('Plate Layout'!P37=\"\",\"\",'Plate Layout'!P37)","v":""},{"$f":"IF(OFFSET('Plate Layout'!I111,0,0,1,1)=\"\",\"\",OFFSET('Plate Layout'!I111,0,0,1,1))","v":""}]
[{"$f":"IF('Plate Layout'!$D$8=\"\",\"\",'Plate Layout'!$D$8)","v":""},"W08",{"$f":"IF('Plate Layout'!Q37=\"\",\"\",'Plate Layout'!Q37)","v":""},{"$f":"IF('Plate Layout'!R37=\"\",\"\",'Plate Layout'!R37)","v":""},{"$f":"IF(OFFSET('Plate Layout'!J111,0,0,1,1)=\"\",\"\",OFFSET('Plate Layout'!J111,0,0,1,1))","v":""}]
[{"$f":"IF('Plate Layout'!$D$8=\"\",\"\",'Plate Layout'!$D$8)","v":""},"W09",{"$f":"IF('Plate Layout'!S37=\"\",\"\",'Plate Layout'!S37)","v":""},{"$f":"IF('Plate Layout'!T37=\"\",\"\",'Plate Layout'!T37)","v":""},{"$f":"IF(OFFSET('Plate Layout'!K111,0,0,1,1)=\"\",\"\",OFFSET('Plate Layout'!K111,0,0,1,1))","v":""}]
[{"$f":"IF('Plate Layout'!$D$8=\"\",\"\",'Plate Layout'!$D$8)","v":""},"W10",{"$f":"IF('Plate Layout'!U37=\"\",\"\",'Plate Layout'!U37)","v":""},{"$f":"IF('Plate Layout'!V37=\"\",\"\",'Plate Layout'!V37)","v":""},{"$f":"IF(OFFSET('Plate Layout'!L111,0,0,1,1)=\"\",\"\",OFFSET('Plate Layout'!L111,0,0,1,1))","v":""}]
[{"$f":"IF('Plate Layout'!$D$8=\"\",\"\",'Plate Layout'!$D$8)","v":""},"W11",{"$f":"IF('Plate Layout'!W37=\"\",\"\",'Plate Layout'!W37)","v":""},{"$f":"IF('Plate Layout'!X37=\"\",\"\",'Plate Layout'!X37)","v":""},{"$f":"IF(OFFSET('Plate Layout'!M111,0,0,1,1)=\"\",\"\",OFFSET('Plate Layout'!M111,0,0,1,1))","v":""}]
[{"$f":"IF('Plate Layout'!$D$8=\"\",\"\",'Plate Layout'!$D$8)","v":""},"W12",{"$f":"IF('Plate Layout'!Y37=\"\",\"\",'Plate Layout'!Y37)","v":""},{"$f":"IF('Plate Layout'!Z37=\"\",\"\",'Plate Layout'!Z37)","v":""},{"$f":"IF(OFFSET('Plate Layout'!N111,0,0,1,1)=\"\",\"\",OFFSET('Plate Layout'!N111,0,0,1,1))","v":""}]
[{"$f":"IF('Plate Layout'!$D$8=\"\",\"\",'Plate Layout'!$D$8)","v":""},"W13",{"$f":"IF('Plate Layout'!AA37=\"\",\"\",'Plate Layout'!AA37)","v":""},{"$f":"IF('Plate Layout'!AB37=\"\",\"\",'Plate Layout'!AB37)","v":""},{"$f":"IF(OFFSET('Plate Layout'!O111,0,0,1,1)=\"\",\"\",OFFSET('Plate Layout'!O111,0,0,1,1))","v":""}]
[{"$f":"IF('Plate Layout'!$D$8=\"\",\"\",'Plate Layout'!$D$8)","v":""},"W14",{"$f":"IF('Plate Layout'!AC37=\"\",\"\",'Plate Layout'!AC37)","v":""},{"$f":"IF('Plate Layout'!AD37=\"\",\"\",'Plate Layout'!AD37)","v":""},{"$f":"IF(OFFSET('Plate Layout'!P111,0,0,1,1)=\"\",\"\",OFFSET('Plate Layout'!P111,0,0,1,1))","v":""}]
[{"$f":"IF('Plate Layout'!$D$8=\"\",\"\",'Plate Layout'!$D$8)","v":""},"W15",{"$f":"IF('Plate Layout'!AE37=\"\",\"\",'Plate Layout'!AE37)","v":""},{"$f":"IF('Plate Layout'!AF37=\"\",\"\",'Plate Layout'!AF37)","v":""},{"$f":"IF(OFFSET('Plate Layout'!Q111,0,0,1,1)=\"\",\"\",OFFSET('Plate Layout'!Q111,0,0,1,1))","v":""}]
[{"$f":"IF('Plate Layout'!$D$8=\"\",\"\",'Plate Layout'!$D$8)","v":""},"W16",{"$f":"IF('Plate Layout'!AG37=\"\",\"\",'Plate Layout'!AG37)","v":""},{"$f":"IF('Plate Layout'!AH37=\"\",\"\",'Plate Layout'!AH37)","v":""},{"$f":"IF(OFFSET('Plate Layout'!R111,0,0,1,1)=\"\",\"\",OFFSET('Plate Layout'!R111,0,0,1,1))","v":""}]
[{"$f":"IF('Plate Layout'!$D$8=\"\",\"\",'Plate Layout'!$D$8)","v":""},"W17",{"$f":"IF('Plate Layout'!AI37=\"\",\"\",'Plate Layout'!AI37)","v":""},{"$f":"IF('Plate Layout'!AJ37=\"\",\"\",'Plate Layout'!AJ37)","v":""},{"$f":"IF(OFFSET('Plate Layout'!S111,0,0,1,1)=\"\",\"\",OFFSET('Plate Layout'!S111,0,0,1,1))","v":""}]
[{"$f":"IF('Plate Layout'!$D$8=\"\",\"\",'Plate Layout'!$D$8)","v":""},"W18",{"$f":"IF('Plate Layout'!AK37=\"\",\"\",'Plate Layout'!AK37)","v":""},{"$f":"IF('Plate Layout'!AL37=\"\",\"\",'Plate Layout'!AL37)","v":""},{"$f":"IF(OFFSET('Plate Layout'!T111,0,0,1,1)=\"\",\"\",OFFSET('Plate Layout'!T111,0,0,1,1))","v":""}]
[{"$f":"IF('Plate Layout'!$D$8=\"\",\"\",'Plate Layout'!$D$8)","v":""},"W19",{"$f":"IF('Plate Layout'!AM37=\"\",\"\",'Plate Layout'!AM37)","v":""},{"$f":"IF('Plate Layout'!AN37=\"\",\"\",'Plate Layout'!AN37)","v":""},{"$f":"IF(OFFSET('Plate Layout'!U111,0,0,1,1)=\"\",\"\",OFFSET('Plate Layout'!U111,0,0,1,1))","v":""}]
[{"$f":"IF('Plate Layout'!$D$8=\"\",\"\",'Plate Layout'!$D$8)","v":""},"W20",{"$f":"IF('Plate Layout'!AO37=\"\",\"\",'Plate Layout'!AO37)","v":""},{"$f":"IF('Plate Layout'!AP37=\"\",\"\",'Plate Layout'!AP37)","v":""},{"$f":"IF(OFFSET('Plate Layout'!V111,0,0,1,1)=\"\",\"\",OFFSET('Plate Layout'!V111,0,0,1,1))","v":""}]
[{"$f":"IF('Plate Layout'!$D$8=\"\",\"\",'Plate Layout'!$D$8)","v":""},"W21",{"$f":"IF('Plate Layout'!AQ37=\"\",\"\",'Plate Layout'!AQ37)","v":""},{"$f":"IF('Plate Layout'!AR37=\"\",\"\",'Plate Layout'!AR37)","v":""},{"$f":"IF(OFFSET('Plate Layout'!W111,0,0,1,1)=\"\",\"\",OFFSET('Plate Layout'!W111,0,0,1,1))","v":""}]
[{"$f":"IF('Plate Layout'!$D$8=\"\",\"\",'Plate Layout'!$D$8)","v":""},"W22",{"$f":"IF('Plate Layout'!AS37=\"\",\"\",'Plate Layout'!AS37)","v":""},{"$f":"IF('Plate Layout'!AT37=\"\",\"\",'Plate Layout'!AT37)","v":""},{"$f":"IF(OFFSET('Plate Layout'!X111,0,0,1,1)=\"\",\"\",OFFSET('Plate Layout'!X111,0,0,1,1))","v":""}]
[{"$f":"IF('Plate Layout'!$D$8=\"\",\"\",'Plate Layout'!$D$8)","v":""},"W23",{"$f":"IF('Plate Layout'!AU37=\"\",\"\",'Plate Layout'!AU37)","v":""},{"$f":"IF('Plate Layout'!AV37=\"\",\"\",'Plate Layout'!AV37)","v":""},{"$f":"IF(OFFSET('Plate Layout'!Y111,0,0,1,1)=\"\",\"\",OFFSET('Plate Layout'!Y111,0,0,1,1))","v":""}]
[{"$f":"IF('Plate Layout'!$D$8=\"\",\"\",'Plate Layout'!$D$8)","v":""},"W24",{"$f":"IF('Plate Layout'!AW37=\"\",\"\",'Plate Layout'!AW37)","v":""},{"$f":"IF('Plate Layout'!AX37=\"\",\"\",'Plate Layout'!AX37)","v":""},{"$f":"IF(OFFSET('Plate Layout'!Z111,0,0,1,1)=\"\",\"\",OFFSET('Plate Layout'!Z111,0,0,1,1))","v":""}]
[{"$f":"IF('Plate Layout'!$D$8=\"\",\"\",'Plate Layout'!$D$8)","v":""},"W25",{"$f":"IF('Plate Layout'!AY37=\"\",\"\",'Plate Layout'!AY37)","v":""},{"$f":"IF('Plate Layout'!AZ37=\"\",\"\",'Plate Layout'!AZ37)","v":""},{"$f":"IF(OFFSET('Plate Layout'!AA111,0,0,1,1)=\"\",\"\",OFFSET('Plate Layout'!AA111,0,0,1,1))","v":""}]
[{"$f":"IF('Plate Layout'!$D$8=\"\",\"\",'Plate Layout'!$D$8)","v":""},"W26",{"$f":"IF('Plate Layout'!BA37=\"\",\"\",'Plate Layout'!BA37)","v":""},{"$f":"IF('Plate Layout'!BB37=\"\",\"\",'Plate Layout'!BB37)","v":""},{"$f":"IF(OFFSET('Plate Layout'!AB111,0,0,1,1)=\"\",\"\",OFFSET('Plate Layout'!AB111,0,0,1,1))","v":""}]
[{"$f":"IF('Plate Layout'!$D$8=\"\",\"\",'Plate Layout'!$D$8)","v":""},"W27",{"$f":"IF('Plate Layout'!BC37=\"\",\"\",'Plate Layout'!BC37)","v":""},{"$f":"IF('Plate Layout'!BD37=\"\",\"\",'Plate Layout'!BD37)","v":""},{"$f":"IF(OFFSET('Plate Layout'!AC111,0,0,1,1)=\"\",\"\",OFFSET('Plate Layout'!AC111,0,0,1,1))","v":""}]
[{"$f":"IF('Plate Layout'!$D$8=\"\",\"\",'Plate Layout'!$D$8)","v":""},"W28",{"$f":"IF('Plate Layout'!BE37=\"\",\"\",'Plate Layout'!BE37)","v":""},{"$f":"IF('Plate Layout'!BF37=\"\",\"\",'Plate Layout'!BF37)","v":""},{"$f":"IF(OFFSET('Plate Layout'!AD111,0,0,1,1)=\"\",\"\",OFFSET('Plate Layout'!AD111,0,0,1,1))","v":""}]
[{"$f":"IF('Plate Layout'!$D$8=\"\",\"\",'Plate Layout'!$D$8)","v":""},"W29",{"$f":"IF('Plate Layout'!BG37=\"\",\"\",'Plate Layout'!BG37)","v":""},{"$f":"IF('Plate Layout'!BH37=\"\",\"\",'Plate Layout'!BH37)","v":""},{"$f":"IF(OFFSET('Plate Layout'!AE111,0,0,1,1)=\"\",\"\",OFFSET('Plate Layout'!AE111,0,0,1,1))","v":""}]
[{"$f":"IF('Plate Layout'!$D$8=\"\",\"\",'Plate Layout'!$D$8)","v":""},"W30",{"$f":"IF('Plate Layout'!BI37=\"\",\"\",'Plate Layout'!BI37)","v":""},{"$f":"IF('Plate Layout'!BJ37=\"\",\"\",'Plate Layout'!BJ37)","v":""},{"$f":"IF(OFFSET('Plate Layout'!AF111,0,0,1,1)=\"\",\"\",OFFSET('Plate Layout'!AF111,0,0,1,1))","v":""}]
[{"$f":"IF('Plate Layout'!$D$8=\"\",\"\",'Plate Layout'!$D$8)","v":""},"W31",{"$f":"IF('Plate Layout'!BK37=\"\",\"\",'Plate Layout'!BK37)","v":""},{"$f":"IF('Plate Layout'!BL37=\"\",\"\",'Plate Layout'!BL37)","v":""},{"$f":"IF(OFFSET('Plate Layout'!AG111,0,0,1,1)=\"\",\"\",OFFSET('Plate Layout'!AG111,0,0,1,1))","v":""}]
[{"$f":"IF('Plate Layout'!$D$8=\"\",\"\",'Plate Layout'!$D$8)","v":""},"W32",{"$f":"IF('Plate Layout'!BM37=\"\",\"\",'Plate Layout'!BM37)","v":""},{"$f":"IF('Plate Layout'!BN37=\"\",\"\",'Plate Layout'!BN37)","v":""},{"$f":"IF(OFFSET('Plate Layout'!AH111,0,0,1,1)=\"\",\"\",OFFSET('Plate Layout'!AH111,0,0,1,1))","v":""}]
[{"$f":"IF('Plate Layout'!$D$8=\"\",\"\",'Plate Layout'!$D$8)","v":""},"W33",{"$f":"IF('Plate Layout'!BO37=\"\",\"\",'Plate Layout'!BO37)","v":""},{"$f":"IF('Plate Layout'!BP37=\"\",\"\",'Plate Layout'!BP37)","v":""},{"$f":"IF(OFFSET('Plate Layout'!AI111,0,0,1,1)=\"\",\"\",OFFSET('Plate Layout'!AI111,0,0,1,1))","v":""}]
[{"$f":"IF('Plate Layout'!$D$8=\"\",\"\",'Plate Layout'!$D$8)","v":""},"W34",{"$f":"IF('Plate Layout'!BQ37=\"\",\"\",'Plate Layout'!BQ37)","v":""},{"$f":"IF('Plate Layout'!BR37=\"\",\"\",'Plate Layout'!BR37)","v":""},{"$f":"IF(OFFSET('Plate Layout'!AJ111,0,0,1,1)=\"\",\"\",OFFSET('Plate Layout'!AJ111,0,0,1,1))","v":""}]
[{"$f":"IF('Plate Layout'!$D$8=\"\",\"\",'Plate Layout'!$D$8)","v":""},"W35",{"$f":"IF('Plate Layout'!BS37=\"\",\"\",'Plate Layout'!BS37)","v":""},{"$f":"IF('Plate Layout'!BT37=\"\",\"\",'Plate Layout'!BT37)","v":""},{"$f":"IF(OFFSET('Plate Layout'!AK111,0,0,1,1)=\"\",\"\",OFFSET('Plate Layout'!AK111,0,0,1,1))","v":""}]
[{"$f":"IF('Plate Layout'!$D$8=\"\",\"\",'Plate Layout'!$D$8)","v":""},"W36",{"$f":"IF('Plate Layout'!BU37=\"\",\"\",'Plate Layout'!BU37)","v":""},{"$f":"IF('Plate Layout'!BV37=\"\",\"\",'Plate Layout'!BV37)","v":""},{"$f":"IF(OFFSET('Plate Layout'!AL111,0,0,1,1)=\"\",\"\",OFFSET('Plate Layout'!AL111,0,0,1,1))","v":""}]
[{"$f":"IF('Plate Layout'!$D$8=\"\",\"\",'Plate Layout'!$D$8)","v":""},"W37",{"$f":"IF('Plate Layout'!BW37=\"\",\"\",'Plate Layout'!BW37)","v":""},{"$f":"IF('Plate Layout'!BX37=\"\",\"\",'Plate Layout'!BX37)","v":""},{"$f":"IF(OFFSET('Plate Layout'!AM111,0,0,1,1)=\"\",\"\",OFFSET('Plate Layout'!AM111,0,0,1,1))","v":""}]
[{"$f":"IF('Plate Layout'!$D$8=\"\",\"\",'Plate Layout'!$D$8)","v":""},"W38",{"$f":"IF('Plate Layout'!BY37=\"\",\"\",'Plate Layout'!BY37)","v":""},{"$f":"IF('Plate Layout'!BZ37=\"\",\"\",'Plate Layout'!BZ37)","v":""},{"$f":"IF(OFFSET('Plate Layout'!AN111,0,0,1,1)=\"\",\"\",OFFSET('Plate Layout'!AN111,0,0,1,1))","v":""}]
[{"$f":"IF('Plate Layout'!$D$8=\"\",\"\",'Plate Layout'!$D$8)","v":""},"W39",{"$f":"IF('Plate Layout'!CA37=\"\",\"\",'Plate Layout'!CA37)","v":""},{"$f":"IF('Plate Layout'!CB37=\"\",\"\",'Plate Layout'!CB37)","v":""},{"$f":"IF(OFFSET('Plate Layout'!AO111,0,0,1,1)=\"\",\"\",OFFSET('Plate Layout'!AO111,0,0,1,1))","v":""}]
[{"$f":"IF('Plate Layout'!$D$8=\"\",\"\",'Plate Layout'!$D$8)","v":""},"W40",{"$f":"IF('Plate Layout'!CC37=\"\",\"\",'Plate Layout'!CC37)","v":""},{"$f":"IF('Plate Layout'!CD37=\"\",\"\",'Plate Layout'!CD37)","v":""},{"$f":"IF(OFFSET('Plate Layout'!AP111,0,0,1,1)=\"\",\"\",OFFSET('Plate Layout'!AP111,0,0,1,1))","v":""}]
[{"$f":"IF('Plate Layout'!$D$8=\"\",\"\",'Plate Layout'!$D$8)","v":""},"W41",{"$f":"IF('Plate Layout'!CE37=\"\",\"\",'Plate Layout'!CE37)","v":""},{"$f":"IF('Plate Layout'!CF37=\"\",\"\",'Plate Layout'!CF37)","v":""},{"$f":"IF(OFFSET('Plate Layout'!AQ111,0,0,1,1)=\"\",\"\",OFFSET('Plate Layout'!AQ111,0,0,1,1))","v":""}]
[{"$f":"IF('Plate Layout'!$D$8=\"\",\"\",'Plate Layout'!$D$8)","v":""},"W42",{"$f":"IF('Plate Layout'!CG37=\"\",\"\",'Plate Layout'!CG37)","v":""},{"$f":"IF('Plate Layout'!CH37=\"\",\"\",'Plate Layout'!CH37)","v":""},{"$f":"IF(OFFSET('Plate Layout'!AR111,0,0,1,1)=\"\",\"\",OFFSET('Plate Layout'!AR111,0,0,1,1))","v":""}]
[{"$f":"IF('Plate Layout'!$D$8=\"\",\"\",'Plate Layout'!$D$8)","v":""},"W43",{"$f":"IF('Plate Layout'!CI37=\"\",\"\",'Plate Layout'!CI37)","v":""},{"$f":"IF('Plate Layout'!CJ37=\"\",\"\",'Plate Layout'!CJ37)","v":""},{"$f":"IF(OFFSET('Plate Layout'!AS111,0,0,1,1)=\"\",\"\",OFFSET('Plate Layout'!AS111,0,0,1,1))","v":""}]
[{"$f":"IF('Plate Layout'!$D$8=\"\",\"\",'Plate Layout'!$D$8)","v":""},"W44",{"$f":"IF('Plate Layout'!CK37=\"\",\"\",'Plate Layout'!CK37)","v":""},{"$f":"IF('Plate Layout'!CL37=\"\",\"\",'Plate Layout'!CL37)","v":""},{"$f":"IF(OFFSET('Plate Layout'!AT111,0,0,1,1)=\"\",\"\",OFFSET('Plate Layout'!AT111,0,0,1,1))","v":""}]
[{"$f":"IF('Plate Layout'!$D$8=\"\",\"\",'Plate Layout'!$D$8)","v":""},"W45",{"$f":"IF('Plate Layout'!CM37=\"\",\"\",'Plate Layout'!CM37)","v":""},{"$f":"IF('Plate Layout'!CN37=\"\",\"\",'Plate Layout'!CN37)","v":""},{"$f":"IF(OFFSET('Plate Layout'!AU111,0,0,1,1)=\"\",\"\",OFFSET('Plate Layout'!AU111,0,0,1,1))","v":""}]
[{"$f":"IF('Plate Layout'!$D$8=\"\",\"\",'Plate Layout'!$D$8)","v":""},"W46",{"$f":"IF('Plate Layout'!CO37=\"\",\"\",'Plate Layout'!CO37)","v":""},{"$f":"IF('Plate Layout'!CP37=\"\",\"\",'Plate Layout'!CP37)","v":""},{"$f":"IF(OFFSET('Plate Layout'!AV111,0,0,1,1)=\"\",\"\",OFFSET('Plate Layout'!AV111,0,0,1,1))","v":""}]
[{"$f":"IF('Plate Layout'!$D$8=\"\",\"\",'Plate Layout'!$D$8)","v":""},"W47",{"$f":"IF('Plate Layout'!CQ37=\"\",\"\",'Plate Layout'!CQ37)","v":""},{"$f":"IF('Plate Layout'!CR37=\"\",\"\",'Plate Layout'!CR37)","v":""},{"$f":"IF(OFFSET('Plate Layout'!AW111,0,0,1,1)=\"\",\"\",OFFSET('Plate Layout'!AW111,0,0,1,1))","v":""}]
[{"$f":"IF('Plate Layout'!$D$8=\"\",\"\",'Plate Layout'!$D$8)","v":""},"W48",{"$f":"IF('Plate Layout'!CS37=\"\",\"\",'Plate Layout'!CS37)","v":""},{"$f":"IF('Plate Layout'!CT37=\"\",\"\",'Plate Layout'!CT37)","v":""},{"$f":"IF(OFFSET('Plate Layout'!AX111,0,0,1,1)=\"\",\"\",OFFSET('Plate Layout'!AX111,0,0,1,1))","v":""}]
[{"$f":"IF('Plate Layout'!$D$8=\"\",\"\",'Plate Layout'!$D$8)","v":""},"X01",{"$f":"IF('Plate Layout'!C38=\"\",\"\",'Plate Layout'!C38)","v":""},{"$f":"IF('Plate Layout'!D38=\"\",\"\",'Plate Layout'!D38)","v":""},{"$f":"IF(OFFSET('Plate Layout'!C112,0,0,1,1)=\"\",\"\",OFFSET('Plate Layout'!C112,0,0,1,1))","v":""}]
[{"$f":"IF('Plate Layout'!$D$8=\"\",\"\",'Plate Layout'!$D$8)","v":""},"X02",{"$f":"IF('Plate Layout'!E38=\"\",\"\",'Plate Layout'!E38)","v":""},{"$f":"IF('Plate Layout'!F38=\"\",\"\",'Plate Layout'!F38)","v":""},{"$f":"IF(OFFSET('Plate Layout'!D112,0,0,1,1)=\"\",\"\",OFFSET('Plate Layout'!D112,0,0,1,1))","v":""}]
[{"$f":"IF('Plate Layout'!$D$8=\"\",\"\",'Plate Layout'!$D$8)","v":""},"X03",{"$f":"IF('Plate Layout'!G38=\"\",\"\",'Plate Layout'!G38)","v":""},{"$f":"IF('Plate Layout'!H38=\"\",\"\",'Plate Layout'!H38)","v":""},{"$f":"IF(OFFSET('Plate Layout'!E112,0,0,1,1)=\"\",\"\",OFFSET('Plate Layout'!E112,0,0,1,1))","v":""}]
[{"$f":"IF('Plate Layout'!$D$8=\"\",\"\",'Plate Layout'!$D$8)","v":""},"X04",{"$f":"IF('Plate Layout'!I38=\"\",\"\",'Plate Layout'!I38)","v":""},{"$f":"IF('Plate Layout'!J38=\"\",\"\",'Plate Layout'!J38)","v":""},{"$f":"IF(OFFSET('Plate Layout'!F112,0,0,1,1)=\"\",\"\",OFFSET('Plate Layout'!F112,0,0,1,1))","v":""}]
[{"$f":"IF('Plate Layout'!$D$8=\"\",\"\",'Plate Layout'!$D$8)","v":""},"X05",{"$f":"IF('Plate Layout'!K38=\"\",\"\",'Plate Layout'!K38)","v":""},{"$f":"IF('Plate Layout'!L38=\"\",\"\",'Plate Layout'!L38)","v":""},{"$f":"IF(OFFSET('Plate Layout'!G112,0,0,1,1)=\"\",\"\",OFFSET('Plate Layout'!G112,0,0,1,1))","v":""}]
[{"$f":"IF('Plate Layout'!$D$8=\"\",\"\",'Plate Layout'!$D$8)","v":""},"X06",{"$f":"IF('Plate Layout'!M38=\"\",\"\",'Plate Layout'!M38)","v":""},{"$f":"IF('Plate Layout'!N38=\"\",\"\",'Plate Layout'!N38)","v":""},{"$f":"IF(OFFSET('Plate Layout'!H112,0,0,1,1)=\"\",\"\",OFFSET('Plate Layout'!H112,0,0,1,1))","v":""}]
[{"$f":"IF('Plate Layout'!$D$8=\"\",\"\",'Plate Layout'!$D$8)","v":""},"X07",{"$f":"IF('Plate Layout'!O38=\"\",\"\",'Plate Layout'!O38)","v":""},{"$f":"IF('Plate Layout'!P38=\"\",\"\",'Plate Layout'!P38)","v":""},{"$f":"IF(OFFSET('Plate Layout'!I112,0,0,1,1)=\"\",\"\",OFFSET('Plate Layout'!I112,0,0,1,1))","v":""}]
[{"$f":"IF('Plate Layout'!$D$8=\"\",\"\",'Plate Layout'!$D$8)","v":""},"X08",{"$f":"IF('Plate Layout'!Q38=\"\",\"\",'Plate Layout'!Q38)","v":""},{"$f":"IF('Plate Layout'!R38=\"\",\"\",'Plate Layout'!R38)","v":""},{"$f":"IF(OFFSET('Plate Layout'!J112,0,0,1,1)=\"\",\"\",OFFSET('Plate Layout'!J112,0,0,1,1))","v":""}]
[{"$f":"IF('Plate Layout'!$D$8=\"\",\"\",'Plate Layout'!$D$8)","v":""},"X09",{"$f":"IF('Plate Layout'!S38=\"\",\"\",'Plate Layout'!S38)","v":""},{"$f":"IF('Plate Layout'!T38=\"\",\"\",'Plate Layout'!T38)","v":""},{"$f":"IF(OFFSET('Plate Layout'!K112,0,0,1,1)=\"\",\"\",OFFSET('Plate Layout'!K112,0,0,1,1))","v":""}]
[{"$f":"IF('Plate Layout'!$D$8=\"\",\"\",'Plate Layout'!$D$8)","v":""},"X10",{"$f":"IF('Plate Layout'!U38=\"\",\"\",'Plate Layout'!U38)","v":""},{"$f":"IF('Plate Layout'!V38=\"\",\"\",'Plate Layout'!V38)","v":""},{"$f":"IF(OFFSET('Plate Layout'!L112,0,0,1,1)=\"\",\"\",OFFSET('Plate Layout'!L112,0,0,1,1))","v":""}]
[{"$f":"IF('Plate Layout'!$D$8=\"\",\"\",'Plate Layout'!$D$8)","v":""},"X11",{"$f":"IF('Plate Layout'!W38=\"\",\"\",'Plate Layout'!W38)","v":""},{"$f":"IF('Plate Layout'!X38=\"\",\"\",'Plate Layout'!X38)","v":""},{"$f":"IF(OFFSET('Plate Layout'!M112,0,0,1,1)=\"\",\"\",OFFSET('Plate Layout'!M112,0,0,1,1))","v":""}]
[{"$f":"IF('Plate Layout'!$D$8=\"\",\"\",'Plate Layout'!$D$8)","v":""},"X12",{"$f":"IF('Plate Layout'!Y38=\"\",\"\",'Plate Layout'!Y38)","v":""},{"$f":"IF('Plate Layout'!Z38=\"\",\"\",'Plate Layout'!Z38)","v":""},{"$f":"IF(OFFSET('Plate Layout'!N112,0,0,1,1)=\"\",\"\",OFFSET('Plate Layout'!N112,0,0,1,1))","v":""}]
[{"$f":"IF('Plate Layout'!$D$8=\"\",\"\",'Plate Layout'!$D$8)","v":""},"X13",{"$f":"IF('Plate Layout'!AA38=\"\",\"\",'Plate Layout'!AA38)","v":""},{"$f":"IF('Plate Layout'!AB38=\"\",\"\",'Plate Layout'!AB38)","v":""},{"$f":"IF(OFFSET('Plate Layout'!O112,0,0,1,1)=\"\",\"\",OFFSET('Plate Layout'!O112,0,0,1,1))","v":""}]
[{"$f":"IF('Plate Layout'!$D$8=\"\",\"\",'Plate Layout'!$D$8)","v":""},"X14",{"$f":"IF('Plate Layout'!AC38=\"\",\"\",'Plate Layout'!AC38)","v":""},{"$f":"IF('Plate Layout'!AD38=\"\",\"\",'Plate Layout'!AD38)","v":""},{"$f":"IF(OFFSET('Plate Layout'!P112,0,0,1,1)=\"\",\"\",OFFSET('Plate Layout'!P112,0,0,1,1))","v":""}]
[{"$f":"IF('Plate Layout'!$D$8=\"\",\"\",'Plate Layout'!$D$8)","v":""},"X15",{"$f":"IF('Plate Layout'!AE38=\"\",\"\",'Plate Layout'!AE38)","v":""},{"$f":"IF('Plate Layout'!AF38=\"\",\"\",'Plate Layout'!AF38)","v":""},{"$f":"IF(OFFSET('Plate Layout'!Q112,0,0,1,1)=\"\",\"\",OFFSET('Plate Layout'!Q112,0,0,1,1))","v":""}]
[{"$f":"IF('Plate Layout'!$D$8=\"\",\"\",'Plate Layout'!$D$8)","v":""},"X16",{"$f":"IF('Plate Layout'!AG38=\"\",\"\",'Plate Layout'!AG38)","v":""},{"$f":"IF('Plate Layout'!AH38=\"\",\"\",'Plate Layout'!AH38)","v":""},{"$f":"IF(OFFSET('Plate Layout'!R112,0,0,1,1)=\"\",\"\",OFFSET('Plate Layout'!R112,0,0,1,1))","v":""}]
[{"$f":"IF('Plate Layout'!$D$8=\"\",\"\",'Plate Layout'!$D$8)","v":""},"X17",{"$f":"IF('Plate Layout'!AI38=\"\",\"\",'Plate Layout'!AI38)","v":""},{"$f":"IF('Plate Layout'!AJ38=\"\",\"\",'Plate Layout'!AJ38)","v":""},{"$f":"IF(OFFSET('Plate Layout'!S112,0,0,1,1)=\"\",\"\",OFFSET('Plate Layout'!S112,0,0,1,1))","v":""}]
[{"$f":"IF('Plate Layout'!$D$8=\"\",\"\",'Plate Layout'!$D$8)","v":""},"X18",{"$f":"IF('Plate Layout'!AK38=\"\",\"\",'Plate Layout'!AK38)","v":""},{"$f":"IF('Plate Layout'!AL38=\"\",\"\",'Plate Layout'!AL38)","v":""},{"$f":"IF(OFFSET('Plate Layout'!T112,0,0,1,1)=\"\",\"\",OFFSET('Plate Layout'!T112,0,0,1,1))","v":""}]
[{"$f":"IF('Plate Layout'!$D$8=\"\",\"\",'Plate Layout'!$D$8)","v":""},"X19",{"$f":"IF('Plate Layout'!AM38=\"\",\"\",'Plate Layout'!AM38)","v":""},{"$f":"IF('Plate Layout'!AN38=\"\",\"\",'Plate Layout'!AN38)","v":""},{"$f":"IF(OFFSET('Plate Layout'!U112,0,0,1,1)=\"\",\"\",OFFSET('Plate Layout'!U112,0,0,1,1))","v":""}]
[{"$f":"IF('Plate Layout'!$D$8=\"\",\"\",'Plate Layout'!$D$8)","v":""},"X20",{"$f":"IF('Plate Layout'!AO38=\"\",\"\",'Plate Layout'!AO38)","v":""},{"$f":"IF('Plate Layout'!AP38=\"\",\"\",'Plate Layout'!AP38)","v":""},{"$f":"IF(OFFSET('Plate Layout'!V112,0,0,1,1)=\"\",\"\",OFFSET('Plate Layout'!V112,0,0,1,1))","v":""}]
[{"$f":"IF('Plate Layout'!$D$8=\"\",\"\",'Plate Layout'!$D$8)","v":""},"X21",{"$f":"IF('Plate Layout'!AQ38=\"\",\"\",'Plate Layout'!AQ38)","v":""},{"$f":"IF('Plate Layout'!AR38=\"\",\"\",'Plate Layout'!AR38)","v":""},{"$f":"IF(OFFSET('Plate Layout'!W112,0,0,1,1)=\"\",\"\",OFFSET('Plate Layout'!W112,0,0,1,1))","v":""}]
[{"$f":"IF('Plate Layout'!$D$8=\"\",\"\",'Plate Layout'!$D$8)","v":""},"X22",{"$f":"IF('Plate Layout'!AS38=\"\",\"\",'Plate Layout'!AS38)","v":""},{"$f":"IF('Plate Layout'!AT38=\"\",\"\",'Plate Layout'!AT38)","v":""},{"$f":"IF(OFFSET('Plate Layout'!X112,0,0,1,1)=\"\",\"\",OFFSET('Plate Layout'!X112,0,0,1,1))","v":""}]
[{"$f":"IF('Plate Layout'!$D$8=\"\",\"\",'Plate Layout'!$D$8)","v":""},"X23",{"$f":"IF('Plate Layout'!AU38=\"\",\"\",'Plate Layout'!AU38)","v":""},{"$f":"IF('Plate Layout'!AV38=\"\",\"\",'Plate Layout'!AV38)","v":""},{"$f":"IF(OFFSET('Plate Layout'!Y112,0,0,1,1)=\"\",\"\",OFFSET('Plate Layout'!Y112,0,0,1,1))","v":""}]
[{"$f":"IF('Plate Layout'!$D$8=\"\",\"\",'Plate Layout'!$D$8)","v":""},"X24",{"$f":"IF('Plate Layout'!AW38=\"\",\"\",'Plate Layout'!AW38)","v":""},{"$f":"IF('Plate Layout'!AX38=\"\",\"\",'Plate Layout'!AX38)","v":""},{"$f":"IF(OFFSET('Plate Layout'!Z112,0,0,1,1)=\"\",\"\",OFFSET('Plate Layout'!Z112,0,0,1,1))","v":""}]
[{"$f":"IF('Plate Layout'!$D$8=\"\",\"\",'Plate Layout'!$D$8)","v":""},"X25",{"$f":"IF('Plate Layout'!AY38=\"\",\"\",'Plate Layout'!AY38)","v":""},{"$f":"IF('Plate Layout'!AZ38=\"\",\"\",'Plate Layout'!AZ38)","v":""},{"$f":"IF(OFFSET('Plate Layout'!AA112,0,0,1,1)=\"\",\"\",OFFSET('Plate Layout'!AA112,0,0,1,1))","v":""}]
[{"$f":"IF('Plate Layout'!$D$8=\"\",\"\",'Plate Layout'!$D$8)","v":""},"X26",{"$f":"IF('Plate Layout'!BA38=\"\",\"\",'Plate Layout'!BA38)","v":""},{"$f":"IF('Plate Layout'!BB38=\"\",\"\",'Plate Layout'!BB38)","v":""},{"$f":"IF(OFFSET('Plate Layout'!AB112,0,0,1,1)=\"\",\"\",OFFSET('Plate Layout'!AB112,0,0,1,1))","v":""}]
[{"$f":"IF('Plate Layout'!$D$8=\"\",\"\",'Plate Layout'!$D$8)","v":""},"X27",{"$f":"IF('Plate Layout'!BC38=\"\",\"\",'Plate Layout'!BC38)","v":""},{"$f":"IF('Plate Layout'!BD38=\"\",\"\",'Plate Layout'!BD38)","v":""},{"$f":"IF(OFFSET('Plate Layout'!AC112,0,0,1,1)=\"\",\"\",OFFSET('Plate Layout'!AC112,0,0,1,1))","v":""}]
[{"$f":"IF('Plate Layout'!$D$8=\"\",\"\",'Plate Layout'!$D$8)","v":""},"X28",{"$f":"IF('Plate Layout'!BE38=\"\",\"\",'Plate Layout'!BE38)","v":""},{"$f":"IF('Plate Layout'!BF38=\"\",\"\",'Plate Layout'!BF38)","v":""},{"$f":"IF(OFFSET('Plate Layout'!AD112,0,0,1,1)=\"\",\"\",OFFSET('Plate Layout'!AD112,0,0,1,1))","v":""}]
[{"$f":"IF('Plate Layout'!$D$8=\"\",\"\",'Plate Layout'!$D$8)","v":""},"X29",{"$f":"IF('Plate Layout'!BG38=\"\",\"\",'Plate Layout'!BG38)","v":""},{"$f":"IF('Plate Layout'!BH38=\"\",\"\",'Plate Layout'!BH38)","v":""},{"$f":"IF(OFFSET('Plate Layout'!AE112,0,0,1,1)=\"\",\"\",OFFSET('Plate Layout'!AE112,0,0,1,1))","v":""}]
[{"$f":"IF('Plate Layout'!$D$8=\"\",\"\",'Plate Layout'!$D$8)","v":""},"X30",{"$f":"IF('Plate Layout'!BI38=\"\",\"\",'Plate Layout'!BI38)","v":""},{"$f":"IF('Plate Layout'!BJ38=\"\",\"\",'Plate Layout'!BJ38)","v":""},{"$f":"IF(OFFSET('Plate Layout'!AF112,0,0,1,1)=\"\",\"\",OFFSET('Plate Layout'!AF112,0,0,1,1))","v":""}]
[{"$f":"IF('Plate Layout'!$D$8=\"\",\"\",'Plate Layout'!$D$8)","v":""},"X31",{"$f":"IF('Plate Layout'!BK38=\"\",\"\",'Plate Layout'!BK38)","v":""},{"$f":"IF('Plate Layout'!BL38=\"\",\"\",'Plate Layout'!BL38)","v":""},{"$f":"IF(OFFSET('Plate Layout'!AG112,0,0,1,1)=\"\",\"\",OFFSET('Plate Layout'!AG112,0,0,1,1))","v":""}]
[{"$f":"IF('Plate Layout'!$D$8=\"\",\"\",'Plate Layout'!$D$8)","v":""},"X32",{"$f":"IF('Plate Layout'!BM38=\"\",\"\",'Plate Layout'!BM38)","v":""},{"$f":"IF('Plate Layout'!BN38=\"\",\"\",'Plate Layout'!BN38)","v":""},{"$f":"IF(OFFSET('Plate Layout'!AH112,0,0,1,1)=\"\",\"\",OFFSET('Plate Layout'!AH112,0,0,1,1))","v":""}]
[{"$f":"IF('Plate Layout'!$D$8=\"\",\"\",'Plate Layout'!$D$8)","v":""},"X33",{"$f":"IF('Plate Layout'!BO38=\"\",\"\",'Plate Layout'!BO38)","v":""},{"$f":"IF('Plate Layout'!BP38=\"\",\"\",'Plate Layout'!BP38)","v":""},{"$f":"IF(OFFSET('Plate Layout'!AI112,0,0,1,1)=\"\",\"\",OFFSET('Plate Layout'!AI112,0,0,1,1))","v":""}]
[{"$f":"IF('Plate Layout'!$D$8=\"\",\"\",'Plate Layout'!$D$8)","v":""},"X34",{"$f":"IF('Plate Layout'!BQ38=\"\",\"\",'Plate Layout'!BQ38)","v":""},{"$f":"IF('Plate Layout'!BR38=\"\",\"\",'Plate Layout'!BR38)","v":""},{"$f":"IF(OFFSET('Plate Layout'!AJ112,0,0,1,1)=\"\",\"\",OFFSET('Plate Layout'!AJ112,0,0,1,1))","v":""}]
[{"$f":"IF('Plate Layout'!$D$8=\"\",\"\",'Plate Layout'!$D$8)","v":""},"X35",{"$f":"IF('Plate Layout'!BS38=\"\",\"\",'Plate Layout'!BS38)","v":""},{"$f":"IF('Plate Layout'!BT38=\"\",\"\",'Plate Layout'!BT38)","v":""},{"$f":"IF(OFFSET('Plate Layout'!AK112,0,0,1,1)=\"\",\"\",OFFSET('Plate Layout'!AK112,0,0,1,1))","v":""}]
[{"$f":"IF('Plate Layout'!$D$8=\"\",\"\",'Plate Layout'!$D$8)","v":""},"X36",{"$f":"IF('Plate Layout'!BU38=\"\",\"\",'Plate Layout'!BU38)","v":""},{"$f":"IF('Plate Layout'!BV38=\"\",\"\",'Plate Layout'!BV38)","v":""},{"$f":"IF(OFFSET('Plate Layout'!AL112,0,0,1,1)=\"\",\"\",OFFSET('Plate Layout'!AL112,0,0,1,1))","v":""}]
[{"$f":"IF('Plate Layout'!$D$8=\"\",\"\",'Plate Layout'!$D$8)","v":""},"X37",{"$f":"IF('Plate Layout'!BW38=\"\",\"\",'Plate Layout'!BW38)","v":""},{"$f":"IF('Plate Layout'!BX38=\"\",\"\",'Plate Layout'!BX38)","v":""},{"$f":"IF(OFFSET('Plate Layout'!AM112,0,0,1,1)=\"\",\"\",OFFSET('Plate Layout'!AM112,0,0,1,1))","v":""}]
[{"$f":"IF('Plate Layout'!$D$8=\"\",\"\",'Plate Layout'!$D$8)","v":""},"X38",{"$f":"IF('Plate Layout'!BY38=\"\",\"\",'Plate Layout'!BY38)","v":""},{"$f":"IF('Plate Layout'!BZ38=\"\",\"\",'Plate Layout'!BZ38)","v":""},{"$f":"IF(OFFSET('Plate Layout'!AN112,0,0,1,1)=\"\",\"\",OFFSET('Plate Layout'!AN112,0,0,1,1))","v":""}]
[{"$f":"IF('Plate Layout'!$D$8=\"\",\"\",'Plate Layout'!$D$8)","v":""},"X39",{"$f":"IF('Plate Layout'!CA38=\"\",\"\",'Plate Layout'!CA38)","v":""},{"$f":"IF('Plate Layout'!CB38=\"\",\"\",'Plate Layout'!CB38)","v":""},{"$f":"IF(OFFSET('Plate Layout'!AO112,0,0,1,1)=\"\",\"\",OFFSET('Plate Layout'!AO112,0,0,1,1))","v":""}]
[{"$f":"IF('Plate Layout'!$D$8=\"\",\"\",'Plate Layout'!$D$8)","v":""},"X40",{"$f":"IF('Plate Layout'!CC38=\"\",\"\",'Plate Layout'!CC38)","v":""},{"$f":"IF('Plate Layout'!CD38=\"\",\"\",'Plate Layout'!CD38)","v":""},{"$f":"IF(OFFSET('Plate Layout'!AP112,0,0,1,1)=\"\",\"\",OFFSET('Plate Layout'!AP112,0,0,1,1))","v":""}]
[{"$f":"IF('Plate Layout'!$D$8=\"\",\"\",'Plate Layout'!$D$8)","v":""},"X41",{"$f":"IF('Plate Layout'!CE38=\"\",\"\",'Plate Layout'!CE38)","v":""},{"$f":"IF('Plate Layout'!CF38=\"\",\"\",'Plate Layout'!CF38)","v":""},{"$f":"IF(OFFSET('Plate Layout'!AQ112,0,0,1,1)=\"\",\"\",OFFSET('Plate Layout'!AQ112,0,0,1,1))","v":""}]
[{"$f":"IF('Plate Layout'!$D$8=\"\",\"\",'Plate Layout'!$D$8)","v":""},"X42",{"$f":"IF('Plate Layout'!CG38=\"\",\"\",'Plate Layout'!CG38)","v":""},{"$f":"IF('Plate Layout'!CH38=\"\",\"\",'Plate Layout'!CH38)","v":""},{"$f":"IF(OFFSET('Plate Layout'!AR112,0,0,1,1)=\"\",\"\",OFFSET('Plate Layout'!AR112,0,0,1,1))","v":""}]
[{"$f":"IF('Plate Layout'!$D$8=\"\",\"\",'Plate Layout'!$D$8)","v":""},"X43",{"$f":"IF('Plate Layout'!CI38=\"\",\"\",'Plate Layout'!CI38)","v":""},{"$f":"IF('Plate Layout'!CJ38=\"\",\"\",'Plate Layout'!CJ38)","v":""},{"$f":"IF(OFFSET('Plate Layout'!AS112,0,0,1,1)=\"\",\"\",OFFSET('Plate Layout'!AS112,0,0,1,1))","v":""}]
[{"$f":"IF('Plate Layout'!$D$8=\"\",\"\",'Plate Layout'!$D$8)","v":""},"X44",{"$f":"IF('Plate Layout'!CK38=\"\",\"\",'Plate Layout'!CK38)","v":""},{"$f":"IF('Plate Layout'!CL38=\"\",\"\",'Plate Layout'!CL38)","v":""},{"$f":"IF(OFFSET('Plate Layout'!AT112,0,0,1,1)=\"\",\"\",OFFSET('Plate Layout'!AT112,0,0,1,1))","v":""}]
[{"$f":"IF('Plate Layout'!$D$8=\"\",\"\",'Plate Layout'!$D$8)","v":""},"X45",{"$f":"IF('Plate Layout'!CM38=\"\",\"\",'Plate Layout'!CM38)","v":""},{"$f":"IF('Plate Layout'!CN38=\"\",\"\",'Plate Layout'!CN38)","v":""},{"$f":"IF(OFFSET('Plate Layout'!AU112,0,0,1,1)=\"\",\"\",OFFSET('Plate Layout'!AU112,0,0,1,1))","v":""}]
[{"$f":"IF('Plate Layout'!$D$8=\"\",\"\",'Plate Layout'!$D$8)","v":""},"X46",{"$f":"IF('Plate Layout'!CO38=\"\",\"\",'Plate Layout'!CO38)","v":""},{"$f":"IF('Plate Layout'!CP38=\"\",\"\",'Plate Layout'!CP38)","v":""},{"$f":"IF(OFFSET('Plate Layout'!AV112,0,0,1,1)=\"\",\"\",OFFSET('Plate Layout'!AV112,0,0,1,1))","v":""}]
[{"$f":"IF('Plate Layout'!$D$8=\"\",\"\",'Plate Layout'!$D$8)","v":""},"X47",{"$f":"IF('Plate Layout'!CQ38=\"\",\"\",'Plate Layout'!CQ38)","v":""},{"$f":"IF('Plate Layout'!CR38=\"\",\"\",'Plate Layout'!CR38)","v":""},{"$f":"IF(OFFSET('Plate Layout'!AW112,0,0,1,1)=\"\",\"\",OFFSET('Plate Layout'!AW112,0,0,1,1))","v":""}]
[{"$f":"IF('Plate Layout'!$D$8=\"\",\"\",'Plate Layout'!$D$8)","v":""},"X48",{"$f":"IF('Plate Layout'!CS38=\"\",\"\",'Plate Layout'!CS38)","v":""},{"$f":"IF('Plate Layout'!CT38=\"\",\"\",'Plate Layout'!CT38)","v":""},{"$f":"IF(OFFSET('Plate Layout'!AX112,0,0,1,1)=\"\",\"\",OFFSET('Plate Layout'!AX112,0,0,1,1))","v":""}]
[{"$f":"IF('Plate Layout'!$D$8=\"\",\"\",'Plate Layout'!$D$8)","v":""},"Y01",{"$f":"IF('Plate Layout'!C39=\"\",\"\",'Plate Layout'!C39)","v":""},{"$f":"IF('Plate Layout'!D39=\"\",\"\",'Plate Layout'!D39)","v":""},{"$f":"IF(OFFSET('Plate Layout'!C113,0,0,1,1)=\"\",\"\",OFFSET('Plate Layout'!C113,0,0,1,1))","v":""}]
[{"$f":"IF('Plate Layout'!$D$8=\"\",\"\",'Plate Layout'!$D$8)","v":""},"Y02",{"$f":"IF('Plate Layout'!E39=\"\",\"\",'Plate Layout'!E39)","v":""},{"$f":"IF('Plate Layout'!F39=\"\",\"\",'Plate Layout'!F39)","v":""},{"$f":"IF(OFFSET('Plate Layout'!D113,0,0,1,1)=\"\",\"\",OFFSET('Plate Layout'!D113,0,0,1,1))","v":""}]
[{"$f":"IF('Plate Layout'!$D$8=\"\",\"\",'Plate Layout'!$D$8)","v":""},"Y03",{"$f":"IF('Plate Layout'!G39=\"\",\"\",'Plate Layout'!G39)","v":""},{"$f":"IF('Plate Layout'!H39=\"\",\"\",'Plate Layout'!H39)","v":""},{"$f":"IF(OFFSET('Plate Layout'!E113,0,0,1,1)=\"\",\"\",OFFSET('Plate Layout'!E113,0,0,1,1))","v":""}]
[{"$f":"IF('Plate Layout'!$D$8=\"\",\"\",'Plate Layout'!$D$8)","v":""},"Y04",{"$f":"IF('Plate Layout'!I39=\"\",\"\",'Plate Layout'!I39)","v":""},{"$f":"IF('Plate Layout'!J39=\"\",\"\",'Plate Layout'!J39)","v":""},{"$f":"IF(OFFSET('Plate Layout'!F113,0,0,1,1)=\"\",\"\",OFFSET('Plate Layout'!F113,0,0,1,1))","v":""}]
[{"$f":"IF('Plate Layout'!$D$8=\"\",\"\",'Plate Layout'!$D$8)","v":""},"Y05",{"$f":"IF('Plate Layout'!K39=\"\",\"\",'Plate Layout'!K39)","v":""},{"$f":"IF('Plate Layout'!L39=\"\",\"\",'Plate Layout'!L39)","v":""},{"$f":"IF(OFFSET('Plate Layout'!G113,0,0,1,1)=\"\",\"\",OFFSET('Plate Layout'!G113,0,0,1,1))","v":""}]
[{"$f":"IF('Plate Layout'!$D$8=\"\",\"\",'Plate Layout'!$D$8)","v":""},"Y06",{"$f":"IF('Plate Layout'!M39=\"\",\"\",'Plate Layout'!M39)","v":""},{"$f":"IF('Plate Layout'!N39=\"\",\"\",'Plate Layout'!N39)","v":""},{"$f":"IF(OFFSET('Plate Layout'!H113,0,0,1,1)=\"\",\"\",OFFSET('Plate Layout'!H113,0,0,1,1))","v":""}]
[{"$f":"IF('Plate Layout'!$D$8=\"\",\"\",'Plate Layout'!$D$8)","v":""},"Y07",{"$f":"IF('Plate Layout'!O39=\"\",\"\",'Plate Layout'!O39)","v":""},{"$f":"IF('Plate Layout'!P39=\"\",\"\",'Plate Layout'!P39)","v":""},{"$f":"IF(OFFSET('Plate Layout'!I113,0,0,1,1)=\"\",\"\",OFFSET('Plate Layout'!I113,0,0,1,1))","v":""}]
[{"$f":"IF('Plate Layout'!$D$8=\"\",\"\",'Plate Layout'!$D$8)","v":""},"Y08",{"$f":"IF('Plate Layout'!Q39=\"\",\"\",'Plate Layout'!Q39)","v":""},{"$f":"IF('Plate Layout'!R39=\"\",\"\",'Plate Layout'!R39)","v":""},{"$f":"IF(OFFSET('Plate Layout'!J113,0,0,1,1)=\"\",\"\",OFFSET('Plate Layout'!J113,0,0,1,1))","v":""}]
[{"$f":"IF('Plate Layout'!$D$8=\"\",\"\",'Plate Layout'!$D$8)","v":""},"Y09",{"$f":"IF('Plate Layout'!S39=\"\",\"\",'Plate Layout'!S39)","v":""},{"$f":"IF('Plate Layout'!T39=\"\",\"\",'Plate Layout'!T39)","v":""},{"$f":"IF(OFFSET('Plate Layout'!K113,0,0,1,1)=\"\",\"\",OFFSET('Plate Layout'!K113,0,0,1,1))","v":""}]
[{"$f":"IF('Plate Layout'!$D$8=\"\",\"\",'Plate Layout'!$D$8)","v":""},"Y10",{"$f":"IF('Plate Layout'!U39=\"\",\"\",'Plate Layout'!U39)","v":""},{"$f":"IF('Plate Layout'!V39=\"\",\"\",'Plate Layout'!V39)","v":""},{"$f":"IF(OFFSET('Plate Layout'!L113,0,0,1,1)=\"\",\"\",OFFSET('Plate Layout'!L113,0,0,1,1))","v":""}]
[{"$f":"IF('Plate Layout'!$D$8=\"\",\"\",'Plate Layout'!$D$8)","v":""},"Y11",{"$f":"IF('Plate Layout'!W39=\"\",\"\",'Plate Layout'!W39)","v":""},{"$f":"IF('Plate Layout'!X39=\"\",\"\",'Plate Layout'!X39)","v":""},{"$f":"IF(OFFSET('Plate Layout'!M113,0,0,1,1)=\"\",\"\",OFFSET('Plate Layout'!M113,0,0,1,1))","v":""}]
[{"$f":"IF('Plate Layout'!$D$8=\"\",\"\",'Plate Layout'!$D$8)","v":""},"Y12",{"$f":"IF('Plate Layout'!Y39=\"\",\"\",'Plate Layout'!Y39)","v":""},{"$f":"IF('Plate Layout'!Z39=\"\",\"\",'Plate Layout'!Z39)","v":""},{"$f":"IF(OFFSET('Plate Layout'!N113,0,0,1,1)=\"\",\"\",OFFSET('Plate Layout'!N113,0,0,1,1))","v":""}]
[{"$f":"IF('Plate Layout'!$D$8=\"\",\"\",'Plate Layout'!$D$8)","v":""},"Y13",{"$f":"IF('Plate Layout'!AA39=\"\",\"\",'Plate Layout'!AA39)","v":""},{"$f":"IF('Plate Layout'!AB39=\"\",\"\",'Plate Layout'!AB39)","v":""},{"$f":"IF(OFFSET('Plate Layout'!O113,0,0,1,1)=\"\",\"\",OFFSET('Plate Layout'!O113,0,0,1,1))","v":""}]
[{"$f":"IF('Plate Layout'!$D$8=\"\",\"\",'Plate Layout'!$D$8)","v":""},"Y14",{"$f":"IF('Plate Layout'!AC39=\"\",\"\",'Plate Layout'!AC39)","v":""},{"$f":"IF('Plate Layout'!AD39=\"\",\"\",'Plate Layout'!AD39)","v":""},{"$f":"IF(OFFSET('Plate Layout'!P113,0,0,1,1)=\"\",\"\",OFFSET('Plate Layout'!P113,0,0,1,1))","v":""}]
[{"$f":"IF('Plate Layout'!$D$8=\"\",\"\",'Plate Layout'!$D$8)","v":""},"Y15",{"$f":"IF('Plate Layout'!AE39=\"\",\"\",'Plate Layout'!AE39)","v":""},{"$f":"IF('Plate Layout'!AF39=\"\",\"\",'Plate Layout'!AF39)","v":""},{"$f":"IF(OFFSET('Plate Layout'!Q113,0,0,1,1)=\"\",\"\",OFFSET('Plate Layout'!Q113,0,0,1,1))","v":""}]
[{"$f":"IF('Plate Layout'!$D$8=\"\",\"\",'Plate Layout'!$D$8)","v":""},"Y16",{"$f":"IF('Plate Layout'!AG39=\"\",\"\",'Plate Layout'!AG39)","v":""},{"$f":"IF('Plate Layout'!AH39=\"\",\"\",'Plate Layout'!AH39)","v":""},{"$f":"IF(OFFSET('Plate Layout'!R113,0,0,1,1)=\"\",\"\",OFFSET('Plate Layout'!R113,0,0,1,1))","v":""}]
[{"$f":"IF('Plate Layout'!$D$8=\"\",\"\",'Plate Layout'!$D$8)","v":""},"Y17",{"$f":"IF('Plate Layout'!AI39=\"\",\"\",'Plate Layout'!AI39)","v":""},{"$f":"IF('Plate Layout'!AJ39=\"\",\"\",'Plate Layout'!AJ39)","v":""},{"$f":"IF(OFFSET('Plate Layout'!S113,0,0,1,1)=\"\",\"\",OFFSET('Plate Layout'!S113,0,0,1,1))","v":""}]
[{"$f":"IF('Plate Layout'!$D$8=\"\",\"\",'Plate Layout'!$D$8)","v":""},"Y18",{"$f":"IF('Plate Layout'!AK39=\"\",\"\",'Plate Layout'!AK39)","v":""},{"$f":"IF('Plate Layout'!AL39=\"\",\"\",'Plate Layout'!AL39)","v":""},{"$f":"IF(OFFSET('Plate Layout'!T113,0,0,1,1)=\"\",\"\",OFFSET('Plate Layout'!T113,0,0,1,1))","v":""}]
[{"$f":"IF('Plate Layout'!$D$8=\"\",\"\",'Plate Layout'!$D$8)","v":""},"Y19",{"$f":"IF('Plate Layout'!AM39=\"\",\"\",'Plate Layout'!AM39)","v":""},{"$f":"IF('Plate Layout'!AN39=\"\",\"\",'Plate Layout'!AN39)","v":""},{"$f":"IF(OFFSET('Plate Layout'!U113,0,0,1,1)=\"\",\"\",OFFSET('Plate Layout'!U113,0,0,1,1))","v":""}]
[{"$f":"IF('Plate Layout'!$D$8=\"\",\"\",'Plate Layout'!$D$8)","v":""},"Y20",{"$f":"IF('Plate Layout'!AO39=\"\",\"\",'Plate Layout'!AO39)","v":""},{"$f":"IF('Plate Layout'!AP39=\"\",\"\",'Plate Layout'!AP39)","v":""},{"$f":"IF(OFFSET('Plate Layout'!V113,0,0,1,1)=\"\",\"\",OFFSET('Plate Layout'!V113,0,0,1,1))","v":""}]
[{"$f":"IF('Plate Layout'!$D$8=\"\",\"\",'Plate Layout'!$D$8)","v":""},"Y21",{"$f":"IF('Plate Layout'!AQ39=\"\",\"\",'Plate Layout'!AQ39)","v":""},{"$f":"IF('Plate Layout'!AR39=\"\",\"\",'Plate Layout'!AR39)","v":""},{"$f":"IF(OFFSET('Plate Layout'!W113,0,0,1,1)=\"\",\"\",OFFSET('Plate Layout'!W113,0,0,1,1))","v":""}]
[{"$f":"IF('Plate Layout'!$D$8=\"\",\"\",'Plate Layout'!$D$8)","v":""},"Y22",{"$f":"IF('Plate Layout'!AS39=\"\",\"\",'Plate Layout'!AS39)","v":""},{"$f":"IF('Plate Layout'!AT39=\"\",\"\",'Plate Layout'!AT39)","v":""},{"$f":"IF(OFFSET('Plate Layout'!X113,0,0,1,1)=\"\",\"\",OFFSET('Plate Layout'!X113,0,0,1,1))","v":""}]
[{"$f":"IF('Plate Layout'!$D$8=\"\",\"\",'Plate Layout'!$D$8)","v":""},"Y23",{"$f":"IF('Plate Layout'!AU39=\"\",\"\",'Plate Layout'!AU39)","v":""},{"$f":"IF('Plate Layout'!AV39=\"\",\"\",'Plate Layout'!AV39)","v":""},{"$f":"IF(OFFSET('Plate Layout'!Y113,0,0,1,1)=\"\",\"\",OFFSET('Plate Layout'!Y113,0,0,1,1))","v":""}]
[{"$f":"IF('Plate Layout'!$D$8=\"\",\"\",'Plate Layout'!$D$8)","v":""},"Y24",{"$f":"IF('Plate Layout'!AW39=\"\",\"\",'Plate Layout'!AW39)","v":""},{"$f":"IF('Plate Layout'!AX39=\"\",\"\",'Plate Layout'!AX39)","v":""},{"$f":"IF(OFFSET('Plate Layout'!Z113,0,0,1,1)=\"\",\"\",OFFSET('Plate Layout'!Z113,0,0,1,1))","v":""}]
[{"$f":"IF('Plate Layout'!$D$8=\"\",\"\",'Plate Layout'!$D$8)","v":""},"Y25",{"$f":"IF('Plate Layout'!AY39=\"\",\"\",'Plate Layout'!AY39)","v":""},{"$f":"IF('Plate Layout'!AZ39=\"\",\"\",'Plate Layout'!AZ39)","v":""},{"$f":"IF(OFFSET('Plate Layout'!AA113,0,0,1,1)=\"\",\"\",OFFSET('Plate Layout'!AA113,0,0,1,1))","v":""}]
[{"$f":"IF('Plate Layout'!$D$8=\"\",\"\",'Plate Layout'!$D$8)","v":""},"Y26",{"$f":"IF('Plate Layout'!BA39=\"\",\"\",'Plate Layout'!BA39)","v":""},{"$f":"IF('Plate Layout'!BB39=\"\",\"\",'Plate Layout'!BB39)","v":""},{"$f":"IF(OFFSET('Plate Layout'!AB113,0,0,1,1)=\"\",\"\",OFFSET('Plate Layout'!AB113,0,0,1,1))","v":""}]
[{"$f":"IF('Plate Layout'!$D$8=\"\",\"\",'Plate Layout'!$D$8)","v":""},"Y27",{"$f":"IF('Plate Layout'!BC39=\"\",\"\",'Plate Layout'!BC39)","v":""},{"$f":"IF('Plate Layout'!BD39=\"\",\"\",'Plate Layout'!BD39)","v":""},{"$f":"IF(OFFSET('Plate Layout'!AC113,0,0,1,1)=\"\",\"\",OFFSET('Plate Layout'!AC113,0,0,1,1))","v":""}]
[{"$f":"IF('Plate Layout'!$D$8=\"\",\"\",'Plate Layout'!$D$8)","v":""},"Y28",{"$f":"IF('Plate Layout'!BE39=\"\",\"\",'Plate Layout'!BE39)","v":""},{"$f":"IF('Plate Layout'!BF39=\"\",\"\",'Plate Layout'!BF39)","v":""},{"$f":"IF(OFFSET('Plate Layout'!AD113,0,0,1,1)=\"\",\"\",OFFSET('Plate Layout'!AD113,0,0,1,1))","v":""}]
[{"$f":"IF('Plate Layout'!$D$8=\"\",\"\",'Plate Layout'!$D$8)","v":""},"Y29",{"$f":"IF('Plate Layout'!BG39=\"\",\"\",'Plate Layout'!BG39)","v":""},{"$f":"IF('Plate Layout'!BH39=\"\",\"\",'Plate Layout'!BH39)","v":""},{"$f":"IF(OFFSET('Plate Layout'!AE113,0,0,1,1)=\"\",\"\",OFFSET('Plate Layout'!AE113,0,0,1,1))","v":""}]
[{"$f":"IF('Plate Layout'!$D$8=\"\",\"\",'Plate Layout'!$D$8)","v":""},"Y30",{"$f":"IF('Plate Layout'!BI39=\"\",\"\",'Plate Layout'!BI39)","v":""},{"$f":"IF('Plate Layout'!BJ39=\"\",\"\",'Plate Layout'!BJ39)","v":""},{"$f":"IF(OFFSET('Plate Layout'!AF113,0,0,1,1)=\"\",\"\",OFFSET('Plate Layout'!AF113,0,0,1,1))","v":""}]
[{"$f":"IF('Plate Layout'!$D$8=\"\",\"\",'Plate Layout'!$D$8)","v":""},"Y31",{"$f":"IF('Plate Layout'!BK39=\"\",\"\",'Plate Layout'!BK39)","v":""},{"$f":"IF('Plate Layout'!BL39=\"\",\"\",'Plate Layout'!BL39)","v":""},{"$f":"IF(OFFSET('Plate Layout'!AG113,0,0,1,1)=\"\",\"\",OFFSET('Plate Layout'!AG113,0,0,1,1))","v":""}]
[{"$f":"IF('Plate Layout'!$D$8=\"\",\"\",'Plate Layout'!$D$8)","v":""},"Y32",{"$f":"IF('Plate Layout'!BM39=\"\",\"\",'Plate Layout'!BM39)","v":""},{"$f":"IF('Plate Layout'!BN39=\"\",\"\",'Plate Layout'!BN39)","v":""},{"$f":"IF(OFFSET('Plate Layout'!AH113,0,0,1,1)=\"\",\"\",OFFSET('Plate Layout'!AH113,0,0,1,1))","v":""}]
[{"$f":"IF('Plate Layout'!$D$8=\"\",\"\",'Plate Layout'!$D$8)","v":""},"Y33",{"$f":"IF('Plate Layout'!BO39=\"\",\"\",'Plate Layout'!BO39)","v":""},{"$f":"IF('Plate Layout'!BP39=\"\",\"\",'Plate Layout'!BP39)","v":""},{"$f":"IF(OFFSET('Plate Layout'!AI113,0,0,1,1)=\"\",\"\",OFFSET('Plate Layout'!AI113,0,0,1,1))","v":""}]
[{"$f":"IF('Plate Layout'!$D$8=\"\",\"\",'Plate Layout'!$D$8)","v":""},"Y34",{"$f":"IF('Plate Layout'!BQ39=\"\",\"\",'Plate Layout'!BQ39)","v":""},{"$f":"IF('Plate Layout'!BR39=\"\",\"\",'Plate Layout'!BR39)","v":""},{"$f":"IF(OFFSET('Plate Layout'!AJ113,0,0,1,1)=\"\",\"\",OFFSET('Plate Layout'!AJ113,0,0,1,1))","v":""}]
[{"$f":"IF('Plate Layout'!$D$8=\"\",\"\",'Plate Layout'!$D$8)","v":""},"Y35",{"$f":"IF('Plate Layout'!BS39=\"\",\"\",'Plate Layout'!BS39)","v":""},{"$f":"IF('Plate Layout'!BT39=\"\",\"\",'Plate Layout'!BT39)","v":""},{"$f":"IF(OFFSET('Plate Layout'!AK113,0,0,1,1)=\"\",\"\",OFFSET('Plate Layout'!AK113,0,0,1,1))","v":""}]
[{"$f":"IF('Plate Layout'!$D$8=\"\",\"\",'Plate Layout'!$D$8)","v":""},"Y36",{"$f":"IF('Plate Layout'!BU39=\"\",\"\",'Plate Layout'!BU39)","v":""},{"$f":"IF('Plate Layout'!BV39=\"\",\"\",'Plate Layout'!BV39)","v":""},{"$f":"IF(OFFSET('Plate Layout'!AL113,0,0,1,1)=\"\",\"\",OFFSET('Plate Layout'!AL113,0,0,1,1))","v":""}]
[{"$f":"IF('Plate Layout'!$D$8=\"\",\"\",'Plate Layout'!$D$8)","v":""},"Y37",{"$f":"IF('Plate Layout'!BW39=\"\",\"\",'Plate Layout'!BW39)","v":""},{"$f":"IF('Plate Layout'!BX39=\"\",\"\",'Plate Layout'!BX39)","v":""},{"$f":"IF(OFFSET('Plate Layout'!AM113,0,0,1,1)=\"\",\"\",OFFSET('Plate Layout'!AM113,0,0,1,1))","v":""}]
[{"$f":"IF('Plate Layout'!$D$8=\"\",\"\",'Plate Layout'!$D$8)","v":""},"Y38",{"$f":"IF('Plate Layout'!BY39=\"\",\"\",'Plate Layout'!BY39)","v":""},{"$f":"IF('Plate Layout'!BZ39=\"\",\"\",'Plate Layout'!BZ39)","v":""},{"$f":"IF(OFFSET('Plate Layout'!AN113,0,0,1,1)=\"\",\"\",OFFSET('Plate Layout'!AN113,0,0,1,1))","v":""}]
[{"$f":"IF('Plate Layout'!$D$8=\"\",\"\",'Plate Layout'!$D$8)","v":""},"Y39",{"$f":"IF('Plate Layout'!CA39=\"\",\"\",'Plate Layout'!CA39)","v":""},{"$f":"IF('Plate Layout'!CB39=\"\",\"\",'Plate Layout'!CB39)","v":""},{"$f":"IF(OFFSET('Plate Layout'!AO113,0,0,1,1)=\"\",\"\",OFFSET('Plate Layout'!AO113,0,0,1,1))","v":""}]
[{"$f":"IF('Plate Layout'!$D$8=\"\",\"\",'Plate Layout'!$D$8)","v":""},"Y40",{"$f":"IF('Plate Layout'!CC39=\"\",\"\",'Plate Layout'!CC39)","v":""},{"$f":"IF('Plate Layout'!CD39=\"\",\"\",'Plate Layout'!CD39)","v":""},{"$f":"IF(OFFSET('Plate Layout'!AP113,0,0,1,1)=\"\",\"\",OFFSET('Plate Layout'!AP113,0,0,1,1))","v":""}]
[{"$f":"IF('Plate Layout'!$D$8=\"\",\"\",'Plate Layout'!$D$8)","v":""},"Y41",{"$f":"IF('Plate Layout'!CE39=\"\",\"\",'Plate Layout'!CE39)","v":""},{"$f":"IF('Plate Layout'!CF39=\"\",\"\",'Plate Layout'!CF39)","v":""},{"$f":"IF(OFFSET('Plate Layout'!AQ113,0,0,1,1)=\"\",\"\",OFFSET('Plate Layout'!AQ113,0,0,1,1))","v":""}]
[{"$f":"IF('Plate Layout'!$D$8=\"\",\"\",'Plate Layout'!$D$8)","v":""},"Y42",{"$f":"IF('Plate Layout'!CG39=\"\",\"\",'Plate Layout'!CG39)","v":""},{"$f":"IF('Plate Layout'!CH39=\"\",\"\",'Plate Layout'!CH39)","v":""},{"$f":"IF(OFFSET('Plate Layout'!AR113,0,0,1,1)=\"\",\"\",OFFSET('Plate Layout'!AR113,0,0,1,1))","v":""}]
[{"$f":"IF('Plate Layout'!$D$8=\"\",\"\",'Plate Layout'!$D$8)","v":""},"Y43",{"$f":"IF('Plate Layout'!CI39=\"\",\"\",'Plate Layout'!CI39)","v":""},{"$f":"IF('Plate Layout'!CJ39=\"\",\"\",'Plate Layout'!CJ39)","v":""},{"$f":"IF(OFFSET('Plate Layout'!AS113,0,0,1,1)=\"\",\"\",OFFSET('Plate Layout'!AS113,0,0,1,1))","v":""}]
[{"$f":"IF('Plate Layout'!$D$8=\"\",\"\",'Plate Layout'!$D$8)","v":""},"Y44",{"$f":"IF('Plate Layout'!CK39=\"\",\"\",'Plate Layout'!CK39)","v":""},{"$f":"IF('Plate Layout'!CL39=\"\",\"\",'Plate Layout'!CL39)","v":""},{"$f":"IF(OFFSET('Plate Layout'!AT113,0,0,1,1)=\"\",\"\",OFFSET('Plate Layout'!AT113,0,0,1,1))","v":""}]
[{"$f":"IF('Plate Layout'!$D$8=\"\",\"\",'Plate Layout'!$D$8)","v":""},"Y45",{"$f":"IF('Plate Layout'!CM39=\"\",\"\",'Plate Layout'!CM39)","v":""},{"$f":"IF('Plate Layout'!CN39=\"\",\"\",'Plate Layout'!CN39)","v":""},{"$f":"IF(OFFSET('Plate Layout'!AU113,0,0,1,1)=\"\",\"\",OFFSET('Plate Layout'!AU113,0,0,1,1))","v":""}]
[{"$f":"IF('Plate Layout'!$D$8=\"\",\"\",'Plate Layout'!$D$8)","v":""},"Y46",{"$f":"IF('Plate Layout'!CO39=\"\",\"\",'Plate Layout'!CO39)","v":""},{"$f":"IF('Plate Layout'!CP39=\"\",\"\",'Plate Layout'!CP39)","v":""},{"$f":"IF(OFFSET('Plate Layout'!AV113,0,0,1,1)=\"\",\"\",OFFSET('Plate Layout'!AV113,0,0,1,1))","v":""}]
[{"$f":"IF('Plate Layout'!$D$8=\"\",\"\",'Plate Layout'!$D$8)","v":""},"Y47",{"$f":"IF('Plate Layout'!CQ39=\"\",\"\",'Plate Layout'!CQ39)","v":""},{"$f":"IF('Plate Layout'!CR39=\"\",\"\",'Plate Layout'!CR39)","v":""},{"$f":"IF(OFFSET('Plate Layout'!AW113,0,0,1,1)=\"\",\"\",OFFSET('Plate Layout'!AW113,0,0,1,1))","v":""}]
[{"$f":"IF('Plate Layout'!$D$8=\"\",\"\",'Plate Layout'!$D$8)","v":""},"Y48",{"$f":"IF('Plate Layout'!CS39=\"\",\"\",'Plate Layout'!CS39)","v":""},{"$f":"IF('Plate Layout'!CT39=\"\",\"\",'Plate Layout'!CT39)","v":""},{"$f":"IF(OFFSET('Plate Layout'!AX113,0,0,1,1)=\"\",\"\",OFFSET('Plate Layout'!AX113,0,0,1,1))","v":""}]
[{"$f":"IF('Plate Layout'!$D$8=\"\",\"\",'Plate Layout'!$D$8)","v":""},"Z01",{"$f":"IF('Plate Layout'!C40=\"\",\"\",'Plate Layout'!C40)","v":""},{"$f":"IF('Plate Layout'!D40=\"\",\"\",'Plate Layout'!D40)","v":""},{"$f":"IF(OFFSET('Plate Layout'!C114,0,0,1,1)=\"\",\"\",OFFSET('Plate Layout'!C114,0,0,1,1))","v":""}]
[{"$f":"IF('Plate Layout'!$D$8=\"\",\"\",'Plate Layout'!$D$8)","v":""},"Z02",{"$f":"IF('Plate Layout'!E40=\"\",\"\",'Plate Layout'!E40)","v":""},{"$f":"IF('Plate Layout'!F40=\"\",\"\",'Plate Layout'!F40)","v":""},{"$f":"IF(OFFSET('Plate Layout'!D114,0,0,1,1)=\"\",\"\",OFFSET('Plate Layout'!D114,0,0,1,1))","v":""}]
[{"$f":"IF('Plate Layout'!$D$8=\"\",\"\",'Plate Layout'!$D$8)","v":""},"Z03",{"$f":"IF('Plate Layout'!G40=\"\",\"\",'Plate Layout'!G40)","v":""},{"$f":"IF('Plate Layout'!H40=\"\",\"\",'Plate Layout'!H40)","v":""},{"$f":"IF(OFFSET('Plate Layout'!E114,0,0,1,1)=\"\",\"\",OFFSET('Plate Layout'!E114,0,0,1,1))","v":""}]
[{"$f":"IF('Plate Layout'!$D$8=\"\",\"\",'Plate Layout'!$D$8)","v":""},"Z04",{"$f":"IF('Plate Layout'!I40=\"\",\"\",'Plate Layout'!I40)","v":""},{"$f":"IF('Plate Layout'!J40=\"\",\"\",'Plate Layout'!J40)","v":""},{"$f":"IF(OFFSET('Plate Layout'!F114,0,0,1,1)=\"\",\"\",OFFSET('Plate Layout'!F114,0,0,1,1))","v":""}]
[{"$f":"IF('Plate Layout'!$D$8=\"\",\"\",'Plate Layout'!$D$8)","v":""},"Z05",{"$f":"IF('Plate Layout'!K40=\"\",\"\",'Plate Layout'!K40)","v":""},{"$f":"IF('Plate Layout'!L40=\"\",\"\",'Plate Layout'!L40)","v":""},{"$f":"IF(OFFSET('Plate Layout'!G114,0,0,1,1)=\"\",\"\",OFFSET('Plate Layout'!G114,0,0,1,1))","v":""}]
[{"$f":"IF('Plate Layout'!$D$8=\"\",\"\",'Plate Layout'!$D$8)","v":""},"Z06",{"$f":"IF('Plate Layout'!M40=\"\",\"\",'Plate Layout'!M40)","v":""},{"$f":"IF('Plate Layout'!N40=\"\",\"\",'Plate Layout'!N40)","v":""},{"$f":"IF(OFFSET('Plate Layout'!H114,0,0,1,1)=\"\",\"\",OFFSET('Plate Layout'!H114,0,0,1,1))","v":""}]
[{"$f":"IF('Plate Layout'!$D$8=\"\",\"\",'Plate Layout'!$D$8)","v":""},"Z07",{"$f":"IF('Plate Layout'!O40=\"\",\"\",'Plate Layout'!O40)","v":""},{"$f":"IF('Plate Layout'!P40=\"\",\"\",'Plate Layout'!P40)","v":""},{"$f":"IF(OFFSET('Plate Layout'!I114,0,0,1,1)=\"\",\"\",OFFSET('Plate Layout'!I114,0,0,1,1))","v":""}]
[{"$f":"IF('Plate Layout'!$D$8=\"\",\"\",'Plate Layout'!$D$8)","v":""},"Z08",{"$f":"IF('Plate Layout'!Q40=\"\",\"\",'Plate Layout'!Q40)","v":""},{"$f":"IF('Plate Layout'!R40=\"\",\"\",'Plate Layout'!R40)","v":""},{"$f":"IF(OFFSET('Plate Layout'!J114,0,0,1,1)=\"\",\"\",OFFSET('Plate Layout'!J114,0,0,1,1))","v":""}]
[{"$f":"IF('Plate Layout'!$D$8=\"\",\"\",'Plate Layout'!$D$8)","v":""},"Z09",{"$f":"IF('Plate Layout'!S40=\"\",\"\",'Plate Layout'!S40)","v":""},{"$f":"IF('Plate Layout'!T40=\"\",\"\",'Plate Layout'!T40)","v":""},{"$f":"IF(OFFSET('Plate Layout'!K114,0,0,1,1)=\"\",\"\",OFFSET('Plate Layout'!K114,0,0,1,1))","v":""}]
[{"$f":"IF('Plate Layout'!$D$8=\"\",\"\",'Plate Layout'!$D$8)","v":""},"Z10",{"$f":"IF('Plate Layout'!U40=\"\",\"\",'Plate Layout'!U40)","v":""},{"$f":"IF('Plate Layout'!V40=\"\",\"\",'Plate Layout'!V40)","v":""},{"$f":"IF(OFFSET('Plate Layout'!L114,0,0,1,1)=\"\",\"\",OFFSET('Plate Layout'!L114,0,0,1,1))","v":""}]
[{"$f":"IF('Plate Layout'!$D$8=\"\",\"\",'Plate Layout'!$D$8)","v":""},"Z11",{"$f":"IF('Plate Layout'!W40=\"\",\"\",'Plate Layout'!W40)","v":""},{"$f":"IF('Plate Layout'!X40=\"\",\"\",'Plate Layout'!X40)","v":""},{"$f":"IF(OFFSET('Plate Layout'!M114,0,0,1,1)=\"\",\"\",OFFSET('Plate Layout'!M114,0,0,1,1))","v":""}]
[{"$f":"IF('Plate Layout'!$D$8=\"\",\"\",'Plate Layout'!$D$8)","v":""},"Z12",{"$f":"IF('Plate Layout'!Y40=\"\",\"\",'Plate Layout'!Y40)","v":""},{"$f":"IF('Plate Layout'!Z40=\"\",\"\",'Plate Layout'!Z40)","v":""},{"$f":"IF(OFFSET('Plate Layout'!N114,0,0,1,1)=\"\",\"\",OFFSET('Plate Layout'!N114,0,0,1,1))","v":""}]
[{"$f":"IF('Plate Layout'!$D$8=\"\",\"\",'Plate Layout'!$D$8)","v":""},"Z13",{"$f":"IF('Plate Layout'!AA40=\"\",\"\",'Plate Layout'!AA40)","v":""},{"$f":"IF('Plate Layout'!AB40=\"\",\"\",'Plate Layout'!AB40)","v":""},{"$f":"IF(OFFSET('Plate Layout'!O114,0,0,1,1)=\"\",\"\",OFFSET('Plate Layout'!O114,0,0,1,1))","v":""}]
[{"$f":"IF('Plate Layout'!$D$8=\"\",\"\",'Plate Layout'!$D$8)","v":""},"Z14",{"$f":"IF('Plate Layout'!AC40=\"\",\"\",'Plate Layout'!AC40)","v":""},{"$f":"IF('Plate Layout'!AD40=\"\",\"\",'Plate Layout'!AD40)","v":""},{"$f":"IF(OFFSET('Plate Layout'!P114,0,0,1,1)=\"\",\"\",OFFSET('Plate Layout'!P114,0,0,1,1))","v":""}]
[{"$f":"IF('Plate Layout'!$D$8=\"\",\"\",'Plate Layout'!$D$8)","v":""},"Z15",{"$f":"IF('Plate Layout'!AE40=\"\",\"\",'Plate Layout'!AE40)","v":""},{"$f":"IF('Plate Layout'!AF40=\"\",\"\",'Plate Layout'!AF40)","v":""},{"$f":"IF(OFFSET('Plate Layout'!Q114,0,0,1,1)=\"\",\"\",OFFSET('Plate Layout'!Q114,0,0,1,1))","v":""}]
[{"$f":"IF('Plate Layout'!$D$8=\"\",\"\",'Plate Layout'!$D$8)","v":""},"Z16",{"$f":"IF('Plate Layout'!AG40=\"\",\"\",'Plate Layout'!AG40)","v":""},{"$f":"IF('Plate Layout'!AH40=\"\",\"\",'Plate Layout'!AH40)","v":""},{"$f":"IF(OFFSET('Plate Layout'!R114,0,0,1,1)=\"\",\"\",OFFSET('Plate Layout'!R114,0,0,1,1))","v":""}]
[{"$f":"IF('Plate Layout'!$D$8=\"\",\"\",'Plate Layout'!$D$8)","v":""},"Z17",{"$f":"IF('Plate Layout'!AI40=\"\",\"\",'Plate Layout'!AI40)","v":""},{"$f":"IF('Plate Layout'!AJ40=\"\",\"\",'Plate Layout'!AJ40)","v":""},{"$f":"IF(OFFSET('Plate Layout'!S114,0,0,1,1)=\"\",\"\",OFFSET('Plate Layout'!S114,0,0,1,1))","v":""}]
[{"$f":"IF('Plate Layout'!$D$8=\"\",\"\",'Plate Layout'!$D$8)","v":""},"Z18",{"$f":"IF('Plate Layout'!AK40=\"\",\"\",'Plate Layout'!AK40)","v":""},{"$f":"IF('Plate Layout'!AL40=\"\",\"\",'Plate Layout'!AL40)","v":""},{"$f":"IF(OFFSET('Plate Layout'!T114,0,0,1,1)=\"\",\"\",OFFSET('Plate Layout'!T114,0,0,1,1))","v":""}]
[{"$f":"IF('Plate Layout'!$D$8=\"\",\"\",'Plate Layout'!$D$8)","v":""},"Z19",{"$f":"IF('Plate Layout'!AM40=\"\",\"\",'Plate Layout'!AM40)","v":""},{"$f":"IF('Plate Layout'!AN40=\"\",\"\",'Plate Layout'!AN40)","v":""},{"$f":"IF(OFFSET('Plate Layout'!U114,0,0,1,1)=\"\",\"\",OFFSET('Plate Layout'!U114,0,0,1,1))","v":""}]
[{"$f":"IF('Plate Layout'!$D$8=\"\",\"\",'Plate Layout'!$D$8)","v":""},"Z20",{"$f":"IF('Plate Layout'!AO40=\"\",\"\",'Plate Layout'!AO40)","v":""},{"$f":"IF('Plate Layout'!AP40=\"\",\"\",'Plate Layout'!AP40)","v":""},{"$f":"IF(OFFSET('Plate Layout'!V114,0,0,1,1)=\"\",\"\",OFFSET('Plate Layout'!V114,0,0,1,1))","v":""}]
[{"$f":"IF('Plate Layout'!$D$8=\"\",\"\",'Plate Layout'!$D$8)","v":""},"Z21",{"$f":"IF('Plate Layout'!AQ40=\"\",\"\",'Plate Layout'!AQ40)","v":""},{"$f":"IF('Plate Layout'!AR40=\"\",\"\",'Plate Layout'!AR40)","v":""},{"$f":"IF(OFFSET('Plate Layout'!W114,0,0,1,1)=\"\",\"\",OFFSET('Plate Layout'!W114,0,0,1,1))","v":""}]
[{"$f":"IF('Plate Layout'!$D$8=\"\",\"\",'Plate Layout'!$D$8)","v":""},"Z22",{"$f":"IF('Plate Layout'!AS40=\"\",\"\",'Plate Layout'!AS40)","v":""},{"$f":"IF('Plate Layout'!AT40=\"\",\"\",'Plate Layout'!AT40)","v":""},{"$f":"IF(OFFSET('Plate Layout'!X114,0,0,1,1)=\"\",\"\",OFFSET('Plate Layout'!X114,0,0,1,1))","v":""}]
[{"$f":"IF('Plate Layout'!$D$8=\"\",\"\",'Plate Layout'!$D$8)","v":""},"Z23",{"$f":"IF('Plate Layout'!AU40=\"\",\"\",'Plate Layout'!AU40)","v":""},{"$f":"IF('Plate Layout'!AV40=\"\",\"\",'Plate Layout'!AV40)","v":""},{"$f":"IF(OFFSET('Plate Layout'!Y114,0,0,1,1)=\"\",\"\",OFFSET('Plate Layout'!Y114,0,0,1,1))","v":""}]
[{"$f":"IF('Plate Layout'!$D$8=\"\",\"\",'Plate Layout'!$D$8)","v":""},"Z24",{"$f":"IF('Plate Layout'!AW40=\"\",\"\",'Plate Layout'!AW40)","v":""},{"$f":"IF('Plate Layout'!AX40=\"\",\"\",'Plate Layout'!AX40)","v":""},{"$f":"IF(OFFSET('Plate Layout'!Z114,0,0,1,1)=\"\",\"\",OFFSET('Plate Layout'!Z114,0,0,1,1))","v":""}]
[{"$f":"IF('Plate Layout'!$D$8=\"\",\"\",'Plate Layout'!$D$8)","v":""},"Z25",{"$f":"IF('Plate Layout'!AY40=\"\",\"\",'Plate Layout'!AY40)","v":""},{"$f":"IF('Plate Layout'!AZ40=\"\",\"\",'Plate Layout'!AZ40)","v":""},{"$f":"IF(OFFSET('Plate Layout'!AA114,0,0,1,1)=\"\",\"\",OFFSET('Plate Layout'!AA114,0,0,1,1))","v":""}]
[{"$f":"IF('Plate Layout'!$D$8=\"\",\"\",'Plate Layout'!$D$8)","v":""},"Z26",{"$f":"IF('Plate Layout'!BA40=\"\",\"\",'Plate Layout'!BA40)","v":""},{"$f":"IF('Plate Layout'!BB40=\"\",\"\",'Plate Layout'!BB40)","v":""},{"$f":"IF(OFFSET('Plate Layout'!AB114,0,0,1,1)=\"\",\"\",OFFSET('Plate Layout'!AB114,0,0,1,1))","v":""}]
[{"$f":"IF('Plate Layout'!$D$8=\"\",\"\",'Plate Layout'!$D$8)","v":""},"Z27",{"$f":"IF('Plate Layout'!BC40=\"\",\"\",'Plate Layout'!BC40)","v":""},{"$f":"IF('Plate Layout'!BD40=\"\",\"\",'Plate Layout'!BD40)","v":""},{"$f":"IF(OFFSET('Plate Layout'!AC114,0,0,1,1)=\"\",\"\",OFFSET('Plate Layout'!AC114,0,0,1,1))","v":""}]
[{"$f":"IF('Plate Layout'!$D$8=\"\",\"\",'Plate Layout'!$D$8)","v":""},"Z28",{"$f":"IF('Plate Layout'!BE40=\"\",\"\",'Plate Layout'!BE40)","v":""},{"$f":"IF('Plate Layout'!BF40=\"\",\"\",'Plate Layout'!BF40)","v":""},{"$f":"IF(OFFSET('Plate Layout'!AD114,0,0,1,1)=\"\",\"\",OFFSET('Plate Layout'!AD114,0,0,1,1))","v":""}]
[{"$f":"IF('Plate Layout'!$D$8=\"\",\"\",'Plate Layout'!$D$8)","v":""},"Z29",{"$f":"IF('Plate Layout'!BG40=\"\",\"\",'Plate Layout'!BG40)","v":""},{"$f":"IF('Plate Layout'!BH40=\"\",\"\",'Plate Layout'!BH40)","v":""},{"$f":"IF(OFFSET('Plate Layout'!AE114,0,0,1,1)=\"\",\"\",OFFSET('Plate Layout'!AE114,0,0,1,1))","v":""}]
[{"$f":"IF('Plate Layout'!$D$8=\"\",\"\",'Plate Layout'!$D$8)","v":""},"Z30",{"$f":"IF('Plate Layout'!BI40=\"\",\"\",'Plate Layout'!BI40)","v":""},{"$f":"IF('Plate Layout'!BJ40=\"\",\"\",'Plate Layout'!BJ40)","v":""},{"$f":"IF(OFFSET('Plate Layout'!AF114,0,0,1,1)=\"\",\"\",OFFSET('Plate Layout'!AF114,0,0,1,1))","v":""}]
[{"$f":"IF('Plate Layout'!$D$8=\"\",\"\",'Plate Layout'!$D$8)","v":""},"Z31",{"$f":"IF('Plate Layout'!BK40=\"\",\"\",'Plate Layout'!BK40)","v":""},{"$f":"IF('Plate Layout'!BL40=\"\",\"\",'Plate Layout'!BL40)","v":""},{"$f":"IF(OFFSET('Plate Layout'!AG114,0,0,1,1)=\"\",\"\",OFFSET('Plate Layout'!AG114,0,0,1,1))","v":""}]
[{"$f":"IF('Plate Layout'!$D$8=\"\",\"\",'Plate Layout'!$D$8)","v":""},"Z32",{"$f":"IF('Plate Layout'!BM40=\"\",\"\",'Plate Layout'!BM40)","v":""},{"$f":"IF('Plate Layout'!BN40=\"\",\"\",'Plate Layout'!BN40)","v":""},{"$f":"IF(OFFSET('Plate Layout'!AH114,0,0,1,1)=\"\",\"\",OFFSET('Plate Layout'!AH114,0,0,1,1))","v":""}]
[{"$f":"IF('Plate Layout'!$D$8=\"\",\"\",'Plate Layout'!$D$8)","v":""},"Z33",{"$f":"IF('Plate Layout'!BO40=\"\",\"\",'Plate Layout'!BO40)","v":""},{"$f":"IF('Plate Layout'!BP40=\"\",\"\",'Plate Layout'!BP40)","v":""},{"$f":"IF(OFFSET('Plate Layout'!AI114,0,0,1,1)=\"\",\"\",OFFSET('Plate Layout'!AI114,0,0,1,1))","v":""}]
[{"$f":"IF('Plate Layout'!$D$8=\"\",\"\",'Plate Layout'!$D$8)","v":""},"Z34",{"$f":"IF('Plate Layout'!BQ40=\"\",\"\",'Plate Layout'!BQ40)","v":""},{"$f":"IF('Plate Layout'!BR40=\"\",\"\",'Plate Layout'!BR40)","v":""},{"$f":"IF(OFFSET('Plate Layout'!AJ114,0,0,1,1)=\"\",\"\",OFFSET('Plate Layout'!AJ114,0,0,1,1))","v":""}]
[{"$f":"IF('Plate Layout'!$D$8=\"\",\"\",'Plate Layout'!$D$8)","v":""},"Z35",{"$f":"IF('Plate Layout'!BS40=\"\",\"\",'Plate Layout'!BS40)","v":""},{"$f":"IF('Plate Layout'!BT40=\"\",\"\",'Plate Layout'!BT40)","v":""},{"$f":"IF(OFFSET('Plate Layout'!AK114,0,0,1,1)=\"\",\"\",OFFSET('Plate Layout'!AK114,0,0,1,1))","v":""}]
[{"$f":"IF('Plate Layout'!$D$8=\"\",\"\",'Plate Layout'!$D$8)","v":""},"Z36",{"$f":"IF('Plate Layout'!BU40=\"\",\"\",'Plate Layout'!BU40)","v":""},{"$f":"IF('Plate Layout'!BV40=\"\",\"\",'Plate Layout'!BV40)","v":""},{"$f":"IF(OFFSET('Plate Layout'!AL114,0,0,1,1)=\"\",\"\",OFFSET('Plate Layout'!AL114,0,0,1,1))","v":""}]
[{"$f":"IF('Plate Layout'!$D$8=\"\",\"\",'Plate Layout'!$D$8)","v":""},"Z37",{"$f":"IF('Plate Layout'!BW40=\"\",\"\",'Plate Layout'!BW40)","v":""},{"$f":"IF('Plate Layout'!BX40=\"\",\"\",'Plate Layout'!BX40)","v":""},{"$f":"IF(OFFSET('Plate Layout'!AM114,0,0,1,1)=\"\",\"\",OFFSET('Plate Layout'!AM114,0,0,1,1))","v":""}]
[{"$f":"IF('Plate Layout'!$D$8=\"\",\"\",'Plate Layout'!$D$8)","v":""},"Z38",{"$f":"IF('Plate Layout'!BY40=\"\",\"\",'Plate Layout'!BY40)","v":""},{"$f":"IF('Plate Layout'!BZ40=\"\",\"\",'Plate Layout'!BZ40)","v":""},{"$f":"IF(OFFSET('Plate Layout'!AN114,0,0,1,1)=\"\",\"\",OFFSET('Plate Layout'!AN114,0,0,1,1))","v":""}]
[{"$f":"IF('Plate Layout'!$D$8=\"\",\"\",'Plate Layout'!$D$8)","v":""},"Z39",{"$f":"IF('Plate Layout'!CA40=\"\",\"\",'Plate Layout'!CA40)","v":""},{"$f":"IF('Plate Layout'!CB40=\"\",\"\",'Plate Layout'!CB40)","v":""},{"$f":"IF(OFFSET('Plate Layout'!AO114,0,0,1,1)=\"\",\"\",OFFSET('Plate Layout'!AO114,0,0,1,1))","v":""}]
[{"$f":"IF('Plate Layout'!$D$8=\"\",\"\",'Plate Layout'!$D$8)","v":""},"Z40",{"$f":"IF('Plate Layout'!CC40=\"\",\"\",'Plate Layout'!CC40)","v":""},{"$f":"IF('Plate Layout'!CD40=\"\",\"\",'Plate Layout'!CD40)","v":""},{"$f":"IF(OFFSET('Plate Layout'!AP114,0,0,1,1)=\"\",\"\",OFFSET('Plate Layout'!AP114,0,0,1,1))","v":""}]
[{"$f":"IF('Plate Layout'!$D$8=\"\",\"\",'Plate Layout'!$D$8)","v":""},"Z41",{"$f":"IF('Plate Layout'!CE40=\"\",\"\",'Plate Layout'!CE40)","v":""},{"$f":"IF('Plate Layout'!CF40=\"\",\"\",'Plate Layout'!CF40)","v":""},{"$f":"IF(OFFSET('Plate Layout'!AQ114,0,0,1,1)=\"\",\"\",OFFSET('Plate Layout'!AQ114,0,0,1,1))","v":""}]
[{"$f":"IF('Plate Layout'!$D$8=\"\",\"\",'Plate Layout'!$D$8)","v":""},"Z42",{"$f":"IF('Plate Layout'!CG40=\"\",\"\",'Plate Layout'!CG40)","v":""},{"$f":"IF('Plate Layout'!CH40=\"\",\"\",'Plate Layout'!CH40)","v":""},{"$f":"IF(OFFSET('Plate Layout'!AR114,0,0,1,1)=\"\",\"\",OFFSET('Plate Layout'!AR114,0,0,1,1))","v":""}]
[{"$f":"IF('Plate Layout'!$D$8=\"\",\"\",'Plate Layout'!$D$8)","v":""},"Z43",{"$f":"IF('Plate Layout'!CI40=\"\",\"\",'Plate Layout'!CI40)","v":""},{"$f":"IF('Plate Layout'!CJ40=\"\",\"\",'Plate Layout'!CJ40)","v":""},{"$f":"IF(OFFSET('Plate Layout'!AS114,0,0,1,1)=\"\",\"\",OFFSET('Plate Layout'!AS114,0,0,1,1))","v":""}]
[{"$f":"IF('Plate Layout'!$D$8=\"\",\"\",'Plate Layout'!$D$8)","v":""},"Z44",{"$f":"IF('Plate Layout'!CK40=\"\",\"\",'Plate Layout'!CK40)","v":""},{"$f":"IF('Plate Layout'!CL40=\"\",\"\",'Plate Layout'!CL40)","v":""},{"$f":"IF(OFFSET('Plate Layout'!AT114,0,0,1,1)=\"\",\"\",OFFSET('Plate Layout'!AT114,0,0,1,1))","v":""}]
[{"$f":"IF('Plate Layout'!$D$8=\"\",\"\",'Plate Layout'!$D$8)","v":""},"Z45",{"$f":"IF('Plate Layout'!CM40=\"\",\"\",'Plate Layout'!CM40)","v":""},{"$f":"IF('Plate Layout'!CN40=\"\",\"\",'Plate Layout'!CN40)","v":""},{"$f":"IF(OFFSET('Plate Layout'!AU114,0,0,1,1)=\"\",\"\",OFFSET('Plate Layout'!AU114,0,0,1,1))","v":""}]
[{"$f":"IF('Plate Layout'!$D$8=\"\",\"\",'Plate Layout'!$D$8)","v":""},"Z46",{"$f":"IF('Plate Layout'!CO40=\"\",\"\",'Plate Layout'!CO40)","v":""},{"$f":"IF('Plate Layout'!CP40=\"\",\"\",'Plate Layout'!CP40)","v":""},{"$f":"IF(OFFSET('Plate Layout'!AV114,0,0,1,1)=\"\",\"\",OFFSET('Plate Layout'!AV114,0,0,1,1))","v":""}]
[{"$f":"IF('Plate Layout'!$D$8=\"\",\"\",'Plate Layout'!$D$8)","v":""},"Z47",{"$f":"IF('Plate Layout'!CQ40=\"\",\"\",'Plate Layout'!CQ40)","v":""},{"$f":"IF('Plate Layout'!CR40=\"\",\"\",'Plate Layout'!CR40)","v":""},{"$f":"IF(OFFSET('Plate Layout'!AW114,0,0,1,1)=\"\",\"\",OFFSET('Plate Layout'!AW114,0,0,1,1))","v":""}]
[{"$f":"IF('Plate Layout'!$D$8=\"\",\"\",'Plate Layout'!$D$8)","v":""},"Z48",{"$f":"IF('Plate Layout'!CS40=\"\",\"\",'Plate Layout'!CS40)","v":""},{"$f":"IF('Plate Layout'!CT40=\"\",\"\",'Plate Layout'!CT40)","v":""},{"$f":"IF(OFFSET('Plate Layout'!AX114,0,0,1,1)=\"\",\"\",OFFSET('Plate Layout'!AX114,0,0,1,1))","v":""}]
[{"$f":"IF('Plate Layout'!$D$8=\"\",\"\",'Plate Layout'!$D$8)","v":""},"AA01",{"$f":"IF('Plate Layout'!C41=\"\",\"\",'Plate Layout'!C41)","v":""},{"$f":"IF('Plate Layout'!D41=\"\",\"\",'Plate Layout'!D41)","v":""},{"$f":"IF(OFFSET('Plate Layout'!C115,0,0,1,1)=\"\",\"\",OFFSET('Plate Layout'!C115,0,0,1,1))","v":""}]
[{"$f":"IF('Plate Layout'!$D$8=\"\",\"\",'Plate Layout'!$D$8)","v":""},"AA02",{"$f":"IF('Plate Layout'!E41=\"\",\"\",'Plate Layout'!E41)","v":""},{"$f":"IF('Plate Layout'!F41=\"\",\"\",'Plate Layout'!F41)","v":""},{"$f":"IF(OFFSET('Plate Layout'!D115,0,0,1,1)=\"\",\"\",OFFSET('Plate Layout'!D115,0,0,1,1))","v":""}]
[{"$f":"IF('Plate Layout'!$D$8=\"\",\"\",'Plate Layout'!$D$8)","v":""},"AA03",{"$f":"IF('Plate Layout'!G41=\"\",\"\",'Plate Layout'!G41)","v":""},{"$f":"IF('Plate Layout'!H41=\"\",\"\",'Plate Layout'!H41)","v":""},{"$f":"IF(OFFSET('Plate Layout'!E115,0,0,1,1)=\"\",\"\",OFFSET('Plate Layout'!E115,0,0,1,1))","v":""}]
[{"$f":"IF('Plate Layout'!$D$8=\"\",\"\",'Plate Layout'!$D$8)","v":""},"AA04",{"$f":"IF('Plate Layout'!I41=\"\",\"\",'Plate Layout'!I41)","v":""},{"$f":"IF('Plate Layout'!J41=\"\",\"\",'Plate Layout'!J41)","v":""},{"$f":"IF(OFFSET('Plate Layout'!F115,0,0,1,1)=\"\",\"\",OFFSET('Plate Layout'!F115,0,0,1,1))","v":""}]
[{"$f":"IF('Plate Layout'!$D$8=\"\",\"\",'Plate Layout'!$D$8)","v":""},"AA05",{"$f":"IF('Plate Layout'!K41=\"\",\"\",'Plate Layout'!K41)","v":""},{"$f":"IF('Plate Layout'!L41=\"\",\"\",'Plate Layout'!L41)","v":""},{"$f":"IF(OFFSET('Plate Layout'!G115,0,0,1,1)=\"\",\"\",OFFSET('Plate Layout'!G115,0,0,1,1))","v":""}]
[{"$f":"IF('Plate Layout'!$D$8=\"\",\"\",'Plate Layout'!$D$8)","v":""},"AA06",{"$f":"IF('Plate Layout'!M41=\"\",\"\",'Plate Layout'!M41)","v":""},{"$f":"IF('Plate Layout'!N41=\"\",\"\",'Plate Layout'!N41)","v":""},{"$f":"IF(OFFSET('Plate Layout'!H115,0,0,1,1)=\"\",\"\",OFFSET('Plate Layout'!H115,0,0,1,1))","v":""}]
[{"$f":"IF('Plate Layout'!$D$8=\"\",\"\",'Plate Layout'!$D$8)","v":""},"AA07",{"$f":"IF('Plate Layout'!O41=\"\",\"\",'Plate Layout'!O41)","v":""},{"$f":"IF('Plate Layout'!P41=\"\",\"\",'Plate Layout'!P41)","v":""},{"$f":"IF(OFFSET('Plate Layout'!I115,0,0,1,1)=\"\",\"\",OFFSET('Plate Layout'!I115,0,0,1,1))","v":""}]
[{"$f":"IF('Plate Layout'!$D$8=\"\",\"\",'Plate Layout'!$D$8)","v":""},"AA08",{"$f":"IF('Plate Layout'!Q41=\"\",\"\",'Plate Layout'!Q41)","v":""},{"$f":"IF('Plate Layout'!R41=\"\",\"\",'Plate Layout'!R41)","v":""},{"$f":"IF(OFFSET('Plate Layout'!J115,0,0,1,1)=\"\",\"\",OFFSET('Plate Layout'!J115,0,0,1,1))","v":""}]
[{"$f":"IF('Plate Layout'!$D$8=\"\",\"\",'Plate Layout'!$D$8)","v":""},"AA09",{"$f":"IF('Plate Layout'!S41=\"\",\"\",'Plate Layout'!S41)","v":""},{"$f":"IF('Plate Layout'!T41=\"\",\"\",'Plate Layout'!T41)","v":""},{"$f":"IF(OFFSET('Plate Layout'!K115,0,0,1,1)=\"\",\"\",OFFSET('Plate Layout'!K115,0,0,1,1))","v":""}]
[{"$f":"IF('Plate Layout'!$D$8=\"\",\"\",'Plate Layout'!$D$8)","v":""},"AA10",{"$f":"IF('Plate Layout'!U41=\"\",\"\",'Plate Layout'!U41)","v":""},{"$f":"IF('Plate Layout'!V41=\"\",\"\",'Plate Layout'!V41)","v":""},{"$f":"IF(OFFSET('Plate Layout'!L115,0,0,1,1)=\"\",\"\",OFFSET('Plate Layout'!L115,0,0,1,1))","v":""}]
[{"$f":"IF('Plate Layout'!$D$8=\"\",\"\",'Plate Layout'!$D$8)","v":""},"AA11",{"$f":"IF('Plate Layout'!W41=\"\",\"\",'Plate Layout'!W41)","v":""},{"$f":"IF('Plate Layout'!X41=\"\",\"\",'Plate Layout'!X41)","v":""},{"$f":"IF(OFFSET('Plate Layout'!M115,0,0,1,1)=\"\",\"\",OFFSET('Plate Layout'!M115,0,0,1,1))","v":""}]
[{"$f":"IF('Plate Layout'!$D$8=\"\",\"\",'Plate Layout'!$D$8)","v":""},"AA12",{"$f":"IF('Plate Layout'!Y41=\"\",\"\",'Plate Layout'!Y41)","v":""},{"$f":"IF('Plate Layout'!Z41=\"\",\"\",'Plate Layout'!Z41)","v":""},{"$f":"IF(OFFSET('Plate Layout'!N115,0,0,1,1)=\"\",\"\",OFFSET('Plate Layout'!N115,0,0,1,1))","v":""}]
[{"$f":"IF('Plate Layout'!$D$8=\"\",\"\",'Plate Layout'!$D$8)","v":""},"AA13",{"$f":"IF('Plate Layout'!AA41=\"\",\"\",'Plate Layout'!AA41)","v":""},{"$f":"IF('Plate Layout'!AB41=\"\",\"\",'Plate Layout'!AB41)","v":""},{"$f":"IF(OFFSET('Plate Layout'!O115,0,0,1,1)=\"\",\"\",OFFSET('Plate Layout'!O115,0,0,1,1))","v":""}]
[{"$f":"IF('Plate Layout'!$D$8=\"\",\"\",'Plate Layout'!$D$8)","v":""},"AA14",{"$f":"IF('Plate Layout'!AC41=\"\",\"\",'Plate Layout'!AC41)","v":""},{"$f":"IF('Plate Layout'!AD41=\"\",\"\",'Plate Layout'!AD41)","v":""},{"$f":"IF(OFFSET('Plate Layout'!P115,0,0,1,1)=\"\",\"\",OFFSET('Plate Layout'!P115,0,0,1,1))","v":""}]
[{"$f":"IF('Plate Layout'!$D$8=\"\",\"\",'Plate Layout'!$D$8)","v":""},"AA15",{"$f":"IF('Plate Layout'!AE41=\"\",\"\",'Plate Layout'!AE41)","v":""},{"$f":"IF('Plate Layout'!AF41=\"\",\"\",'Plate Layout'!AF41)","v":""},{"$f":"IF(OFFSET('Plate Layout'!Q115,0,0,1,1)=\"\",\"\",OFFSET('Plate Layout'!Q115,0,0,1,1))","v":""}]
[{"$f":"IF('Plate Layout'!$D$8=\"\",\"\",'Plate Layout'!$D$8)","v":""},"AA16",{"$f":"IF('Plate Layout'!AG41=\"\",\"\",'Plate Layout'!AG41)","v":""},{"$f":"IF('Plate Layout'!AH41=\"\",\"\",'Plate Layout'!AH41)","v":""},{"$f":"IF(OFFSET('Plate Layout'!R115,0,0,1,1)=\"\",\"\",OFFSET('Plate Layout'!R115,0,0,1,1))","v":""}]
[{"$f":"IF('Plate Layout'!$D$8=\"\",\"\",'Plate Layout'!$D$8)","v":""},"AA17",{"$f":"IF('Plate Layout'!AI41=\"\",\"\",'Plate Layout'!AI41)","v":""},{"$f":"IF('Plate Layout'!AJ41=\"\",\"\",'Plate Layout'!AJ41)","v":""},{"$f":"IF(OFFSET('Plate Layout'!S115,0,0,1,1)=\"\",\"\",OFFSET('Plate Layout'!S115,0,0,1,1))","v":""}]
[{"$f":"IF('Plate Layout'!$D$8=\"\",\"\",'Plate Layout'!$D$8)","v":""},"AA18",{"$f":"IF('Plate Layout'!AK41=\"\",\"\",'Plate Layout'!AK41)","v":""},{"$f":"IF('Plate Layout'!AL41=\"\",\"\",'Plate Layout'!AL41)","v":""},{"$f":"IF(OFFSET('Plate Layout'!T115,0,0,1,1)=\"\",\"\",OFFSET('Plate Layout'!T115,0,0,1,1))","v":""}]
[{"$f":"IF('Plate Layout'!$D$8=\"\",\"\",'Plate Layout'!$D$8)","v":""},"AA19",{"$f":"IF('Plate Layout'!AM41=\"\",\"\",'Plate Layout'!AM41)","v":""},{"$f":"IF('Plate Layout'!AN41=\"\",\"\",'Plate Layout'!AN41)","v":""},{"$f":"IF(OFFSET('Plate Layout'!U115,0,0,1,1)=\"\",\"\",OFFSET('Plate Layout'!U115,0,0,1,1))","v":""}]
[{"$f":"IF('Plate Layout'!$D$8=\"\",\"\",'Plate Layout'!$D$8)","v":""},"AA20",{"$f":"IF('Plate Layout'!AO41=\"\",\"\",'Plate Layout'!AO41)","v":""},{"$f":"IF('Plate Layout'!AP41=\"\",\"\",'Plate Layout'!AP41)","v":""},{"$f":"IF(OFFSET('Plate Layout'!V115,0,0,1,1)=\"\",\"\",OFFSET('Plate Layout'!V115,0,0,1,1))","v":""}]
[{"$f":"IF('Plate Layout'!$D$8=\"\",\"\",'Plate Layout'!$D$8)","v":""},"AA21",{"$f":"IF('Plate Layout'!AQ41=\"\",\"\",'Plate Layout'!AQ41)","v":""},{"$f":"IF('Plate Layout'!AR41=\"\",\"\",'Plate Layout'!AR41)","v":""},{"$f":"IF(OFFSET('Plate Layout'!W115,0,0,1,1)=\"\",\"\",OFFSET('Plate Layout'!W115,0,0,1,1))","v":""}]
[{"$f":"IF('Plate Layout'!$D$8=\"\",\"\",'Plate Layout'!$D$8)","v":""},"AA22",{"$f":"IF('Plate Layout'!AS41=\"\",\"\",'Plate Layout'!AS41)","v":""},{"$f":"IF('Plate Layout'!AT41=\"\",\"\",'Plate Layout'!AT41)","v":""},{"$f":"IF(OFFSET('Plate Layout'!X115,0,0,1,1)=\"\",\"\",OFFSET('Plate Layout'!X115,0,0,1,1))","v":""}]
[{"$f":"IF('Plate Layout'!$D$8=\"\",\"\",'Plate Layout'!$D$8)","v":""},"AA23",{"$f":"IF('Plate Layout'!AU41=\"\",\"\",'Plate Layout'!AU41)","v":""},{"$f":"IF('Plate Layout'!AV41=\"\",\"\",'Plate Layout'!AV41)","v":""},{"$f":"IF(OFFSET('Plate Layout'!Y115,0,0,1,1)=\"\",\"\",OFFSET('Plate Layout'!Y115,0,0,1,1))","v":""}]
[{"$f":"IF('Plate Layout'!$D$8=\"\",\"\",'Plate Layout'!$D$8)","v":""},"AA24",{"$f":"IF('Plate Layout'!AW41=\"\",\"\",'Plate Layout'!AW41)","v":""},{"$f":"IF('Plate Layout'!AX41=\"\",\"\",'Plate Layout'!AX41)","v":""},{"$f":"IF(OFFSET('Plate Layout'!Z115,0,0,1,1)=\"\",\"\",OFFSET('Plate Layout'!Z115,0,0,1,1))","v":""}]
[{"$f":"IF('Plate Layout'!$D$8=\"\",\"\",'Plate Layout'!$D$8)","v":""},"AA25",{"$f":"IF('Plate Layout'!AY41=\"\",\"\",'Plate Layout'!AY41)","v":""},{"$f":"IF('Plate Layout'!AZ41=\"\",\"\",'Plate Layout'!AZ41)","v":""},{"$f":"IF(OFFSET('Plate Layout'!AA115,0,0,1,1)=\"\",\"\",OFFSET('Plate Layout'!AA115,0,0,1,1))","v":""}]
[{"$f":"IF('Plate Layout'!$D$8=\"\",\"\",'Plate Layout'!$D$8)","v":""},"AA26",{"$f":"IF('Plate Layout'!BA41=\"\",\"\",'Plate Layout'!BA41)","v":""},{"$f":"IF('Plate Layout'!BB41=\"\",\"\",'Plate Layout'!BB41)","v":""},{"$f":"IF(OFFSET('Plate Layout'!AB115,0,0,1,1)=\"\",\"\",OFFSET('Plate Layout'!AB115,0,0,1,1))","v":""}]
[{"$f":"IF('Plate Layout'!$D$8=\"\",\"\",'Plate Layout'!$D$8)","v":""},"AA27",{"$f":"IF('Plate Layout'!BC41=\"\",\"\",'Plate Layout'!BC41)","v":""},{"$f":"IF('Plate Layout'!BD41=\"\",\"\",'Plate Layout'!BD41)","v":""},{"$f":"IF(OFFSET('Plate Layout'!AC115,0,0,1,1)=\"\",\"\",OFFSET('Plate Layout'!AC115,0,0,1,1))","v":""}]
[{"$f":"IF('Plate Layout'!$D$8=\"\",\"\",'Plate Layout'!$D$8)","v":""},"AA28",{"$f":"IF('Plate Layout'!BE41=\"\",\"\",'Plate Layout'!BE41)","v":""},{"$f":"IF('Plate Layout'!BF41=\"\",\"\",'Plate Layout'!BF41)","v":""},{"$f":"IF(OFFSET('Plate Layout'!AD115,0,0,1,1)=\"\",\"\",OFFSET('Plate Layout'!AD115,0,0,1,1))","v":""}]
[{"$f":"IF('Plate Layout'!$D$8=\"\",\"\",'Plate Layout'!$D$8)","v":""},"AA29",{"$f":"IF('Plate Layout'!BG41=\"\",\"\",'Plate Layout'!BG41)","v":""},{"$f":"IF('Plate Layout'!BH41=\"\",\"\",'Plate Layout'!BH41)","v":""},{"$f":"IF(OFFSET('Plate Layout'!AE115,0,0,1,1)=\"\",\"\",OFFSET('Plate Layout'!AE115,0,0,1,1))","v":""}]
[{"$f":"IF('Plate Layout'!$D$8=\"\",\"\",'Plate Layout'!$D$8)","v":""},"AA30",{"$f":"IF('Plate Layout'!BI41=\"\",\"\",'Plate Layout'!BI41)","v":""},{"$f":"IF('Plate Layout'!BJ41=\"\",\"\",'Plate Layout'!BJ41)","v":""},{"$f":"IF(OFFSET('Plate Layout'!AF115,0,0,1,1)=\"\",\"\",OFFSET('Plate Layout'!AF115,0,0,1,1))","v":""}]
[{"$f":"IF('Plate Layout'!$D$8=\"\",\"\",'Plate Layout'!$D$8)","v":""},"AA31",{"$f":"IF('Plate Layout'!BK41=\"\",\"\",'Plate Layout'!BK41)","v":""},{"$f":"IF('Plate Layout'!BL41=\"\",\"\",'Plate Layout'!BL41)","v":""},{"$f":"IF(OFFSET('Plate Layout'!AG115,0,0,1,1)=\"\",\"\",OFFSET('Plate Layout'!AG115,0,0,1,1))","v":""}]
[{"$f":"IF('Plate Layout'!$D$8=\"\",\"\",'Plate Layout'!$D$8)","v":""},"AA32",{"$f":"IF('Plate Layout'!BM41=\"\",\"\",'Plate Layout'!BM41)","v":""},{"$f":"IF('Plate Layout'!BN41=\"\",\"\",'Plate Layout'!BN41)","v":""},{"$f":"IF(OFFSET('Plate Layout'!AH115,0,0,1,1)=\"\",\"\",OFFSET('Plate Layout'!AH115,0,0,1,1))","v":""}]
[{"$f":"IF('Plate Layout'!$D$8=\"\",\"\",'Plate Layout'!$D$8)","v":""},"AA33",{"$f":"IF('Plate Layout'!BO41=\"\",\"\",'Plate Layout'!BO41)","v":""},{"$f":"IF('Plate Layout'!BP41=\"\",\"\",'Plate Layout'!BP41)","v":""},{"$f":"IF(OFFSET('Plate Layout'!AI115,0,0,1,1)=\"\",\"\",OFFSET('Plate Layout'!AI115,0,0,1,1))","v":""}]
[{"$f":"IF('Plate Layout'!$D$8=\"\",\"\",'Plate Layout'!$D$8)","v":""},"AA34",{"$f":"IF('Plate Layout'!BQ41=\"\",\"\",'Plate Layout'!BQ41)","v":""},{"$f":"IF('Plate Layout'!BR41=\"\",\"\",'Plate Layout'!BR41)","v":""},{"$f":"IF(OFFSET('Plate Layout'!AJ115,0,0,1,1)=\"\",\"\",OFFSET('Plate Layout'!AJ115,0,0,1,1))","v":""}]
[{"$f":"IF('Plate Layout'!$D$8=\"\",\"\",'Plate Layout'!$D$8)","v":""},"AA35",{"$f":"IF('Plate Layout'!BS41=\"\",\"\",'Plate Layout'!BS41)","v":""},{"$f":"IF('Plate Layout'!BT41=\"\",\"\",'Plate Layout'!BT41)","v":""},{"$f":"IF(OFFSET('Plate Layout'!AK115,0,0,1,1)=\"\",\"\",OFFSET('Plate Layout'!AK115,0,0,1,1))","v":""}]
[{"$f":"IF('Plate Layout'!$D$8=\"\",\"\",'Plate Layout'!$D$8)","v":""},"AA36",{"$f":"IF('Plate Layout'!BU41=\"\",\"\",'Plate Layout'!BU41)","v":""},{"$f":"IF('Plate Layout'!BV41=\"\",\"\",'Plate Layout'!BV41)","v":""},{"$f":"IF(OFFSET('Plate Layout'!AL115,0,0,1,1)=\"\",\"\",OFFSET('Plate Layout'!AL115,0,0,1,1))","v":""}]
[{"$f":"IF('Plate Layout'!$D$8=\"\",\"\",'Plate Layout'!$D$8)","v":""},"AA37",{"$f":"IF('Plate Layout'!BW41=\"\",\"\",'Plate Layout'!BW41)","v":""},{"$f":"IF('Plate Layout'!BX41=\"\",\"\",'Plate Layout'!BX41)","v":""},{"$f":"IF(OFFSET('Plate Layout'!AM115,0,0,1,1)=\"\",\"\",OFFSET('Plate Layout'!AM115,0,0,1,1))","v":""}]
[{"$f":"IF('Plate Layout'!$D$8=\"\",\"\",'Plate Layout'!$D$8)","v":""},"AA38",{"$f":"IF('Plate Layout'!BY41=\"\",\"\",'Plate Layout'!BY41)","v":""},{"$f":"IF('Plate Layout'!BZ41=\"\",\"\",'Plate Layout'!BZ41)","v":""},{"$f":"IF(OFFSET('Plate Layout'!AN115,0,0,1,1)=\"\",\"\",OFFSET('Plate Layout'!AN115,0,0,1,1))","v":""}]
[{"$f":"IF('Plate Layout'!$D$8=\"\",\"\",'Plate Layout'!$D$8)","v":""},"AA39",{"$f":"IF('Plate Layout'!CA41=\"\",\"\",'Plate Layout'!CA41)","v":""},{"$f":"IF('Plate Layout'!CB41=\"\",\"\",'Plate Layout'!CB41)","v":""},{"$f":"IF(OFFSET('Plate Layout'!AO115,0,0,1,1)=\"\",\"\",OFFSET('Plate Layout'!AO115,0,0,1,1))","v":""}]
[{"$f":"IF('Plate Layout'!$D$8=\"\",\"\",'Plate Layout'!$D$8)","v":""},"AA40",{"$f":"IF('Plate Layout'!CC41=\"\",\"\",'Plate Layout'!CC41)","v":""},{"$f":"IF('Plate Layout'!CD41=\"\",\"\",'Plate Layout'!CD41)","v":""},{"$f":"IF(OFFSET('Plate Layout'!AP115,0,0,1,1)=\"\",\"\",OFFSET('Plate Layout'!AP115,0,0,1,1))","v":""}]
[{"$f":"IF('Plate Layout'!$D$8=\"\",\"\",'Plate Layout'!$D$8)","v":""},"AA41",{"$f":"IF('Plate Layout'!CE41=\"\",\"\",'Plate Layout'!CE41)","v":""},{"$f":"IF('Plate Layout'!CF41=\"\",\"\",'Plate Layout'!CF41)","v":""},{"$f":"IF(OFFSET('Plate Layout'!AQ115,0,0,1,1)=\"\",\"\",OFFSET('Plate Layout'!AQ115,0,0,1,1))","v":""}]
[{"$f":"IF('Plate Layout'!$D$8=\"\",\"\",'Plate Layout'!$D$8)","v":""},"AA42",{"$f":"IF('Plate Layout'!CG41=\"\",\"\",'Plate Layout'!CG41)","v":""},{"$f":"IF('Plate Layout'!CH41=\"\",\"\",'Plate Layout'!CH41)","v":""},{"$f":"IF(OFFSET('Plate Layout'!AR115,0,0,1,1)=\"\",\"\",OFFSET('Plate Layout'!AR115,0,0,1,1))","v":""}]
[{"$f":"IF('Plate Layout'!$D$8=\"\",\"\",'Plate Layout'!$D$8)","v":""},"AA43",{"$f":"IF('Plate Layout'!CI41=\"\",\"\",'Plate Layout'!CI41)","v":""},{"$f":"IF('Plate Layout'!CJ41=\"\",\"\",'Plate Layout'!CJ41)","v":""},{"$f":"IF(OFFSET('Plate Layout'!AS115,0,0,1,1)=\"\",\"\",OFFSET('Plate Layout'!AS115,0,0,1,1))","v":""}]
[{"$f":"IF('Plate Layout'!$D$8=\"\",\"\",'Plate Layout'!$D$8)","v":""},"AA44",{"$f":"IF('Plate Layout'!CK41=\"\",\"\",'Plate Layout'!CK41)","v":""},{"$f":"IF('Plate Layout'!CL41=\"\",\"\",'Plate Layout'!CL41)","v":""},{"$f":"IF(OFFSET('Plate Layout'!AT115,0,0,1,1)=\"\",\"\",OFFSET('Plate Layout'!AT115,0,0,1,1))","v":""}]
[{"$f":"IF('Plate Layout'!$D$8=\"\",\"\",'Plate Layout'!$D$8)","v":""},"AA45",{"$f":"IF('Plate Layout'!CM41=\"\",\"\",'Plate Layout'!CM41)","v":""},{"$f":"IF('Plate Layout'!CN41=\"\",\"\",'Plate Layout'!CN41)","v":""},{"$f":"IF(OFFSET('Plate Layout'!AU115,0,0,1,1)=\"\",\"\",OFFSET('Plate Layout'!AU115,0,0,1,1))","v":""}]
[{"$f":"IF('Plate Layout'!$D$8=\"\",\"\",'Plate Layout'!$D$8)","v":""},"AA46",{"$f":"IF('Plate Layout'!CO41=\"\",\"\",'Plate Layout'!CO41)","v":""},{"$f":"IF('Plate Layout'!CP41=\"\",\"\",'Plate Layout'!CP41)","v":""},{"$f":"IF(OFFSET('Plate Layout'!AV115,0,0,1,1)=\"\",\"\",OFFSET('Plate Layout'!AV115,0,0,1,1))","v":""}]
[{"$f":"IF('Plate Layout'!$D$8=\"\",\"\",'Plate Layout'!$D$8)","v":""},"AA47",{"$f":"IF('Plate Layout'!CQ41=\"\",\"\",'Plate Layout'!CQ41)","v":""},{"$f":"IF('Plate Layout'!CR41=\"\",\"\",'Plate Layout'!CR41)","v":""},{"$f":"IF(OFFSET('Plate Layout'!AW115,0,0,1,1)=\"\",\"\",OFFSET('Plate Layout'!AW115,0,0,1,1))","v":""}]
[{"$f":"IF('Plate Layout'!$D$8=\"\",\"\",'Plate Layout'!$D$8)","v":""},"AA48",{"$f":"IF('Plate Layout'!CS41=\"\",\"\",'Plate Layout'!CS41)","v":""},{"$f":"IF('Plate Layout'!CT41=\"\",\"\",'Plate Layout'!CT41)","v":""},{"$f":"IF(OFFSET('Plate Layout'!AX115,0,0,1,1)=\"\",\"\",OFFSET('Plate Layout'!AX115,0,0,1,1))","v":""}]
[{"$f":"IF('Plate Layout'!$D$8=\"\",\"\",'Plate Layout'!$D$8)","v":""},"AB01",{"$f":"IF('Plate Layout'!C42=\"\",\"\",'Plate Layout'!C42)","v":""},{"$f":"IF('Plate Layout'!D42=\"\",\"\",'Plate Layout'!D42)","v":""},{"$f":"IF(OFFSET('Plate Layout'!C116,0,0,1,1)=\"\",\"\",OFFSET('Plate Layout'!C116,0,0,1,1))","v":""}]
[{"$f":"IF('Plate Layout'!$D$8=\"\",\"\",'Plate Layout'!$D$8)","v":""},"AB02",{"$f":"IF('Plate Layout'!E42=\"\",\"\",'Plate Layout'!E42)","v":""},{"$f":"IF('Plate Layout'!F42=\"\",\"\",'Plate Layout'!F42)","v":""},{"$f":"IF(OFFSET('Plate Layout'!D116,0,0,1,1)=\"\",\"\",OFFSET('Plate Layout'!D116,0,0,1,1))","v":""}]
[{"$f":"IF('Plate Layout'!$D$8=\"\",\"\",'Plate Layout'!$D$8)","v":""},"AB03",{"$f":"IF('Plate Layout'!G42=\"\",\"\",'Plate Layout'!G42)","v":""},{"$f":"IF('Plate Layout'!H42=\"\",\"\",'Plate Layout'!H42)","v":""},{"$f":"IF(OFFSET('Plate Layout'!E116,0,0,1,1)=\"\",\"\",OFFSET('Plate Layout'!E116,0,0,1,1))","v":""}]
[{"$f":"IF('Plate Layout'!$D$8=\"\",\"\",'Plate Layout'!$D$8)","v":""},"AB04",{"$f":"IF('Plate Layout'!I42=\"\",\"\",'Plate Layout'!I42)","v":""},{"$f":"IF('Plate Layout'!J42=\"\",\"\",'Plate Layout'!J42)","v":""},{"$f":"IF(OFFSET('Plate Layout'!F116,0,0,1,1)=\"\",\"\",OFFSET('Plate Layout'!F116,0,0,1,1))","v":""}]
[{"$f":"IF('Plate Layout'!$D$8=\"\",\"\",'Plate Layout'!$D$8)","v":""},"AB05",{"$f":"IF('Plate Layout'!K42=\"\",\"\",'Plate Layout'!K42)","v":""},{"$f":"IF('Plate Layout'!L42=\"\",\"\",'Plate Layout'!L42)","v":""},{"$f":"IF(OFFSET('Plate Layout'!G116,0,0,1,1)=\"\",\"\",OFFSET('Plate Layout'!G116,0,0,1,1))","v":""}]
[{"$f":"IF('Plate Layout'!$D$8=\"\",\"\",'Plate Layout'!$D$8)","v":""},"AB06",{"$f":"IF('Plate Layout'!M42=\"\",\"\",'Plate Layout'!M42)","v":""},{"$f":"IF('Plate Layout'!N42=\"\",\"\",'Plate Layout'!N42)","v":""},{"$f":"IF(OFFSET('Plate Layout'!H116,0,0,1,1)=\"\",\"\",OFFSET('Plate Layout'!H116,0,0,1,1))","v":""}]
[{"$f":"IF('Plate Layout'!$D$8=\"\",\"\",'Plate Layout'!$D$8)","v":""},"AB07",{"$f":"IF('Plate Layout'!O42=\"\",\"\",'Plate Layout'!O42)","v":""},{"$f":"IF('Plate Layout'!P42=\"\",\"\",'Plate Layout'!P42)","v":""},{"$f":"IF(OFFSET('Plate Layout'!I116,0,0,1,1)=\"\",\"\",OFFSET('Plate Layout'!I116,0,0,1,1))","v":""}]
[{"$f":"IF('Plate Layout'!$D$8=\"\",\"\",'Plate Layout'!$D$8)","v":""},"AB08",{"$f":"IF('Plate Layout'!Q42=\"\",\"\",'Plate Layout'!Q42)","v":""},{"$f":"IF('Plate Layout'!R42=\"\",\"\",'Plate Layout'!R42)","v":""},{"$f":"IF(OFFSET('Plate Layout'!J116,0,0,1,1)=\"\",\"\",OFFSET('Plate Layout'!J116,0,0,1,1))","v":""}]
[{"$f":"IF('Plate Layout'!$D$8=\"\",\"\",'Plate Layout'!$D$8)","v":""},"AB09",{"$f":"IF('Plate Layout'!S42=\"\",\"\",'Plate Layout'!S42)","v":""},{"$f":"IF('Plate Layout'!T42=\"\",\"\",'Plate Layout'!T42)","v":""},{"$f":"IF(OFFSET('Plate Layout'!K116,0,0,1,1)=\"\",\"\",OFFSET('Plate Layout'!K116,0,0,1,1))","v":""}]
[{"$f":"IF('Plate Layout'!$D$8=\"\",\"\",'Plate Layout'!$D$8)","v":""},"AB10",{"$f":"IF('Plate Layout'!U42=\"\",\"\",'Plate Layout'!U42)","v":""},{"$f":"IF('Plate Layout'!V42=\"\",\"\",'Plate Layout'!V42)","v":""},{"$f":"IF(OFFSET('Plate Layout'!L116,0,0,1,1)=\"\",\"\",OFFSET('Plate Layout'!L116,0,0,1,1))","v":""}]
[{"$f":"IF('Plate Layout'!$D$8=\"\",\"\",'Plate Layout'!$D$8)","v":""},"AB11",{"$f":"IF('Plate Layout'!W42=\"\",\"\",'Plate Layout'!W42)","v":""},{"$f":"IF('Plate Layout'!X42=\"\",\"\",'Plate Layout'!X42)","v":""},{"$f":"IF(OFFSET('Plate Layout'!M116,0,0,1,1)=\"\",\"\",OFFSET('Plate Layout'!M116,0,0,1,1))","v":""}]
[{"$f":"IF('Plate Layout'!$D$8=\"\",\"\",'Plate Layout'!$D$8)","v":""},"AB12",{"$f":"IF('Plate Layout'!Y42=\"\",\"\",'Plate Layout'!Y42)","v":""},{"$f":"IF('Plate Layout'!Z42=\"\",\"\",'Plate Layout'!Z42)","v":""},{"$f":"IF(OFFSET('Plate Layout'!N116,0,0,1,1)=\"\",\"\",OFFSET('Plate Layout'!N116,0,0,1,1))","v":""}]
[{"$f":"IF('Plate Layout'!$D$8=\"\",\"\",'Plate Layout'!$D$8)","v":""},"AB13",{"$f":"IF('Plate Layout'!AA42=\"\",\"\",'Plate Layout'!AA42)","v":""},{"$f":"IF('Plate Layout'!AB42=\"\",\"\",'Plate Layout'!AB42)","v":""},{"$f":"IF(OFFSET('Plate Layout'!O116,0,0,1,1)=\"\",\"\",OFFSET('Plate Layout'!O116,0,0,1,1))","v":""}]
[{"$f":"IF('Plate Layout'!$D$8=\"\",\"\",'Plate Layout'!$D$8)","v":""},"AB14",{"$f":"IF('Plate Layout'!AC42=\"\",\"\",'Plate Layout'!AC42)","v":""},{"$f":"IF('Plate Layout'!AD42=\"\",\"\",'Plate Layout'!AD42)","v":""},{"$f":"IF(OFFSET('Plate Layout'!P116,0,0,1,1)=\"\",\"\",OFFSET('Plate Layout'!P116,0,0,1,1))","v":""}]
[{"$f":"IF('Plate Layout'!$D$8=\"\",\"\",'Plate Layout'!$D$8)","v":""},"AB15",{"$f":"IF('Plate Layout'!AE42=\"\",\"\",'Plate Layout'!AE42)","v":""},{"$f":"IF('Plate Layout'!AF42=\"\",\"\",'Plate Layout'!AF42)","v":""},{"$f":"IF(OFFSET('Plate Layout'!Q116,0,0,1,1)=\"\",\"\",OFFSET('Plate Layout'!Q116,0,0,1,1))","v":""}]
[{"$f":"IF('Plate Layout'!$D$8=\"\",\"\",'Plate Layout'!$D$8)","v":""},"AB16",{"$f":"IF('Plate Layout'!AG42=\"\",\"\",'Plate Layout'!AG42)","v":""},{"$f":"IF('Plate Layout'!AH42=\"\",\"\",'Plate Layout'!AH42)","v":""},{"$f":"IF(OFFSET('Plate Layout'!R116,0,0,1,1)=\"\",\"\",OFFSET('Plate Layout'!R116,0,0,1,1))","v":""}]
[{"$f":"IF('Plate Layout'!$D$8=\"\",\"\",'Plate Layout'!$D$8)","v":""},"AB17",{"$f":"IF('Plate Layout'!AI42=\"\",\"\",'Plate Layout'!AI42)","v":""},{"$f":"IF('Plate Layout'!AJ42=\"\",\"\",'Plate Layout'!AJ42)","v":""},{"$f":"IF(OFFSET('Plate Layout'!S116,0,0,1,1)=\"\",\"\",OFFSET('Plate Layout'!S116,0,0,1,1))","v":""}]
[{"$f":"IF('Plate Layout'!$D$8=\"\",\"\",'Plate Layout'!$D$8)","v":""},"AB18",{"$f":"IF('Plate Layout'!AK42=\"\",\"\",'Plate Layout'!AK42)","v":""},{"$f":"IF('Plate Layout'!AL42=\"\",\"\",'Plate Layout'!AL42)","v":""},{"$f":"IF(OFFSET('Plate Layout'!T116,0,0,1,1)=\"\",\"\",OFFSET('Plate Layout'!T116,0,0,1,1))","v":""}]
[{"$f":"IF('Plate Layout'!$D$8=\"\",\"\",'Plate Layout'!$D$8)","v":""},"AB19",{"$f":"IF('Plate Layout'!AM42=\"\",\"\",'Plate Layout'!AM42)","v":""},{"$f":"IF('Plate Layout'!AN42=\"\",\"\",'Plate Layout'!AN42)","v":""},{"$f":"IF(OFFSET('Plate Layout'!U116,0,0,1,1)=\"\",\"\",OFFSET('Plate Layout'!U116,0,0,1,1))","v":""}]
[{"$f":"IF('Plate Layout'!$D$8=\"\",\"\",'Plate Layout'!$D$8)","v":""},"AB20",{"$f":"IF('Plate Layout'!AO42=\"\",\"\",'Plate Layout'!AO42)","v":""},{"$f":"IF('Plate Layout'!AP42=\"\",\"\",'Plate Layout'!AP42)","v":""},{"$f":"IF(OFFSET('Plate Layout'!V116,0,0,1,1)=\"\",\"\",OFFSET('Plate Layout'!V116,0,0,1,1))","v":""}]
[{"$f":"IF('Plate Layout'!$D$8=\"\",\"\",'Plate Layout'!$D$8)","v":""},"AB21",{"$f":"IF('Plate Layout'!AQ42=\"\",\"\",'Plate Layout'!AQ42)","v":""},{"$f":"IF('Plate Layout'!AR42=\"\",\"\",'Plate Layout'!AR42)","v":""},{"$f":"IF(OFFSET('Plate Layout'!W116,0,0,1,1)=\"\",\"\",OFFSET('Plate Layout'!W116,0,0,1,1))","v":""}]
[{"$f":"IF('Plate Layout'!$D$8=\"\",\"\",'Plate Layout'!$D$8)","v":""},"AB22",{"$f":"IF('Plate Layout'!AS42=\"\",\"\",'Plate Layout'!AS42)","v":""},{"$f":"IF('Plate Layout'!AT42=\"\",\"\",'Plate Layout'!AT42)","v":""},{"$f":"IF(OFFSET('Plate Layout'!X116,0,0,1,1)=\"\",\"\",OFFSET('Plate Layout'!X116,0,0,1,1))","v":""}]
[{"$f":"IF('Plate Layout'!$D$8=\"\",\"\",'Plate Layout'!$D$8)","v":""},"AB23",{"$f":"IF('Plate Layout'!AU42=\"\",\"\",'Plate Layout'!AU42)","v":""},{"$f":"IF('Plate Layout'!AV42=\"\",\"\",'Plate Layout'!AV42)","v":""},{"$f":"IF(OFFSET('Plate Layout'!Y116,0,0,1,1)=\"\",\"\",OFFSET('Plate Layout'!Y116,0,0,1,1))","v":""}]
[{"$f":"IF('Plate Layout'!$D$8=\"\",\"\",'Plate Layout'!$D$8)","v":""},"AB24",{"$f":"IF('Plate Layout'!AW42=\"\",\"\",'Plate Layout'!AW42)","v":""},{"$f":"IF('Plate Layout'!AX42=\"\",\"\",'Plate Layout'!AX42)","v":""},{"$f":"IF(OFFSET('Plate Layout'!Z116,0,0,1,1)=\"\",\"\",OFFSET('Plate Layout'!Z116,0,0,1,1))","v":""}]
[{"$f":"IF('Plate Layout'!$D$8=\"\",\"\",'Plate Layout'!$D$8)","v":""},"AB25",{"$f":"IF('Plate Layout'!AY42=\"\",\"\",'Plate Layout'!AY42)","v":""},{"$f":"IF('Plate Layout'!AZ42=\"\",\"\",'Plate Layout'!AZ42)","v":""},{"$f":"IF(OFFSET('Plate Layout'!AA116,0,0,1,1)=\"\",\"\",OFFSET('Plate Layout'!AA116,0,0,1,1))","v":""}]
[{"$f":"IF('Plate Layout'!$D$8=\"\",\"\",'Plate Layout'!$D$8)","v":""},"AB26",{"$f":"IF('Plate Layout'!BA42=\"\",\"\",'Plate Layout'!BA42)","v":""},{"$f":"IF('Plate Layout'!BB42=\"\",\"\",'Plate Layout'!BB42)","v":""},{"$f":"IF(OFFSET('Plate Layout'!AB116,0,0,1,1)=\"\",\"\",OFFSET('Plate Layout'!AB116,0,0,1,1))","v":""}]
[{"$f":"IF('Plate Layout'!$D$8=\"\",\"\",'Plate Layout'!$D$8)","v":""},"AB27",{"$f":"IF('Plate Layout'!BC42=\"\",\"\",'Plate Layout'!BC42)","v":""},{"$f":"IF('Plate Layout'!BD42=\"\",\"\",'Plate Layout'!BD42)","v":""},{"$f":"IF(OFFSET('Plate Layout'!AC116,0,0,1,1)=\"\",\"\",OFFSET('Plate Layout'!AC116,0,0,1,1))","v":""}]
[{"$f":"IF('Plate Layout'!$D$8=\"\",\"\",'Plate Layout'!$D$8)","v":""},"AB28",{"$f":"IF('Plate Layout'!BE42=\"\",\"\",'Plate Layout'!BE42)","v":""},{"$f":"IF('Plate Layout'!BF42=\"\",\"\",'Plate Layout'!BF42)","v":""},{"$f":"IF(OFFSET('Plate Layout'!AD116,0,0,1,1)=\"\",\"\",OFFSET('Plate Layout'!AD116,0,0,1,1))","v":""}]
[{"$f":"IF('Plate Layout'!$D$8=\"\",\"\",'Plate Layout'!$D$8)","v":""},"AB29",{"$f":"IF('Plate Layout'!BG42=\"\",\"\",'Plate Layout'!BG42)","v":""},{"$f":"IF('Plate Layout'!BH42=\"\",\"\",'Plate Layout'!BH42)","v":""},{"$f":"IF(OFFSET('Plate Layout'!AE116,0,0,1,1)=\"\",\"\",OFFSET('Plate Layout'!AE116,0,0,1,1))","v":""}]
[{"$f":"IF('Plate Layout'!$D$8=\"\",\"\",'Plate Layout'!$D$8)","v":""},"AB30",{"$f":"IF('Plate Layout'!BI42=\"\",\"\",'Plate Layout'!BI42)","v":""},{"$f":"IF('Plate Layout'!BJ42=\"\",\"\",'Plate Layout'!BJ42)","v":""},{"$f":"IF(OFFSET('Plate Layout'!AF116,0,0,1,1)=\"\",\"\",OFFSET('Plate Layout'!AF116,0,0,1,1))","v":""}]
[{"$f":"IF('Plate Layout'!$D$8=\"\",\"\",'Plate Layout'!$D$8)","v":""},"AB31",{"$f":"IF('Plate Layout'!BK42=\"\",\"\",'Plate Layout'!BK42)","v":""},{"$f":"IF('Plate Layout'!BL42=\"\",\"\",'Plate Layout'!BL42)","v":""},{"$f":"IF(OFFSET('Plate Layout'!AG116,0,0,1,1)=\"\",\"\",OFFSET('Plate Layout'!AG116,0,0,1,1))","v":""}]
[{"$f":"IF('Plate Layout'!$D$8=\"\",\"\",'Plate Layout'!$D$8)","v":""},"AB32",{"$f":"IF('Plate Layout'!BM42=\"\",\"\",'Plate Layout'!BM42)","v":""},{"$f":"IF('Plate Layout'!BN42=\"\",\"\",'Plate Layout'!BN42)","v":""},{"$f":"IF(OFFSET('Plate Layout'!AH116,0,0,1,1)=\"\",\"\",OFFSET('Plate Layout'!AH116,0,0,1,1))","v":""}]
[{"$f":"IF('Plate Layout'!$D$8=\"\",\"\",'Plate Layout'!$D$8)","v":""},"AB33",{"$f":"IF('Plate Layout'!BO42=\"\",\"\",'Plate Layout'!BO42)","v":""},{"$f":"IF('Plate Layout'!BP42=\"\",\"\",'Plate Layout'!BP42)","v":""},{"$f":"IF(OFFSET('Plate Layout'!AI116,0,0,1,1)=\"\",\"\",OFFSET('Plate Layout'!AI116,0,0,1,1))","v":""}]
[{"$f":"IF('Plate Layout'!$D$8=\"\",\"\",'Plate Layout'!$D$8)","v":""},"AB34",{"$f":"IF('Plate Layout'!BQ42=\"\",\"\",'Plate Layout'!BQ42)","v":""},{"$f":"IF('Plate Layout'!BR42=\"\",\"\",'Plate Layout'!BR42)","v":""},{"$f":"IF(OFFSET('Plate Layout'!AJ116,0,0,1,1)=\"\",\"\",OFFSET('Plate Layout'!AJ116,0,0,1,1))","v":""}]
[{"$f":"IF('Plate Layout'!$D$8=\"\",\"\",'Plate Layout'!$D$8)","v":""},"AB35",{"$f":"IF('Plate Layout'!BS42=\"\",\"\",'Plate Layout'!BS42)","v":""},{"$f":"IF('Plate Layout'!BT42=\"\",\"\",'Plate Layout'!BT42)","v":""},{"$f":"IF(OFFSET('Plate Layout'!AK116,0,0,1,1)=\"\",\"\",OFFSET('Plate Layout'!AK116,0,0,1,1))","v":""}]
[{"$f":"IF('Plate Layout'!$D$8=\"\",\"\",'Plate Layout'!$D$8)","v":""},"AB36",{"$f":"IF('Plate Layout'!BU42=\"\",\"\",'Plate Layout'!BU42)","v":""},{"$f":"IF('Plate Layout'!BV42=\"\",\"\",'Plate Layout'!BV42)","v":""},{"$f":"IF(OFFSET('Plate Layout'!AL116,0,0,1,1)=\"\",\"\",OFFSET('Plate Layout'!AL116,0,0,1,1))","v":""}]
[{"$f":"IF('Plate Layout'!$D$8=\"\",\"\",'Plate Layout'!$D$8)","v":""},"AB37",{"$f":"IF('Plate Layout'!BW42=\"\",\"\",'Plate Layout'!BW42)","v":""},{"$f":"IF('Plate Layout'!BX42=\"\",\"\",'Plate Layout'!BX42)","v":""},{"$f":"IF(OFFSET('Plate Layout'!AM116,0,0,1,1)=\"\",\"\",OFFSET('Plate Layout'!AM116,0,0,1,1))","v":""}]
[{"$f":"IF('Plate Layout'!$D$8=\"\",\"\",'Plate Layout'!$D$8)","v":""},"AB38",{"$f":"IF('Plate Layout'!BY42=\"\",\"\",'Plate Layout'!BY42)","v":""},{"$f":"IF('Plate Layout'!BZ42=\"\",\"\",'Plate Layout'!BZ42)","v":""},{"$f":"IF(OFFSET('Plate Layout'!AN116,0,0,1,1)=\"\",\"\",OFFSET('Plate Layout'!AN116,0,0,1,1))","v":""}]
[{"$f":"IF('Plate Layout'!$D$8=\"\",\"\",'Plate Layout'!$D$8)","v":""},"AB39",{"$f":"IF('Plate Layout'!CA42=\"\",\"\",'Plate Layout'!CA42)","v":""},{"$f":"IF('Plate Layout'!CB42=\"\",\"\",'Plate Layout'!CB42)","v":""},{"$f":"IF(OFFSET('Plate Layout'!AO116,0,0,1,1)=\"\",\"\",OFFSET('Plate Layout'!AO116,0,0,1,1))","v":""}]
[{"$f":"IF('Plate Layout'!$D$8=\"\",\"\",'Plate Layout'!$D$8)","v":""},"AB40",{"$f":"IF('Plate Layout'!CC42=\"\",\"\",'Plate Layout'!CC42)","v":""},{"$f":"IF('Plate Layout'!CD42=\"\",\"\",'Plate Layout'!CD42)","v":""},{"$f":"IF(OFFSET('Plate Layout'!AP116,0,0,1,1)=\"\",\"\",OFFSET('Plate Layout'!AP116,0,0,1,1))","v":""}]
[{"$f":"IF('Plate Layout'!$D$8=\"\",\"\",'Plate Layout'!$D$8)","v":""},"AB41",{"$f":"IF('Plate Layout'!CE42=\"\",\"\",'Plate Layout'!CE42)","v":""},{"$f":"IF('Plate Layout'!CF42=\"\",\"\",'Plate Layout'!CF42)","v":""},{"$f":"IF(OFFSET('Plate Layout'!AQ116,0,0,1,1)=\"\",\"\",OFFSET('Plate Layout'!AQ116,0,0,1,1))","v":""}]
[{"$f":"IF('Plate Layout'!$D$8=\"\",\"\",'Plate Layout'!$D$8)","v":""},"AB42",{"$f":"IF('Plate Layout'!CG42=\"\",\"\",'Plate Layout'!CG42)","v":""},{"$f":"IF('Plate Layout'!CH42=\"\",\"\",'Plate Layout'!CH42)","v":""},{"$f":"IF(OFFSET('Plate Layout'!AR116,0,0,1,1)=\"\",\"\",OFFSET('Plate Layout'!AR116,0,0,1,1))","v":""}]
[{"$f":"IF('Plate Layout'!$D$8=\"\",\"\",'Plate Layout'!$D$8)","v":""},"AB43",{"$f":"IF('Plate Layout'!CI42=\"\",\"\",'Plate Layout'!CI42)","v":""},{"$f":"IF('Plate Layout'!CJ42=\"\",\"\",'Plate Layout'!CJ42)","v":""},{"$f":"IF(OFFSET('Plate Layout'!AS116,0,0,1,1)=\"\",\"\",OFFSET('Plate Layout'!AS116,0,0,1,1))","v":""}]
[{"$f":"IF('Plate Layout'!$D$8=\"\",\"\",'Plate Layout'!$D$8)","v":""},"AB44",{"$f":"IF('Plate Layout'!CK42=\"\",\"\",'Plate Layout'!CK42)","v":""},{"$f":"IF('Plate Layout'!CL42=\"\",\"\",'Plate Layout'!CL42)","v":""},{"$f":"IF(OFFSET('Plate Layout'!AT116,0,0,1,1)=\"\",\"\",OFFSET('Plate Layout'!AT116,0,0,1,1))","v":""}]
[{"$f":"IF('Plate Layout'!$D$8=\"\",\"\",'Plate Layout'!$D$8)","v":""},"AB45",{"$f":"IF('Plate Layout'!CM42=\"\",\"\",'Plate Layout'!CM42)","v":""},{"$f":"IF('Plate Layout'!CN42=\"\",\"\",'Plate Layout'!CN42)","v":""},{"$f":"IF(OFFSET('Plate Layout'!AU116,0,0,1,1)=\"\",\"\",OFFSET('Plate Layout'!AU116,0,0,1,1))","v":""}]
[{"$f":"IF('Plate Layout'!$D$8=\"\",\"\",'Plate Layout'!$D$8)","v":""},"AB46",{"$f":"IF('Plate Layout'!CO42=\"\",\"\",'Plate Layout'!CO42)","v":""},{"$f":"IF('Plate Layout'!CP42=\"\",\"\",'Plate Layout'!CP42)","v":""},{"$f":"IF(OFFSET('Plate Layout'!AV116,0,0,1,1)=\"\",\"\",OFFSET('Plate Layout'!AV116,0,0,1,1))","v":""}]
[{"$f":"IF('Plate Layout'!$D$8=\"\",\"\",'Plate Layout'!$D$8)","v":""},"AB47",{"$f":"IF('Plate Layout'!CQ42=\"\",\"\",'Plate Layout'!CQ42)","v":""},{"$f":"IF('Plate Layout'!CR42=\"\",\"\",'Plate Layout'!CR42)","v":""},{"$f":"IF(OFFSET('Plate Layout'!AW116,0,0,1,1)=\"\",\"\",OFFSET('Plate Layout'!AW116,0,0,1,1))","v":""}]
[{"$f":"IF('Plate Layout'!$D$8=\"\",\"\",'Plate Layout'!$D$8)","v":""},"AB48",{"$f":"IF('Plate Layout'!CS42=\"\",\"\",'Plate Layout'!CS42)","v":""},{"$f":"IF('Plate Layout'!CT42=\"\",\"\",'Plate Layout'!CT42)","v":""},{"$f":"IF(OFFSET('Plate Layout'!AX116,0,0,1,1)=\"\",\"\",OFFSET('Plate Layout'!AX116,0,0,1,1))","v":""}]
[{"$f":"IF('Plate Layout'!$D$8=\"\",\"\",'Plate Layout'!$D$8)","v":""},"AC01",{"$f":"IF('Plate Layout'!C43=\"\",\"\",'Plate Layout'!C43)","v":""},{"$f":"IF('Plate Layout'!D43=\"\",\"\",'Plate Layout'!D43)","v":""},{"$f":"IF(OFFSET('Plate Layout'!C117,0,0,1,1)=\"\",\"\",OFFSET('Plate Layout'!C117,0,0,1,1))","v":""}]
[{"$f":"IF('Plate Layout'!$D$8=\"\",\"\",'Plate Layout'!$D$8)","v":""},"AC02",{"$f":"IF('Plate Layout'!E43=\"\",\"\",'Plate Layout'!E43)","v":""},{"$f":"IF('Plate Layout'!F43=\"\",\"\",'Plate Layout'!F43)","v":""},{"$f":"IF(OFFSET('Plate Layout'!D117,0,0,1,1)=\"\",\"\",OFFSET('Plate Layout'!D117,0,0,1,1))","v":""}]
[{"$f":"IF('Plate Layout'!$D$8=\"\",\"\",'Plate Layout'!$D$8)","v":""},"AC03",{"$f":"IF('Plate Layout'!G43=\"\",\"\",'Plate Layout'!G43)","v":""},{"$f":"IF('Plate Layout'!H43=\"\",\"\",'Plate Layout'!H43)","v":""},{"$f":"IF(OFFSET('Plate Layout'!E117,0,0,1,1)=\"\",\"\",OFFSET('Plate Layout'!E117,0,0,1,1))","v":""}]
[{"$f":"IF('Plate Layout'!$D$8=\"\",\"\",'Plate Layout'!$D$8)","v":""},"AC04",{"$f":"IF('Plate Layout'!I43=\"\",\"\",'Plate Layout'!I43)","v":""},{"$f":"IF('Plate Layout'!J43=\"\",\"\",'Plate Layout'!J43)","v":""},{"$f":"IF(OFFSET('Plate Layout'!F117,0,0,1,1)=\"\",\"\",OFFSET('Plate Layout'!F117,0,0,1,1))","v":""}]
[{"$f":"IF('Plate Layout'!$D$8=\"\",\"\",'Plate Layout'!$D$8)","v":""},"AC05",{"$f":"IF('Plate Layout'!K43=\"\",\"\",'Plate Layout'!K43)","v":""},{"$f":"IF('Plate Layout'!L43=\"\",\"\",'Plate Layout'!L43)","v":""},{"$f":"IF(OFFSET('Plate Layout'!G117,0,0,1,1)=\"\",\"\",OFFSET('Plate Layout'!G117,0,0,1,1))","v":""}]
[{"$f":"IF('Plate Layout'!$D$8=\"\",\"\",'Plate Layout'!$D$8)","v":""},"AC06",{"$f":"IF('Plate Layout'!M43=\"\",\"\",'Plate Layout'!M43)","v":""},{"$f":"IF('Plate Layout'!N43=\"\",\"\",'Plate Layout'!N43)","v":""},{"$f":"IF(OFFSET('Plate Layout'!H117,0,0,1,1)=\"\",\"\",OFFSET('Plate Layout'!H117,0,0,1,1))","v":""}]
[{"$f":"IF('Plate Layout'!$D$8=\"\",\"\",'Plate Layout'!$D$8)","v":""},"AC07",{"$f":"IF('Plate Layout'!O43=\"\",\"\",'Plate Layout'!O43)","v":""},{"$f":"IF('Plate Layout'!P43=\"\",\"\",'Plate Layout'!P43)","v":""},{"$f":"IF(OFFSET('Plate Layout'!I117,0,0,1,1)=\"\",\"\",OFFSET('Plate Layout'!I117,0,0,1,1))","v":""}]
[{"$f":"IF('Plate Layout'!$D$8=\"\",\"\",'Plate Layout'!$D$8)","v":""},"AC08",{"$f":"IF('Plate Layout'!Q43=\"\",\"\",'Plate Layout'!Q43)","v":""},{"$f":"IF('Plate Layout'!R43=\"\",\"\",'Plate Layout'!R43)","v":""},{"$f":"IF(OFFSET('Plate Layout'!J117,0,0,1,1)=\"\",\"\",OFFSET('Plate Layout'!J117,0,0,1,1))","v":""}]
[{"$f":"IF('Plate Layout'!$D$8=\"\",\"\",'Plate Layout'!$D$8)","v":""},"AC09",{"$f":"IF('Plate Layout'!S43=\"\",\"\",'Plate Layout'!S43)","v":""},{"$f":"IF('Plate Layout'!T43=\"\",\"\",'Plate Layout'!T43)","v":""},{"$f":"IF(OFFSET('Plate Layout'!K117,0,0,1,1)=\"\",\"\",OFFSET('Plate Layout'!K117,0,0,1,1))","v":""}]
[{"$f":"IF('Plate Layout'!$D$8=\"\",\"\",'Plate Layout'!$D$8)","v":""},"AC10",{"$f":"IF('Plate Layout'!U43=\"\",\"\",'Plate Layout'!U43)","v":""},{"$f":"IF('Plate Layout'!V43=\"\",\"\",'Plate Layout'!V43)","v":""},{"$f":"IF(OFFSET('Plate Layout'!L117,0,0,1,1)=\"\",\"\",OFFSET('Plate Layout'!L117,0,0,1,1))","v":""}]
[{"$f":"IF('Plate Layout'!$D$8=\"\",\"\",'Plate Layout'!$D$8)","v":""},"AC11",{"$f":"IF('Plate Layout'!W43=\"\",\"\",'Plate Layout'!W43)","v":""},{"$f":"IF('Plate Layout'!X43=\"\",\"\",'Plate Layout'!X43)","v":""},{"$f":"IF(OFFSET('Plate Layout'!M117,0,0,1,1)=\"\",\"\",OFFSET('Plate Layout'!M117,0,0,1,1))","v":""}]
[{"$f":"IF('Plate Layout'!$D$8=\"\",\"\",'Plate Layout'!$D$8)","v":""},"AC12",{"$f":"IF('Plate Layout'!Y43=\"\",\"\",'Plate Layout'!Y43)","v":""},{"$f":"IF('Plate Layout'!Z43=\"\",\"\",'Plate Layout'!Z43)","v":""},{"$f":"IF(OFFSET('Plate Layout'!N117,0,0,1,1)=\"\",\"\",OFFSET('Plate Layout'!N117,0,0,1,1))","v":""}]
[{"$f":"IF('Plate Layout'!$D$8=\"\",\"\",'Plate Layout'!$D$8)","v":""},"AC13",{"$f":"IF('Plate Layout'!AA43=\"\",\"\",'Plate Layout'!AA43)","v":""},{"$f":"IF('Plate Layout'!AB43=\"\",\"\",'Plate Layout'!AB43)","v":""},{"$f":"IF(OFFSET('Plate Layout'!O117,0,0,1,1)=\"\",\"\",OFFSET('Plate Layout'!O117,0,0,1,1))","v":""}]
[{"$f":"IF('Plate Layout'!$D$8=\"\",\"\",'Plate Layout'!$D$8)","v":""},"AC14",{"$f":"IF('Plate Layout'!AC43=\"\",\"\",'Plate Layout'!AC43)","v":""},{"$f":"IF('Plate Layout'!AD43=\"\",\"\",'Plate Layout'!AD43)","v":""},{"$f":"IF(OFFSET('Plate Layout'!P117,0,0,1,1)=\"\",\"\",OFFSET('Plate Layout'!P117,0,0,1,1))","v":""}]
[{"$f":"IF('Plate Layout'!$D$8=\"\",\"\",'Plate Layout'!$D$8)","v":""},"AC15",{"$f":"IF('Plate Layout'!AE43=\"\",\"\",'Plate Layout'!AE43)","v":""},{"$f":"IF('Plate Layout'!AF43=\"\",\"\",'Plate Layout'!AF43)","v":""},{"$f":"IF(OFFSET('Plate Layout'!Q117,0,0,1,1)=\"\",\"\",OFFSET('Plate Layout'!Q117,0,0,1,1))","v":""}]
[{"$f":"IF('Plate Layout'!$D$8=\"\",\"\",'Plate Layout'!$D$8)","v":""},"AC16",{"$f":"IF('Plate Layout'!AG43=\"\",\"\",'Plate Layout'!AG43)","v":""},{"$f":"IF('Plate Layout'!AH43=\"\",\"\",'Plate Layout'!AH43)","v":""},{"$f":"IF(OFFSET('Plate Layout'!R117,0,0,1,1)=\"\",\"\",OFFSET('Plate Layout'!R117,0,0,1,1))","v":""}]
[{"$f":"IF('Plate Layout'!$D$8=\"\",\"\",'Plate Layout'!$D$8)","v":""},"AC17",{"$f":"IF('Plate Layout'!AI43=\"\",\"\",'Plate Layout'!AI43)","v":""},{"$f":"IF('Plate Layout'!AJ43=\"\",\"\",'Plate Layout'!AJ43)","v":""},{"$f":"IF(OFFSET('Plate Layout'!S117,0,0,1,1)=\"\",\"\",OFFSET('Plate Layout'!S117,0,0,1,1))","v":""}]
[{"$f":"IF('Plate Layout'!$D$8=\"\",\"\",'Plate Layout'!$D$8)","v":""},"AC18",{"$f":"IF('Plate Layout'!AK43=\"\",\"\",'Plate Layout'!AK43)","v":""},{"$f":"IF('Plate Layout'!AL43=\"\",\"\",'Plate Layout'!AL43)","v":""},{"$f":"IF(OFFSET('Plate Layout'!T117,0,0,1,1)=\"\",\"\",OFFSET('Plate Layout'!T117,0,0,1,1))","v":""}]
[{"$f":"IF('Plate Layout'!$D$8=\"\",\"\",'Plate Layout'!$D$8)","v":""},"AC19",{"$f":"IF('Plate Layout'!AM43=\"\",\"\",'Plate Layout'!AM43)","v":""},{"$f":"IF('Plate Layout'!AN43=\"\",\"\",'Plate Layout'!AN43)","v":""},{"$f":"IF(OFFSET('Plate Layout'!U117,0,0,1,1)=\"\",\"\",OFFSET('Plate Layout'!U117,0,0,1,1))","v":""}]
[{"$f":"IF('Plate Layout'!$D$8=\"\",\"\",'Plate Layout'!$D$8)","v":""},"AC20",{"$f":"IF('Plate Layout'!AO43=\"\",\"\",'Plate Layout'!AO43)","v":""},{"$f":"IF('Plate Layout'!AP43=\"\",\"\",'Plate Layout'!AP43)","v":""},{"$f":"IF(OFFSET('Plate Layout'!V117,0,0,1,1)=\"\",\"\",OFFSET('Plate Layout'!V117,0,0,1,1))","v":""}]
[{"$f":"IF('Plate Layout'!$D$8=\"\",\"\",'Plate Layout'!$D$8)","v":""},"AC21",{"$f":"IF('Plate Layout'!AQ43=\"\",\"\",'Plate Layout'!AQ43)","v":""},{"$f":"IF('Plate Layout'!AR43=\"\",\"\",'Plate Layout'!AR43)","v":""},{"$f":"IF(OFFSET('Plate Layout'!W117,0,0,1,1)=\"\",\"\",OFFSET('Plate Layout'!W117,0,0,1,1))","v":""}]
[{"$f":"IF('Plate Layout'!$D$8=\"\",\"\",'Plate Layout'!$D$8)","v":""},"AC22",{"$f":"IF('Plate Layout'!AS43=\"\",\"\",'Plate Layout'!AS43)","v":""},{"$f":"IF('Plate Layout'!AT43=\"\",\"\",'Plate Layout'!AT43)","v":""},{"$f":"IF(OFFSET('Plate Layout'!X117,0,0,1,1)=\"\",\"\",OFFSET('Plate Layout'!X117,0,0,1,1))","v":""}]
[{"$f":"IF('Plate Layout'!$D$8=\"\",\"\",'Plate Layout'!$D$8)","v":""},"AC23",{"$f":"IF('Plate Layout'!AU43=\"\",\"\",'Plate Layout'!AU43)","v":""},{"$f":"IF('Plate Layout'!AV43=\"\",\"\",'Plate Layout'!AV43)","v":""},{"$f":"IF(OFFSET('Plate Layout'!Y117,0,0,1,1)=\"\",\"\",OFFSET('Plate Layout'!Y117,0,0,1,1))","v":""}]
[{"$f":"IF('Plate Layout'!$D$8=\"\",\"\",'Plate Layout'!$D$8)","v":""},"AC24",{"$f":"IF('Plate Layout'!AW43=\"\",\"\",'Plate Layout'!AW43)","v":""},{"$f":"IF('Plate Layout'!AX43=\"\",\"\",'Plate Layout'!AX43)","v":""},{"$f":"IF(OFFSET('Plate Layout'!Z117,0,0,1,1)=\"\",\"\",OFFSET('Plate Layout'!Z117,0,0,1,1))","v":""}]
[{"$f":"IF('Plate Layout'!$D$8=\"\",\"\",'Plate Layout'!$D$8)","v":""},"AC25",{"$f":"IF('Plate Layout'!AY43=\"\",\"\",'Plate Layout'!AY43)","v":""},{"$f":"IF('Plate Layout'!AZ43=\"\",\"\",'Plate Layout'!AZ43)","v":""},{"$f":"IF(OFFSET('Plate Layout'!AA117,0,0,1,1)=\"\",\"\",OFFSET('Plate Layout'!AA117,0,0,1,1))","v":""}]
[{"$f":"IF('Plate Layout'!$D$8=\"\",\"\",'Plate Layout'!$D$8)","v":""},"AC26",{"$f":"IF('Plate Layout'!BA43=\"\",\"\",'Plate Layout'!BA43)","v":""},{"$f":"IF('Plate Layout'!BB43=\"\",\"\",'Plate Layout'!BB43)","v":""},{"$f":"IF(OFFSET('Plate Layout'!AB117,0,0,1,1)=\"\",\"\",OFFSET('Plate Layout'!AB117,0,0,1,1))","v":""}]
[{"$f":"IF('Plate Layout'!$D$8=\"\",\"\",'Plate Layout'!$D$8)","v":""},"AC27",{"$f":"IF('Plate Layout'!BC43=\"\",\"\",'Plate Layout'!BC43)","v":""},{"$f":"IF('Plate Layout'!BD43=\"\",\"\",'Plate Layout'!BD43)","v":""},{"$f":"IF(OFFSET('Plate Layout'!AC117,0,0,1,1)=\"\",\"\",OFFSET('Plate Layout'!AC117,0,0,1,1))","v":""}]
[{"$f":"IF('Plate Layout'!$D$8=\"\",\"\",'Plate Layout'!$D$8)","v":""},"AC28",{"$f":"IF('Plate Layout'!BE43=\"\",\"\",'Plate Layout'!BE43)","v":""},{"$f":"IF('Plate Layout'!BF43=\"\",\"\",'Plate Layout'!BF43)","v":""},{"$f":"IF(OFFSET('Plate Layout'!AD117,0,0,1,1)=\"\",\"\",OFFSET('Plate Layout'!AD117,0,0,1,1))","v":""}]
[{"$f":"IF('Plate Layout'!$D$8=\"\",\"\",'Plate Layout'!$D$8)","v":""},"AC29",{"$f":"IF('Plate Layout'!BG43=\"\",\"\",'Plate Layout'!BG43)","v":""},{"$f":"IF('Plate Layout'!BH43=\"\",\"\",'Plate Layout'!BH43)","v":""},{"$f":"IF(OFFSET('Plate Layout'!AE117,0,0,1,1)=\"\",\"\",OFFSET('Plate Layout'!AE117,0,0,1,1))","v":""}]
[{"$f":"IF('Plate Layout'!$D$8=\"\",\"\",'Plate Layout'!$D$8)","v":""},"AC30",{"$f":"IF('Plate Layout'!BI43=\"\",\"\",'Plate Layout'!BI43)","v":""},{"$f":"IF('Plate Layout'!BJ43=\"\",\"\",'Plate Layout'!BJ43)","v":""},{"$f":"IF(OFFSET('Plate Layout'!AF117,0,0,1,1)=\"\",\"\",OFFSET('Plate Layout'!AF117,0,0,1,1))","v":""}]
[{"$f":"IF('Plate Layout'!$D$8=\"\",\"\",'Plate Layout'!$D$8)","v":""},"AC31",{"$f":"IF('Plate Layout'!BK43=\"\",\"\",'Plate Layout'!BK43)","v":""},{"$f":"IF('Plate Layout'!BL43=\"\",\"\",'Plate Layout'!BL43)","v":""},{"$f":"IF(OFFSET('Plate Layout'!AG117,0,0,1,1)=\"\",\"\",OFFSET('Plate Layout'!AG117,0,0,1,1))","v":""}]
[{"$f":"IF('Plate Layout'!$D$8=\"\",\"\",'Plate Layout'!$D$8)","v":""},"AC32",{"$f":"IF('Plate Layout'!BM43=\"\",\"\",'Plate Layout'!BM43)","v":""},{"$f":"IF('Plate Layout'!BN43=\"\",\"\",'Plate Layout'!BN43)","v":""},{"$f":"IF(OFFSET('Plate Layout'!AH117,0,0,1,1)=\"\",\"\",OFFSET('Plate Layout'!AH117,0,0,1,1))","v":""}]
[{"$f":"IF('Plate Layout'!$D$8=\"\",\"\",'Plate Layout'!$D$8)","v":""},"AC33",{"$f":"IF('Plate Layout'!BO43=\"\",\"\",'Plate Layout'!BO43)","v":""},{"$f":"IF('Plate Layout'!BP43=\"\",\"\",'Plate Layout'!BP43)","v":""},{"$f":"IF(OFFSET('Plate Layout'!AI117,0,0,1,1)=\"\",\"\",OFFSET('Plate Layout'!AI117,0,0,1,1))","v":""}]
[{"$f":"IF('Plate Layout'!$D$8=\"\",\"\",'Plate Layout'!$D$8)","v":""},"AC34",{"$f":"IF('Plate Layout'!BQ43=\"\",\"\",'Plate Layout'!BQ43)","v":""},{"$f":"IF('Plate Layout'!BR43=\"\",\"\",'Plate Layout'!BR43)","v":""},{"$f":"IF(OFFSET('Plate Layout'!AJ117,0,0,1,1)=\"\",\"\",OFFSET('Plate Layout'!AJ117,0,0,1,1))","v":""}]
[{"$f":"IF('Plate Layout'!$D$8=\"\",\"\",'Plate Layout'!$D$8)","v":""},"AC35",{"$f":"IF('Plate Layout'!BS43=\"\",\"\",'Plate Layout'!BS43)","v":""},{"$f":"IF('Plate Layout'!BT43=\"\",\"\",'Plate Layout'!BT43)","v":""},{"$f":"IF(OFFSET('Plate Layout'!AK117,0,0,1,1)=\"\",\"\",OFFSET('Plate Layout'!AK117,0,0,1,1))","v":""}]
[{"$f":"IF('Plate Layout'!$D$8=\"\",\"\",'Plate Layout'!$D$8)","v":""},"AC36",{"$f":"IF('Plate Layout'!BU43=\"\",\"\",'Plate Layout'!BU43)","v":""},{"$f":"IF('Plate Layout'!BV43=\"\",\"\",'Plate Layout'!BV43)","v":""},{"$f":"IF(OFFSET('Plate Layout'!AL117,0,0,1,1)=\"\",\"\",OFFSET('Plate Layout'!AL117,0,0,1,1))","v":""}]
[{"$f":"IF('Plate Layout'!$D$8=\"\",\"\",'Plate Layout'!$D$8)","v":""},"AC37",{"$f":"IF('Plate Layout'!BW43=\"\",\"\",'Plate Layout'!BW43)","v":""},{"$f":"IF('Plate Layout'!BX43=\"\",\"\",'Plate Layout'!BX43)","v":""},{"$f":"IF(OFFSET('Plate Layout'!AM117,0,0,1,1)=\"\",\"\",OFFSET('Plate Layout'!AM117,0,0,1,1))","v":""}]
[{"$f":"IF('Plate Layout'!$D$8=\"\",\"\",'Plate Layout'!$D$8)","v":""},"AC38",{"$f":"IF('Plate Layout'!BY43=\"\",\"\",'Plate Layout'!BY43)","v":""},{"$f":"IF('Plate Layout'!BZ43=\"\",\"\",'Plate Layout'!BZ43)","v":""},{"$f":"IF(OFFSET('Plate Layout'!AN117,0,0,1,1)=\"\",\"\",OFFSET('Plate Layout'!AN117,0,0,1,1))","v":""}]
[{"$f":"IF('Plate Layout'!$D$8=\"\",\"\",'Plate Layout'!$D$8)","v":""},"AC39",{"$f":"IF('Plate Layout'!CA43=\"\",\"\",'Plate Layout'!CA43)","v":""},{"$f":"IF('Plate Layout'!CB43=\"\",\"\",'Plate Layout'!CB43)","v":""},{"$f":"IF(OFFSET('Plate Layout'!AO117,0,0,1,1)=\"\",\"\",OFFSET('Plate Layout'!AO117,0,0,1,1))","v":""}]
[{"$f":"IF('Plate Layout'!$D$8=\"\",\"\",'Plate Layout'!$D$8)","v":""},"AC40",{"$f":"IF('Plate Layout'!CC43=\"\",\"\",'Plate Layout'!CC43)","v":""},{"$f":"IF('Plate Layout'!CD43=\"\",\"\",'Plate Layout'!CD43)","v":""},{"$f":"IF(OFFSET('Plate Layout'!AP117,0,0,1,1)=\"\",\"\",OFFSET('Plate Layout'!AP117,0,0,1,1))","v":""}]
[{"$f":"IF('Plate Layout'!$D$8=\"\",\"\",'Plate Layout'!$D$8)","v":""},"AC41",{"$f":"IF('Plate Layout'!CE43=\"\",\"\",'Plate Layout'!CE43)","v":""},{"$f":"IF('Plate Layout'!CF43=\"\",\"\",'Plate Layout'!CF43)","v":""},{"$f":"IF(OFFSET('Plate Layout'!AQ117,0,0,1,1)=\"\",\"\",OFFSET('Plate Layout'!AQ117,0,0,1,1))","v":""}]
[{"$f":"IF('Plate Layout'!$D$8=\"\",\"\",'Plate Layout'!$D$8)","v":""},"AC42",{"$f":"IF('Plate Layout'!CG43=\"\",\"\",'Plate Layout'!CG43)","v":""},{"$f":"IF('Plate Layout'!CH43=\"\",\"\",'Plate Layout'!CH43)","v":""},{"$f":"IF(OFFSET('Plate Layout'!AR117,0,0,1,1)=\"\",\"\",OFFSET('Plate Layout'!AR117,0,0,1,1))","v":""}]
[{"$f":"IF('Plate Layout'!$D$8=\"\",\"\",'Plate Layout'!$D$8)","v":""},"AC43",{"$f":"IF('Plate Layout'!CI43=\"\",\"\",'Plate Layout'!CI43)","v":""},{"$f":"IF('Plate Layout'!CJ43=\"\",\"\",'Plate Layout'!CJ43)","v":""},{"$f":"IF(OFFSET('Plate Layout'!AS117,0,0,1,1)=\"\",\"\",OFFSET('Plate Layout'!AS117,0,0,1,1))","v":""}]
[{"$f":"IF('Plate Layout'!$D$8=\"\",\"\",'Plate Layout'!$D$8)","v":""},"AC44",{"$f":"IF('Plate Layout'!CK43=\"\",\"\",'Plate Layout'!CK43)","v":""},{"$f":"IF('Plate Layout'!CL43=\"\",\"\",'Plate Layout'!CL43)","v":""},{"$f":"IF(OFFSET('Plate Layout'!AT117,0,0,1,1)=\"\",\"\",OFFSET('Plate Layout'!AT117,0,0,1,1))","v":""}]
[{"$f":"IF('Plate Layout'!$D$8=\"\",\"\",'Plate Layout'!$D$8)","v":""},"AC45",{"$f":"IF('Plate Layout'!CM43=\"\",\"\",'Plate Layout'!CM43)","v":""},{"$f":"IF('Plate Layout'!CN43=\"\",\"\",'Plate Layout'!CN43)","v":""},{"$f":"IF(OFFSET('Plate Layout'!AU117,0,0,1,1)=\"\",\"\",OFFSET('Plate Layout'!AU117,0,0,1,1))","v":""}]
[{"$f":"IF('Plate Layout'!$D$8=\"\",\"\",'Plate Layout'!$D$8)","v":""},"AC46",{"$f":"IF('Plate Layout'!CO43=\"\",\"\",'Plate Layout'!CO43)","v":""},{"$f":"IF('Plate Layout'!CP43=\"\",\"\",'Plate Layout'!CP43)","v":""},{"$f":"IF(OFFSET('Plate Layout'!AV117,0,0,1,1)=\"\",\"\",OFFSET('Plate Layout'!AV117,0,0,1,1))","v":""}]
[{"$f":"IF('Plate Layout'!$D$8=\"\",\"\",'Plate Layout'!$D$8)","v":""},"AC47",{"$f":"IF('Plate Layout'!CQ43=\"\",\"\",'Plate Layout'!CQ43)","v":""},{"$f":"IF('Plate Layout'!CR43=\"\",\"\",'Plate Layout'!CR43)","v":""},{"$f":"IF(OFFSET('Plate Layout'!AW117,0,0,1,1)=\"\",\"\",OFFSET('Plate Layout'!AW117,0,0,1,1))","v":""}]
[{"$f":"IF('Plate Layout'!$D$8=\"\",\"\",'Plate Layout'!$D$8)","v":""},"AC48",{"$f":"IF('Plate Layout'!CS43=\"\",\"\",'Plate Layout'!CS43)","v":""},{"$f":"IF('Plate Layout'!CT43=\"\",\"\",'Plate Layout'!CT43)","v":""},{"$f":"IF(OFFSET('Plate Layout'!AX117,0,0,1,1)=\"\",\"\",OFFSET('Plate Layout'!AX117,0,0,1,1))","v":""}]
[{"$f":"IF('Plate Layout'!$D$8=\"\",\"\",'Plate Layout'!$D$8)","v":""},"AD01",{"$f":"IF('Plate Layout'!C44=\"\",\"\",'Plate Layout'!C44)","v":""},{"$f":"IF('Plate Layout'!D44=\"\",\"\",'Plate Layout'!D44)","v":""},{"$f":"IF(OFFSET('Plate Layout'!C118,0,0,1,1)=\"\",\"\",OFFSET('Plate Layout'!C118,0,0,1,1))","v":""}]
[{"$f":"IF('Plate Layout'!$D$8=\"\",\"\",'Plate Layout'!$D$8)","v":""},"AD02",{"$f":"IF('Plate Layout'!E44=\"\",\"\",'Plate Layout'!E44)","v":""},{"$f":"IF('Plate Layout'!F44=\"\",\"\",'Plate Layout'!F44)","v":""},{"$f":"IF(OFFSET('Plate Layout'!D118,0,0,1,1)=\"\",\"\",OFFSET('Plate Layout'!D118,0,0,1,1))","v":""}]
[{"$f":"IF('Plate Layout'!$D$8=\"\",\"\",'Plate Layout'!$D$8)","v":""},"AD03",{"$f":"IF('Plate Layout'!G44=\"\",\"\",'Plate Layout'!G44)","v":""},{"$f":"IF('Plate Layout'!H44=\"\",\"\",'Plate Layout'!H44)","v":""},{"$f":"IF(OFFSET('Plate Layout'!E118,0,0,1,1)=\"\",\"\",OFFSET('Plate Layout'!E118,0,0,1,1))","v":""}]
[{"$f":"IF('Plate Layout'!$D$8=\"\",\"\",'Plate Layout'!$D$8)","v":""},"AD04",{"$f":"IF('Plate Layout'!I44=\"\",\"\",'Plate Layout'!I44)","v":""},{"$f":"IF('Plate Layout'!J44=\"\",\"\",'Plate Layout'!J44)","v":""},{"$f":"IF(OFFSET('Plate Layout'!F118,0,0,1,1)=\"\",\"\",OFFSET('Plate Layout'!F118,0,0,1,1))","v":""}]
[{"$f":"IF('Plate Layout'!$D$8=\"\",\"\",'Plate Layout'!$D$8)","v":""},"AD05",{"$f":"IF('Plate Layout'!K44=\"\",\"\",'Plate Layout'!K44)","v":""},{"$f":"IF('Plate Layout'!L44=\"\",\"\",'Plate Layout'!L44)","v":""},{"$f":"IF(OFFSET('Plate Layout'!G118,0,0,1,1)=\"\",\"\",OFFSET('Plate Layout'!G118,0,0,1,1))","v":""}]
[{"$f":"IF('Plate Layout'!$D$8=\"\",\"\",'Plate Layout'!$D$8)","v":""},"AD06",{"$f":"IF('Plate Layout'!M44=\"\",\"\",'Plate Layout'!M44)","v":""},{"$f":"IF('Plate Layout'!N44=\"\",\"\",'Plate Layout'!N44)","v":""},{"$f":"IF(OFFSET('Plate Layout'!H118,0,0,1,1)=\"\",\"\",OFFSET('Plate Layout'!H118,0,0,1,1))","v":""}]
[{"$f":"IF('Plate Layout'!$D$8=\"\",\"\",'Plate Layout'!$D$8)","v":""},"AD07",{"$f":"IF('Plate Layout'!O44=\"\",\"\",'Plate Layout'!O44)","v":""},{"$f":"IF('Plate Layout'!P44=\"\",\"\",'Plate Layout'!P44)","v":""},{"$f":"IF(OFFSET('Plate Layout'!I118,0,0,1,1)=\"\",\"\",OFFSET('Plate Layout'!I118,0,0,1,1))","v":""}]
[{"$f":"IF('Plate Layout'!$D$8=\"\",\"\",'Plate Layout'!$D$8)","v":""},"AD08",{"$f":"IF('Plate Layout'!Q44=\"\",\"\",'Plate Layout'!Q44)","v":""},{"$f":"IF('Plate Layout'!R44=\"\",\"\",'Plate Layout'!R44)","v":""},{"$f":"IF(OFFSET('Plate Layout'!J118,0,0,1,1)=\"\",\"\",OFFSET('Plate Layout'!J118,0,0,1,1))","v":""}]
[{"$f":"IF('Plate Layout'!$D$8=\"\",\"\",'Plate Layout'!$D$8)","v":""},"AD09",{"$f":"IF('Plate Layout'!S44=\"\",\"\",'Plate Layout'!S44)","v":""},{"$f":"IF('Plate Layout'!T44=\"\",\"\",'Plate Layout'!T44)","v":""},{"$f":"IF(OFFSET('Plate Layout'!K118,0,0,1,1)=\"\",\"\",OFFSET('Plate Layout'!K118,0,0,1,1))","v":""}]
[{"$f":"IF('Plate Layout'!$D$8=\"\",\"\",'Plate Layout'!$D$8)","v":""},"AD10",{"$f":"IF('Plate Layout'!U44=\"\",\"\",'Plate Layout'!U44)","v":""},{"$f":"IF('Plate Layout'!V44=\"\",\"\",'Plate Layout'!V44)","v":""},{"$f":"IF(OFFSET('Plate Layout'!L118,0,0,1,1)=\"\",\"\",OFFSET('Plate Layout'!L118,0,0,1,1))","v":""}]
[{"$f":"IF('Plate Layout'!$D$8=\"\",\"\",'Plate Layout'!$D$8)","v":""},"AD11",{"$f":"IF('Plate Layout'!W44=\"\",\"\",'Plate Layout'!W44)","v":""},{"$f":"IF('Plate Layout'!X44=\"\",\"\",'Plate Layout'!X44)","v":""},{"$f":"IF(OFFSET('Plate Layout'!M118,0,0,1,1)=\"\",\"\",OFFSET('Plate Layout'!M118,0,0,1,1))","v":""}]
[{"$f":"IF('Plate Layout'!$D$8=\"\",\"\",'Plate Layout'!$D$8)","v":""},"AD12",{"$f":"IF('Plate Layout'!Y44=\"\",\"\",'Plate Layout'!Y44)","v":""},{"$f":"IF('Plate Layout'!Z44=\"\",\"\",'Plate Layout'!Z44)","v":""},{"$f":"IF(OFFSET('Plate Layout'!N118,0,0,1,1)=\"\",\"\",OFFSET('Plate Layout'!N118,0,0,1,1))","v":""}]
[{"$f":"IF('Plate Layout'!$D$8=\"\",\"\",'Plate Layout'!$D$8)","v":""},"AD13",{"$f":"IF('Plate Layout'!AA44=\"\",\"\",'Plate Layout'!AA44)","v":""},{"$f":"IF('Plate Layout'!AB44=\"\",\"\",'Plate Layout'!AB44)","v":""},{"$f":"IF(OFFSET('Plate Layout'!O118,0,0,1,1)=\"\",\"\",OFFSET('Plate Layout'!O118,0,0,1,1))","v":""}]
[{"$f":"IF('Plate Layout'!$D$8=\"\",\"\",'Plate Layout'!$D$8)","v":""},"AD14",{"$f":"IF('Plate Layout'!AC44=\"\",\"\",'Plate Layout'!AC44)","v":""},{"$f":"IF('Plate Layout'!AD44=\"\",\"\",'Plate Layout'!AD44)","v":""},{"$f":"IF(OFFSET('Plate Layout'!P118,0,0,1,1)=\"\",\"\",OFFSET('Plate Layout'!P118,0,0,1,1))","v":""}]
[{"$f":"IF('Plate Layout'!$D$8=\"\",\"\",'Plate Layout'!$D$8)","v":""},"AD15",{"$f":"IF('Plate Layout'!AE44=\"\",\"\",'Plate Layout'!AE44)","v":""},{"$f":"IF('Plate Layout'!AF44=\"\",\"\",'Plate Layout'!AF44)","v":""},{"$f":"IF(OFFSET('Plate Layout'!Q118,0,0,1,1)=\"\",\"\",OFFSET('Plate Layout'!Q118,0,0,1,1))","v":""}]
[{"$f":"IF('Plate Layout'!$D$8=\"\",\"\",'Plate Layout'!$D$8)","v":""},"AD16",{"$f":"IF('Plate Layout'!AG44=\"\",\"\",'Plate Layout'!AG44)","v":""},{"$f":"IF('Plate Layout'!AH44=\"\",\"\",'Plate Layout'!AH44)","v":""},{"$f":"IF(OFFSET('Plate Layout'!R118,0,0,1,1)=\"\",\"\",OFFSET('Plate Layout'!R118,0,0,1,1))","v":""}]
[{"$f":"IF('Plate Layout'!$D$8=\"\",\"\",'Plate Layout'!$D$8)","v":""},"AD17",{"$f":"IF('Plate Layout'!AI44=\"\",\"\",'Plate Layout'!AI44)","v":""},{"$f":"IF('Plate Layout'!AJ44=\"\",\"\",'Plate Layout'!AJ44)","v":""},{"$f":"IF(OFFSET('Plate Layout'!S118,0,0,1,1)=\"\",\"\",OFFSET('Plate Layout'!S118,0,0,1,1))","v":""}]
[{"$f":"IF('Plate Layout'!$D$8=\"\",\"\",'Plate Layout'!$D$8)","v":""},"AD18",{"$f":"IF('Plate Layout'!AK44=\"\",\"\",'Plate Layout'!AK44)","v":""},{"$f":"IF('Plate Layout'!AL44=\"\",\"\",'Plate Layout'!AL44)","v":""},{"$f":"IF(OFFSET('Plate Layout'!T118,0,0,1,1)=\"\",\"\",OFFSET('Plate Layout'!T118,0,0,1,1))","v":""}]
[{"$f":"IF('Plate Layout'!$D$8=\"\",\"\",'Plate Layout'!$D$8)","v":""},"AD19",{"$f":"IF('Plate Layout'!AM44=\"\",\"\",'Plate Layout'!AM44)","v":""},{"$f":"IF('Plate Layout'!AN44=\"\",\"\",'Plate Layout'!AN44)","v":""},{"$f":"IF(OFFSET('Plate Layout'!U118,0,0,1,1)=\"\",\"\",OFFSET('Plate Layout'!U118,0,0,1,1))","v":""}]
[{"$f":"IF('Plate Layout'!$D$8=\"\",\"\",'Plate Layout'!$D$8)","v":""},"AD20",{"$f":"IF('Plate Layout'!AO44=\"\",\"\",'Plate Layout'!AO44)","v":""},{"$f":"IF('Plate Layout'!AP44=\"\",\"\",'Plate Layout'!AP44)","v":""},{"$f":"IF(OFFSET('Plate Layout'!V118,0,0,1,1)=\"\",\"\",OFFSET('Plate Layout'!V118,0,0,1,1))","v":""}]
[{"$f":"IF('Plate Layout'!$D$8=\"\",\"\",'Plate Layout'!$D$8)","v":""},"AD21",{"$f":"IF('Plate Layout'!AQ44=\"\",\"\",'Plate Layout'!AQ44)","v":""},{"$f":"IF('Plate Layout'!AR44=\"\",\"\",'Plate Layout'!AR44)","v":""},{"$f":"IF(OFFSET('Plate Layout'!W118,0,0,1,1)=\"\",\"\",OFFSET('Plate Layout'!W118,0,0,1,1))","v":""}]
[{"$f":"IF('Plate Layout'!$D$8=\"\",\"\",'Plate Layout'!$D$8)","v":""},"AD22",{"$f":"IF('Plate Layout'!AS44=\"\",\"\",'Plate Layout'!AS44)","v":""},{"$f":"IF('Plate Layout'!AT44=\"\",\"\",'Plate Layout'!AT44)","v":""},{"$f":"IF(OFFSET('Plate Layout'!X118,0,0,1,1)=\"\",\"\",OFFSET('Plate Layout'!X118,0,0,1,1))","v":""}]
[{"$f":"IF('Plate Layout'!$D$8=\"\",\"\",'Plate Layout'!$D$8)","v":""},"AD23",{"$f":"IF('Plate Layout'!AU44=\"\",\"\",'Plate Layout'!AU44)","v":""},{"$f":"IF('Plate Layout'!AV44=\"\",\"\",'Plate Layout'!AV44)","v":""},{"$f":"IF(OFFSET('Plate Layout'!Y118,0,0,1,1)=\"\",\"\",OFFSET('Plate Layout'!Y118,0,0,1,1))","v":""}]
[{"$f":"IF('Plate Layout'!$D$8=\"\",\"\",'Plate Layout'!$D$8)","v":""},"AD24",{"$f":"IF('Plate Layout'!AW44=\"\",\"\",'Plate Layout'!AW44)","v":""},{"$f":"IF('Plate Layout'!AX44=\"\",\"\",'Plate Layout'!AX44)","v":""},{"$f":"IF(OFFSET('Plate Layout'!Z118,0,0,1,1)=\"\",\"\",OFFSET('Plate Layout'!Z118,0,0,1,1))","v":""}]
[{"$f":"IF('Plate Layout'!$D$8=\"\",\"\",'Plate Layout'!$D$8)","v":""},"AD25",{"$f":"IF('Plate Layout'!AY44=\"\",\"\",'Plate Layout'!AY44)","v":""},{"$f":"IF('Plate Layout'!AZ44=\"\",\"\",'Plate Layout'!AZ44)","v":""},{"$f":"IF(OFFSET('Plate Layout'!AA118,0,0,1,1)=\"\",\"\",OFFSET('Plate Layout'!AA118,0,0,1,1))","v":""}]
[{"$f":"IF('Plate Layout'!$D$8=\"\",\"\",'Plate Layout'!$D$8)","v":""},"AD26",{"$f":"IF('Plate Layout'!BA44=\"\",\"\",'Plate Layout'!BA44)","v":""},{"$f":"IF('Plate Layout'!BB44=\"\",\"\",'Plate Layout'!BB44)","v":""},{"$f":"IF(OFFSET('Plate Layout'!AB118,0,0,1,1)=\"\",\"\",OFFSET('Plate Layout'!AB118,0,0,1,1))","v":""}]
[{"$f":"IF('Plate Layout'!$D$8=\"\",\"\",'Plate Layout'!$D$8)","v":""},"AD27",{"$f":"IF('Plate Layout'!BC44=\"\",\"\",'Plate Layout'!BC44)","v":""},{"$f":"IF('Plate Layout'!BD44=\"\",\"\",'Plate Layout'!BD44)","v":""},{"$f":"IF(OFFSET('Plate Layout'!AC118,0,0,1,1)=\"\",\"\",OFFSET('Plate Layout'!AC118,0,0,1,1))","v":""}]
[{"$f":"IF('Plate Layout'!$D$8=\"\",\"\",'Plate Layout'!$D$8)","v":""},"AD28",{"$f":"IF('Plate Layout'!BE44=\"\",\"\",'Plate Layout'!BE44)","v":""},{"$f":"IF('Plate Layout'!BF44=\"\",\"\",'Plate Layout'!BF44)","v":""},{"$f":"IF(OFFSET('Plate Layout'!AD118,0,0,1,1)=\"\",\"\",OFFSET('Plate Layout'!AD118,0,0,1,1))","v":""}]
[{"$f":"IF('Plate Layout'!$D$8=\"\",\"\",'Plate Layout'!$D$8)","v":""},"AD29",{"$f":"IF('Plate Layout'!BG44=\"\",\"\",'Plate Layout'!BG44)","v":""},{"$f":"IF('Plate Layout'!BH44=\"\",\"\",'Plate Layout'!BH44)","v":""},{"$f":"IF(OFFSET('Plate Layout'!AE118,0,0,1,1)=\"\",\"\",OFFSET('Plate Layout'!AE118,0,0,1,1))","v":""}]
[{"$f":"IF('Plate Layout'!$D$8=\"\",\"\",'Plate Layout'!$D$8)","v":""},"AD30",{"$f":"IF('Plate Layout'!BI44=\"\",\"\",'Plate Layout'!BI44)","v":""},{"$f":"IF('Plate Layout'!BJ44=\"\",\"\",'Plate Layout'!BJ44)","v":""},{"$f":"IF(OFFSET('Plate Layout'!AF118,0,0,1,1)=\"\",\"\",OFFSET('Plate Layout'!AF118,0,0,1,1))","v":""}]
[{"$f":"IF('Plate Layout'!$D$8=\"\",\"\",'Plate Layout'!$D$8)","v":""},"AD31",{"$f":"IF('Plate Layout'!BK44=\"\",\"\",'Plate Layout'!BK44)","v":""},{"$f":"IF('Plate Layout'!BL44=\"\",\"\",'Plate Layout'!BL44)","v":""},{"$f":"IF(OFFSET('Plate Layout'!AG118,0,0,1,1)=\"\",\"\",OFFSET('Plate Layout'!AG118,0,0,1,1))","v":""}]
[{"$f":"IF('Plate Layout'!$D$8=\"\",\"\",'Plate Layout'!$D$8)","v":""},"AD32",{"$f":"IF('Plate Layout'!BM44=\"\",\"\",'Plate Layout'!BM44)","v":""},{"$f":"IF('Plate Layout'!BN44=\"\",\"\",'Plate Layout'!BN44)","v":""},{"$f":"IF(OFFSET('Plate Layout'!AH118,0,0,1,1)=\"\",\"\",OFFSET('Plate Layout'!AH118,0,0,1,1))","v":""}]
[{"$f":"IF('Plate Layout'!$D$8=\"\",\"\",'Plate Layout'!$D$8)","v":""},"AD33",{"$f":"IF('Plate Layout'!BO44=\"\",\"\",'Plate Layout'!BO44)","v":""},{"$f":"IF('Plate Layout'!BP44=\"\",\"\",'Plate Layout'!BP44)","v":""},{"$f":"IF(OFFSET('Plate Layout'!AI118,0,0,1,1)=\"\",\"\",OFFSET('Plate Layout'!AI118,0,0,1,1))","v":""}]
[{"$f":"IF('Plate Layout'!$D$8=\"\",\"\",'Plate Layout'!$D$8)","v":""},"AD34",{"$f":"IF('Plate Layout'!BQ44=\"\",\"\",'Plate Layout'!BQ44)","v":""},{"$f":"IF('Plate Layout'!BR44=\"\",\"\",'Plate Layout'!BR44)","v":""},{"$f":"IF(OFFSET('Plate Layout'!AJ118,0,0,1,1)=\"\",\"\",OFFSET('Plate Layout'!AJ118,0,0,1,1))","v":""}]
[{"$f":"IF('Plate Layout'!$D$8=\"\",\"\",'Plate Layout'!$D$8)","v":""},"AD35",{"$f":"IF('Plate Layout'!BS44=\"\",\"\",'Plate Layout'!BS44)","v":""},{"$f":"IF('Plate Layout'!BT44=\"\",\"\",'Plate Layout'!BT44)","v":""},{"$f":"IF(OFFSET('Plate Layout'!AK118,0,0,1,1)=\"\",\"\",OFFSET('Plate Layout'!AK118,0,0,1,1))","v":""}]
[{"$f":"IF('Plate Layout'!$D$8=\"\",\"\",'Plate Layout'!$D$8)","v":""},"AD36",{"$f":"IF('Plate Layout'!BU44=\"\",\"\",'Plate Layout'!BU44)","v":""},{"$f":"IF('Plate Layout'!BV44=\"\",\"\",'Plate Layout'!BV44)","v":""},{"$f":"IF(OFFSET('Plate Layout'!AL118,0,0,1,1)=\"\",\"\",OFFSET('Plate Layout'!AL118,0,0,1,1))","v":""}]
[{"$f":"IF('Plate Layout'!$D$8=\"\",\"\",'Plate Layout'!$D$8)","v":""},"AD37",{"$f":"IF('Plate Layout'!BW44=\"\",\"\",'Plate Layout'!BW44)","v":""},{"$f":"IF('Plate Layout'!BX44=\"\",\"\",'Plate Layout'!BX44)","v":""},{"$f":"IF(OFFSET('Plate Layout'!AM118,0,0,1,1)=\"\",\"\",OFFSET('Plate Layout'!AM118,0,0,1,1))","v":""}]
[{"$f":"IF('Plate Layout'!$D$8=\"\",\"\",'Plate Layout'!$D$8)","v":""},"AD38",{"$f":"IF('Plate Layout'!BY44=\"\",\"\",'Plate Layout'!BY44)","v":""},{"$f":"IF('Plate Layout'!BZ44=\"\",\"\",'Plate Layout'!BZ44)","v":""},{"$f":"IF(OFFSET('Plate Layout'!AN118,0,0,1,1)=\"\",\"\",OFFSET('Plate Layout'!AN118,0,0,1,1))","v":""}]
[{"$f":"IF('Plate Layout'!$D$8=\"\",\"\",'Plate Layout'!$D$8)","v":""},"AD39",{"$f":"IF('Plate Layout'!CA44=\"\",\"\",'Plate Layout'!CA44)","v":""},{"$f":"IF('Plate Layout'!CB44=\"\",\"\",'Plate Layout'!CB44)","v":""},{"$f":"IF(OFFSET('Plate Layout'!AO118,0,0,1,1)=\"\",\"\",OFFSET('Plate Layout'!AO118,0,0,1,1))","v":""}]
[{"$f":"IF('Plate Layout'!$D$8=\"\",\"\",'Plate Layout'!$D$8)","v":""},"AD40",{"$f":"IF('Plate Layout'!CC44=\"\",\"\",'Plate Layout'!CC44)","v":""},{"$f":"IF('Plate Layout'!CD44=\"\",\"\",'Plate Layout'!CD44)","v":""},{"$f":"IF(OFFSET('Plate Layout'!AP118,0,0,1,1)=\"\",\"\",OFFSET('Plate Layout'!AP118,0,0,1,1))","v":""}]
[{"$f":"IF('Plate Layout'!$D$8=\"\",\"\",'Plate Layout'!$D$8)","v":""},"AD41",{"$f":"IF('Plate Layout'!CE44=\"\",\"\",'Plate Layout'!CE44)","v":""},{"$f":"IF('Plate Layout'!CF44=\"\",\"\",'Plate Layout'!CF44)","v":""},{"$f":"IF(OFFSET('Plate Layout'!AQ118,0,0,1,1)=\"\",\"\",OFFSET('Plate Layout'!AQ118,0,0,1,1))","v":""}]
[{"$f":"IF('Plate Layout'!$D$8=\"\",\"\",'Plate Layout'!$D$8)","v":""},"AD42",{"$f":"IF('Plate Layout'!CG44=\"\",\"\",'Plate Layout'!CG44)","v":""},{"$f":"IF('Plate Layout'!CH44=\"\",\"\",'Plate Layout'!CH44)","v":""},{"$f":"IF(OFFSET('Plate Layout'!AR118,0,0,1,1)=\"\",\"\",OFFSET('Plate Layout'!AR118,0,0,1,1))","v":""}]
[{"$f":"IF('Plate Layout'!$D$8=\"\",\"\",'Plate Layout'!$D$8)","v":""},"AD43",{"$f":"IF('Plate Layout'!CI44=\"\",\"\",'Plate Layout'!CI44)","v":""},{"$f":"IF('Plate Layout'!CJ44=\"\",\"\",'Plate Layout'!CJ44)","v":""},{"$f":"IF(OFFSET('Plate Layout'!AS118,0,0,1,1)=\"\",\"\",OFFSET('Plate Layout'!AS118,0,0,1,1))","v":""}]
[{"$f":"IF('Plate Layout'!$D$8=\"\",\"\",'Plate Layout'!$D$8)","v":""},"AD44",{"$f":"IF('Plate Layout'!CK44=\"\",\"\",'Plate Layout'!CK44)","v":""},{"$f":"IF('Plate Layout'!CL44=\"\",\"\",'Plate Layout'!CL44)","v":""},{"$f":"IF(OFFSET('Plate Layout'!AT118,0,0,1,1)=\"\",\"\",OFFSET('Plate Layout'!AT118,0,0,1,1))","v":""}]
[{"$f":"IF('Plate Layout'!$D$8=\"\",\"\",'Plate Layout'!$D$8)","v":""},"AD45",{"$f":"IF('Plate Layout'!CM44=\"\",\"\",'Plate Layout'!CM44)","v":""},{"$f":"IF('Plate Layout'!CN44=\"\",\"\",'Plate Layout'!CN44)","v":""},{"$f":"IF(OFFSET('Plate Layout'!AU118,0,0,1,1)=\"\",\"\",OFFSET('Plate Layout'!AU118,0,0,1,1))","v":""}]
[{"$f":"IF('Plate Layout'!$D$8=\"\",\"\",'Plate Layout'!$D$8)","v":""},"AD46",{"$f":"IF('Plate Layout'!CO44=\"\",\"\",'Plate Layout'!CO44)","v":""},{"$f":"IF('Plate Layout'!CP44=\"\",\"\",'Plate Layout'!CP44)","v":""},{"$f":"IF(OFFSET('Plate Layout'!AV118,0,0,1,1)=\"\",\"\",OFFSET('Plate Layout'!AV118,0,0,1,1))","v":""}]
[{"$f":"IF('Plate Layout'!$D$8=\"\",\"\",'Plate Layout'!$D$8)","v":""},"AD47",{"$f":"IF('Plate Layout'!CQ44=\"\",\"\",'Plate Layout'!CQ44)","v":""},{"$f":"IF('Plate Layout'!CR44=\"\",\"\",'Plate Layout'!CR44)","v":""},{"$f":"IF(OFFSET('Plate Layout'!AW118,0,0,1,1)=\"\",\"\",OFFSET('Plate Layout'!AW118,0,0,1,1))","v":""}]
[{"$f":"IF('Plate Layout'!$D$8=\"\",\"\",'Plate Layout'!$D$8)","v":""},"AD48",{"$f":"IF('Plate Layout'!CS44=\"\",\"\",'Plate Layout'!CS44)","v":""},{"$f":"IF('Plate Layout'!CT44=\"\",\"\",'Plate Layout'!CT44)","v":""},{"$f":"IF(OFFSET('Plate Layout'!AX118,0,0,1,1)=\"\",\"\",OFFSET('Plate Layout'!AX118,0,0,1,1))","v":""}]
[{"$f":"IF('Plate Layout'!$D$8=\"\",\"\",'Plate Layout'!$D$8)","v":""},"AE01",{"$f":"IF('Plate Layout'!C45=\"\",\"\",'Plate Layout'!C45)","v":""},{"$f":"IF('Plate Layout'!D45=\"\",\"\",'Plate Layout'!D45)","v":""},{"$f":"IF(OFFSET('Plate Layout'!C119,0,0,1,1)=\"\",\"\",OFFSET('Plate Layout'!C119,0,0,1,1))","v":""}]
[{"$f":"IF('Plate Layout'!$D$8=\"\",\"\",'Plate Layout'!$D$8)","v":""},"AE02",{"$f":"IF('Plate Layout'!E45=\"\",\"\",'Plate Layout'!E45)","v":""},{"$f":"IF('Plate Layout'!F45=\"\",\"\",'Plate Layout'!F45)","v":""},{"$f":"IF(OFFSET('Plate Layout'!D119,0,0,1,1)=\"\",\"\",OFFSET('Plate Layout'!D119,0,0,1,1))","v":""}]
[{"$f":"IF('Plate Layout'!$D$8=\"\",\"\",'Plate Layout'!$D$8)","v":""},"AE03",{"$f":"IF('Plate Layout'!G45=\"\",\"\",'Plate Layout'!G45)","v":""},{"$f":"IF('Plate Layout'!H45=\"\",\"\",'Plate Layout'!H45)","v":""},{"$f":"IF(OFFSET('Plate Layout'!E119,0,0,1,1)=\"\",\"\",OFFSET('Plate Layout'!E119,0,0,1,1))","v":""}]
[{"$f":"IF('Plate Layout'!$D$8=\"\",\"\",'Plate Layout'!$D$8)","v":""},"AE04",{"$f":"IF('Plate Layout'!I45=\"\",\"\",'Plate Layout'!I45)","v":""},{"$f":"IF('Plate Layout'!J45=\"\",\"\",'Plate Layout'!J45)","v":""},{"$f":"IF(OFFSET('Plate Layout'!F119,0,0,1,1)=\"\",\"\",OFFSET('Plate Layout'!F119,0,0,1,1))","v":""}]
[{"$f":"IF('Plate Layout'!$D$8=\"\",\"\",'Plate Layout'!$D$8)","v":""},"AE05",{"$f":"IF('Plate Layout'!K45=\"\",\"\",'Plate Layout'!K45)","v":""},{"$f":"IF('Plate Layout'!L45=\"\",\"\",'Plate Layout'!L45)","v":""},{"$f":"IF(OFFSET('Plate Layout'!G119,0,0,1,1)=\"\",\"\",OFFSET('Plate Layout'!G119,0,0,1,1))","v":""}]
[{"$f":"IF('Plate Layout'!$D$8=\"\",\"\",'Plate Layout'!$D$8)","v":""},"AE06",{"$f":"IF('Plate Layout'!M45=\"\",\"\",'Plate Layout'!M45)","v":""},{"$f":"IF('Plate Layout'!N45=\"\",\"\",'Plate Layout'!N45)","v":""},{"$f":"IF(OFFSET('Plate Layout'!H119,0,0,1,1)=\"\",\"\",OFFSET('Plate Layout'!H119,0,0,1,1))","v":""}]
[{"$f":"IF('Plate Layout'!$D$8=\"\",\"\",'Plate Layout'!$D$8)","v":""},"AE07",{"$f":"IF('Plate Layout'!O45=\"\",\"\",'Plate Layout'!O45)","v":""},{"$f":"IF('Plate Layout'!P45=\"\",\"\",'Plate Layout'!P45)","v":""},{"$f":"IF(OFFSET('Plate Layout'!I119,0,0,1,1)=\"\",\"\",OFFSET('Plate Layout'!I119,0,0,1,1))","v":""}]
[{"$f":"IF('Plate Layout'!$D$8=\"\",\"\",'Plate Layout'!$D$8)","v":""},"AE08",{"$f":"IF('Plate Layout'!Q45=\"\",\"\",'Plate Layout'!Q45)","v":""},{"$f":"IF('Plate Layout'!R45=\"\",\"\",'Plate Layout'!R45)","v":""},{"$f":"IF(OFFSET('Plate Layout'!J119,0,0,1,1)=\"\",\"\",OFFSET('Plate Layout'!J119,0,0,1,1))","v":""}]
[{"$f":"IF('Plate Layout'!$D$8=\"\",\"\",'Plate Layout'!$D$8)","v":""},"AE09",{"$f":"IF('Plate Layout'!S45=\"\",\"\",'Plate Layout'!S45)","v":""},{"$f":"IF('Plate Layout'!T45=\"\",\"\",'Plate Layout'!T45)","v":""},{"$f":"IF(OFFSET('Plate Layout'!K119,0,0,1,1)=\"\",\"\",OFFSET('Plate Layout'!K119,0,0,1,1))","v":""}]
[{"$f":"IF('Plate Layout'!$D$8=\"\",\"\",'Plate Layout'!$D$8)","v":""},"AE10",{"$f":"IF('Plate Layout'!U45=\"\",\"\",'Plate Layout'!U45)","v":""},{"$f":"IF('Plate Layout'!V45=\"\",\"\",'Plate Layout'!V45)","v":""},{"$f":"IF(OFFSET('Plate Layout'!L119,0,0,1,1)=\"\",\"\",OFFSET('Plate Layout'!L119,0,0,1,1))","v":""}]
[{"$f":"IF('Plate Layout'!$D$8=\"\",\"\",'Plate Layout'!$D$8)","v":""},"AE11",{"$f":"IF('Plate Layout'!W45=\"\",\"\",'Plate Layout'!W45)","v":""},{"$f":"IF('Plate Layout'!X45=\"\",\"\",'Plate Layout'!X45)","v":""},{"$f":"IF(OFFSET('Plate Layout'!M119,0,0,1,1)=\"\",\"\",OFFSET('Plate Layout'!M119,0,0,1,1))","v":""}]
[{"$f":"IF('Plate Layout'!$D$8=\"\",\"\",'Plate Layout'!$D$8)","v":""},"AE12",{"$f":"IF('Plate Layout'!Y45=\"\",\"\",'Plate Layout'!Y45)","v":""},{"$f":"IF('Plate Layout'!Z45=\"\",\"\",'Plate Layout'!Z45)","v":""},{"$f":"IF(OFFSET('Plate Layout'!N119,0,0,1,1)=\"\",\"\",OFFSET('Plate Layout'!N119,0,0,1,1))","v":""}]
[{"$f":"IF('Plate Layout'!$D$8=\"\",\"\",'Plate Layout'!$D$8)","v":""},"AE13",{"$f":"IF('Plate Layout'!AA45=\"\",\"\",'Plate Layout'!AA45)","v":""},{"$f":"IF('Plate Layout'!AB45=\"\",\"\",'Plate Layout'!AB45)","v":""},{"$f":"IF(OFFSET('Plate Layout'!O119,0,0,1,1)=\"\",\"\",OFFSET('Plate Layout'!O119,0,0,1,1))","v":""}]
[{"$f":"IF('Plate Layout'!$D$8=\"\",\"\",'Plate Layout'!$D$8)","v":""},"AE14",{"$f":"IF('Plate Layout'!AC45=\"\",\"\",'Plate Layout'!AC45)","v":""},{"$f":"IF('Plate Layout'!AD45=\"\",\"\",'Plate Layout'!AD45)","v":""},{"$f":"IF(OFFSET('Plate Layout'!P119,0,0,1,1)=\"\",\"\",OFFSET('Plate Layout'!P119,0,0,1,1))","v":""}]
[{"$f":"IF('Plate Layout'!$D$8=\"\",\"\",'Plate Layout'!$D$8)","v":""},"AE15",{"$f":"IF('Plate Layout'!AE45=\"\",\"\",'Plate Layout'!AE45)","v":""},{"$f":"IF('Plate Layout'!AF45=\"\",\"\",'Plate Layout'!AF45)","v":""},{"$f":"IF(OFFSET('Plate Layout'!Q119,0,0,1,1)=\"\",\"\",OFFSET('Plate Layout'!Q119,0,0,1,1))","v":""}]
[{"$f":"IF('Plate Layout'!$D$8=\"\",\"\",'Plate Layout'!$D$8)","v":""},"AE16",{"$f":"IF('Plate Layout'!AG45=\"\",\"\",'Plate Layout'!AG45)","v":""},{"$f":"IF('Plate Layout'!AH45=\"\",\"\",'Plate Layout'!AH45)","v":""},{"$f":"IF(OFFSET('Plate Layout'!R119,0,0,1,1)=\"\",\"\",OFFSET('Plate Layout'!R119,0,0,1,1))","v":""}]
[{"$f":"IF('Plate Layout'!$D$8=\"\",\"\",'Plate Layout'!$D$8)","v":""},"AE17",{"$f":"IF('Plate Layout'!AI45=\"\",\"\",'Plate Layout'!AI45)","v":""},{"$f":"IF('Plate Layout'!AJ45=\"\",\"\",'Plate Layout'!AJ45)","v":""},{"$f":"IF(OFFSET('Plate Layout'!S119,0,0,1,1)=\"\",\"\",OFFSET('Plate Layout'!S119,0,0,1,1))","v":""}]
[{"$f":"IF('Plate Layout'!$D$8=\"\",\"\",'Plate Layout'!$D$8)","v":""},"AE18",{"$f":"IF('Plate Layout'!AK45=\"\",\"\",'Plate Layout'!AK45)","v":""},{"$f":"IF('Plate Layout'!AL45=\"\",\"\",'Plate Layout'!AL45)","v":""},{"$f":"IF(OFFSET('Plate Layout'!T119,0,0,1,1)=\"\",\"\",OFFSET('Plate Layout'!T119,0,0,1,1))","v":""}]
[{"$f":"IF('Plate Layout'!$D$8=\"\",\"\",'Plate Layout'!$D$8)","v":""},"AE19",{"$f":"IF('Plate Layout'!AM45=\"\",\"\",'Plate Layout'!AM45)","v":""},{"$f":"IF('Plate Layout'!AN45=\"\",\"\",'Plate Layout'!AN45)","v":""},{"$f":"IF(OFFSET('Plate Layout'!U119,0,0,1,1)=\"\",\"\",OFFSET('Plate Layout'!U119,0,0,1,1))","v":""}]
[{"$f":"IF('Plate Layout'!$D$8=\"\",\"\",'Plate Layout'!$D$8)","v":""},"AE20",{"$f":"IF('Plate Layout'!AO45=\"\",\"\",'Plate Layout'!AO45)","v":""},{"$f":"IF('Plate Layout'!AP45=\"\",\"\",'Plate Layout'!AP45)","v":""},{"$f":"IF(OFFSET('Plate Layout'!V119,0,0,1,1)=\"\",\"\",OFFSET('Plate Layout'!V119,0,0,1,1))","v":""}]
[{"$f":"IF('Plate Layout'!$D$8=\"\",\"\",'Plate Layout'!$D$8)","v":""},"AE21",{"$f":"IF('Plate Layout'!AQ45=\"\",\"\",'Plate Layout'!AQ45)","v":""},{"$f":"IF('Plate Layout'!AR45=\"\",\"\",'Plate Layout'!AR45)","v":""},{"$f":"IF(OFFSET('Plate Layout'!W119,0,0,1,1)=\"\",\"\",OFFSET('Plate Layout'!W119,0,0,1,1))","v":""}]
[{"$f":"IF('Plate Layout'!$D$8=\"\",\"\",'Plate Layout'!$D$8)","v":""},"AE22",{"$f":"IF('Plate Layout'!AS45=\"\",\"\",'Plate Layout'!AS45)","v":""},{"$f":"IF('Plate Layout'!AT45=\"\",\"\",'Plate Layout'!AT45)","v":""},{"$f":"IF(OFFSET('Plate Layout'!X119,0,0,1,1)=\"\",\"\",OFFSET('Plate Layout'!X119,0,0,1,1))","v":""}]
[{"$f":"IF('Plate Layout'!$D$8=\"\",\"\",'Plate Layout'!$D$8)","v":""},"AE23",{"$f":"IF('Plate Layout'!AU45=\"\",\"\",'Plate Layout'!AU45)","v":""},{"$f":"IF('Plate Layout'!AV45=\"\",\"\",'Plate Layout'!AV45)","v":""},{"$f":"IF(OFFSET('Plate Layout'!Y119,0,0,1,1)=\"\",\"\",OFFSET('Plate Layout'!Y119,0,0,1,1))","v":""}]
[{"$f":"IF('Plate Layout'!$D$8=\"\",\"\",'Plate Layout'!$D$8)","v":""},"AE24",{"$f":"IF('Plate Layout'!AW45=\"\",\"\",'Plate Layout'!AW45)","v":""},{"$f":"IF('Plate Layout'!AX45=\"\",\"\",'Plate Layout'!AX45)","v":""},{"$f":"IF(OFFSET('Plate Layout'!Z119,0,0,1,1)=\"\",\"\",OFFSET('Plate Layout'!Z119,0,0,1,1))","v":""}]
[{"$f":"IF('Plate Layout'!$D$8=\"\",\"\",'Plate Layout'!$D$8)","v":""},"AE25",{"$f":"IF('Plate Layout'!AY45=\"\",\"\",'Plate Layout'!AY45)","v":""},{"$f":"IF('Plate Layout'!AZ45=\"\",\"\",'Plate Layout'!AZ45)","v":""},{"$f":"IF(OFFSET('Plate Layout'!AA119,0,0,1,1)=\"\",\"\",OFFSET('Plate Layout'!AA119,0,0,1,1))","v":""}]
[{"$f":"IF('Plate Layout'!$D$8=\"\",\"\",'Plate Layout'!$D$8)","v":""},"AE26",{"$f":"IF('Plate Layout'!BA45=\"\",\"\",'Plate Layout'!BA45)","v":""},{"$f":"IF('Plate Layout'!BB45=\"\",\"\",'Plate Layout'!BB45)","v":""},{"$f":"IF(OFFSET('Plate Layout'!AB119,0,0,1,1)=\"\",\"\",OFFSET('Plate Layout'!AB119,0,0,1,1))","v":""}]
[{"$f":"IF('Plate Layout'!$D$8=\"\",\"\",'Plate Layout'!$D$8)","v":""},"AE27",{"$f":"IF('Plate Layout'!BC45=\"\",\"\",'Plate Layout'!BC45)","v":""},{"$f":"IF('Plate Layout'!BD45=\"\",\"\",'Plate Layout'!BD45)","v":""},{"$f":"IF(OFFSET('Plate Layout'!AC119,0,0,1,1)=\"\",\"\",OFFSET('Plate Layout'!AC119,0,0,1,1))","v":""}]
[{"$f":"IF('Plate Layout'!$D$8=\"\",\"\",'Plate Layout'!$D$8)","v":""},"AE28",{"$f":"IF('Plate Layout'!BE45=\"\",\"\",'Plate Layout'!BE45)","v":""},{"$f":"IF('Plate Layout'!BF45=\"\",\"\",'Plate Layout'!BF45)","v":""},{"$f":"IF(OFFSET('Plate Layout'!AD119,0,0,1,1)=\"\",\"\",OFFSET('Plate Layout'!AD119,0,0,1,1))","v":""}]
[{"$f":"IF('Plate Layout'!$D$8=\"\",\"\",'Plate Layout'!$D$8)","v":""},"AE29",{"$f":"IF('Plate Layout'!BG45=\"\",\"\",'Plate Layout'!BG45)","v":""},{"$f":"IF('Plate Layout'!BH45=\"\",\"\",'Plate Layout'!BH45)","v":""},{"$f":"IF(OFFSET('Plate Layout'!AE119,0,0,1,1)=\"\",\"\",OFFSET('Plate Layout'!AE119,0,0,1,1))","v":""}]
[{"$f":"IF('Plate Layout'!$D$8=\"\",\"\",'Plate Layout'!$D$8)","v":""},"AE30",{"$f":"IF('Plate Layout'!BI45=\"\",\"\",'Plate Layout'!BI45)","v":""},{"$f":"IF('Plate Layout'!BJ45=\"\",\"\",'Plate Layout'!BJ45)","v":""},{"$f":"IF(OFFSET('Plate Layout'!AF119,0,0,1,1)=\"\",\"\",OFFSET('Plate Layout'!AF119,0,0,1,1))","v":""}]
[{"$f":"IF('Plate Layout'!$D$8=\"\",\"\",'Plate Layout'!$D$8)","v":""},"AE31",{"$f":"IF('Plate Layout'!BK45=\"\",\"\",'Plate Layout'!BK45)","v":""},{"$f":"IF('Plate Layout'!BL45=\"\",\"\",'Plate Layout'!BL45)","v":""},{"$f":"IF(OFFSET('Plate Layout'!AG119,0,0,1,1)=\"\",\"\",OFFSET('Plate Layout'!AG119,0,0,1,1))","v":""}]
[{"$f":"IF('Plate Layout'!$D$8=\"\",\"\",'Plate Layout'!$D$8)","v":""},"AE32",{"$f":"IF('Plate Layout'!BM45=\"\",\"\",'Plate Layout'!BM45)","v":""},{"$f":"IF('Plate Layout'!BN45=\"\",\"\",'Plate Layout'!BN45)","v":""},{"$f":"IF(OFFSET('Plate Layout'!AH119,0,0,1,1)=\"\",\"\",OFFSET('Plate Layout'!AH119,0,0,1,1))","v":""}]
[{"$f":"IF('Plate Layout'!$D$8=\"\",\"\",'Plate Layout'!$D$8)","v":""},"AE33",{"$f":"IF('Plate Layout'!BO45=\"\",\"\",'Plate Layout'!BO45)","v":""},{"$f":"IF('Plate Layout'!BP45=\"\",\"\",'Plate Layout'!BP45)","v":""},{"$f":"IF(OFFSET('Plate Layout'!AI119,0,0,1,1)=\"\",\"\",OFFSET('Plate Layout'!AI119,0,0,1,1))","v":""}]
[{"$f":"IF('Plate Layout'!$D$8=\"\",\"\",'Plate Layout'!$D$8)","v":""},"AE34",{"$f":"IF('Plate Layout'!BQ45=\"\",\"\",'Plate Layout'!BQ45)","v":""},{"$f":"IF('Plate Layout'!BR45=\"\",\"\",'Plate Layout'!BR45)","v":""},{"$f":"IF(OFFSET('Plate Layout'!AJ119,0,0,1,1)=\"\",\"\",OFFSET('Plate Layout'!AJ119,0,0,1,1))","v":""}]
[{"$f":"IF('Plate Layout'!$D$8=\"\",\"\",'Plate Layout'!$D$8)","v":""},"AE35",{"$f":"IF('Plate Layout'!BS45=\"\",\"\",'Plate Layout'!BS45)","v":""},{"$f":"IF('Plate Layout'!BT45=\"\",\"\",'Plate Layout'!BT45)","v":""},{"$f":"IF(OFFSET('Plate Layout'!AK119,0,0,1,1)=\"\",\"\",OFFSET('Plate Layout'!AK119,0,0,1,1))","v":""}]
[{"$f":"IF('Plate Layout'!$D$8=\"\",\"\",'Plate Layout'!$D$8)","v":""},"AE36",{"$f":"IF('Plate Layout'!BU45=\"\",\"\",'Plate Layout'!BU45)","v":""},{"$f":"IF('Plate Layout'!BV45=\"\",\"\",'Plate Layout'!BV45)","v":""},{"$f":"IF(OFFSET('Plate Layout'!AL119,0,0,1,1)=\"\",\"\",OFFSET('Plate Layout'!AL119,0,0,1,1))","v":""}]
[{"$f":"IF('Plate Layout'!$D$8=\"\",\"\",'Plate Layout'!$D$8)","v":""},"AE37",{"$f":"IF('Plate Layout'!BW45=\"\",\"\",'Plate Layout'!BW45)","v":""},{"$f":"IF('Plate Layout'!BX45=\"\",\"\",'Plate Layout'!BX45)","v":""},{"$f":"IF(OFFSET('Plate Layout'!AM119,0,0,1,1)=\"\",\"\",OFFSET('Plate Layout'!AM119,0,0,1,1))","v":""}]
[{"$f":"IF('Plate Layout'!$D$8=\"\",\"\",'Plate Layout'!$D$8)","v":""},"AE38",{"$f":"IF('Plate Layout'!BY45=\"\",\"\",'Plate Layout'!BY45)","v":""},{"$f":"IF('Plate Layout'!BZ45=\"\",\"\",'Plate Layout'!BZ45)","v":""},{"$f":"IF(OFFSET('Plate Layout'!AN119,0,0,1,1)=\"\",\"\",OFFSET('Plate Layout'!AN119,0,0,1,1))","v":""}]
[{"$f":"IF('Plate Layout'!$D$8=\"\",\"\",'Plate Layout'!$D$8)","v":""},"AE39",{"$f":"IF('Plate Layout'!CA45=\"\",\"\",'Plate Layout'!CA45)","v":""},{"$f":"IF('Plate Layout'!CB45=\"\",\"\",'Plate Layout'!CB45)","v":""},{"$f":"IF(OFFSET('Plate Layout'!AO119,0,0,1,1)=\"\",\"\",OFFSET('Plate Layout'!AO119,0,0,1,1))","v":""}]
[{"$f":"IF('Plate Layout'!$D$8=\"\",\"\",'Plate Layout'!$D$8)","v":""},"AE40",{"$f":"IF('Plate Layout'!CC45=\"\",\"\",'Plate Layout'!CC45)","v":""},{"$f":"IF('Plate Layout'!CD45=\"\",\"\",'Plate Layout'!CD45)","v":""},{"$f":"IF(OFFSET('Plate Layout'!AP119,0,0,1,1)=\"\",\"\",OFFSET('Plate Layout'!AP119,0,0,1,1))","v":""}]
[{"$f":"IF('Plate Layout'!$D$8=\"\",\"\",'Plate Layout'!$D$8)","v":""},"AE41",{"$f":"IF('Plate Layout'!CE45=\"\",\"\",'Plate Layout'!CE45)","v":""},{"$f":"IF('Plate Layout'!CF45=\"\",\"\",'Plate Layout'!CF45)","v":""},{"$f":"IF(OFFSET('Plate Layout'!AQ119,0,0,1,1)=\"\",\"\",OFFSET('Plate Layout'!AQ119,0,0,1,1))","v":""}]
[{"$f":"IF('Plate Layout'!$D$8=\"\",\"\",'Plate Layout'!$D$8)","v":""},"AE42",{"$f":"IF('Plate Layout'!CG45=\"\",\"\",'Plate Layout'!CG45)","v":""},{"$f":"IF('Plate Layout'!CH45=\"\",\"\",'Plate Layout'!CH45)","v":""},{"$f":"IF(OFFSET('Plate Layout'!AR119,0,0,1,1)=\"\",\"\",OFFSET('Plate Layout'!AR119,0,0,1,1))","v":""}]
[{"$f":"IF('Plate Layout'!$D$8=\"\",\"\",'Plate Layout'!$D$8)","v":""},"AE43",{"$f":"IF('Plate Layout'!CI45=\"\",\"\",'Plate Layout'!CI45)","v":""},{"$f":"IF('Plate Layout'!CJ45=\"\",\"\",'Plate Layout'!CJ45)","v":""},{"$f":"IF(OFFSET('Plate Layout'!AS119,0,0,1,1)=\"\",\"\",OFFSET('Plate Layout'!AS119,0,0,1,1))","v":""}]
[{"$f":"IF('Plate Layout'!$D$8=\"\",\"\",'Plate Layout'!$D$8)","v":""},"AE44",{"$f":"IF('Plate Layout'!CK45=\"\",\"\",'Plate Layout'!CK45)","v":""},{"$f":"IF('Plate Layout'!CL45=\"\",\"\",'Plate Layout'!CL45)","v":""},{"$f":"IF(OFFSET('Plate Layout'!AT119,0,0,1,1)=\"\",\"\",OFFSET('Plate Layout'!AT119,0,0,1,1))","v":""}]
[{"$f":"IF('Plate Layout'!$D$8=\"\",\"\",'Plate Layout'!$D$8)","v":""},"AE45",{"$f":"IF('Plate Layout'!CM45=\"\",\"\",'Plate Layout'!CM45)","v":""},{"$f":"IF('Plate Layout'!CN45=\"\",\"\",'Plate Layout'!CN45)","v":""},{"$f":"IF(OFFSET('Plate Layout'!AU119,0,0,1,1)=\"\",\"\",OFFSET('Plate Layout'!AU119,0,0,1,1))","v":""}]
[{"$f":"IF('Plate Layout'!$D$8=\"\",\"\",'Plate Layout'!$D$8)","v":""},"AE46",{"$f":"IF('Plate Layout'!CO45=\"\",\"\",'Plate Layout'!CO45)","v":""},{"$f":"IF('Plate Layout'!CP45=\"\",\"\",'Plate Layout'!CP45)","v":""},{"$f":"IF(OFFSET('Plate Layout'!AV119,0,0,1,1)=\"\",\"\",OFFSET('Plate Layout'!AV119,0,0,1,1))","v":""}]
[{"$f":"IF('Plate Layout'!$D$8=\"\",\"\",'Plate Layout'!$D$8)","v":""},"AE47",{"$f":"IF('Plate Layout'!CQ45=\"\",\"\",'Plate Layout'!CQ45)","v":""},{"$f":"IF('Plate Layout'!CR45=\"\",\"\",'Plate Layout'!CR45)","v":""},{"$f":"IF(OFFSET('Plate Layout'!AW119,0,0,1,1)=\"\",\"\",OFFSET('Plate Layout'!AW119,0,0,1,1))","v":""}]
[{"$f":"IF('Plate Layout'!$D$8=\"\",\"\",'Plate Layout'!$D$8)","v":""},"AE48",{"$f":"IF('Plate Layout'!CS45=\"\",\"\",'Plate Layout'!CS45)","v":""},{"$f":"IF('Plate Layout'!CT45=\"\",\"\",'Plate Layout'!CT45)","v":""},{"$f":"IF(OFFSET('Plate Layout'!AX119,0,0,1,1)=\"\",\"\",OFFSET('Plate Layout'!AX119,0,0,1,1))","v":""}]
[{"$f":"IF('Plate Layout'!$D$8=\"\",\"\",'Plate Layout'!$D$8)","v":""},"AF01",{"$f":"IF('Plate Layout'!C46=\"\",\"\",'Plate Layout'!C46)","v":""},{"$f":"IF('Plate Layout'!D46=\"\",\"\",'Plate Layout'!D46)","v":""},{"$f":"IF(OFFSET('Plate Layout'!C120,0,0,1,1)=\"\",\"\",OFFSET('Plate Layout'!C120,0,0,1,1))","v":""}]
[{"$f":"IF('Plate Layout'!$D$8=\"\",\"\",'Plate Layout'!$D$8)","v":""},"AF02",{"$f":"IF('Plate Layout'!E46=\"\",\"\",'Plate Layout'!E46)","v":""},{"$f":"IF('Plate Layout'!F46=\"\",\"\",'Plate Layout'!F46)","v":""},{"$f":"IF(OFFSET('Plate Layout'!D120,0,0,1,1)=\"\",\"\",OFFSET('Plate Layout'!D120,0,0,1,1))","v":""}]
[{"$f":"IF('Plate Layout'!$D$8=\"\",\"\",'Plate Layout'!$D$8)","v":""},"AF03",{"$f":"IF('Plate Layout'!G46=\"\",\"\",'Plate Layout'!G46)","v":""},{"$f":"IF('Plate Layout'!H46=\"\",\"\",'Plate Layout'!H46)","v":""},{"$f":"IF(OFFSET('Plate Layout'!E120,0,0,1,1)=\"\",\"\",OFFSET('Plate Layout'!E120,0,0,1,1))","v":""}]
[{"$f":"IF('Plate Layout'!$D$8=\"\",\"\",'Plate Layout'!$D$8)","v":""},"AF04",{"$f":"IF('Plate Layout'!I46=\"\",\"\",'Plate Layout'!I46)","v":""},{"$f":"IF('Plate Layout'!J46=\"\",\"\",'Plate Layout'!J46)","v":""},{"$f":"IF(OFFSET('Plate Layout'!F120,0,0,1,1)=\"\",\"\",OFFSET('Plate Layout'!F120,0,0,1,1))","v":""}]
[{"$f":"IF('Plate Layout'!$D$8=\"\",\"\",'Plate Layout'!$D$8)","v":""},"AF05",{"$f":"IF('Plate Layout'!K46=\"\",\"\",'Plate Layout'!K46)","v":""},{"$f":"IF('Plate Layout'!L46=\"\",\"\",'Plate Layout'!L46)","v":""},{"$f":"IF(OFFSET('Plate Layout'!G120,0,0,1,1)=\"\",\"\",OFFSET('Plate Layout'!G120,0,0,1,1))","v":""}]
[{"$f":"IF('Plate Layout'!$D$8=\"\",\"\",'Plate Layout'!$D$8)","v":""},"AF06",{"$f":"IF('Plate Layout'!M46=\"\",\"\",'Plate Layout'!M46)","v":""},{"$f":"IF('Plate Layout'!N46=\"\",\"\",'Plate Layout'!N46)","v":""},{"$f":"IF(OFFSET('Plate Layout'!H120,0,0,1,1)=\"\",\"\",OFFSET('Plate Layout'!H120,0,0,1,1))","v":""}]
[{"$f":"IF('Plate Layout'!$D$8=\"\",\"\",'Plate Layout'!$D$8)","v":""},"AF07",{"$f":"IF('Plate Layout'!O46=\"\",\"\",'Plate Layout'!O46)","v":""},{"$f":"IF('Plate Layout'!P46=\"\",\"\",'Plate Layout'!P46)","v":""},{"$f":"IF(OFFSET('Plate Layout'!I120,0,0,1,1)=\"\",\"\",OFFSET('Plate Layout'!I120,0,0,1,1))","v":""}]
[{"$f":"IF('Plate Layout'!$D$8=\"\",\"\",'Plate Layout'!$D$8)","v":""},"AF08",{"$f":"IF('Plate Layout'!Q46=\"\",\"\",'Plate Layout'!Q46)","v":""},{"$f":"IF('Plate Layout'!R46=\"\",\"\",'Plate Layout'!R46)","v":""},{"$f":"IF(OFFSET('Plate Layout'!J120,0,0,1,1)=\"\",\"\",OFFSET('Plate Layout'!J120,0,0,1,1))","v":""}]
[{"$f":"IF('Plate Layout'!$D$8=\"\",\"\",'Plate Layout'!$D$8)","v":""},"AF09",{"$f":"IF('Plate Layout'!S46=\"\",\"\",'Plate Layout'!S46)","v":""},{"$f":"IF('Plate Layout'!T46=\"\",\"\",'Plate Layout'!T46)","v":""},{"$f":"IF(OFFSET('Plate Layout'!K120,0,0,1,1)=\"\",\"\",OFFSET('Plate Layout'!K120,0,0,1,1))","v":""}]
[{"$f":"IF('Plate Layout'!$D$8=\"\",\"\",'Plate Layout'!$D$8)","v":""},"AF10",{"$f":"IF('Plate Layout'!U46=\"\",\"\",'Plate Layout'!U46)","v":""},{"$f":"IF('Plate Layout'!V46=\"\",\"\",'Plate Layout'!V46)","v":""},{"$f":"IF(OFFSET('Plate Layout'!L120,0,0,1,1)=\"\",\"\",OFFSET('Plate Layout'!L120,0,0,1,1))","v":""}]
[{"$f":"IF('Plate Layout'!$D$8=\"\",\"\",'Plate Layout'!$D$8)","v":""},"AF11",{"$f":"IF('Plate Layout'!W46=\"\",\"\",'Plate Layout'!W46)","v":""},{"$f":"IF('Plate Layout'!X46=\"\",\"\",'Plate Layout'!X46)","v":""},{"$f":"IF(OFFSET('Plate Layout'!M120,0,0,1,1)=\"\",\"\",OFFSET('Plate Layout'!M120,0,0,1,1))","v":""}]
[{"$f":"IF('Plate Layout'!$D$8=\"\",\"\",'Plate Layout'!$D$8)","v":""},"AF12",{"$f":"IF('Plate Layout'!Y46=\"\",\"\",'Plate Layout'!Y46)","v":""},{"$f":"IF('Plate Layout'!Z46=\"\",\"\",'Plate Layout'!Z46)","v":""},{"$f":"IF(OFFSET('Plate Layout'!N120,0,0,1,1)=\"\",\"\",OFFSET('Plate Layout'!N120,0,0,1,1))","v":""}]
[{"$f":"IF('Plate Layout'!$D$8=\"\",\"\",'Plate Layout'!$D$8)","v":""},"AF13",{"$f":"IF('Plate Layout'!AA46=\"\",\"\",'Plate Layout'!AA46)","v":""},{"$f":"IF('Plate Layout'!AB46=\"\",\"\",'Plate Layout'!AB46)","v":""},{"$f":"IF(OFFSET('Plate Layout'!O120,0,0,1,1)=\"\",\"\",OFFSET('Plate Layout'!O120,0,0,1,1))","v":""}]
[{"$f":"IF('Plate Layout'!$D$8=\"\",\"\",'Plate Layout'!$D$8)","v":""},"AF14",{"$f":"IF('Plate Layout'!AC46=\"\",\"\",'Plate Layout'!AC46)","v":""},{"$f":"IF('Plate Layout'!AD46=\"\",\"\",'Plate Layout'!AD46)","v":""},{"$f":"IF(OFFSET('Plate Layout'!P120,0,0,1,1)=\"\",\"\",OFFSET('Plate Layout'!P120,0,0,1,1))","v":""}]
[{"$f":"IF('Plate Layout'!$D$8=\"\",\"\",'Plate Layout'!$D$8)","v":""},"AF15",{"$f":"IF('Plate Layout'!AE46=\"\",\"\",'Plate Layout'!AE46)","v":""},{"$f":"IF('Plate Layout'!AF46=\"\",\"\",'Plate Layout'!AF46)","v":""},{"$f":"IF(OFFSET('Plate Layout'!Q120,0,0,1,1)=\"\",\"\",OFFSET('Plate Layout'!Q120,0,0,1,1))","v":""}]
[{"$f":"IF('Plate Layout'!$D$8=\"\",\"\",'Plate Layout'!$D$8)","v":""},"AF16",{"$f":"IF('Plate Layout'!AG46=\"\",\"\",'Plate Layout'!AG46)","v":""},{"$f":"IF('Plate Layout'!AH46=\"\",\"\",'Plate Layout'!AH46)","v":""},{"$f":"IF(OFFSET('Plate Layout'!R120,0,0,1,1)=\"\",\"\",OFFSET('Plate Layout'!R120,0,0,1,1))","v":""}]
[{"$f":"IF('Plate Layout'!$D$8=\"\",\"\",'Plate Layout'!$D$8)","v":""},"AF17",{"$f":"IF('Plate Layout'!AI46=\"\",\"\",'Plate Layout'!AI46)","v":""},{"$f":"IF('Plate Layout'!AJ46=\"\",\"\",'Plate Layout'!AJ46)","v":""},{"$f":"IF(OFFSET('Plate Layout'!S120,0,0,1,1)=\"\",\"\",OFFSET('Plate Layout'!S120,0,0,1,1))","v":""}]
[{"$f":"IF('Plate Layout'!$D$8=\"\",\"\",'Plate Layout'!$D$8)","v":""},"AF18",{"$f":"IF('Plate Layout'!AK46=\"\",\"\",'Plate Layout'!AK46)","v":""},{"$f":"IF('Plate Layout'!AL46=\"\",\"\",'Plate Layout'!AL46)","v":""},{"$f":"IF(OFFSET('Plate Layout'!T120,0,0,1,1)=\"\",\"\",OFFSET('Plate Layout'!T120,0,0,1,1))","v":""}]
[{"$f":"IF('Plate Layout'!$D$8=\"\",\"\",'Plate Layout'!$D$8)","v":""},"AF19",{"$f":"IF('Plate Layout'!AM46=\"\",\"\",'Plate Layout'!AM46)","v":""},{"$f":"IF('Plate Layout'!AN46=\"\",\"\",'Plate Layout'!AN46)","v":""},{"$f":"IF(OFFSET('Plate Layout'!U120,0,0,1,1)=\"\",\"\",OFFSET('Plate Layout'!U120,0,0,1,1))","v":""}]
[{"$f":"IF('Plate Layout'!$D$8=\"\",\"\",'Plate Layout'!$D$8)","v":""},"AF20",{"$f":"IF('Plate Layout'!AO46=\"\",\"\",'Plate Layout'!AO46)","v":""},{"$f":"IF('Plate Layout'!AP46=\"\",\"\",'Plate Layout'!AP46)","v":""},{"$f":"IF(OFFSET('Plate Layout'!V120,0,0,1,1)=\"\",\"\",OFFSET('Plate Layout'!V120,0,0,1,1))","v":""}]
[{"$f":"IF('Plate Layout'!$D$8=\"\",\"\",'Plate Layout'!$D$8)","v":""},"AF21",{"$f":"IF('Plate Layout'!AQ46=\"\",\"\",'Plate Layout'!AQ46)","v":""},{"$f":"IF('Plate Layout'!AR46=\"\",\"\",'Plate Layout'!AR46)","v":""},{"$f":"IF(OFFSET('Plate Layout'!W120,0,0,1,1)=\"\",\"\",OFFSET('Plate Layout'!W120,0,0,1,1))","v":""}]
[{"$f":"IF('Plate Layout'!$D$8=\"\",\"\",'Plate Layout'!$D$8)","v":""},"AF22",{"$f":"IF('Plate Layout'!AS46=\"\",\"\",'Plate Layout'!AS46)","v":""},{"$f":"IF('Plate Layout'!AT46=\"\",\"\",'Plate Layout'!AT46)","v":""},{"$f":"IF(OFFSET('Plate Layout'!X120,0,0,1,1)=\"\",\"\",OFFSET('Plate Layout'!X120,0,0,1,1))","v":""}]
[{"$f":"IF('Plate Layout'!$D$8=\"\",\"\",'Plate Layout'!$D$8)","v":""},"AF23",{"$f":"IF('Plate Layout'!AU46=\"\",\"\",'Plate Layout'!AU46)","v":""},{"$f":"IF('Plate Layout'!AV46=\"\",\"\",'Plate Layout'!AV46)","v":""},{"$f":"IF(OFFSET('Plate Layout'!Y120,0,0,1,1)=\"\",\"\",OFFSET('Plate Layout'!Y120,0,0,1,1))","v":""}]
[{"$f":"IF('Plate Layout'!$D$8=\"\",\"\",'Plate Layout'!$D$8)","v":""},"AF24",{"$f":"IF('Plate Layout'!AW46=\"\",\"\",'Plate Layout'!AW46)","v":""},{"$f":"IF('Plate Layout'!AX46=\"\",\"\",'Plate Layout'!AX46)","v":""},{"$f":"IF(OFFSET('Plate Layout'!Z120,0,0,1,1)=\"\",\"\",OFFSET('Plate Layout'!Z120,0,0,1,1))","v":""}]
[{"$f":"IF('Plate Layout'!$D$8=\"\",\"\",'Plate Layout'!$D$8)","v":""},"AF25",{"$f":"IF('Plate Layout'!AY46=\"\",\"\",'Plate Layout'!AY46)","v":""},{"$f":"IF('Plate Layout'!AZ46=\"\",\"\",'Plate Layout'!AZ46)","v":""},{"$f":"IF(OFFSET('Plate Layout'!AA120,0,0,1,1)=\"\",\"\",OFFSET('Plate Layout'!AA120,0,0,1,1))","v":""}]
[{"$f":"IF('Plate Layout'!$D$8=\"\",\"\",'Plate Layout'!$D$8)","v":""},"AF26",{"$f":"IF('Plate Layout'!BA46=\"\",\"\",'Plate Layout'!BA46)","v":""},{"$f":"IF('Plate Layout'!BB46=\"\",\"\",'Plate Layout'!BB46)","v":""},{"$f":"IF(OFFSET('Plate Layout'!AB120,0,0,1,1)=\"\",\"\",OFFSET('Plate Layout'!AB120,0,0,1,1))","v":""}]
[{"$f":"IF('Plate Layout'!$D$8=\"\",\"\",'Plate Layout'!$D$8)","v":""},"AF27",{"$f":"IF('Plate Layout'!BC46=\"\",\"\",'Plate Layout'!BC46)","v":""},{"$f":"IF('Plate Layout'!BD46=\"\",\"\",'Plate Layout'!BD46)","v":""},{"$f":"IF(OFFSET('Plate Layout'!AC120,0,0,1,1)=\"\",\"\",OFFSET('Plate Layout'!AC120,0,0,1,1))","v":""}]
[{"$f":"IF('Plate Layout'!$D$8=\"\",\"\",'Plate Layout'!$D$8)","v":""},"AF28",{"$f":"IF('Plate Layout'!BE46=\"\",\"\",'Plate Layout'!BE46)","v":""},{"$f":"IF('Plate Layout'!BF46=\"\",\"\",'Plate Layout'!BF46)","v":""},{"$f":"IF(OFFSET('Plate Layout'!AD120,0,0,1,1)=\"\",\"\",OFFSET('Plate Layout'!AD120,0,0,1,1))","v":""}]
[{"$f":"IF('Plate Layout'!$D$8=\"\",\"\",'Plate Layout'!$D$8)","v":""},"AF29",{"$f":"IF('Plate Layout'!BG46=\"\",\"\",'Plate Layout'!BG46)","v":""},{"$f":"IF('Plate Layout'!BH46=\"\",\"\",'Plate Layout'!BH46)","v":""},{"$f":"IF(OFFSET('Plate Layout'!AE120,0,0,1,1)=\"\",\"\",OFFSET('Plate Layout'!AE120,0,0,1,1))","v":""}]
[{"$f":"IF('Plate Layout'!$D$8=\"\",\"\",'Plate Layout'!$D$8)","v":""},"AF30",{"$f":"IF('Plate Layout'!BI46=\"\",\"\",'Plate Layout'!BI46)","v":""},{"$f":"IF('Plate Layout'!BJ46=\"\",\"\",'Plate Layout'!BJ46)","v":""},{"$f":"IF(OFFSET('Plate Layout'!AF120,0,0,1,1)=\"\",\"\",OFFSET('Plate Layout'!AF120,0,0,1,1))","v":""}]
[{"$f":"IF('Plate Layout'!$D$8=\"\",\"\",'Plate Layout'!$D$8)","v":""},"AF31",{"$f":"IF('Plate Layout'!BK46=\"\",\"\",'Plate Layout'!BK46)","v":""},{"$f":"IF('Plate Layout'!BL46=\"\",\"\",'Plate Layout'!BL46)","v":""},{"$f":"IF(OFFSET('Plate Layout'!AG120,0,0,1,1)=\"\",\"\",OFFSET('Plate Layout'!AG120,0,0,1,1))","v":""}]
[{"$f":"IF('Plate Layout'!$D$8=\"\",\"\",'Plate Layout'!$D$8)","v":""},"AF32",{"$f":"IF('Plate Layout'!BM46=\"\",\"\",'Plate Layout'!BM46)","v":""},{"$f":"IF('Plate Layout'!BN46=\"\",\"\",'Plate Layout'!BN46)","v":""},{"$f":"IF(OFFSET('Plate Layout'!AH120,0,0,1,1)=\"\",\"\",OFFSET('Plate Layout'!AH120,0,0,1,1))","v":""}]
[{"$f":"IF('Plate Layout'!$D$8=\"\",\"\",'Plate Layout'!$D$8)","v":""},"AF33",{"$f":"IF('Plate Layout'!BO46=\"\",\"\",'Plate Layout'!BO46)","v":""},{"$f":"IF('Plate Layout'!BP46=\"\",\"\",'Plate Layout'!BP46)","v":""},{"$f":"IF(OFFSET('Plate Layout'!AI120,0,0,1,1)=\"\",\"\",OFFSET('Plate Layout'!AI120,0,0,1,1))","v":""}]
[{"$f":"IF('Plate Layout'!$D$8=\"\",\"\",'Plate Layout'!$D$8)","v":""},"AF34",{"$f":"IF('Plate Layout'!BQ46=\"\",\"\",'Plate Layout'!BQ46)","v":""},{"$f":"IF('Plate Layout'!BR46=\"\",\"\",'Plate Layout'!BR46)","v":""},{"$f":"IF(OFFSET('Plate Layout'!AJ120,0,0,1,1)=\"\",\"\",OFFSET('Plate Layout'!AJ120,0,0,1,1))","v":""}]
[{"$f":"IF('Plate Layout'!$D$8=\"\",\"\",'Plate Layout'!$D$8)","v":""},"AF35",{"$f":"IF('Plate Layout'!BS46=\"\",\"\",'Plate Layout'!BS46)","v":""},{"$f":"IF('Plate Layout'!BT46=\"\",\"\",'Plate Layout'!BT46)","v":""},{"$f":"IF(OFFSET('Plate Layout'!AK120,0,0,1,1)=\"\",\"\",OFFSET('Plate Layout'!AK120,0,0,1,1))","v":""}]
[{"$f":"IF('Plate Layout'!$D$8=\"\",\"\",'Plate Layout'!$D$8)","v":""},"AF36",{"$f":"IF('Plate Layout'!BU46=\"\",\"\",'Plate Layout'!BU46)","v":""},{"$f":"IF('Plate Layout'!BV46=\"\",\"\",'Plate Layout'!BV46)","v":""},{"$f":"IF(OFFSET('Plate Layout'!AL120,0,0,1,1)=\"\",\"\",OFFSET('Plate Layout'!AL120,0,0,1,1))","v":""}]
[{"$f":"IF('Plate Layout'!$D$8=\"\",\"\",'Plate Layout'!$D$8)","v":""},"AF37",{"$f":"IF('Plate Layout'!BW46=\"\",\"\",'Plate Layout'!BW46)","v":""},{"$f":"IF('Plate Layout'!BX46=\"\",\"\",'Plate Layout'!BX46)","v":""},{"$f":"IF(OFFSET('Plate Layout'!AM120,0,0,1,1)=\"\",\"\",OFFSET('Plate Layout'!AM120,0,0,1,1))","v":""}]
[{"$f":"IF('Plate Layout'!$D$8=\"\",\"\",'Plate Layout'!$D$8)","v":""},"AF38",{"$f":"IF('Plate Layout'!BY46=\"\",\"\",'Plate Layout'!BY46)","v":""},{"$f":"IF('Plate Layout'!BZ46=\"\",\"\",'Plate Layout'!BZ46)","v":""},{"$f":"IF(OFFSET('Plate Layout'!AN120,0,0,1,1)=\"\",\"\",OFFSET('Plate Layout'!AN120,0,0,1,1))","v":""}]
[{"$f":"IF('Plate Layout'!$D$8=\"\",\"\",'Plate Layout'!$D$8)","v":""},"AF39",{"$f":"IF('Plate Layout'!CA46=\"\",\"\",'Plate Layout'!CA46)","v":""},{"$f":"IF('Plate Layout'!CB46=\"\",\"\",'Plate Layout'!CB46)","v":""},{"$f":"IF(OFFSET('Plate Layout'!AO120,0,0,1,1)=\"\",\"\",OFFSET('Plate Layout'!AO120,0,0,1,1))","v":""}]
[{"$f":"IF('Plate Layout'!$D$8=\"\",\"\",'Plate Layout'!$D$8)","v":""},"AF40",{"$f":"IF('Plate Layout'!CC46=\"\",\"\",'Plate Layout'!CC46)","v":""},{"$f":"IF('Plate Layout'!CD46=\"\",\"\",'Plate Layout'!CD46)","v":""},{"$f":"IF(OFFSET('Plate Layout'!AP120,0,0,1,1)=\"\",\"\",OFFSET('Plate Layout'!AP120,0,0,1,1))","v":""}]
[{"$f":"IF('Plate Layout'!$D$8=\"\",\"\",'Plate Layout'!$D$8)","v":""},"AF41",{"$f":"IF('Plate Layout'!CE46=\"\",\"\",'Plate Layout'!CE46)","v":""},{"$f":"IF('Plate Layout'!CF46=\"\",\"\",'Plate Layout'!CF46)","v":""},{"$f":"IF(OFFSET('Plate Layout'!AQ120,0,0,1,1)=\"\",\"\",OFFSET('Plate Layout'!AQ120,0,0,1,1))","v":""}]
[{"$f":"IF('Plate Layout'!$D$8=\"\",\"\",'Plate Layout'!$D$8)","v":""},"AF42",{"$f":"IF('Plate Layout'!CG46=\"\",\"\",'Plate Layout'!CG46)","v":""},{"$f":"IF('Plate Layout'!CH46=\"\",\"\",'Plate Layout'!CH46)","v":""},{"$f":"IF(OFFSET('Plate Layout'!AR120,0,0,1,1)=\"\",\"\",OFFSET('Plate Layout'!AR120,0,0,1,1))","v":""}]
[{"$f":"IF('Plate Layout'!$D$8=\"\",\"\",'Plate Layout'!$D$8)","v":""},"AF43",{"$f":"IF('Plate Layout'!CI46=\"\",\"\",'Plate Layout'!CI46)","v":""},{"$f":"IF('Plate Layout'!CJ46=\"\",\"\",'Plate Layout'!CJ46)","v":""},{"$f":"IF(OFFSET('Plate Layout'!AS120,0,0,1,1)=\"\",\"\",OFFSET('Plate Layout'!AS120,0,0,1,1))","v":""}]
[{"$f":"IF('Plate Layout'!$D$8=\"\",\"\",'Plate Layout'!$D$8)","v":""},"AF44",{"$f":"IF('Plate Layout'!CK46=\"\",\"\",'Plate Layout'!CK46)","v":""},{"$f":"IF('Plate Layout'!CL46=\"\",\"\",'Plate Layout'!CL46)","v":""},{"$f":"IF(OFFSET('Plate Layout'!AT120,0,0,1,1)=\"\",\"\",OFFSET('Plate Layout'!AT120,0,0,1,1))","v":""}]
[{"$f":"IF('Plate Layout'!$D$8=\"\",\"\",'Plate Layout'!$D$8)","v":""},"AF45",{"$f":"IF('Plate Layout'!CM46=\"\",\"\",'Plate Layout'!CM46)","v":""},{"$f":"IF('Plate Layout'!CN46=\"\",\"\",'Plate Layout'!CN46)","v":""},{"$f":"IF(OFFSET('Plate Layout'!AU120,0,0,1,1)=\"\",\"\",OFFSET('Plate Layout'!AU120,0,0,1,1))","v":""}]
[{"$f":"IF('Plate Layout'!$D$8=\"\",\"\",'Plate Layout'!$D$8)","v":""},"AF46",{"$f":"IF('Plate Layout'!CO46=\"\",\"\",'Plate Layout'!CO46)","v":""},{"$f":"IF('Plate Layout'!CP46=\"\",\"\",'Plate Layout'!CP46)","v":""},{"$f":"IF(OFFSET('Plate Layout'!AV120,0,0,1,1)=\"\",\"\",OFFSET('Plate Layout'!AV120,0,0,1,1))","v":""}]
[{"$f":"IF('Plate Layout'!$D$8=\"\",\"\",'Plate Layout'!$D$8)","v":""},"AF47",{"$f":"IF('Plate Layout'!CQ46=\"\",\"\",'Plate Layout'!CQ46)","v":""},{"$f":"IF('Plate Layout'!CR46=\"\",\"\",'Plate Layout'!CR46)","v":""},{"$f":"IF(OFFSET('Plate Layout'!AW120,0,0,1,1)=\"\",\"\",OFFSET('Plate Layout'!AW120,0,0,1,1))","v":""}]
[{"$f":"IF('Plate Layout'!$D$8=\"\",\"\",'Plate Layout'!$D$8)","v":""},"AF48",{"$f":"IF('Plate Layout'!CS46=\"\",\"\",'Plate Layout'!CS46)","v":""},{"$f":"IF('Plate Layout'!CT46=\"\",\"\",'Plate Layout'!CT46)","v":""},{"$f":"IF(OFFSET('Plate Layout'!AX120,0,0,1,1)=\"\",\"\",OFFSET('Plate Layout'!AX120,0,0,1,1))","v":""}]